{"text_format":"1","workbook":"xlsx","n_sheets":11,"sheets":["Instructions","Risk Based Conclusions Table","Applicable RBC Table","Risk Calculations","Risk Calculation Summary","Risk of Free Product","Hot Spot Screener","Background Metals Info","Version Notes","Reference","RBC Reference Table"],"not_rendered":{"charts":0,"images":1,"macros":1,"external_links":1,"defined_names":20,"comments":2,"pivot_tables":0},"unopened":[],"bounds":{"document_bytes":16777216,"sheet_cells":100000,"rows_first":2000,"rows_last":500,"rows_between":2000,"halvings":0,"cell_chars":16384,"cell_head_chars":4096},"cells_cut":0,"cells_raw":0,"read":"whole","date_system":"1900"}

{"sheet":"Instructions","index":0,"n_rows":65,"n_cols":1,"rows_kept":65,"cut":false,"hidden":false,"merged":[[10,1,10,10],[11,1,11,10],[12,1,12,10],[0,0,0,10],[2,0,2,10],[7,1,7,10],[8,1,8,10],[9,1,9,10]]}
["\n"]
[]
[]
[]
[]
[]
[]
[]
[]
[]
[]
[]
[]
[]
[]
[]
[]
[]
[]
[]
[]
[]
[]
[]
[]
[]
[]
[]
[]
[]
[]
[]
[]
[]
[]
[]
[]
[]
[]
[]
[]
[]
[]
[]
[]
[]
[]
[]
[]
[]
[]
[]
[]
[]
[]
[]
[]
[]
[]
[]
[]
[]
[]
[]
["All pages are password protected. The case sensitive password for all pages is: deq"]

{"sheet":"Risk Based Conclusions Table","index":1,"n_rows":40,"n_cols":10,"rows_kept":40,"cut":false,"hidden":false,"merged":[[16,2,18,2],[16,6,18,6],[0,1,0,6],[1,1,1,6],[2,1,2,6],[3,2,4,2],[3,3,4,3],[3,4,4,4],[3,5,4,5],[3,6,4,6],[3,0,4,0],[3,1,4,1],[19,1,28,1],[19,2,21,2],[19,6,21,6],[22,2,24,2],[22,6,24,6],[25,2,27,2],[25,6,27,6],[5,1,18,1],[5,2,9,2],[5,6,9,6],[10,2,12,2],[10,6,12,6],[13,2,15,2],[13,6,15,6],[29,6,31,6],[32,6,34,6],[35,1,35,2],[29,1,31,2],[32,1,34,2]]}
[null,"RISK BASED CONCLUSIONS"]
[null,"SITE - Site Investigation"]
[null,"CITY, Oregon"]
["GRBC Exceedance From Table",null,"Pathway","Receptor","Is Pathway Complete?","Is RBC Exceeded?","Comments"]
[null,null,null,null,null,null,null,null,"All","Occupational"]
[{"$f":"'Applicable RBC Table'!BR38","v":"No"},"Soil","Ingestion, Dermal Contact and Inhalation","Residential ","Yes","No",null,null,"Yes","No"]
[{"$f":"'Applicable RBC Table'!BS38","v":"No"},null,null,"Urban Residential","Yes","No",null,null,"Yes","No"]
[{"$f":"'Applicable RBC Table'!BT38","v":"No"},null,null,"Occupational","Yes","No",null,null,"Yes","Yes"]
[{"$f":"'Applicable RBC Table'!BU38","v":"No"},null,null,"Construction Work","Yes","No",null,null,"Yes","Yes"]
[{"$f":"'Applicable RBC Table'!BV38","v":"No"},null,null,"Excavation Worker","Yes","No",null,null,"Yes","Yes"]
[{"$f":"'Applicable RBC Table'!BW38","v":"No"},null,"Volatilization to Outdoor Air","Residential ","Yes","No",null,null,"Yes","No"]
[{"$f":"'Applicable RBC Table'!BX38","v":"No"},null,null,"Urban Residential","Yes","No",null,null,"Yes","No"]
[{"$f":"'Applicable RBC Table'!BY38","v":"No"},null,null,"Occupational","Yes","No",null,null,"Yes","Yes"]
[{"$f":"'Applicable RBC Table'!BZ38","v":"No"},null,"Vapor Intrusion Into Buildings","Residential ","Yes","No",null,null,"Yes","No"]
[{"$f":"'Applicable RBC Table'!CA38","v":"No"},null,null,"Urban Residential","Yes","No",null,null,"Yes","No"]
[{"$f":"'Applicable RBC Table'!CB38","v":"No"},null,null,"Occupational","Yes","No",null,null,"Yes","Yes"]
[{"$f":"'Applicable RBC Table'!CC38","v":"Yes"},null,"Leaching to Groundwater","Residential ","Yes","No",null,null,"Yes","No"]
[{"$f":"'Applicable RBC Table'!CD38","v":"Yes"},null,null,"Urban Residential","Yes","No",null,null,"Yes","No"]
[{"$f":"'Applicable RBC Table'!CE38","v":"No"},null,null,"Occupational","Yes","No",null,null,"Yes","Yes"]
[{"$f":"'Applicable RBC Table'!CF38","v":"Yes"},"Groundwater","Ingestion & Inhalation From Tap Water","Residential ","Yes","No",null,null,"Yes","No"]
[{"$f":"'Applicable RBC Table'!CG38","v":"Yes"},null,null,"Urban Residential","Yes","No",null,null,"Yes","No"]
[{"$f":"'Applicable RBC Table'!CH38","v":"Yes"},null,null,"Occupational","Yes","No",null,null,"Yes","Yes"]
[{"$f":"'Applicable RBC Table'!CI38","v":"No"},null,"Volatilization to Outdoor Air","Residential ","Yes","No",null,null,"Yes","No"]
[{"$f":"'Applicable RBC Table'!CJ38","v":"No"},null,null,"Urban Residential","Yes","No",null,null,"Yes","No"]
[{"$f":"'Applicable RBC Table'!CK38","v":"No"},null,null,"Occupational","Yes","No",null,null,"Yes","Yes"]
[{"$f":"'Applicable RBC Table'!CL38","v":"No"},null,"Vapor Intrusion Into Buildings","Residential ","Yes","No",null,null,"Yes","No"]
[{"$f":"'Applicable RBC Table'!CM38","v":"No"},null,null,"Urban Residential","Yes","No",null,null,"Yes","No"]
[{"$f":"'Applicable RBC Table'!CN38","v":"No"},null,null,"Occupational","Yes","No",null,null,"Yes","Yes"]
[{"$f":"'Applicable RBC Table'!CO38","v":"No"},null,"Groundwater in Excavation","Occupational","Yes","No",null,null,"Yes","Yes"]
[{"$f":"'Applicable RBC Table'!CP38","v":"No"},"Soil Gas to VI",null,"Residential ","Yes","No",null,null,"Yes","No"]
[{"$f":"'Applicable RBC Table'!CQ38","v":"No"},null,null,"Urban Residential","Yes","No",null,null,"Yes","No"]
[{"$f":"'Applicable RBC Table'!CR38","v":"No"},null,null,"Occupational","Yes","No",null,null,"Yes","Yes"]
[{"$f":"'Applicable RBC Table'!CS38","v":"No"},"Air",null,"Residential ","Yes","No",null,null,"Yes","No"]
[{"$f":"'Applicable RBC Table'!CT38","v":"No"},null,null,"Urban Residential","Yes","No",null,null,"Yes","No"]
[{"$f":"'Applicable RBC Table'!CU38","v":"No"},null,null,"Occupational","Yes","No",null,null,"Yes","Yes"]
[null,"Ecological",null,"Terrestrial & Surface Water ","No"]
[null,"Notes:"]
[null,"CMMP - Contaminated Media Management Plan"]
[null,"HASP - Health and Safety Plan"]
[null,"RBC - Generic Risk Based Concentration"]

{"sheet":"Applicable RBC Table","index":2,"n_rows":152,"n_cols":99,"rows_kept":152,"cut":false,"hidden":false,"merged":[[27,8,27,11],[33,93,33,95],[33,96,33,98],[29,69,32,98],[37,61,37,62],[37,49,37,50],[37,51,37,52],[38,61,38,62],[36,61,36,62],[35,61,35,62],[38,63,38,64],[38,65,38,66],[36,57,36,58],[36,59,36,60],[37,57,37,58],[37,59,37,60],[35,49,35,50],[35,51,35,52],[35,53,35,54],[38,29,38,30],[38,31,38,32],[38,33,38,34],[38,35,38,36],[38,37,38,38],[40,1,40,2],[40,3,41,3],[40,4,41,4],[38,67,38,68],[35,57,35,58],[35,59,35,60],[38,43,38,44],[38,45,38,46],[38,47,38,48],[38,49,38,50],[38,51,38,52],[38,53,38,54],[37,53,37,54],[37,63,37,64],[37,65,37,66],[37,67,37,68],[35,63,35,64],[36,63,36,64],[35,65,35,66],[38,57,38,58],[38,59,38,60],[36,65,36,66],[35,67,35,68],[36,67,36,68],[38,39,38,40],[38,41,38,42],[36,29,36,30],[36,31,36,32],[36,33,36,34],[36,35,36,36],[36,37,36,38],[37,29,37,30],[37,31,37,32],[36,39,36,40],[36,13,36,14],[36,25,36,26],[36,27,36,28],[36,49,36,50],[37,41,37,42],[37,43,37,44],[37,45,37,46],[36,51,36,52],[36,53,36,54],[36,41,36,42],[37,47,37,48],[36,43,36,44],[36,45,36,46],[36,47,36,48],[1,1,1,3],[2,1,6,1],[7,1,9,1],[10,1,12,1],[13,1,15,1],[16,1,16,3],[35,13,35,14],[35,15,35,16],[35,17,35,18],[35,6,36,8],[36,15,36,16],[36,17,36,18],[27,1,27,3],[28,1,30,1],[31,1,31,3],[32,1,34,1],[0,4,1,4],[35,1,39,5],[35,9,35,10],[36,9,36,10],[37,9,37,10],[38,9,38,10],[35,11,35,12],[37,6,38,8],[17,1,19,1],[20,1,22,1],[23,1,25,1],[37,13,37,14],[37,15,37,16],[37,17,37,18],[38,13,38,14],[33,69,33,73],[39,53,39,54],[39,55,39,56],[39,19,39,20],[36,21,36,22],[36,23,36,24],[37,21,37,22],[37,23,37,24],[38,21,38,22],[38,23,38,24],[38,15,38,16],[38,17,38,18],[37,33,37,34],[37,35,37,36],[37,37,37,38],[37,39,37,40],[38,55,38,56],[33,89,33,91],[35,21,35,22],[35,23,35,24],[35,25,35,26],[35,27,35,28],[35,39,35,40],[35,29,35,30],[35,31,35,32],[35,33,35,34],[35,35,35,36],[35,37,35,38],[35,55,35,56],[35,41,35,42],[35,43,35,44],[35,45,35,46],[35,47,35,48],[145,2,145,20],[147,2,147,20],[148,2,148,20],[40,5,41,5],[33,74,33,76],[33,77,33,79],[33,80,33,82],[33,83,33,85],[33,86,33,88],[39,6,39,8],[40,6,40,8],[37,55,37,56],[36,55,36,56],[35,19,35,20],[36,19,36,20],[37,19,37,20],[38,19,38,20],[36,11,36,12],[37,11,37,12],[37,25,37,26],[37,27,37,28],[38,25,38,26],[38,27,38,28],[38,11,38,12]]}
[null,"Pathway","Receptor","Is Pathway Complete","Pathways on CSM Table","Apply all Pathways","Only Occupational Pathways","Clear All Pathways",null,"Yes"]
[null,"SOIL",null,null,null,null,null,null,null,"No"]
[null,"Ingestion, dermal contact, and inhalation","Residential","Yes",{"$f":"IF(OR('Risk Based Conclusions Table'!E6=\"Yes\",'Risk Based Conclusions Table'!E6=\"Future\"),\"Yes\",\"No\")","v":"Yes"},"Yes","No","No"]
[null,null,"Urban residential","Yes",{"$f":"IF(OR('Risk Based Conclusions Table'!E7=\"Yes\",'Risk Based Conclusions Table'!E7=\"Future\"),\"Yes\",\"No\")","v":"Yes"},"Yes","No","No"]
[null,null,"Occupational","Yes",{"$f":"IF(OR('Risk Based Conclusions Table'!E8=\"Yes\",'Risk Based Conclusions Table'!E8=\"Future\"),\"Yes\",\"No\")","v":"Yes"},"Yes","Yes","No"]
[null,null,"Construction Worker","Yes",{"$f":"IF(OR('Risk Based Conclusions Table'!E9=\"Yes\",'Risk Based Conclusions Table'!E9=\"Future\"),\"Yes\",\"No\")","v":"Yes"},"Yes","Yes","No"]
[null,null,"Excavation Worker","Yes",{"$f":"IF(OR('Risk Based Conclusions Table'!E10=\"Yes\",'Risk Based Conclusions Table'!E10=\"Future\"),\"Yes\",\"No\")","v":"Yes"},"Yes","Yes","No"]
[null,"Volatilization to outdoor air","Residential","Yes",{"$f":"IF(OR('Risk Based Conclusions Table'!E11=\"Yes\",'Risk Based Conclusions Table'!E11=\"Future\"),\"Yes\",\"No\")","v":"Yes"},"Yes","No","No"]
[null,null,"Urban residential","Yes",{"$f":"IF(OR('Risk Based Conclusions Table'!E12=\"Yes\",'Risk Based Conclusions Table'!E12=\"Future\"),\"Yes\",\"No\")","v":"Yes"},"Yes","No","No"]
[null,null,"Occupational","Yes",{"$f":"IF(OR('Risk Based Conclusions Table'!E13=\"Yes\",'Risk Based Conclusions Table'!E13=\"Future\"),\"Yes\",\"No\")","v":"Yes"},"Yes","Yes","No"]
[null,"Vapor intrusion into buildings","Residential","Yes",{"$f":"IF(OR('Risk Based Conclusions Table'!E14=\"Yes\",'Risk Based Conclusions Table'!E14=\"Future\"),\"Yes\",\"No\")","v":"Yes"},"Yes","No","No"]
[null,null,"Urban residential","Yes",{"$f":"IF(OR('Risk Based Conclusions Table'!E15=\"Yes\",'Risk Based Conclusions Table'!E15=\"Future\"),\"Yes\",\"No\")","v":"Yes"},"Yes","No","No"]
[null,null,"Occupational","Yes",{"$f":"IF(OR('Risk Based Conclusions Table'!E16=\"Yes\",'Risk Based Conclusions Table'!E16=\"Future\"),\"Yes\",\"No\")","v":"Yes"},"Yes","Yes","No"]
[null,"Leaching to groundwater","Residential","Yes",{"$f":"IF(OR('Risk Based Conclusions Table'!E17=\"Yes\",'Risk Based Conclusions Table'!E17=\"Future\"),\"Yes\",\"No\")","v":"Yes"},"Yes","No","No"]
[null,null,"Urban residential","Yes",{"$f":"IF(OR('Risk Based Conclusions Table'!E18=\"Yes\",'Risk Based Conclusions Table'!E18=\"Future\"),\"Yes\",\"No\")","v":"Yes"},"Yes","No","No"]
[null,null,"Occupational","Yes",{"$f":"IF(OR('Risk Based Conclusions Table'!E19=\"Yes\",'Risk Based Conclusions Table'!E19=\"Future\"),\"Yes\",\"No\")","v":"Yes"},"Yes","Yes","No"]
[null,"GROUNDWATER"]
[null,"Ingestion and inhalation from tap water","Residential","Yes",{"$f":"IF(OR('Risk Based Conclusions Table'!E20=\"Yes\",'Risk Based Conclusions Table'!E20=\"Future\"),\"Yes\",\"No\")","v":"Yes"},"Yes","No","No"]
[null,null,"Urban residential","Yes",{"$f":"IF(OR('Risk Based Conclusions Table'!E21=\"Yes\",'Risk Based Conclusions Table'!E21=\"Future\"),\"Yes\",\"No\")","v":"Yes"},"Yes","No","No"]
[null,null,"Occupational","Yes",{"$f":"IF(OR('Risk Based Conclusions Table'!E22=\"Yes\",'Risk Based Conclusions Table'!E22=\"Future\"),\"Yes\",\"No\")","v":"Yes"},"Yes","Yes","No"]
[null,"Volatilization to outdoor air","Residential","Yes",{"$f":"IF(OR('Risk Based Conclusions Table'!E23=\"Yes\",'Risk Based Conclusions Table'!E23=\"Future\"),\"Yes\",\"No\")","v":"Yes"},"Yes","No","No"]
[null,null,"Urban residential","Yes",{"$f":"IF(OR('Risk Based Conclusions Table'!E24=\"Yes\",'Risk Based Conclusions Table'!E24=\"Future\"),\"Yes\",\"No\")","v":"Yes"},"Yes","No","No"]
[null,null,"Occupational","Yes",{"$f":"IF(OR('Risk Based Conclusions Table'!E25=\"Yes\",'Risk Based Conclusions Table'!E25=\"Future\"),\"Yes\",\"No\")","v":"Yes"},"Yes","Yes","No"]
[null,"Vapor intrusion into buildings","Residential","Yes",{"$f":"IF(OR('Risk Based Conclusions Table'!E26=\"Yes\",'Risk Based Conclusions Table'!E26=\"Future\"),\"Yes\",\"No\")","v":"Yes"},"Yes","No","No"]
[null,null,"Urban residential","Yes",{"$f":"IF(OR('Risk Based Conclusions Table'!E27=\"Yes\",'Risk Based Conclusions Table'!E27=\"Future\"),\"Yes\",\"No\")","v":"Yes"},"Yes","No","No"]
[null,null,"Occupational","Yes",{"$f":"IF(OR('Risk Based Conclusions Table'!E28=\"Yes\",'Risk Based Conclusions Table'!E28=\"Future\"),\"Yes\",\"No\")","v":"Yes"},"Yes","Yes","No"]
[null,"Groundwater in excavation","Construction and excavation worker","Yes",{"$f":"IF(OR('Risk Based Conclusions Table'!E29=\"Yes\",'Risk Based Conclusions Table'!E29=\"Future\"),\"Yes\",\"No\")","v":"Yes"},"Yes","Yes","No",1,null,null,{"$f":"VLOOKUP(I27,Reference!C1:D11,2,FALSE)","v":"No Background Region Selected"}]
[null,"Soil Gas"]
[null,"Vapor intrusion into buildings","Residential","Yes",{"$f":"IF(OR('Risk Based Conclusions Table'!E30=\"Yes\",'Risk Based Conclusions Table'!E31=\"Future\"),\"Yes\",\"No\")","v":"Yes"},"Yes","No","No"]
[null,null,"Urban residential","Yes",{"$f":"IF(OR('Risk Based Conclusions Table'!E31=\"Yes\",'Risk Based Conclusions Table'!E32=\"Future\"),\"Yes\",\"No\")","v":"Yes"},"Yes","No","No",null,null,null,null,null,null,null,null,null,null,null,null,null,null,null,null,null,null,null,null,null,null,null,null,null,null,null,null,null,null,null,null,null,null,null,null,null,null,null,null,null,null,null,null,null,null,null,null,null,null,null,null,null,null,null,null,null,null,null,null,null,"This section picks out exceedances from the CSM Table"]
[null,null,"Occupational","Yes",{"$f":"IF(OR('Risk Based Conclusions Table'!E32=\"Yes\",'Risk Based Conclusions Table'!E33=\"Future\"),\"Yes\",\"No\")","v":"Yes"},"Yes","Yes","No"]
[null,"AIR"]
[null,"Inhalation","Residential","Yes",{"$f":"IF(OR('Risk Based Conclusions Table'!E33=\"Yes\",'Risk Based Conclusions Table'!E35=\"Future\"),\"Yes\",\"No\")","v":"Yes"},"Yes","No","No"]
[null,null,"Urban residential","Yes",{"$f":"IF(OR('Risk Based Conclusions Table'!E34=\"Yes\",'Risk Based Conclusions Table'!E36=\"Future\"),\"Yes\",\"No\")","v":"Yes"},"Yes","No","No",null,null,null,null,null,null,null,null,null,null,null,null,null,null,null,null,null,null,null,null,null,null,null,null,null,null,null,null,null,null,null,null,null,null,null,null,null,null,null,null,null,null,null,null,null,null,null,null,null,null,null,null,null,null,null,null,null,null,null,null,null,"Ingestion, Dermal Contact and Inhalation",null,null,null,null,"Volatilization to Outdoor Air",null,null,"Vapor Intrusion Into Buildings",null,null,"Leaching to Groundwater",null,null,"Ingestion & Inhalation From Tap Water",null,null,"Volatilization to Outdoor Air",null,null,"Vapor Intrusion Into Buildings",null,null,"Groundwater in Excavation","Soil Gas",null,null,"Air"]
[null,null,"Occupational","Yes",{"$f":"IF(OR('Risk Based Conclusions Table'!E35=\"Yes\",'Risk Based Conclusions Table'!E37=\"Future\"),\"Yes\",\"No\")","v":"Yes"},"Yes","Yes","No",null,null,null,null,null,null,null,null,null,null,null,null,null,null,null,null,null,null,null,null,null,null,null,null,null,null,null,null,null,null,null,null,null,null,null,null,null,null,null,null,null,null,null,null,null,null,null,null,null,null,null,null,null,null,null,null,null,null,null,null,null,"Residential ","Urban Residential","Occupational","Construction Work","Excavation Worker","Residential ","Urban Residential","Occupational","Residential ","Urban Residential","Occupational","Residential ","Urban Residential","Occupational","Residential ","Urban Residential","Occupational","Residential ","Urban Residential","Occupational","Residential ","Urban Residential","Occupational","Occupational","Residential ","Urban Residential","Occupational","Residential ","Urban Residential","Occupational"]
[null,"Applicable RBCs\n\nMaximum Concentrations",null,null,null,null,"Contaminated Medium",null,null,"SOIL ",null,"SOIL ",null,"SOIL ",null,"SOIL ",null,"SOIL ",null,"SOIL ",null,"SOIL ",null,"SOIL ",null,"SOIL ",null,"SOIL ",null,"SOIL ",null,"SOIL ",null,"SOIL ",null,"SOIL ",null,"GROUNDWATER",null,"GROUNDWATER",null,"GROUNDWATER",null,"GROUNDWATER",null,"GROUNDWATER",null,"GROUNDWATER",null,"GROUNDWATER",null,"GROUNDWATER",null,"GROUNDWATER",null,"GROUNDWATER",null,"SOIL GAS",null,"SOIL GAS",null,"SOIL GAS",null,"AIR",null,"AIR",null,"AIR"]
[null,null,null,null,null,null,null,null,null,"mg/Kg (ppm)",null,"mg/Kg (ppm)",null,"mg/Kg (ppm)",null,"mg/Kg (ppm)",null,"mg/Kg (ppm)",null,"mg/Kg (ppm)",null,"mg/Kg (ppm)",null,"mg/Kg (ppm)",null,"mg/Kg (ppm)",null,"mg/Kg (ppm)",null,"mg/Kg (ppm)",null,"mg/Kg (ppm)",null,"mg/Kg (ppm)",null,"mg/Kg (ppm)",null,"µg/L (ppb)",null,"µg/L (ppb)",null,"µg/L (ppb)",null,"µg/L (ppb)",null,"µg/L (ppb)",null,"µg/L (ppb)",null,"µg/L (ppb)",null,"µg/L (ppb)",null,"µg/L (ppb)",null,"µg/L (ppb)",null,"µg/m3",null,"µg/m3",null,"µg/m3",null,"µg/m3",null,"µg/m3",null,"µg/m3"]
[null,null,null,null,null,null,"Exposure Pathway",null,null,"Soil Ingestion, Dermal Contact, and Inhalation",null,"Soil Ingestion, Dermal Contact, and Inhalation",null,"Soil Ingestion, Dermal Contact, and Inhalation",null,"Soil Ingestion, Dermal Contact, and Inhalation",null,"Soil Ingestion, Dermal Contact, and Inhalation",null,"Volatilization to Outdoor Air",null,"Volatilization to Outdoor Air",null,"Volatilization to Outdoor Air",null,"Vapor Intrusion into Buildings",null,"Vapor Intrusion into Buildings",null,"Vapor Intrusion into Buildings",null,"Leaching to Groundwater",null,"Leaching to Groundwater",null,"Leaching to Groundwater",null,"Ingestion, Dermal  & Inhalation from Tapwater",null,"Ingestion, Dermal  & Inhalation from Tapwater",null,"Ingestion, Dermal  & Inhalation from Tapwater",null,"Volatilization to Outdoor Air",null,"Volatilization to Outdoor Air",null,"Volatilization to Outdoor Air",null,"Vapor Intrusion into Buildings",null,"Vapor Intrusion into Buildings",null,"Vapor Intrusion into Buildings",null,"GW in Excavation",null,"Vapor Intrusion into Buildings",null,"Vapor Intrusion into Buildings",null,"Vapor Intrusion into Buildings",null,"Inhalation",null,"Inhalation",null,"Inhalation",null,{"$f":"IF(SUM(BR43:BR136)>0,\"Yes\",\"No\")","v":"No"},"No","No","No","No","No","No","No","No","No","No","Yes","Yes","No","Yes","Yes","Yes","No","No","No","No","No","No","No","No","No","No","No","No","No"]
[null,null,null,null,null,null,null,null,null,"RBCss",null,"RBCss",null,"RBCss",null,"RBCss",null,"RBCss",null,"RBCso",null,"RBCso",null,"RBCso",null,"RBCsi",null,"RBCsi",null,"RBCsi",null,"RBCsw",null,"RBCsw",null,"RBCsw",null,"RBCtw",null,"RBCtw",null,"RBCtw",null,"RBCwo",null,"RBCwo",null,"RBCwo",null,"RBCwi",null,"RBCwi",null,"RBCwi",null,"RBCwe",null,"RBCsv",null,"RBCsv",null,"RBCsv",null,"RBCair",null,"RBCair",null,"RBCair"]
[null,null,null,null,null,null,"Receptor Scenario",null,null,"Residential",null,"Urban Residential",null,"Occupational",null,"Construction Worker",null,"Excavation Worker",null,"Residential",null,"Urban Residential",null,"Occupational",null,"Residential",null,"Urban Residential",null,"Occupational",null,"Residential",null,"Urban Residential",null,"Occupational",null,"Residential",null,"Urban Residential",null,"Occupational",null,"Residential",null,"Urban Residential",null,"Occupational",null,"Residential",null,"Urban Residential",null,"Occupational",null,"Construction & Excavation Worker",null,"Residential",null,"Urban Residential",null,"Occupational",null,"Residential",null,"Urban Residential",null,"Occupational"]
[null,"Soil",null,"Groundwater","Soil Gas","Air","Direct or Indirect Pathway",null,null,"DCS",null,"DCS",null,"DCS",null,"DCS",null,"DCS",null,"IVS",null,"IVS",null,"IVS",null,"IVS",null,"IVS",null,"IVS",null,"ILS",null,"ILS",null,"ILS",null,"DCW",null,"DCW",null,"DCW",null,"IVW",null,"IVW",null,"IVW",null,"IVW",null,"IVW",null,"IVW",null,"DCW",null,"ICA",null,"ICA",null,"ICA",null,"DCA",null,"DCA",null,"DCA"]
["Analyte Helper collumn for referencing to the risk calculation page","Surface","SubSurface",null,null,null,"CASn","Chemical","Note",null,"Note",null,"Note",null,"Note",null,"Note",null,"Note",null,"Note",null,"Note",null,"Note",null,"Note",null,"Note",null,"Note",null,"Note",null,"Note",null,"Note",null,"Note",null,"Note",null,"Note",null,"Note",null,"Note",null,"Note",null,"Note",null,"Note",null,"Note",null,"Note",1,"Note",1,"Note",1,"Note",null,"Note",null,"Note",null,"Note"]
[{"$f":"VLOOKUP(H43,'RBC Reference Table'!$B$8:$C$101,2,FALSE)","v":93},null,93.9,2110,null,null,"--","Generic Gasoline","nc, v",{"$f":"'RBC Reference Table'!E100","v":1200},{"$f":"'RBC Reference Table'!F100","v":0},{"$f":"'RBC Reference Table'!G100","v":2500},{"$f":"'RBC Reference Table'!H100","v":0},{"$f":"'RBC Reference Table'!I100","v":20000},{"$f":"'RBC Reference Table'!J100","v":0},{"$f":"'RBC Reference Table'!K100","v":9700},{"$f":"'RBC Reference Table'!L100","v":0},{"$f":"'RBC Reference Table'!M100","v":">Max "},{"$f":"'RBC Reference Table'!N100","v":0},{"$f":"'RBC Reference Table'!O100","v":5900},{"$f":"'RBC Reference Table'!P100","v":0},{"$f":"'RBC Reference Table'!Q100","v":5900},{"$f":"'RBC Reference Table'!R100","v":0},{"$f":"'RBC Reference Table'!S100","v":69000},{"$f":"'RBC Reference Table'!T100","v":0},{"$f":"'RBC Reference Table'!U100","v":94},{"$f":"'RBC Reference Table'!V100","v":0},{"$f":"'RBC Reference Table'!W100","v":94},{"$f":"'RBC Reference Table'!X100","v":0},{"$f":"'RBC Reference Table'!Y100","v":">Max "},{"$f":"'RBC Reference Table'!Z100","v":0},{"$f":"'RBC Reference Table'!AA100","v":31},{"$f":"'RBC Reference Table'!AB100","v":0},{"$f":"'RBC Reference Table'!AC100","v":31},{"$f":"'RBC Reference Table'!AD100","v":0},{"$f":"'RBC Reference Table'!AE100","v":130},{"$f":"'RBC Reference Table'!AF100","v":0},{"$f":"'RBC Reference Table'!AG100","v":110},{"$f":"'RBC Reference Table'!AH100","v":0},{"$f":"'RBC Reference Table'!AI100","v":110},{"$f":"'RBC Reference Table'!AJ100","v":0},{"$f":"'RBC Reference Table'!AK100","v":450},{"$f":"'RBC Reference Table'!AL100","v":0},{"$f":"'RBC Reference Table'!AM100","v":">S"},{"$f":"'RBC Reference Table'!AN100","v":0},{"$f":"'RBC Reference Table'!AO100","v":">S"},{"$f":"'RBC Reference Table'!AP100","v":0},{"$f":"'RBC Reference Table'!AQ100","v":">S"},{"$f":"'RBC Reference Table'!AR100","v":0},{"$f":"'RBC Reference Table'!AS100","v":22000},{"$f":"'RBC Reference Table'!AT100","v":0},{"$f":"'RBC Reference Table'!AU100","v":22000},{"$f":"'RBC Reference Table'!AV100","v":0},{"$f":"'RBC Reference Table'!AW100","v":">S"},{"$f":"'RBC Reference Table'!AX100","v":0},{"$f":"'RBC Reference Table'!AY100","v":14000},{"$f":"'RBC Reference Table'!AZ100","v":0},{"$f":"'RBC Reference Table'!BA100","v":79000},{"$f":"'RBC Reference Table'!BB100","v":0},{"$f":"'RBC Reference Table'!BC100","v":79000},{"$f":"'RBC Reference Table'!BD100","v":0},{"$f":"'RBC Reference Table'!BE100","v":1700000},{"$f":"'RBC Reference Table'!BF100","v":0},{"$f":"'RBC Reference Table'!BG100","v":390},{"$f":"'RBC Reference Table'!BH100","v":0},{"$f":"'RBC Reference Table'!BI100","v":390},{"$f":"'RBC Reference Table'!BJ100","v":0},{"$f":"'RBC Reference Table'!BK100","v":1700},{"$f":"'RBC Reference Table'!BL100","v":0},{"$f":"IF($B43>J43,1,0)","v":0},{"$f":"IF($B43>L43,1,0)","v":0},{"$f":"IF($B43>N43,1,0)","v":0},{"$f":"IF(OR($C43>P43,B43>P43),1,0)","v":0},{"$f":"IF(OR($C43>R43,B43>R43),1,0)","v":0},{"$f":"IF(MAX($B43,$C43)>T43,1,0)","v":0},{"$f":"IF(MAX($B43,$C43)>V43,1,0)","v":0},{"$f":"IF(MAX($B43,$C43)>X43,1,0)","v":0},{"$f":"IF(MAX($B43,$C43)>Z43,1,0)","v":0},{"$f":"IF(MAX($B43,$C43)>AB43,1,0)","v":0},{"$f":"IF(MAX($B43,$C43)>AD43,1,0)","v":0},{"$f":"IF(MAX($B43,$C43)>AF43,1,0)","v":1},{"$f":"IF(MAX($B43,$C43)>AH43,1,0)","v":1},{"$f":"IF(MAX($B43,$C43)>AJ43,1,0)","v":0},{"$f":"IF($D43>AL43,1,0)","v":1},{"$f":"IF($D43>AN43,1,0)","v":1},{"$f":"IF($D43>AP43,1,0)","v":1},{"$f":"IF($D43>AR43,1,0)","v":0},{"$f":"IF($D43>AT43,1,0)","v":0},{"$f":"IF($D43>AV43,1,0)","v":0},{"$f":"IF($D43>AX43,1,0)","v":0},{"$f":"IF($D43>AZ43,1,0)","v":0},{"$f":"IF($D43>BB43,1,0)","v":0},{"$f":"IF($D43>BD43,1,0)","v":0},{"$f":"IF($E43>BF43,1,0)","v":0},{"$f":"IF($E43>BH43,1,0)","v":0},{"$f":"IF($E43>BJ43,1,0)","v":0},{"$f":"IF($F43>BL43,1,0)","v":0},{"$f":"IF($F43>BN43,1,0)","v":0},{"$f":"IF($F43>BP43,1,0)","v":0}]
[{"$f":"VLOOKUP(H44,'RBC Reference Table'!$B$8:$C$101,2,FALSE)","v":92},null,1340,11800,null,null,"--","Generic Diesel/Heating Oil ","nc, v ",{"$f":"'RBC Reference Table'!E99","v":1100},{"$f":"'RBC Reference Table'!F99","v":0},{"$f":"'RBC Reference Table'!G99","v":2200},{"$f":"'RBC Reference Table'!H99","v":0},{"$f":"'RBC Reference Table'!I99","v":14000},{"$f":"'RBC Reference Table'!J99","v":0},{"$f":"'RBC Reference Table'!K99","v":4600},{"$f":"'RBC Reference Table'!L99","v":0},{"$f":"'RBC Reference Table'!M99","v":">Max "},{"$f":"'RBC Reference Table'!N99","v":0},{"$f":"'RBC Reference Table'!O99","v":">Max "},{"$f":"'RBC Reference Table'!P99","v":0},{"$f":"'RBC Reference Table'!Q99","v":">Max "},{"$f":"'RBC Reference Table'!R99","v":0},{"$f":"'RBC Reference Table'!S99","v":">Max "},{"$f":"'RBC Reference Table'!T99","v":0},{"$f":"'RBC Reference Table'!U99","v":">Max "},{"$f":"'RBC Reference Table'!V99","v":0},{"$f":"'RBC Reference Table'!W99","v":">Max "},{"$f":"'RBC Reference Table'!X99","v":0},{"$f":"'RBC Reference Table'!Y99","v":">Max "},{"$f":"'RBC Reference Table'!Z99","v":0},{"$f":"'RBC Reference Table'!AA99","v":9500},{"$f":"'RBC Reference Table'!AB99","v":0},{"$f":"'RBC Reference Table'!AC99","v":9500},{"$f":"'RBC Reference Table'!AD99","v":0},{"$f":"'RBC Reference Table'!AE99","v":">Max "},{"$f":"'RBC Reference Table'!AF99","v":0},{"$f":"'RBC Reference Table'!AG99","v":100},{"$f":"'RBC Reference Table'!AH99","v":0},{"$f":"'RBC Reference Table'!AI99","v":100},{"$f":"'RBC Reference Table'!AJ99","v":0},{"$f":"'RBC Reference Table'!AK99","v":430},{"$f":"'RBC Reference Table'!AL99","v":0},{"$f":"'RBC Reference Table'!AM99","v":">S"},{"$f":"'RBC Reference Table'!AN99","v":0},{"$f":"'RBC Reference Table'!AO99","v":">S"},{"$f":"'RBC Reference Table'!AP99","v":0},{"$f":"'RBC Reference Table'!AQ99","v":">S"},{"$f":"'RBC Reference Table'!AR99","v":0},{"$f":"'RBC Reference Table'!AS99","v":">S"},{"$f":"'RBC Reference Table'!AT99","v":0},{"$f":"'RBC Reference Table'!AU99","v":">S"},{"$f":"'RBC Reference Table'!AV99","v":0},{"$f":"'RBC Reference Table'!AW99","v":">S"},{"$f":"'RBC Reference Table'!AX99","v":0},{"$f":"'RBC Reference Table'!AY99","v":">S"},{"$f":"'RBC Reference Table'!AZ99","v":0},{"$f":"'RBC Reference Table'!BA99","v":21000},{"$f":"'RBC Reference Table'!BB99","v":0},{"$f":"'RBC Reference Table'!BC99","v":21000},{"$f":"'RBC Reference Table'!BD99","v":0},{"$f":"'RBC Reference Table'!BE99","v":440000},{"$f":"'RBC Reference Table'!BF99","v":0},{"$f":"'RBC Reference Table'!BG99","v":100},{"$f":"'RBC Reference Table'!BH99","v":0},{"$f":"'RBC Reference Table'!BI99","v":100},{"$f":"'RBC Reference Table'!BJ99","v":0},{"$f":"'RBC Reference Table'!BK99","v":440},{"$f":"'RBC Reference Table'!BL99","v":0},0,0,0,0,0,0,0,0,0,0,0,0,0,0,1,1,1,0,0,0,0,0,0,0,0,0,0,0,0,0]
[{"$f":"VLOOKUP(H45,'RBC Reference Table'!$B$8:$C$101,2,FALSE)","v":94},null,null,null,null,null,"--","Generic Mineral/Insulating Oil ","nc, nv ",{"$f":"'RBC Reference Table'!E101","v":2800},{"$f":"'RBC Reference Table'!F101","v":0},{"$f":"'RBC Reference Table'!G101","v":5700},{"$f":"'RBC Reference Table'!H101","v":0},{"$f":"'RBC Reference Table'!I101","v":36000},{"$f":"'RBC Reference Table'!J101","v":0},{"$f":"'RBC Reference Table'!K101","v":11000},{"$f":"'RBC Reference Table'!L101","v":0},{"$f":"'RBC Reference Table'!M101","v":">Max "},{"$f":"'RBC Reference Table'!N101","v":0},{"$f":"'RBC Reference Table'!O101","v":">Max "},{"$f":"'RBC Reference Table'!P101","v":0},{"$f":"'RBC Reference Table'!Q101","v":">Max "},{"$f":"'RBC Reference Table'!R101","v":0},{"$f":"'RBC Reference Table'!S101","v":">Max "},{"$f":"'RBC Reference Table'!T101","v":0},{"$f":"'RBC Reference Table'!U101","v":">Max "},{"$f":"'RBC Reference Table'!V101","v":0},{"$f":"'RBC Reference Table'!W101","v":">Max "},{"$f":"'RBC Reference Table'!X101","v":0},{"$f":"'RBC Reference Table'!Y101","v":">Max "},{"$f":"'RBC Reference Table'!Z101","v":0},{"$f":"'RBC Reference Table'!AA101","v":">Max "},{"$f":"'RBC Reference Table'!AB101","v":0},{"$f":"'RBC Reference Table'!AC101","v":">Max "},{"$f":"'RBC Reference Table'!AD101","v":0},{"$f":"'RBC Reference Table'!AE101","v":">Max "},{"$f":"'RBC Reference Table'!AF101","v":0},{"$f":"'RBC Reference Table'!AG101","v":300},{"$f":"'RBC Reference Table'!AH101","v":0},{"$f":"'RBC Reference Table'!AI101","v":300},{"$f":"'RBC Reference Table'!AJ101","v":0},{"$f":"'RBC Reference Table'!AK101","v":1300},{"$f":"'RBC Reference Table'!AL101","v":0},{"$f":"'RBC Reference Table'!AM101","v":">S"},{"$f":"'RBC Reference Table'!AN101","v":0},{"$f":"'RBC Reference Table'!AO101","v":">S"},{"$f":"'RBC Reference Table'!AP101","v":0},{"$f":"'RBC Reference Table'!AQ101","v":">S"},{"$f":"'RBC Reference Table'!AR101","v":0},{"$f":"'RBC Reference Table'!AS101","v":">S"},{"$f":"'RBC Reference Table'!AT101","v":0},{"$f":"'RBC Reference Table'!AU101","v":">S"},{"$f":"'RBC Reference Table'!AV101","v":0},{"$f":"'RBC Reference Table'!AW101","v":">S"},{"$f":"'RBC Reference Table'!AX101","v":0},{"$f":"'RBC Reference Table'!AY101","v":">S"},{"$f":"'RBC Reference Table'!AZ101","v":0},{"$f":"'RBC Reference Table'!BA101","v":30000},{"$f":"'RBC Reference Table'!BB101","v":0},{"$f":"'RBC Reference Table'!BC101","v":30000},{"$f":"'RBC Reference Table'!BD101","v":0},{"$f":"'RBC Reference Table'!BE101","v":620000},{"$f":"'RBC Reference Table'!BF101","v":0},{"$f":"'RBC Reference Table'!BG101","v":150},{"$f":"'RBC Reference Table'!BH101","v":0},{"$f":"'RBC Reference Table'!BI101","v":150},{"$f":"'RBC Reference Table'!BJ101","v":0},{"$f":"'RBC Reference Table'!BK101","v":620},{"$f":"'RBC Reference Table'!BL101","v":0},0,0,0,0,0,0,0,0,0,0,0,0,0,0,0,0,0,0,0,0,0,0,0,0,0,0,0,0,0,0]
[{"$f":"VLOOKUP(H46,'RBC Reference Table'!$B$8:$C$101,2,FALSE)","v":8},null,null,5.58,null,null,"71-43-2","Benzene","c, v",{"$f":"'RBC Reference Table'!E15","v":8.1999999999999993},{"$f":"'RBC Reference Table'!F15","v":0},{"$f":"'RBC Reference Table'!G15","v":24},{"$f":"'RBC Reference Table'!H15","v":0},{"$f":"'RBC Reference Table'!I15","v":37},{"$f":"'RBC Reference Table'!J15","v":0},{"$f":"'RBC Reference Table'!K15","v":380},{"$f":"'RBC Reference Table'!L15","v":0},{"$f":"'RBC Reference Table'!M15","v":11000},{"$f":"'RBC Reference Table'!N15","v":">Csat"},{"$f":"'RBC Reference Table'!O15","v":11},{"$f":"'RBC Reference Table'!P15","v":0},{"$f":"'RBC Reference Table'!Q15","v":27},{"$f":"'RBC Reference Table'!R15","v":0},{"$f":"'RBC Reference Table'!S15","v":50},{"$f":"'RBC Reference Table'!T15","v":0},{"$f":"'RBC Reference Table'!U15","v":0.16},{"$f":"'RBC Reference Table'!V15","v":0},{"$f":"'RBC Reference Table'!W15","v":0.38},{"$f":"'RBC Reference Table'!X15","v":0},{"$f":"'RBC Reference Table'!Y15","v":2.1},{"$f":"'RBC Reference Table'!Z15","v":0},{"$f":"'RBC Reference Table'!AA15","v":2.3E-2},{"$f":"'RBC Reference Table'!AB15","v":0},{"$f":"'RBC Reference Table'!AC15","v":0.1},{"$f":"'RBC Reference Table'!AD15","v":0},{"$f":"'RBC Reference Table'!AE15","v":0.1},{"$f":"'RBC Reference Table'!AF15","v":0},{"$f":"'RBC Reference Table'!AG15","v":0.46},{"$f":"'RBC Reference Table'!AH15","v":0},{"$f":"'RBC Reference Table'!AI15","v":2},{"$f":"'RBC Reference Table'!AJ15","v":0},{"$f":"'RBC Reference Table'!AK15","v":2.1},{"$f":"'RBC Reference Table'!AL15","v":0},{"$f":"'RBC Reference Table'!AM15","v":3100},{"$f":"'RBC Reference Table'!AN15","v":0},{"$f":"'RBC Reference Table'!AO15","v":7400},{"$f":"'RBC Reference Table'!AP15","v":0},{"$f":"'RBC Reference Table'!AQ15","v":14000},{"$f":"'RBC Reference Table'!AR15","v":0},{"$f":"'RBC Reference Table'!AS15","v":210},{"$f":"'RBC Reference Table'!AT15","v":0},{"$f":"'RBC Reference Table'!AU15","v":510},{"$f":"'RBC Reference Table'!AV15","v":0},{"$f":"'RBC Reference Table'!AW15","v":2800},{"$f":"'RBC Reference Table'!AX15","v":0},{"$f":"'RBC Reference Table'!AY15","v":1800},{"$f":"'RBC Reference Table'!AZ15","v":0},{"$f":"'RBC Reference Table'!BA15","v":72},{"$f":"'RBC Reference Table'!BB15","v":0},{"$f":"'RBC Reference Table'!BC15","v":170},{"$f":"'RBC Reference Table'!BD15","v":0},{"$f":"'RBC Reference Table'!BE15","v":1600},{"$f":"'RBC Reference Table'!BF15","v":0},{"$f":"'RBC Reference Table'!BG15","v":0.36},{"$f":"'RBC Reference Table'!BH15","v":0},{"$f":"'RBC Reference Table'!BI15","v":0.85},{"$f":"'RBC Reference Table'!BJ15","v":0},{"$f":"'RBC Reference Table'!BK15","v":1.6},{"$f":"'RBC Reference Table'!BL15","v":0},0,0,0,0,0,0,0,0,0,0,0,0,0,0,1,1,1,0,0,0,0,0,0,0,0,0,0,0,0,0]
[{"$f":"VLOOKUP(H47,'RBC Reference Table'!$B$8:$C$101,2,FALSE)","v":80},null,2,36.6,null,null,"108-88-3","Toluene","nc, v",{"$f":"'RBC Reference Table'!E87","v":5800},{"$f":"'RBC Reference Table'!F87","v":">Csat"},{"$f":"'RBC Reference Table'!G87","v":12000},{"$f":"'RBC Reference Table'!H87","v":">Csat"},{"$f":"'RBC Reference Table'!I87","v":88000},{"$f":"'RBC Reference Table'!J87","v":">Csat"},{"$f":"'RBC Reference Table'!K87","v":28000},{"$f":"'RBC Reference Table'!L87","v":">Csat"},{"$f":"'RBC Reference Table'!M87","v":770000},{"$f":"'RBC Reference Table'!N87","v":">Csat"},{"$f":"'RBC Reference Table'!O87","v":"-"},{"$f":"'RBC Reference Table'!P87","v":">Csat"},{"$f":"'RBC Reference Table'!Q87","v":"-"},{"$f":"'RBC Reference Table'!R87","v":">Csat"},{"$f":"'RBC Reference Table'!S87","v":"-"},{"$f":"'RBC Reference Table'!T87","v":">Csat"},{"$f":"'RBC Reference Table'!U87","v":"-"},{"$f":"'RBC Reference Table'!V87","v":">Csat"},{"$f":"'RBC Reference Table'!W87","v":"-"},{"$f":"'RBC Reference Table'!X87","v":">Csat"},{"$f":"'RBC Reference Table'!Y87","v":"-"},{"$f":"'RBC Reference Table'!Z87","v":">Csat"},{"$f":"'RBC Reference Table'!AA87","v":83},{"$f":"'RBC Reference Table'!AB87","v":0},{"$f":"'RBC Reference Table'!AC87","v":340},{"$f":"'RBC Reference Table'!AD87","v":0},{"$f":"'RBC Reference Table'!AE87","v":490},{"$f":"'RBC Reference Table'!AF87","v":0},{"$f":"'RBC Reference Table'!AG87","v":1100},{"$f":"'RBC Reference Table'!AH87","v":0},{"$f":"'RBC Reference Table'!AI87","v":4400},{"$f":"'RBC Reference Table'!AJ87","v":0},{"$f":"'RBC Reference Table'!AK87","v":6300},{"$f":"'RBC Reference Table'!AL87","v":0},{"$f":"'RBC Reference Table'!AM87","v":"-"},{"$f":"'RBC Reference Table'!AN87","v":">S"},{"$f":"'RBC Reference Table'!AO87","v":"-"},{"$f":"'RBC Reference Table'!AP87","v":">S"},{"$f":"'RBC Reference Table'!AQ87","v":"-"},{"$f":"'RBC Reference Table'!AR87","v":">S"},{"$f":"'RBC Reference Table'!AS87","v":"-"},{"$f":"'RBC Reference Table'!AT87","v":">S"},{"$f":"'RBC Reference Table'!AU87","v":"-"},{"$f":"'RBC Reference Table'!AV87","v":">S"},{"$f":"'RBC Reference Table'!AW87","v":"-"},{"$f":"'RBC Reference Table'!AX87","v":">S"},{"$f":"'RBC Reference Table'!AY87","v":220000},{"$f":"'RBC Reference Table'!AZ87","v":0},{"$f":"'RBC Reference Table'!BA87","v":1000000},{"$f":"'RBC Reference Table'!BB87","v":0},{"$f":"'RBC Reference Table'!BC87","v":1000000},{"$f":"'RBC Reference Table'!BD87","v":0},{"$f":"'RBC Reference Table'!BE87","v":21900000},{"$f":"'RBC Reference Table'!BF87","v":0},{"$f":"'RBC Reference Table'!BG87","v":5200},{"$f":"'RBC Reference Table'!BH87","v":0},{"$f":"'RBC Reference Table'!BI87","v":5200},{"$f":"'RBC Reference Table'!BJ87","v":0},{"$f":"'RBC Reference Table'!BK87","v":22000},{"$f":"'RBC Reference Table'!BL87","v":0},0,0,0,0,0,0,0,0,0,0,0,0,0,0,0,0,0,0,0,0,0,0,0,0,0,0,0,0,0,0]
[{"$f":"VLOOKUP(H48,'RBC Reference Table'!$B$8:$C$101,2,FALSE)","v":54},null,null,42.9,null,null,"100-41-4","Ethylbenzene","c, v",{"$f":"'RBC Reference Table'!E61","v":34},{"$f":"'RBC Reference Table'!F61","v":0},{"$f":"'RBC Reference Table'!G61","v":110},{"$f":"'RBC Reference Table'!H61","v":0},{"$f":"'RBC Reference Table'!I61","v":150},{"$f":"'RBC Reference Table'!J61","v":0},{"$f":"'RBC Reference Table'!K61","v":1700},{"$f":"'RBC Reference Table'!L61","v":">Csat"},{"$f":"'RBC Reference Table'!M61","v":49000},{"$f":"'RBC Reference Table'!N61","v":">Csat"},{"$f":"'RBC Reference Table'!O61","v":36},{"$f":"'RBC Reference Table'!P61","v":0},{"$f":"'RBC Reference Table'!Q61","v":85},{"$f":"'RBC Reference Table'!R61","v":0},{"$f":"'RBC Reference Table'!S61","v":160},{"$f":"'RBC Reference Table'!T61","v":0},{"$f":"'RBC Reference Table'!U61","v":1.3},{"$f":"'RBC Reference Table'!V61","v":0},{"$f":"'RBC Reference Table'!W61","v":3},{"$f":"'RBC Reference Table'!X61","v":0},{"$f":"'RBC Reference Table'!Y61","v":17},{"$f":"'RBC Reference Table'!Z61","v":0},{"$f":"'RBC Reference Table'!AA61","v":0.22},{"$f":"'RBC Reference Table'!AB61","v":0},{"$f":"'RBC Reference Table'!AC61","v":0.94},{"$f":"'RBC Reference Table'!AD61","v":0},{"$f":"'RBC Reference Table'!AE61","v":0.9},{"$f":"'RBC Reference Table'!AF61","v":0},{"$f":"'RBC Reference Table'!AG61","v":1.5},{"$f":"'RBC Reference Table'!AH61","v":0},{"$f":"'RBC Reference Table'!AI61","v":6.7},{"$f":"'RBC Reference Table'!AJ61","v":0},{"$f":"'RBC Reference Table'!AK61","v":6.4},{"$f":"'RBC Reference Table'!AL61","v":0},{"$f":"'RBC Reference Table'!AM61","v":9900},{"$f":"'RBC Reference Table'!AN61","v":0},{"$f":"'RBC Reference Table'!AO61","v":23000},{"$f":"'RBC Reference Table'!AP61","v":0},{"$f":"'RBC Reference Table'!AQ61","v":43000},{"$f":"'RBC Reference Table'!AR61","v":0},{"$f":"'RBC Reference Table'!AS61","v":620},{"$f":"'RBC Reference Table'!AT61","v":0},{"$f":"'RBC Reference Table'!AU61","v":1500},{"$f":"'RBC Reference Table'!AV61","v":0},{"$f":"'RBC Reference Table'!AW61","v":8200},{"$f":"'RBC Reference Table'!AX61","v":0},{"$f":"'RBC Reference Table'!AY61","v":4500},{"$f":"'RBC Reference Table'!AZ61","v":0},{"$f":"'RBC Reference Table'!BA61","v":220},{"$f":"'RBC Reference Table'!BB61","v":0},{"$f":"'RBC Reference Table'!BC61","v":530},{"$f":"'RBC Reference Table'!BD61","v":0},{"$f":"'RBC Reference Table'!BE61","v":4900},{"$f":"'RBC Reference Table'!BF61","v":0},{"$f":"'RBC Reference Table'!BG61","v":1.1000000000000001},{"$f":"'RBC Reference Table'!BH61","v":0},{"$f":"'RBC Reference Table'!BI61","v":2.7},{"$f":"'RBC Reference Table'!BJ61","v":0},{"$f":"'RBC Reference Table'!BK61","v":4.9000000000000004},{"$f":"'RBC Reference Table'!BL61","v":0},0,0,0,0,0,0,0,0,0,0,0,0,0,0,1,1,1,0,0,0,0,0,0,0,0,0,0,0,0,0]
[{"$f":"VLOOKUP(H49,'RBC Reference Table'!$B$8:$C$101,2,FALSE)","v":91},null,null,445,null,null,"1330-20-7","Xylenes","nc, v",{"$f":"'RBC Reference Table'!E98","v":1400},{"$f":"'RBC Reference Table'!F98","v":">Csat"},{"$f":"'RBC Reference Table'!G98","v":2900},{"$f":"'RBC Reference Table'!H98","v":">Csat"},{"$f":"'RBC Reference Table'!I98","v":25000},{"$f":"'RBC Reference Table'!J98","v":">Csat"},{"$f":"'RBC Reference Table'!K98","v":20000},{"$f":"'RBC Reference Table'!L98","v":">Csat"},{"$f":"'RBC Reference Table'!M98","v":560000},{"$f":"'RBC Reference Table'!N98","v":">Csat"},{"$f":"'RBC Reference Table'!O98","v":"-"},{"$f":"'RBC Reference Table'!P98","v":">Csat"},{"$f":"'RBC Reference Table'!Q98","v":"-"},{"$f":"'RBC Reference Table'!R98","v":">Csat"},{"$f":"'RBC Reference Table'!S98","v":"-"},{"$f":"'RBC Reference Table'!T98","v":">Csat"},{"$f":"'RBC Reference Table'!U98","v":160},{"$f":"'RBC Reference Table'!V98","v":0},{"$f":"'RBC Reference Table'!W98","v":160},{"$f":"'RBC Reference Table'!X98","v":0},{"$f":"'RBC Reference Table'!Y98","v":"-"},{"$f":"'RBC Reference Table'!Z98","v":">Csat"},{"$f":"'RBC Reference Table'!AA98","v":23},{"$f":"'RBC Reference Table'!AB98","v":0},{"$f":"'RBC Reference Table'!AC98","v":87},{"$f":"'RBC Reference Table'!AD98","v":0},{"$f":"'RBC Reference Table'!AE98","v":100},{"$f":"'RBC Reference Table'!AF98","v":0},{"$f":"'RBC Reference Table'!AG98","v":190},{"$f":"'RBC Reference Table'!AH98","v":0},{"$f":"'RBC Reference Table'!AI98","v":710},{"$f":"'RBC Reference Table'!AJ98","v":0},{"$f":"'RBC Reference Table'!AK98","v":830},{"$f":"'RBC Reference Table'!AL98","v":0},{"$f":"'RBC Reference Table'!AM98","v":"-"},{"$f":"'RBC Reference Table'!AN98","v":">S"},{"$f":"'RBC Reference Table'!AO98","v":"-"},{"$f":"'RBC Reference Table'!AP98","v":">S"},{"$f":"'RBC Reference Table'!AQ98","v":"-"},{"$f":"'RBC Reference Table'!AR98","v":">S"},{"$f":"'RBC Reference Table'!AS98","v":86000},{"$f":"'RBC Reference Table'!AT98","v":0},{"$f":"'RBC Reference Table'!AU98","v":86000},{"$f":"'RBC Reference Table'!AV98","v":0},{"$f":"'RBC Reference Table'!AW98","v":"-"},{"$f":"'RBC Reference Table'!AX98","v":">S"},{"$f":"'RBC Reference Table'!AY98","v":23000},{"$f":"'RBC Reference Table'!AZ98","v":0},{"$f":"'RBC Reference Table'!BA98","v":21000},{"$f":"'RBC Reference Table'!BB98","v":0},{"$f":"'RBC Reference Table'!BC98","v":21000},{"$f":"'RBC Reference Table'!BD98","v":0},{"$f":"'RBC Reference Table'!BE98","v":440000},{"$f":"'RBC Reference Table'!BF98","v":0},{"$f":"'RBC Reference Table'!BG98","v":100},{"$f":"'RBC Reference Table'!BH98","v":0},{"$f":"'RBC Reference Table'!BI98","v":100},{"$f":"'RBC Reference Table'!BJ98","v":0},{"$f":"'RBC Reference Table'!BK98","v":440},{"$f":"'RBC Reference Table'!BL98","v":0},0,0,0,0,0,0,0,0,0,0,0,0,0,0,1,0,0,0,0,0,0,0,0,0,0,0,0,0,0,0]
[{"$f":"VLOOKUP(H50,'RBC Reference Table'!$B$8:$C$101,2,FALSE)","v":69},null,null,null,null,null,"1634-04-4","MTBE (methyl t-butyl ether)","c, v",{"$f":"'RBC Reference Table'!E76","v":250},{"$f":"'RBC Reference Table'!F76","v":0},{"$f":"'RBC Reference Table'!G76","v":730},{"$f":"'RBC Reference Table'!H76","v":0},{"$f":"'RBC Reference Table'!I76","v":1100},{"$f":"'RBC Reference Table'!J76","v":0},{"$f":"'RBC Reference Table'!K76","v":12000},{"$f":"'RBC Reference Table'!L76","v":">Csat"},{"$f":"'RBC Reference Table'!M76","v":320000},{"$f":"'RBC Reference Table'!N76","v":">Csat"},{"$f":"'RBC Reference Table'!O76","v":340},{"$f":"'RBC Reference Table'!P76","v":0},{"$f":"'RBC Reference Table'!Q76","v":810},{"$f":"'RBC Reference Table'!R76","v":0},{"$f":"'RBC Reference Table'!S76","v":1500},{"$f":"'RBC Reference Table'!T76","v":0},{"$f":"'RBC Reference Table'!U76","v":8.5},{"$f":"'RBC Reference Table'!V76","v":0},{"$f":"'RBC Reference Table'!W76","v":20},{"$f":"'RBC Reference Table'!X76","v":0},{"$f":"'RBC Reference Table'!Y76","v":110},{"$f":"'RBC Reference Table'!Z76","v":0},{"$f":"'RBC Reference Table'!AA76","v":0.11},{"$f":"'RBC Reference Table'!AB76","v":0},{"$f":"'RBC Reference Table'!AC76","v":0.5},{"$f":"'RBC Reference Table'!AD76","v":0},{"$f":"'RBC Reference Table'!AE76","v":0.54},{"$f":"'RBC Reference Table'!AF76","v":0},{"$f":"'RBC Reference Table'!AG76","v":14},{"$f":"'RBC Reference Table'!AH76","v":0},{"$f":"'RBC Reference Table'!AI76","v":64},{"$f":"'RBC Reference Table'!AJ76","v":0},{"$f":"'RBC Reference Table'!AK76","v":68},{"$f":"'RBC Reference Table'!AL76","v":0},{"$f":"'RBC Reference Table'!AM76","v":350000},{"$f":"'RBC Reference Table'!AN76","v":0},{"$f":"'RBC Reference Table'!AO76","v":830000},{"$f":"'RBC Reference Table'!AP76","v":0},{"$f":"'RBC Reference Table'!AQ76","v":1500000},{"$f":"'RBC Reference Table'!AR76","v":0},{"$f":"'RBC Reference Table'!AS76","v":67000},{"$f":"'RBC Reference Table'!AT76","v":0},{"$f":"'RBC Reference Table'!AU76","v":160000},{"$f":"'RBC Reference Table'!AV76","v":0},{"$f":"'RBC Reference Table'!AW76","v":870000},{"$f":"'RBC Reference Table'!AX76","v":0},{"$f":"'RBC Reference Table'!AY76","v":63000},{"$f":"'RBC Reference Table'!AZ76","v":0},{"$f":"'RBC Reference Table'!BA76","v":2200},{"$f":"'RBC Reference Table'!BB76","v":0},{"$f":"'RBC Reference Table'!BC76","v":5100},{"$f":"'RBC Reference Table'!BD76","v":0},{"$f":"'RBC Reference Table'!BE76","v":47000},{"$f":"'RBC Reference Table'!BF76","v":0},{"$f":"'RBC Reference Table'!BG76","v":11},{"$f":"'RBC Reference Table'!BH76","v":0},{"$f":"'RBC Reference Table'!BI76","v":26},{"$f":"'RBC Reference Table'!BJ76","v":0},{"$f":"'RBC Reference Table'!BK76","v":47},{"$f":"'RBC Reference Table'!BL76","v":0},0,0,0,0,0,0,0,0,0,0,0,0,0,0,0,0,0,0,0,0,0,0,0,0,0,0,0,0,0,0]
[{"$f":"VLOOKUP(H51,'RBC Reference Table'!$B$8:$C$101,2,FALSE)","v":70},null,0.161,null,null,null,"91-20-3","Naphthalene","c, v",{"$f":"'RBC Reference Table'!E77","v":5.3},{"$f":"'RBC Reference Table'!F77","v":0},{"$f":"'RBC Reference Table'!G77","v":25},{"$f":"'RBC Reference Table'!H77","v":0},{"$f":"'RBC Reference Table'!I77","v":23},{"$f":"'RBC Reference Table'!J77","v":0},{"$f":"'RBC Reference Table'!K77","v":580},{"$f":"'RBC Reference Table'!L77","v":">Csat"},{"$f":"'RBC Reference Table'!M77","v":16000},{"$f":"'RBC Reference Table'!N77","v":">Csat"},{"$f":"'RBC Reference Table'!O77","v":6.4},{"$f":"'RBC Reference Table'!P77","v":0},{"$f":"'RBC Reference Table'!Q77","v":15},{"$f":"'RBC Reference Table'!R77","v":0},{"$f":"'RBC Reference Table'!S77","v":83},{"$f":"'RBC Reference Table'!T77","v":0},{"$f":"'RBC Reference Table'!U77","v":6.4},{"$f":"'RBC Reference Table'!V77","v":0},{"$f":"'RBC Reference Table'!W77","v":15},{"$f":"'RBC Reference Table'!X77","v":0},{"$f":"'RBC Reference Table'!Y77","v":83},{"$f":"'RBC Reference Table'!Z77","v":0},{"$f":"'RBC Reference Table'!AA77","v":7.6999999999999999E-2},{"$f":"'RBC Reference Table'!AB77","v":0},{"$f":"'RBC Reference Table'!AC77","v":0.37},{"$f":"'RBC Reference Table'!AD77","v":0},{"$f":"'RBC Reference Table'!AE77","v":0.34},{"$f":"'RBC Reference Table'!AF77","v":0},{"$f":"'RBC Reference Table'!AG77","v":0.17},{"$f":"'RBC Reference Table'!AH77","v":0},{"$f":"'RBC Reference Table'!AI77","v":0.78},{"$f":"'RBC Reference Table'!AJ77","v":0},{"$f":"'RBC Reference Table'!AK77","v":0.72},{"$f":"'RBC Reference Table'!AL77","v":0},{"$f":"'RBC Reference Table'!AM77","v":3600},{"$f":"'RBC Reference Table'!AN77","v":0},{"$f":"'RBC Reference Table'!AO77","v":8500},{"$f":"'RBC Reference Table'!AP77","v":0},{"$f":"'RBC Reference Table'!AQ77","v":16000},{"$f":"'RBC Reference Table'!AR77","v":0},{"$f":"'RBC Reference Table'!AS77","v":840},{"$f":"'RBC Reference Table'!AT77","v":0},{"$f":"'RBC Reference Table'!AU77","v":2000},{"$f":"'RBC Reference Table'!AV77","v":0},{"$f":"'RBC Reference Table'!AW77","v":11000},{"$f":"'RBC Reference Table'!AX77","v":0},{"$f":"'RBC Reference Table'!AY77","v":500},{"$f":"'RBC Reference Table'!AZ77","v":0},{"$f":"'RBC Reference Table'!BA77","v":17},{"$f":"'RBC Reference Table'!BB77","v":0},{"$f":"'RBC Reference Table'!BC77","v":39},{"$f":"'RBC Reference Table'!BD77","v":0},{"$f":"'RBC Reference Table'!BE77","v":360},{"$f":"'RBC Reference Table'!BF77","v":0},{"$f":"'RBC Reference Table'!BG77","v":8.3000000000000004E-2},{"$f":"'RBC Reference Table'!BH77","v":0},{"$f":"'RBC Reference Table'!BI77","v":0.2},{"$f":"'RBC Reference Table'!BJ77","v":0},{"$f":"'RBC Reference Table'!BK77","v":0.36},{"$f":"'RBC Reference Table'!BL77","v":0},0,0,0,0,0,0,0,0,0,0,0,1,0,0,0,0,0,0,0,0,0,0,0,0,0,0,0,0,0,0]
[{"$f":"VLOOKUP(H52,'RBC Reference Table'!$B$8:$C$101,2,FALSE)","v":88},null,null,null,null,null,"95-63-6","1,2,4-Trimethylbenzene","nc, v",{"$f":"'RBC Reference Table'!E95","v":430},{"$f":"'RBC Reference Table'!F95","v":0},{"$f":"'RBC Reference Table'!G95","v":860},{"$f":"'RBC Reference Table'!H95","v":0},{"$f":"'RBC Reference Table'!I95","v":6900},{"$f":"'RBC Reference Table'!J95","v":">Csat"},{"$f":"'RBC Reference Table'!K95","v":2900},{"$f":"'RBC Reference Table'!L95","v":">Csat"},{"$f":"'RBC Reference Table'!M95","v":81000},{"$f":"'RBC Reference Table'!N95","v":">Csat"},{"$f":"'RBC Reference Table'!O95","v":"-"},{"$f":"'RBC Reference Table'!P95","v":">Csat"},{"$f":"'RBC Reference Table'!Q95","v":"-"},{"$f":"'RBC Reference Table'!R95","v":">Csat"},{"$f":"'RBC Reference Table'!S95","v":"-"},{"$f":"'RBC Reference Table'!T95","v":">Csat"},{"$f":"'RBC Reference Table'!U95","v":140},{"$f":"'RBC Reference Table'!V95","v":0},{"$f":"'RBC Reference Table'!W95","v":140},{"$f":"'RBC Reference Table'!X95","v":0},{"$f":"'RBC Reference Table'!Y95","v":"-"},{"$f":"'RBC Reference Table'!Z95","v":">Csat"},{"$f":"'RBC Reference Table'!AA95","v":10},{"$f":"'RBC Reference Table'!AB95","v":0},{"$f":"'RBC Reference Table'!AC95","v":43},{"$f":"'RBC Reference Table'!AD95","v":0},{"$f":"'RBC Reference Table'!AE95","v":48},{"$f":"'RBC Reference Table'!AF95","v":0},{"$f":"'RBC Reference Table'!AG95","v":54},{"$f":"'RBC Reference Table'!AH95","v":0},{"$f":"'RBC Reference Table'!AI95","v":230},{"$f":"'RBC Reference Table'!AJ95","v":0},{"$f":"'RBC Reference Table'!AK95","v":250},{"$f":"'RBC Reference Table'!AL95","v":0},{"$f":"'RBC Reference Table'!AM95","v":"-"},{"$f":"'RBC Reference Table'!AN95","v":">S"},{"$f":"'RBC Reference Table'!AO95","v":"-"},{"$f":"'RBC Reference Table'!AP95","v":">S"},{"$f":"'RBC Reference Table'!AQ95","v":"-"},{"$f":"'RBC Reference Table'!AR95","v":">S"},{"$f":"'RBC Reference Table'!AS95","v":50000},{"$f":"'RBC Reference Table'!AT95","v":0},{"$f":"'RBC Reference Table'!AU95","v":50000},{"$f":"'RBC Reference Table'!AV95","v":0},{"$f":"'RBC Reference Table'!AW95","v":"-"},{"$f":"'RBC Reference Table'!AX95","v":">S"},{"$f":"'RBC Reference Table'!AY95","v":6300},{"$f":"'RBC Reference Table'!AZ95","v":0},{"$f":"'RBC Reference Table'!BA95","v":13000},{"$f":"'RBC Reference Table'!BB95","v":0},{"$f":"'RBC Reference Table'!BC95","v":13000},{"$f":"'RBC Reference Table'!BD95","v":0},{"$f":"'RBC Reference Table'!BE95","v":260000},{"$f":"'RBC Reference Table'!BF95","v":0},{"$f":"'RBC Reference Table'!BG95","v":63},{"$f":"'RBC Reference Table'!BH95","v":0},{"$f":"'RBC Reference Table'!BI95","v":63},{"$f":"'RBC Reference Table'!BJ95","v":0},{"$f":"'RBC Reference Table'!BK95","v":260},{"$f":"'RBC Reference Table'!BL95","v":0},0,0,0,0,0,0,0,0,0,0,0,0,0,0,0,0,0,0,0,0,0,0,0,0,0,0,0,0,0,0]
[{"$f":"VLOOKUP(H53,'RBC Reference Table'!$B$8:$C$101,2,FALSE)","v":89},null,null,null,null,null,"108-67-8","1,3,5-Trimethylbenzene","nc, v",{"$f":"'RBC Reference Table'!E96","v":430},{"$f":"'RBC Reference Table'!F96","v":">Csat"},{"$f":"'RBC Reference Table'!G96","v":860},{"$f":"'RBC Reference Table'!H96","v":">Csat"},{"$f":"'RBC Reference Table'!I96","v":6900},{"$f":"'RBC Reference Table'!J96","v":">Csat"},{"$f":"'RBC Reference Table'!K96","v":2900},{"$f":"'RBC Reference Table'!L96","v":">Csat"},{"$f":"'RBC Reference Table'!M96","v":81000},{"$f":"'RBC Reference Table'!N96","v":">Csat"},{"$f":"'RBC Reference Table'!O96","v":"-"},{"$f":"'RBC Reference Table'!P96","v":">Csat"},{"$f":"'RBC Reference Table'!Q96","v":"-"},{"$f":"'RBC Reference Table'!R96","v":">Csat"},{"$f":"'RBC Reference Table'!S96","v":"-"},{"$f":"'RBC Reference Table'!T96","v":">Csat"},{"$f":"'RBC Reference Table'!U96","v":98},{"$f":"'RBC Reference Table'!V96","v":0},{"$f":"'RBC Reference Table'!W96","v":98},{"$f":"'RBC Reference Table'!X96","v":0},{"$f":"'RBC Reference Table'!Y96","v":"-"},{"$f":"'RBC Reference Table'!Z96","v":">Csat"},{"$f":"'RBC Reference Table'!AA96","v":11},{"$f":"'RBC Reference Table'!AB96","v":0},{"$f":"'RBC Reference Table'!AC96","v":45},{"$f":"'RBC Reference Table'!AD96","v":0},{"$f":"'RBC Reference Table'!AE96","v":53},{"$f":"'RBC Reference Table'!AF96","v":0},{"$f":"'RBC Reference Table'!AG96","v":59},{"$f":"'RBC Reference Table'!AH96","v":0},{"$f":"'RBC Reference Table'!AI96","v":240},{"$f":"'RBC Reference Table'!AJ96","v":0},{"$f":"'RBC Reference Table'!AK96","v":280},{"$f":"'RBC Reference Table'!AL96","v":0},{"$f":"'RBC Reference Table'!AM96","v":"-"},{"$f":"'RBC Reference Table'!AN96","v":">S"},{"$f":"'RBC Reference Table'!AO96","v":"-"},{"$f":"'RBC Reference Table'!AP96","v":">S"},{"$f":"'RBC Reference Table'!AQ96","v":"-"},{"$f":"'RBC Reference Table'!AR96","v":">S"},{"$f":"'RBC Reference Table'!AS96","v":36000},{"$f":"'RBC Reference Table'!AT96","v":0},{"$f":"'RBC Reference Table'!AU96","v":36000},{"$f":"'RBC Reference Table'!AV96","v":0},{"$f":"'RBC Reference Table'!AW96","v":"-"},{"$f":"'RBC Reference Table'!AX96","v":">S"},{"$f":"'RBC Reference Table'!AY96","v":7500},{"$f":"'RBC Reference Table'!AZ96","v":0},{"$f":"'RBC Reference Table'!BA96","v":13000},{"$f":"'RBC Reference Table'!BB96","v":0},{"$f":"'RBC Reference Table'!BC96","v":13000},{"$f":"'RBC Reference Table'!BD96","v":0},{"$f":"'RBC Reference Table'!BE96","v":260000},{"$f":"'RBC Reference Table'!BF96","v":0},{"$f":"'RBC Reference Table'!BG96","v":63},{"$f":"'RBC Reference Table'!BH96","v":0},{"$f":"'RBC Reference Table'!BI96","v":63},{"$f":"'RBC Reference Table'!BJ96","v":0},{"$f":"'RBC Reference Table'!BK96","v":260},{"$f":"'RBC Reference Table'!BL96","v":0},0,0,0,0,0,0,0,0,0,0,0,0,0,0,0,0,0,0,0,0,0,0,0,0,0,0,0,0,0,0]
[{"$f":"VLOOKUP(H54,'RBC Reference Table'!$B$8:$C$101,2,FALSE)","v":74},null,null,null,null,null,"98-82-8","iso-Propylbenzene (cumene)","nc, v",{"$f":"'RBC Reference Table'!E81","v":3500},{"$f":"'RBC Reference Table'!F81","v":">Csat"},{"$f":"'RBC Reference Table'!G81","v":7000},{"$f":"'RBC Reference Table'!H81","v":">Csat"},{"$f":"'RBC Reference Table'!I81","v":57000},{"$f":"'RBC Reference Table'!J81","v":">Csat"},{"$f":"'RBC Reference Table'!K81","v":27000},{"$f":"'RBC Reference Table'!L81","v":">Csat"},{"$f":"'RBC Reference Table'!M81","v":750000},{"$f":"'RBC Reference Table'!N81","v":">Csat"},{"$f":"'RBC Reference Table'!O81","v":"-"},{"$f":"'RBC Reference Table'!P81","v":">Csat"},{"$f":"'RBC Reference Table'!Q81","v":"-"},{"$f":"'RBC Reference Table'!R81","v":">Csat"},{"$f":"'RBC Reference Table'!S81","v":"-"},{"$f":"'RBC Reference Table'!T81","v":">Csat"},{"$f":"'RBC Reference Table'!U81","v":"-"},{"$f":"'RBC Reference Table'!V81","v":">Csat"},{"$f":"'RBC Reference Table'!W81","v":"-"},{"$f":"'RBC Reference Table'!X81","v":">Csat"},{"$f":"'RBC Reference Table'!Y81","v":"-"},{"$f":"'RBC Reference Table'!Z81","v":">Csat"},{"$f":"'RBC Reference Table'!AA81","v":96},{"$f":"'RBC Reference Table'!AB81","v":0},{"$f":"'RBC Reference Table'!AC81","v":"-"},{"$f":"'RBC Reference Table'!AD81","v":">Csat"},{"$f":"'RBC Reference Table'!AE81","v":"-"},{"$f":"'RBC Reference Table'!AF81","v":">Csat"},{"$f":"'RBC Reference Table'!AG81","v":440},{"$f":"'RBC Reference Table'!AH81","v":0},{"$f":"'RBC Reference Table'!AI81","v":1800},{"$f":"'RBC Reference Table'!AJ81","v":0},{"$f":"'RBC Reference Table'!AK81","v":2000},{"$f":"'RBC Reference Table'!AL81","v":0},{"$f":"'RBC Reference Table'!AM81","v":"-"},{"$f":"'RBC Reference Table'!AN81","v":">S"},{"$f":"'RBC Reference Table'!AO81","v":"-"},{"$f":"'RBC Reference Table'!AP81","v":">S"},{"$f":"'RBC Reference Table'!AQ81","v":"-"},{"$f":"'RBC Reference Table'!AR81","v":">S"},{"$f":"'RBC Reference Table'!AS81","v":"-"},{"$f":"'RBC Reference Table'!AT81","v":">S"},{"$f":"'RBC Reference Table'!AU81","v":"-"},{"$f":"'RBC Reference Table'!AV81","v":">S"},{"$f":"'RBC Reference Table'!AW81","v":"-"},{"$f":"'RBC Reference Table'!AX81","v":">S"},{"$f":"'RBC Reference Table'!AY81","v":51000},{"$f":"'RBC Reference Table'!AZ81","v":0},{"$f":"'RBC Reference Table'!BA81","v":83000},{"$f":"'RBC Reference Table'!BB81","v":0},{"$f":"'RBC Reference Table'!BC81","v":83000},{"$f":"'RBC Reference Table'!BD81","v":0},{"$f":"'RBC Reference Table'!BE81","v":1800000},{"$f":"'RBC Reference Table'!BF81","v":0},{"$f":"'RBC Reference Table'!BG81","v":420},{"$f":"'RBC Reference Table'!BH81","v":0},{"$f":"'RBC Reference Table'!BI81","v":420},{"$f":"'RBC Reference Table'!BJ81","v":0},{"$f":"'RBC Reference Table'!BK81","v":1800},{"$f":"'RBC Reference Table'!BL81","v":0},0,0,0,0,0,0,0,0,0,0,0,0,0,0,0,0,0,0,0,0,0,0,0,0,0,0,0,0,0,0]
[{"$f":"VLOOKUP(H55,'RBC Reference Table'!$B$8:$C$101,2,FALSE)","v":50},null,null,null,null,null,"106-93-4","EDB (1,2-dibromoethane)","c, v",{"$f":"'RBC Reference Table'!E57","v":0.16},{"$f":"'RBC Reference Table'!F57","v":0},{"$f":"'RBC Reference Table'!G57","v":0.53},{"$f":"'RBC Reference Table'!H57","v":0},{"$f":"'RBC Reference Table'!I57","v":0.73},{"$f":"'RBC Reference Table'!J57","v":0},{"$f":"'RBC Reference Table'!K57","v":9},{"$f":"'RBC Reference Table'!L57","v":0},{"$f":"'RBC Reference Table'!M57","v":250},{"$f":"'RBC Reference Table'!N57","v":0},{"$f":"'RBC Reference Table'!O57","v":0.15},{"$f":"'RBC Reference Table'!P57","v":0},{"$f":"'RBC Reference Table'!Q57","v":0.35},{"$f":"'RBC Reference Table'!R57","v":0},{"$f":"'RBC Reference Table'!S57","v":0.65},{"$f":"'RBC Reference Table'!T57","v":0},{"$f":"'RBC Reference Table'!U57","v":1.2E-2},{"$f":"'RBC Reference Table'!V57","v":0},{"$f":"'RBC Reference Table'!W57","v":2.8000000000000001E-2},{"$f":"'RBC Reference Table'!X57","v":0},{"$f":"'RBC Reference Table'!Y57","v":0.16},{"$f":"'RBC Reference Table'!Z57","v":0},{"$f":"'RBC Reference Table'!AA57","v":1.2E-4},{"$f":"'RBC Reference Table'!AB57","v":0},{"$f":"'RBC Reference Table'!AC57","v":5.5999999999999995E-4},{"$f":"'RBC Reference Table'!AD57","v":0},{"$f":"'RBC Reference Table'!AE57","v":5.5999999999999995E-4},{"$f":"'RBC Reference Table'!AF57","v":0},{"$f":"'RBC Reference Table'!AG57","v":7.4999999999999997E-3},{"$f":"'RBC Reference Table'!AH57","v":0},{"$f":"'RBC Reference Table'!AI57","v":3.4000000000000002E-2},{"$f":"'RBC Reference Table'!AJ57","v":0},{"$f":"'RBC Reference Table'!AK57","v":3.4000000000000002E-2},{"$f":"'RBC Reference Table'!AL57","v":0},{"$f":"'RBC Reference Table'!AM57","v":180},{"$f":"'RBC Reference Table'!AN57","v":0},{"$f":"'RBC Reference Table'!AO57","v":430},{"$f":"'RBC Reference Table'!AP57","v":0},{"$f":"'RBC Reference Table'!AQ57","v":790},{"$f":"'RBC Reference Table'!AR57","v":0},{"$f":"'RBC Reference Table'!AS57","v":45},{"$f":"'RBC Reference Table'!AT57","v":0},{"$f":"'RBC Reference Table'!AU57","v":110},{"$f":"'RBC Reference Table'!AV57","v":0},{"$f":"'RBC Reference Table'!AW57","v":590},{"$f":"'RBC Reference Table'!AX57","v":0},{"$f":"'RBC Reference Table'!AY57","v":27},{"$f":"'RBC Reference Table'!AZ57","v":0},{"$f":"'RBC Reference Table'!BA57","v":0.94},{"$f":"'RBC Reference Table'!BB57","v":0},{"$f":"'RBC Reference Table'!BC57","v":2.2000000000000002},{"$f":"'RBC Reference Table'!BD57","v":0},{"$f":"'RBC Reference Table'!BE57","v":20},{"$f":"'RBC Reference Table'!BF57","v":0},{"$f":"'RBC Reference Table'!BG57","v":4.7000000000000002E-3},{"$f":"'RBC Reference Table'!BH57","v":0},{"$f":"'RBC Reference Table'!BI57","v":1.0999999999999999E-2},{"$f":"'RBC Reference Table'!BJ57","v":0},{"$f":"'RBC Reference Table'!BK57","v":0.02},{"$f":"'RBC Reference Table'!BL57","v":0},0,0,0,0,0,0,0,0,0,0,0,0,0,0,0,0,0,0,0,0,0,0,0,0,0,0,0,0,0,0]
[{"$f":"VLOOKUP(H56,'RBC Reference Table'!$B$8:$C$101,2,FALSE)","v":51},null,null,null,null,null,"107-06-2","EDC (1,2-dichloroethane)","c, v",{"$f":"'RBC Reference Table'!E58","v":3.6},{"$f":"'RBC Reference Table'!F58","v":0},{"$f":"'RBC Reference Table'!G58","v":12},{"$f":"'RBC Reference Table'!H58","v":0},{"$f":"'RBC Reference Table'!I58","v":16},{"$f":"'RBC Reference Table'!J58","v":0},{"$f":"'RBC Reference Table'!K58","v":200},{"$f":"'RBC Reference Table'!L58","v":0},{"$f":"'RBC Reference Table'!M58","v":5600},{"$f":"'RBC Reference Table'!N58","v":">Csat"},{"$f":"'RBC Reference Table'!O58","v":3.4},{"$f":"'RBC Reference Table'!P58","v":0},{"$f":"'RBC Reference Table'!Q58","v":8.1},{"$f":"'RBC Reference Table'!R58","v":0},{"$f":"'RBC Reference Table'!S58","v":15},{"$f":"'RBC Reference Table'!T58","v":0},{"$f":"'RBC Reference Table'!U58","v":7.6999999999999999E-2},{"$f":"'RBC Reference Table'!V58","v":0},{"$f":"'RBC Reference Table'!W58","v":0.18},{"$f":"'RBC Reference Table'!X58","v":0},{"$f":"'RBC Reference Table'!Y58","v":1},{"$f":"'RBC Reference Table'!Z58","v":0},{"$f":"'RBC Reference Table'!AA58","v":2.8E-3},{"$f":"'RBC Reference Table'!AB58","v":0},{"$f":"'RBC Reference Table'!AC58","v":1.2999999999999999E-2},{"$f":"'RBC Reference Table'!AD58","v":0},{"$f":"'RBC Reference Table'!AE58","v":1.2999999999999999E-2},{"$f":"'RBC Reference Table'!AF58","v":0},{"$f":"'RBC Reference Table'!AG58","v":0.17},{"$f":"'RBC Reference Table'!AH58","v":0},{"$f":"'RBC Reference Table'!AI58","v":0.78},{"$f":"'RBC Reference Table'!AJ58","v":0},{"$f":"'RBC Reference Table'!AK58","v":0.78},{"$f":"'RBC Reference Table'!AL58","v":0},{"$f":"'RBC Reference Table'!AM58","v":2100},{"$f":"'RBC Reference Table'!AN58","v":0},{"$f":"'RBC Reference Table'!AO58","v":4900},{"$f":"'RBC Reference Table'!AP58","v":0},{"$f":"'RBC Reference Table'!AQ58","v":9000},{"$f":"'RBC Reference Table'!AR58","v":0},{"$f":"'RBC Reference Table'!AS58","v":300},{"$f":"'RBC Reference Table'!AT58","v":0},{"$f":"'RBC Reference Table'!AU58","v":700},{"$f":"'RBC Reference Table'!AV58","v":0},{"$f":"'RBC Reference Table'!AW58","v":3900},{"$f":"'RBC Reference Table'!AX58","v":0},{"$f":"'RBC Reference Table'!AY58","v":630},{"$f":"'RBC Reference Table'!AZ58","v":0},{"$f":"'RBC Reference Table'!BA58","v":22},{"$f":"'RBC Reference Table'!BB58","v":0},{"$f":"'RBC Reference Table'!BC58","v":51},{"$f":"'RBC Reference Table'!BD58","v":0},{"$f":"'RBC Reference Table'!BE58","v":470},{"$f":"'RBC Reference Table'!BF58","v":0},{"$f":"'RBC Reference Table'!BG58","v":0.11},{"$f":"'RBC Reference Table'!BH58","v":0},{"$f":"'RBC Reference Table'!BI58","v":0.26},{"$f":"'RBC Reference Table'!BJ58","v":0},{"$f":"'RBC Reference Table'!BK58","v":0.47},{"$f":"'RBC Reference Table'!BL58","v":0},0,0,0,0,0,0,0,0,0,0,0,0,0,0,0,0,0,0,0,0,0,0,0,0,0,0,0,0,0,0]
[{"$f":"VLOOKUP(H57,'RBC Reference Table'!$B$8:$C$101,2,FALSE)","v":1},null,null,null,null,null,"83-32-9","Acenaphthene","nc, v",{"$f":"'RBC Reference Table'!E8","v":4700},{"$f":"'RBC Reference Table'!F8","v":">Csat"},{"$f":"'RBC Reference Table'!G8","v":9400},{"$f":"'RBC Reference Table'!H8","v":">Csat"},{"$f":"'RBC Reference Table'!I8","v":70000},{"$f":"'RBC Reference Table'!J8","v":">Csat"},{"$f":"'RBC Reference Table'!K8","v":21000},{"$f":"'RBC Reference Table'!L8","v":">Csat"},{"$f":"'RBC Reference Table'!M8","v":590000},{"$f":"'RBC Reference Table'!N8","v":">Csat"},{"$f":"'RBC Reference Table'!O8","v":"-"},{"$f":"'RBC Reference Table'!P8","v":">Max"},{"$f":"'RBC Reference Table'!Q8","v":"-"},{"$f":"'RBC Reference Table'!R8","v":">Max"},{"$f":"'RBC Reference Table'!S8","v":"-"},{"$f":"'RBC Reference Table'!T8","v":">Max"},{"$f":"'RBC Reference Table'!U8","v":"-"},{"$f":"'RBC Reference Table'!V8","v":">Max"},{"$f":"'RBC Reference Table'!W8","v":"-"},{"$f":"'RBC Reference Table'!X8","v":">Max"},{"$f":"'RBC Reference Table'!Y8","v":"-"},{"$f":"'RBC Reference Table'!Z8","v":">Max"},{"$f":"'RBC Reference Table'!AA8","v":"-"},{"$f":"'RBC Reference Table'!AB8","v":">Csat"},{"$f":"'RBC Reference Table'!AC8","v":"-"},{"$f":"'RBC Reference Table'!AD8","v":">Csat"},{"$f":"'RBC Reference Table'!AE8","v":"-"},{"$f":"'RBC Reference Table'!AF8","v":">Csat"},{"$f":"'RBC Reference Table'!AG8","v":510},{"$f":"'RBC Reference Table'!AH8","v":0},{"$f":"'RBC Reference Table'!AI8","v":2400},{"$f":"'RBC Reference Table'!AJ8","v":0},{"$f":"'RBC Reference Table'!AK8","v":2500},{"$f":"'RBC Reference Table'!AL8","v":0},{"$f":"'RBC Reference Table'!AM8","v":"-"},{"$f":"'RBC Reference Table'!AN8","v":">S"},{"$f":"'RBC Reference Table'!AO8","v":"-"},{"$f":"'RBC Reference Table'!AP8","v":">S"},{"$f":"'RBC Reference Table'!AQ8","v":"-"},{"$f":"'RBC Reference Table'!AR8","v":">S"},{"$f":"'RBC Reference Table'!AS8","v":"-"},{"$f":"'RBC Reference Table'!AT8","v":">S"},{"$f":"'RBC Reference Table'!AU8","v":"-"},{"$f":"'RBC Reference Table'!AV8","v":">S"},{"$f":"'RBC Reference Table'!AW8","v":"-"},{"$f":"'RBC Reference Table'!AX8","v":">S"},{"$f":"'RBC Reference Table'!AY8","v":"-"},{"$f":"'RBC Reference Table'!AZ8","v":">S"},{"$f":"'RBC Reference Table'!BA8","v":"-"},{"$f":"'RBC Reference Table'!BB8","v":">Pv"},{"$f":"'RBC Reference Table'!BC8","v":"-"},{"$f":"'RBC Reference Table'!BD8","v":">Pv"},{"$f":"'RBC Reference Table'!BE8","v":"-"},{"$f":"'RBC Reference Table'!BF8","v":">Pv"},{"$f":"'RBC Reference Table'!BG8","v":"-"},{"$f":"'RBC Reference Table'!BH8","v":">Pv"},{"$f":"'RBC Reference Table'!BI8","v":"-"},{"$f":"'RBC Reference Table'!BJ8","v":">Pv"},{"$f":"'RBC Reference Table'!BK8","v":"-"},{"$f":"'RBC Reference Table'!BL8","v":">Pv"},0,0,0,0,0,0,0,0,0,0,0,0,0,0,0,0,0,0,0,0,0,0,0,0,0,0,0,0,0,0]
[{"$f":"VLOOKUP(H58,'RBC Reference Table'!$B$8:$C$101,2,FALSE)","v":4},null,null,null,null,null,"120-12-7","Anthracene","nc, v",{"$f":"'RBC Reference Table'!E11","v":23000},{"$f":"'RBC Reference Table'!F11","v":">Csat"},{"$f":"'RBC Reference Table'!G11","v":47000},{"$f":"'RBC Reference Table'!H11","v":">Csat"},{"$f":"'RBC Reference Table'!I11","v":350000},{"$f":"'RBC Reference Table'!J11","v":">Csat"},{"$f":"'RBC Reference Table'!K11","v":110000},{"$f":"'RBC Reference Table'!L11","v":">Csat"},{"$f":"'RBC Reference Table'!M11","v":"-"},{"$f":"'RBC Reference Table'!N11","v":">Max"},{"$f":"'RBC Reference Table'!O11","v":"-"},{"$f":"'RBC Reference Table'!P11","v":">Max"},{"$f":"'RBC Reference Table'!Q11","v":"-"},{"$f":"'RBC Reference Table'!R11","v":">Max"},{"$f":"'RBC Reference Table'!S11","v":"-"},{"$f":"'RBC Reference Table'!T11","v":">Max"},{"$f":"'RBC Reference Table'!U11","v":"-"},{"$f":"'RBC Reference Table'!V11","v":">Max"},{"$f":"'RBC Reference Table'!W11","v":"-"},{"$f":"'RBC Reference Table'!X11","v":">Max"},{"$f":"'RBC Reference Table'!Y11","v":"-"},{"$f":"'RBC Reference Table'!Z11","v":">Max"},{"$f":"'RBC Reference Table'!AA11","v":"-"},{"$f":"'RBC Reference Table'!AB11","v":">Csat"},{"$f":"'RBC Reference Table'!AC11","v":"-"},{"$f":"'RBC Reference Table'!AD11","v":">Csat"},{"$f":"'RBC Reference Table'!AE11","v":"-"},{"$f":"'RBC Reference Table'!AF11","v":">Csat"},{"$f":"'RBC Reference Table'!AG11","v":"-"},{"$f":"'RBC Reference Table'!AH11","v":">S"},{"$f":"'RBC Reference Table'!AI11","v":"-"},{"$f":"'RBC Reference Table'!AJ11","v":">S"},{"$f":"'RBC Reference Table'!AK11","v":"-"},{"$f":"'RBC Reference Table'!AL11","v":">S"},{"$f":"'RBC Reference Table'!AM11","v":"-"},{"$f":"'RBC Reference Table'!AN11","v":">S"},{"$f":"'RBC Reference Table'!AO11","v":"-"},{"$f":"'RBC Reference Table'!AP11","v":">S"},{"$f":"'RBC Reference Table'!AQ11","v":"-"},{"$f":"'RBC Reference Table'!AR11","v":">S"},{"$f":"'RBC Reference Table'!AS11","v":"-"},{"$f":"'RBC Reference Table'!AT11","v":">S"},{"$f":"'RBC Reference Table'!AU11","v":"-"},{"$f":"'RBC Reference Table'!AV11","v":">S"},{"$f":"'RBC Reference Table'!AW11","v":"-"},{"$f":"'RBC Reference Table'!AX11","v":">S"},{"$f":"'RBC Reference Table'!AY11","v":"-"},{"$f":"'RBC Reference Table'!AZ11","v":">S"},{"$f":"'RBC Reference Table'!BA11","v":"-"},{"$f":"'RBC Reference Table'!BB11","v":">Pv"},{"$f":"'RBC Reference Table'!BC11","v":"-"},{"$f":"'RBC Reference Table'!BD11","v":">Pv"},{"$f":"'RBC Reference Table'!BE11","v":"-"},{"$f":"'RBC Reference Table'!BF11","v":">Pv"},{"$f":"'RBC Reference Table'!BG11","v":"-"},{"$f":"'RBC Reference Table'!BH11","v":">Pv"},{"$f":"'RBC Reference Table'!BI11","v":"-"},{"$f":"'RBC Reference Table'!BJ11","v":">Pv"},{"$f":"'RBC Reference Table'!BK11","v":"-"},{"$f":"'RBC Reference Table'!BL11","v":">Pv"},0,0,0,0,0,0,0,0,0,0,0,0,0,0,0,0,0,0,0,0,0,0,0,0,0,0,0,0,0,0]
[{"$f":"VLOOKUP(H59,'RBC Reference Table'!$B$8:$C$101,2,FALSE)","v":7},null,null,null,null,null,"56-55-3","Benz[a]anthracene","c, v",{"$f":"'RBC Reference Table'!E14","v":1.1000000000000001},{"$f":"'RBC Reference Table'!F14","v":0},{"$f":"'RBC Reference Table'!G14","v":2.5},{"$f":"'RBC Reference Table'!H14","v":0},{"$f":"'RBC Reference Table'!I14","v":21},{"$f":"'RBC Reference Table'!J14","v":">Csat"},{"$f":"'RBC Reference Table'!K14","v":170},{"$f":"'RBC Reference Table'!L14","v":">Csat"},{"$f":"'RBC Reference Table'!M14","v":4800},{"$f":"'RBC Reference Table'!N14","v":">Csat"},{"$f":"'RBC Reference Table'!O14","v":"-"},{"$f":"'RBC Reference Table'!P14","v":">Csat"},{"$f":"'RBC Reference Table'!Q14","v":"-"},{"$f":"'RBC Reference Table'!R14","v":">Csat"},{"$f":"'RBC Reference Table'!S14","v":"-"},{"$f":"'RBC Reference Table'!T14","v":">Csat"},{"$f":"'RBC Reference Table'!U14","v":"-"},{"$f":"'RBC Reference Table'!V14","v":">Csat"},{"$f":"'RBC Reference Table'!W14","v":"-"},{"$f":"'RBC Reference Table'!X14","v":">Csat"},{"$f":"'RBC Reference Table'!Y14","v":"-"},{"$f":"'RBC Reference Table'!Z14","v":">Csat"},{"$f":"'RBC Reference Table'!AA14","v":1.6},{"$f":"'RBC Reference Table'!AB14","v":0},{"$f":"'RBC Reference Table'!AC14","v":6},{"$f":"'RBC Reference Table'!AD14","v":0},{"$f":"'RBC Reference Table'!AE14","v":"-"},{"$f":"'RBC Reference Table'!AF14","v":">Csat"},{"$f":"'RBC Reference Table'!AG14","v":0.03},{"$f":"'RBC Reference Table'!AH14","v":0},{"$f":"'RBC Reference Table'!AI14","v":0.11},{"$f":"'RBC Reference Table'!AJ14","v":0},{"$f":"'RBC Reference Table'!AK14","v":0.38},{"$f":"'RBC Reference Table'!AL14","v":0},{"$f":"'RBC Reference Table'!AM14","v":"-"},{"$f":"'RBC Reference Table'!AN14","v":">S"},{"$f":"'RBC Reference Table'!AO14","v":"-"},{"$f":"'RBC Reference Table'!AP14","v":">S"},{"$f":"'RBC Reference Table'!AQ14","v":"-"},{"$f":"'RBC Reference Table'!AR14","v":">S"},{"$f":"'RBC Reference Table'!AS14","v":"-"},{"$f":"'RBC Reference Table'!AT14","v":">S"},{"$f":"'RBC Reference Table'!AU14","v":"-"},{"$f":"'RBC Reference Table'!AV14","v":">S"},{"$f":"'RBC Reference Table'!AW14","v":"-"},{"$f":"'RBC Reference Table'!AX14","v":">S"},{"$f":"'RBC Reference Table'!AY14","v":"-"},{"$f":"'RBC Reference Table'!AZ14","v":">S"},{"$f":"'RBC Reference Table'!BA14","v":"-"},{"$f":"'RBC Reference Table'!BB14","v":">Pv"},{"$f":"'RBC Reference Table'!BC14","v":"-"},{"$f":"'RBC Reference Table'!BD14","v":">Pv"},{"$f":"'RBC Reference Table'!BE14","v":"-"},{"$f":"'RBC Reference Table'!BF14","v":">Pv"},{"$f":"'RBC Reference Table'!BG14","v":1.7000000000000001E-2},{"$f":"'RBC Reference Table'!BH14","v":0},{"$f":"'RBC Reference Table'!BI14","v":3.3000000000000002E-2},{"$f":"'RBC Reference Table'!BJ14","v":0},{"$f":"'RBC Reference Table'!BK14","v":0.2},{"$f":"'RBC Reference Table'!BL14","v":0},{"$f":"IF(B59>J59,1,0)","v":0},{"$f":"IF(B59>L59,1,0)","v":0},{"$f":"IF(B59>N59,1,0)","v":0},0,0,{"$f":"IF(MAX(B59,$C59)>T59,1,0)","v":0},{"$f":"IF(MAX(B59,$C59)>V59,1,0)","v":0},{"$f":"IF(MAX(B59,$C59)>X59,1,0)","v":0},{"$f":"IF(MAX(B59,$C59)>Z59,1,0)","v":0},{"$f":"IF(MAX(B59,$C59)>AB59,1,0)","v":0},{"$f":"IF(MAX(B59,$C59)>AD59,1,0)","v":0},{"$f":"IF(MAX(B59,$C59)>AF59,1,0)","v":0},{"$f":"IF(MAX(B59,$C59)>AH59,1,0)","v":0},{"$f":"IF(MAX(B59,$C59)>AJ59,1,0)","v":0},0,0,0,0,0,0,0,0,0,0,0,0,0,0,0,0]
[{"$f":"VLOOKUP(H60,'RBC Reference Table'!$B$8:$C$101,2,FALSE)","v":10},null,1.7000000000000001E-2,null,null,null,"50-32-8","Benzo[a]pyrene (BaP equivalents)","c, nv",{"$f":"'RBC Reference Table'!E17","v":0.11},{"$f":"'RBC Reference Table'!F17","v":0},{"$f":"'RBC Reference Table'!G17","v":0.25},{"$f":"'RBC Reference Table'!H17","v":0},{"$f":"'RBC Reference Table'!I17","v":2.1},{"$f":"'RBC Reference Table'!J17","v":0},{"$f":"'RBC Reference Table'!K17","v":17},{"$f":"'RBC Reference Table'!L17","v":">Csat"},{"$f":"'RBC Reference Table'!M17","v":490},{"$f":"'RBC Reference Table'!N17","v":">Csat"},{"$f":"'RBC Reference Table'!O17","v":"-"},{"$f":"'RBC Reference Table'!P17","v":"NV"},{"$f":"'RBC Reference Table'!Q17","v":"-"},{"$f":"'RBC Reference Table'!R17","v":"NV"},{"$f":"'RBC Reference Table'!S17","v":"-"},{"$f":"'RBC Reference Table'!T17","v":"NV"},{"$f":"'RBC Reference Table'!U17","v":"-"},{"$f":"'RBC Reference Table'!V17","v":"NV"},{"$f":"'RBC Reference Table'!W17","v":"-"},{"$f":"'RBC Reference Table'!X17","v":"NV"},{"$f":"'RBC Reference Table'!Y17","v":"-"},{"$f":"'RBC Reference Table'!Z17","v":"NV"},{"$f":"'RBC Reference Table'!AA17","v":4.4000000000000004},{"$f":"'RBC Reference Table'!AB17","v":0},{"$f":"'RBC Reference Table'!AC17","v":"-"},{"$f":"'RBC Reference Table'!AD17","v":">Csat"},{"$f":"'RBC Reference Table'!AE17","v":"-"},{"$f":"'RBC Reference Table'!AF17","v":">Csat"},{"$f":"'RBC Reference Table'!AG17","v":2.5000000000000001E-2},{"$f":"'RBC Reference Table'!AH17","v":0},{"$f":"'RBC Reference Table'!AI17","v":0.08},{"$f":"'RBC Reference Table'!AJ17","v":0},{"$f":"'RBC Reference Table'!AK17","v":0.47},{"$f":"'RBC Reference Table'!AL17","v":0},{"$f":"'RBC Reference Table'!AM17","v":"-"},{"$f":"'RBC Reference Table'!AN17","v":"NV"},{"$f":"'RBC Reference Table'!AO17","v":"-"},{"$f":"'RBC Reference Table'!AP17","v":"NV"},{"$f":"'RBC Reference Table'!AQ17","v":"-"},{"$f":"'RBC Reference Table'!AR17","v":"NV"},{"$f":"'RBC Reference Table'!AS17","v":"-"},{"$f":"'RBC Reference Table'!AT17","v":"NV"},{"$f":"'RBC Reference Table'!AU17","v":"-"},{"$f":"'RBC Reference Table'!AV17","v":"NV"},{"$f":"'RBC Reference Table'!AW17","v":"-"},{"$f":"'RBC Reference Table'!AX17","v":"NV"},{"$f":"'RBC Reference Table'!AY17","v":"-"},{"$f":"'RBC Reference Table'!AZ17","v":">S"},{"$f":"'RBC Reference Table'!BA17","v":"-"},{"$f":"'RBC Reference Table'!BB17","v":"NV"},{"$f":"'RBC Reference Table'!BC17","v":"-"},{"$f":"'RBC Reference Table'!BD17","v":"NV"},{"$f":"'RBC Reference Table'!BE17","v":"-"},{"$f":"'RBC Reference Table'!BF17","v":"NV"},{"$f":"'RBC Reference Table'!BG17","v":1.6999999999999999E-3},{"$f":"'RBC Reference Table'!BH17","v":0},{"$f":"'RBC Reference Table'!BI17","v":3.3E-3},{"$f":"'RBC Reference Table'!BJ17","v":0},{"$f":"'RBC Reference Table'!BK17","v":0.02},{"$f":"'RBC Reference Table'!BL17","v":0},{"$f":"IF($B59>J60,1,0)","v":0},{"$f":"IF($B59>L60,1,0)","v":0},{"$f":"IF($B59>N60,1,0)","v":0},{"$f":"IF(OR($C60>P60,B59>P60),1,0)","v":0},{"$f":"IF(OR($C60>R60,B59>R60),1,0)","v":0},{"$f":"IF(MAX($B59,$C60)>T60,1,0)","v":0},{"$f":"IF(MAX($B59,$C60)>V60,1,0)","v":0},{"$f":"IF(MAX($B59,$C60)>X60,1,0)","v":0},{"$f":"IF(MAX($B59,$C60)>Z60,1,0)","v":0},{"$f":"IF(MAX($B59,$C60)>AB60,1,0)","v":0},{"$f":"IF(MAX($B59,$C60)>AD60,1,0)","v":0},{"$f":"IF(MAX($B59,$C60)>AF60,1,0)","v":0},{"$f":"IF(MAX($B59,$C60)>AH60,1,0)","v":0},{"$f":"IF(MAX($B59,$C60)>AJ60,1,0)","v":0},0,0,0,0,0,0,0,0,0,0,0,0,0,0,0,0]
[{"$f":"VLOOKUP(H61,'RBC Reference Table'!$B$8:$C$101,2,FALSE)","v":11},null,null,null,null,null,"205-99-2","Benzo[b]fluoranthene","c, nv",{"$f":"'RBC Reference Table'!E18","v":1.1000000000000001},{"$f":"'RBC Reference Table'!F18","v":0},{"$f":"'RBC Reference Table'!G18","v":2.5},{"$f":"'RBC Reference Table'!H18","v":0},{"$f":"'RBC Reference Table'!I18","v":21},{"$f":"'RBC Reference Table'!J18","v":">Csat"},{"$f":"'RBC Reference Table'!K18","v":170},{"$f":"'RBC Reference Table'!L18","v":">Csat"},{"$f":"'RBC Reference Table'!M18","v":4900},{"$f":"'RBC Reference Table'!N18","v":">Csat"},{"$f":"'RBC Reference Table'!O18","v":"-"},{"$f":"'RBC Reference Table'!P18","v":"NV"},{"$f":"'RBC Reference Table'!Q18","v":"-"},{"$f":"'RBC Reference Table'!R18","v":"NV"},{"$f":"'RBC Reference Table'!S18","v":"-"},{"$f":"'RBC Reference Table'!T18","v":"NV"},{"$f":"'RBC Reference Table'!U18","v":"-"},{"$f":"'RBC Reference Table'!V18","v":"NV"},{"$f":"'RBC Reference Table'!W18","v":"-"},{"$f":"'RBC Reference Table'!X18","v":"NV"},{"$f":"'RBC Reference Table'!Y18","v":"-"},{"$f":"'RBC Reference Table'!Z18","v":"NV"},{"$f":"'RBC Reference Table'!AA18","v":"-"},{"$f":"'RBC Reference Table'!AB18","v":">Csat"},{"$f":"'RBC Reference Table'!AC18","v":"-"},{"$f":"'RBC Reference Table'!AD18","v":">Csat"},{"$f":"'RBC Reference Table'!AE18","v":"-"},{"$f":"'RBC Reference Table'!AF18","v":">Csat"},{"$f":"'RBC Reference Table'!AG18","v":0.25},{"$f":"'RBC Reference Table'!AH18","v":0},{"$f":"'RBC Reference Table'!AI18","v":0.8},{"$f":"'RBC Reference Table'!AJ18","v":0},{"$f":"'RBC Reference Table'!AK18","v":"-"},{"$f":"'RBC Reference Table'!AL18","v":">S"},{"$f":"'RBC Reference Table'!AM18","v":"-"},{"$f":"'RBC Reference Table'!AN18","v":"NV"},{"$f":"'RBC Reference Table'!AO18","v":"-"},{"$f":"'RBC Reference Table'!AP18","v":"NV"},{"$f":"'RBC Reference Table'!AQ18","v":"-"},{"$f":"'RBC Reference Table'!AR18","v":"NV"},{"$f":"'RBC Reference Table'!AS18","v":"-"},{"$f":"'RBC Reference Table'!AT18","v":"NV"},{"$f":"'RBC Reference Table'!AU18","v":"-"},{"$f":"'RBC Reference Table'!AV18","v":"NV"},{"$f":"'RBC Reference Table'!AW18","v":"-"},{"$f":"'RBC Reference Table'!AX18","v":"NV"},{"$f":"'RBC Reference Table'!AY18","v":"-"},{"$f":"'RBC Reference Table'!AZ18","v":">S"},{"$f":"'RBC Reference Table'!BA18","v":"-"},{"$f":"'RBC Reference Table'!BB18","v":"NV"},{"$f":"'RBC Reference Table'!BC18","v":"-"},{"$f":"'RBC Reference Table'!BD18","v":"NV"},{"$f":"'RBC Reference Table'!BE18","v":"-"},{"$f":"'RBC Reference Table'!BF18","v":"NV"},{"$f":"'RBC Reference Table'!BG18","v":1.7000000000000001E-2},{"$f":"'RBC Reference Table'!BH18","v":0},{"$f":"'RBC Reference Table'!BI18","v":3.3000000000000002E-2},{"$f":"'RBC Reference Table'!BJ18","v":0},{"$f":"'RBC Reference Table'!BK18","v":0.2},{"$f":"'RBC Reference Table'!BL18","v":0},{"$f":"IF($B61>J61,1,0)","v":0},{"$f":"IF($B61>L61,1,0)","v":0},{"$f":"IF($B61>N61,1,0)","v":0},{"$f":"IF(OR($C61>P61,B61>P61),1,0)","v":0},{"$f":"IF(OR($C61>R61,B61>R61),1,0)","v":0},{"$f":"IF(MAX($B61,$C61)>T61,1,0)","v":0},{"$f":"IF(MAX($B61,$C61)>V61,1,0)","v":0},{"$f":"IF(MAX($B61,$C61)>X61,1,0)","v":0},{"$f":"IF(MAX($B61,$C61)>Z61,1,0)","v":0},{"$f":"IF(MAX($B61,$C61)>AB61,1,0)","v":0},{"$f":"IF(MAX($B61,$C61)>AD61,1,0)","v":0},{"$f":"IF(MAX($B61,$C61)>AF61,1,0)","v":0},{"$f":"IF(MAX($B61,$C61)>AH61,1,0)","v":0},{"$f":"IF(MAX($B61,$C61)>AJ61,1,0)","v":0},0,0,0,0,0,0,0,0,0,0,0,0,0,0,0,0]
[{"$f":"VLOOKUP(H62,'RBC Reference Table'!$B$8:$C$101,2,FALSE)","v":12},null,null,null,null,null,"207-08-9","Benzo[k]fluoranthene","c, nv",{"$f":"'RBC Reference Table'!E19","v":11},{"$f":"'RBC Reference Table'!F19","v":">Csat"},{"$f":"'RBC Reference Table'!G19","v":25},{"$f":"'RBC Reference Table'!H19","v":">Csat"},{"$f":"'RBC Reference Table'!I19","v":210},{"$f":"'RBC Reference Table'!J19","v":">Csat"},{"$f":"'RBC Reference Table'!K19","v":1700},{"$f":"'RBC Reference Table'!L19","v":">Csat"},{"$f":"'RBC Reference Table'!M19","v":49000},{"$f":"'RBC Reference Table'!N19","v":">Csat"},{"$f":"'RBC Reference Table'!O19","v":"-"},{"$f":"'RBC Reference Table'!P19","v":"NV"},{"$f":"'RBC Reference Table'!Q19","v":"-"},{"$f":"'RBC Reference Table'!R19","v":"NV"},{"$f":"'RBC Reference Table'!S19","v":"-"},{"$f":"'RBC Reference Table'!T19","v":"NV"},{"$f":"'RBC Reference Table'!U19","v":"-"},{"$f":"'RBC Reference Table'!V19","v":"NV"},{"$f":"'RBC Reference Table'!W19","v":"-"},{"$f":"'RBC Reference Table'!X19","v":"NV"},{"$f":"'RBC Reference Table'!Y19","v":"-"},{"$f":"'RBC Reference Table'!Z19","v":"NV"},{"$f":"'RBC Reference Table'!AA19","v":"-"},{"$f":"'RBC Reference Table'!AB19","v":">Csat"},{"$f":"'RBC Reference Table'!AC19","v":"-"},{"$f":"'RBC Reference Table'!AD19","v":">Csat"},{"$f":"'RBC Reference Table'!AE19","v":"-"},{"$f":"'RBC Reference Table'!AF19","v":">Csat"},{"$f":"'RBC Reference Table'!AG19","v":"-"},{"$f":"'RBC Reference Table'!AH19","v":">S"},{"$f":"'RBC Reference Table'!AI19","v":"-"},{"$f":"'RBC Reference Table'!AJ19","v":">S"},{"$f":"'RBC Reference Table'!AK19","v":"-"},{"$f":"'RBC Reference Table'!AL19","v":">S"},{"$f":"'RBC Reference Table'!AM19","v":"-"},{"$f":"'RBC Reference Table'!AN19","v":"NV"},{"$f":"'RBC Reference Table'!AO19","v":"-"},{"$f":"'RBC Reference Table'!AP19","v":"NV"},{"$f":"'RBC Reference Table'!AQ19","v":"-"},{"$f":"'RBC Reference Table'!AR19","v":"NV"},{"$f":"'RBC Reference Table'!AS19","v":"-"},{"$f":"'RBC Reference Table'!AT19","v":"NV"},{"$f":"'RBC Reference Table'!AU19","v":"-"},{"$f":"'RBC Reference Table'!AV19","v":"NV"},{"$f":"'RBC Reference Table'!AW19","v":"-"},{"$f":"'RBC Reference Table'!AX19","v":"NV"},{"$f":"'RBC Reference Table'!AY19","v":"-"},{"$f":"'RBC Reference Table'!AZ19","v":">S"},{"$f":"'RBC Reference Table'!BA19","v":"-"},{"$f":"'RBC Reference Table'!BB19","v":"NV"},{"$f":"'RBC Reference Table'!BC19","v":"-"},{"$f":"'RBC Reference Table'!BD19","v":"NV"},{"$f":"'RBC Reference Table'!BE19","v":"-"},{"$f":"'RBC Reference Table'!BF19","v":"NV"},{"$f":"'RBC Reference Table'!BG19","v":"-"},{"$f":"'RBC Reference Table'!BH19","v":">Pv"},{"$f":"'RBC Reference Table'!BI19","v":"-"},{"$f":"'RBC Reference Table'!BJ19","v":">Pv"},{"$f":"'RBC Reference Table'!BK19","v":"-"},{"$f":"'RBC Reference Table'!BL19","v":">Pv"},0,0,0,0,0,0,0,0,0,0,0,0,0,0,0,0,0,0,0,0,0,0,0,0,0,0,0,0,0,0]
[{"$f":"VLOOKUP(H63,'RBC Reference Table'!$B$8:$C$101,2,FALSE)","v":28},null,null,null,null,null,"218-01-9","Chrysene","c, nv",{"$f":"'RBC Reference Table'!E35","v":110},{"$f":"'RBC Reference Table'!F35","v":">Csat"},{"$f":"'RBC Reference Table'!G35","v":250},{"$f":"'RBC Reference Table'!H35","v":">Csat"},{"$f":"'RBC Reference Table'!I35","v":2100},{"$f":"'RBC Reference Table'!J35","v":">Csat"},{"$f":"'RBC Reference Table'!K35","v":17000},{"$f":"'RBC Reference Table'!L35","v":">Csat"},{"$f":"'RBC Reference Table'!M35","v":490000},{"$f":"'RBC Reference Table'!N35","v":">Csat"},{"$f":"'RBC Reference Table'!O35","v":"-"},{"$f":"'RBC Reference Table'!P35","v":"NV"},{"$f":"'RBC Reference Table'!Q35","v":"-"},{"$f":"'RBC Reference Table'!R35","v":"NV"},{"$f":"'RBC Reference Table'!S35","v":"-"},{"$f":"'RBC Reference Table'!T35","v":"NV"},{"$f":"'RBC Reference Table'!U35","v":"-"},{"$f":"'RBC Reference Table'!V35","v":"NV"},{"$f":"'RBC Reference Table'!W35","v":"-"},{"$f":"'RBC Reference Table'!X35","v":"NV"},{"$f":"'RBC Reference Table'!Y35","v":"-"},{"$f":"'RBC Reference Table'!Z35","v":"NV"},{"$f":"'RBC Reference Table'!AA35","v":"-"},{"$f":"'RBC Reference Table'!AB35","v":">Csat"},{"$f":"'RBC Reference Table'!AC35","v":"-"},{"$f":"'RBC Reference Table'!AD35","v":">Csat"},{"$f":"'RBC Reference Table'!AE35","v":"-"},{"$f":"'RBC Reference Table'!AF35","v":">Csat"},{"$f":"'RBC Reference Table'!AG35","v":"-"},{"$f":"'RBC Reference Table'!AH35","v":">S"},{"$f":"'RBC Reference Table'!AI35","v":"-"},{"$f":"'RBC Reference Table'!AJ35","v":">S"},{"$f":"'RBC Reference Table'!AK35","v":"-"},{"$f":"'RBC Reference Table'!AL35","v":">S"},{"$f":"'RBC Reference Table'!AM35","v":"-"},{"$f":"'RBC Reference Table'!AN35","v":"NV"},{"$f":"'RBC Reference Table'!AO35","v":"-"},{"$f":"'RBC Reference Table'!AP35","v":"NV"},{"$f":"'RBC Reference Table'!AQ35","v":"-"},{"$f":"'RBC Reference Table'!AR35","v":"NV"},{"$f":"'RBC Reference Table'!AS35","v":"-"},{"$f":"'RBC Reference Table'!AT35","v":"NV"},{"$f":"'RBC Reference Table'!AU35","v":"-"},{"$f":"'RBC Reference Table'!AV35","v":"NV"},{"$f":"'RBC Reference Table'!AW35","v":"-"},{"$f":"'RBC Reference Table'!AX35","v":"NV"},{"$f":"'RBC Reference Table'!AY35","v":"-"},{"$f":"'RBC Reference Table'!AZ35","v":">S"},{"$f":"'RBC Reference Table'!BA35","v":"-"},{"$f":"'RBC Reference Table'!BB35","v":"NV"},{"$f":"'RBC Reference Table'!BC35","v":"-"},{"$f":"'RBC Reference Table'!BD35","v":"NV"},{"$f":"'RBC Reference Table'!BE35","v":"-"},{"$f":"'RBC Reference Table'!BF35","v":"NV"},{"$f":"'RBC Reference Table'!BG35","v":1.7},{"$f":"'RBC Reference Table'!BH35","v":0},{"$f":"'RBC Reference Table'!BI35","v":3.3},{"$f":"'RBC Reference Table'!BJ35","v":0},{"$f":"'RBC Reference Table'!BK35","v":"-"},{"$f":"'RBC Reference Table'!BL35","v":">Pv"},0,0,0,0,0,0,0,0,0,0,0,0,0,0,0,0,0,0,0,0,0,0,0,0,0,0,0,0,0,0]
[{"$f":"VLOOKUP(H64,'RBC Reference Table'!$B$8:$C$101,2,FALSE)","v":34},null,null,null,null,null,"53-70-3","Dibenz[a,h]anthracene","c, nv",{"$f":"'RBC Reference Table'!E41","v":0.11},{"$f":"'RBC Reference Table'!F41","v":0},{"$f":"'RBC Reference Table'!G41","v":0.25},{"$f":"'RBC Reference Table'!H41","v":0},{"$f":"'RBC Reference Table'!I41","v":2.1},{"$f":"'RBC Reference Table'!J41","v":0},{"$f":"'RBC Reference Table'!K41","v":17},{"$f":"'RBC Reference Table'!L41","v":">Csat"},{"$f":"'RBC Reference Table'!M41","v":490},{"$f":"'RBC Reference Table'!N41","v":">Csat"},{"$f":"'RBC Reference Table'!O41","v":"-"},{"$f":"'RBC Reference Table'!P41","v":"NV"},{"$f":"'RBC Reference Table'!Q41","v":"-"},{"$f":"'RBC Reference Table'!R41","v":"NV"},{"$f":"'RBC Reference Table'!S41","v":"-"},{"$f":"'RBC Reference Table'!T41","v":"NV"},{"$f":"'RBC Reference Table'!U41","v":"-"},{"$f":"'RBC Reference Table'!V41","v":"NV"},{"$f":"'RBC Reference Table'!W41","v":"-"},{"$f":"'RBC Reference Table'!X41","v":"NV"},{"$f":"'RBC Reference Table'!Y41","v":"-"},{"$f":"'RBC Reference Table'!Z41","v":"NV"},{"$f":"'RBC Reference Table'!AA41","v":"-"},{"$f":"'RBC Reference Table'!AB41","v":">Csat"},{"$f":"'RBC Reference Table'!AC41","v":"-"},{"$f":"'RBC Reference Table'!AD41","v":">Csat"},{"$f":"'RBC Reference Table'!AE41","v":"-"},{"$f":"'RBC Reference Table'!AF41","v":">Csat"},{"$f":"'RBC Reference Table'!AG41","v":2.5000000000000001E-2},{"$f":"'RBC Reference Table'!AH41","v":0},{"$f":"'RBC Reference Table'!AI41","v":0.08},{"$f":"'RBC Reference Table'!AJ41","v":0},{"$f":"'RBC Reference Table'!AK41","v":0.47},{"$f":"'RBC Reference Table'!AL41","v":0},{"$f":"'RBC Reference Table'!AM41","v":"-"},{"$f":"'RBC Reference Table'!AN41","v":"NV"},{"$f":"'RBC Reference Table'!AO41","v":"-"},{"$f":"'RBC Reference Table'!AP41","v":"NV"},{"$f":"'RBC Reference Table'!AQ41","v":"-"},{"$f":"'RBC Reference Table'!AR41","v":"NV"},{"$f":"'RBC Reference Table'!AS41","v":"-"},{"$f":"'RBC Reference Table'!AT41","v":"NV"},{"$f":"'RBC Reference Table'!AU41","v":"-"},{"$f":"'RBC Reference Table'!AV41","v":"NV"},{"$f":"'RBC Reference Table'!AW41","v":"-"},{"$f":"'RBC Reference Table'!AX41","v":"NV"},{"$f":"'RBC Reference Table'!AY41","v":"-"},{"$f":"'RBC Reference Table'!AZ41","v":">S"},{"$f":"'RBC Reference Table'!BA41","v":"-"},{"$f":"'RBC Reference Table'!BB41","v":"NV"},{"$f":"'RBC Reference Table'!BC41","v":"-"},{"$f":"'RBC Reference Table'!BD41","v":"NV"},{"$f":"'RBC Reference Table'!BE41","v":"-"},{"$f":"'RBC Reference Table'!BF41","v":"NV"},{"$f":"'RBC Reference Table'!BG41","v":"-"},{"$f":"'RBC Reference Table'!BH41","v":">Pv"},{"$f":"'RBC Reference Table'!BI41","v":"-"},{"$f":"'RBC Reference Table'!BJ41","v":">Pv"},{"$f":"'RBC Reference Table'!BK41","v":"-"},{"$f":"'RBC Reference Table'!BL41","v":">Pv"},0,0,0,0,0,0,0,0,0,0,0,0,0,0,0,0,0,0,0,0,0,0,0,0,0,0,0,0,0,0]
[{"$f":"VLOOKUP(H65,'RBC Reference Table'!$B$8:$C$101,2,FALSE)","v":55},null,null,null,null,null,"206-44-0","Fluoranthene","nc, nv",{"$f":"'RBC Reference Table'!E62","v":2400},{"$f":"'RBC Reference Table'!F62","v":">Csat"},{"$f":"'RBC Reference Table'!G62","v":4800},{"$f":"'RBC Reference Table'!H62","v":">Csat"},{"$f":"'RBC Reference Table'!I62","v":30000},{"$f":"'RBC Reference Table'!J62","v":">Csat"},{"$f":"'RBC Reference Table'!K62","v":10000},{"$f":"'RBC Reference Table'!L62","v":">Csat"},{"$f":"'RBC Reference Table'!M62","v":280000},{"$f":"'RBC Reference Table'!N62","v":">Csat"},{"$f":"'RBC Reference Table'!O62","v":"-"},{"$f":"'RBC Reference Table'!P62","v":"NV"},{"$f":"'RBC Reference Table'!Q62","v":"-"},{"$f":"'RBC Reference Table'!R62","v":"NV"},{"$f":"'RBC Reference Table'!S62","v":"-"},{"$f":"'RBC Reference Table'!T62","v":"NV"},{"$f":"'RBC Reference Table'!U62","v":"-"},{"$f":"'RBC Reference Table'!V62","v":"NV"},{"$f":"'RBC Reference Table'!W62","v":"-"},{"$f":"'RBC Reference Table'!X62","v":"NV"},{"$f":"'RBC Reference Table'!Y62","v":"-"},{"$f":"'RBC Reference Table'!Z62","v":"NV"},{"$f":"'RBC Reference Table'!AA62","v":"-"},{"$f":"'RBC Reference Table'!AB62","v":">Csat"},{"$f":"'RBC Reference Table'!AC62","v":"-"},{"$f":"'RBC Reference Table'!AD62","v":">Csat"},{"$f":"'RBC Reference Table'!AE62","v":"-"},{"$f":"'RBC Reference Table'!AF62","v":">Csat"},{"$f":"'RBC Reference Table'!AG62","v":"-"},{"$f":"'RBC Reference Table'!AH62","v":">S"},{"$f":"'RBC Reference Table'!AI62","v":"-"},{"$f":"'RBC Reference Table'!AJ62","v":">S"},{"$f":"'RBC Reference Table'!AK62","v":"-"},{"$f":"'RBC Reference Table'!AL62","v":">S"},{"$f":"'RBC Reference Table'!AM62","v":"-"},{"$f":"'RBC Reference Table'!AN62","v":"NV"},{"$f":"'RBC Reference Table'!AO62","v":"-"},{"$f":"'RBC Reference Table'!AP62","v":"NV"},{"$f":"'RBC Reference Table'!AQ62","v":"-"},{"$f":"'RBC Reference Table'!AR62","v":"NV"},{"$f":"'RBC Reference Table'!AS62","v":"-"},{"$f":"'RBC Reference Table'!AT62","v":"NV"},{"$f":"'RBC Reference Table'!AU62","v":"-"},{"$f":"'RBC Reference Table'!AV62","v":"NV"},{"$f":"'RBC Reference Table'!AW62","v":"-"},{"$f":"'RBC Reference Table'!AX62","v":"NV"},{"$f":"'RBC Reference Table'!AY62","v":"-"},{"$f":"'RBC Reference Table'!AZ62","v":">S"},{"$f":"'RBC Reference Table'!BA62","v":"-"},{"$f":"'RBC Reference Table'!BB62","v":"NV"},{"$f":"'RBC Reference Table'!BC62","v":"-"},{"$f":"'RBC Reference Table'!BD62","v":"NV"},{"$f":"'RBC Reference Table'!BE62","v":"-"},{"$f":"'RBC Reference Table'!BF62","v":"NV"},{"$f":"'RBC Reference Table'!BG62","v":"-"},{"$f":"'RBC Reference Table'!BH62","v":">Pv"},{"$f":"'RBC Reference Table'!BI62","v":"-"},{"$f":"'RBC Reference Table'!BJ62","v":">Pv"},{"$f":"'RBC Reference Table'!BK62","v":"-"},{"$f":"'RBC Reference Table'!BL62","v":">Pv"},0,0,0,0,0,0,0,0,0,0,0,0,0,0,0,0,0,0,0,0,0,0,0,0,0,0,0,0,0,0]
[{"$f":"VLOOKUP(H66,'RBC Reference Table'!$B$8:$C$101,2,FALSE)","v":56},null,null,null,null,null,"86-73-7","Fluorene","nc, v",{"$f":"'RBC Reference Table'!E63","v":3100},{"$f":"'RBC Reference Table'!F63","v":">Csat"},{"$f":"'RBC Reference Table'!G63","v":6300},{"$f":"'RBC Reference Table'!H63","v":">Csat"},{"$f":"'RBC Reference Table'!I63","v":47000},{"$f":"'RBC Reference Table'!J63","v":">Csat"},{"$f":"'RBC Reference Table'!K63","v":14000},{"$f":"'RBC Reference Table'!L63","v":">Csat"},{"$f":"'RBC Reference Table'!M63","v":390000},{"$f":"'RBC Reference Table'!N63","v":">Csat"},{"$f":"'RBC Reference Table'!O63","v":"-"},{"$f":"'RBC Reference Table'!P63","v":">Max"},{"$f":"'RBC Reference Table'!Q63","v":"-"},{"$f":"'RBC Reference Table'!R63","v":">Max"},{"$f":"'RBC Reference Table'!S63","v":"-"},{"$f":"'RBC Reference Table'!T63","v":">Max"},{"$f":"'RBC Reference Table'!U63","v":"-"},{"$f":"'RBC Reference Table'!V63","v":">Max"},{"$f":"'RBC Reference Table'!W63","v":"-"},{"$f":"'RBC Reference Table'!X63","v":">Max"},{"$f":"'RBC Reference Table'!Y63","v":"-"},{"$f":"'RBC Reference Table'!Z63","v":">Max"},{"$f":"'RBC Reference Table'!AA63","v":"-"},{"$f":"'RBC Reference Table'!AB63","v":">Csat"},{"$f":"'RBC Reference Table'!AC63","v":"-"},{"$f":"'RBC Reference Table'!AD63","v":">Csat"},{"$f":"'RBC Reference Table'!AE63","v":"-"},{"$f":"'RBC Reference Table'!AF63","v":">Csat"},{"$f":"'RBC Reference Table'!AG63","v":280},{"$f":"'RBC Reference Table'!AH63","v":0},{"$f":"'RBC Reference Table'!AI63","v":1400},{"$f":"'RBC Reference Table'!AJ63","v":0},{"$f":"'RBC Reference Table'!AK63","v":1300},{"$f":"'RBC Reference Table'!AL63","v":0},{"$f":"'RBC Reference Table'!AM63","v":"-"},{"$f":"'RBC Reference Table'!AN63","v":">S"},{"$f":"'RBC Reference Table'!AO63","v":"-"},{"$f":"'RBC Reference Table'!AP63","v":">S"},{"$f":"'RBC Reference Table'!AQ63","v":"-"},{"$f":"'RBC Reference Table'!AR63","v":">S"},{"$f":"'RBC Reference Table'!AS63","v":"-"},{"$f":"'RBC Reference Table'!AT63","v":">S"},{"$f":"'RBC Reference Table'!AU63","v":"-"},{"$f":"'RBC Reference Table'!AV63","v":">S"},{"$f":"'RBC Reference Table'!AW63","v":"-"},{"$f":"'RBC Reference Table'!AX63","v":">S"},{"$f":"'RBC Reference Table'!AY63","v":"-"},{"$f":"'RBC Reference Table'!AZ63","v":">S"},{"$f":"'RBC Reference Table'!BA63","v":"-"},{"$f":"'RBC Reference Table'!BB63","v":">Pv"},{"$f":"'RBC Reference Table'!BC63","v":"-"},{"$f":"'RBC Reference Table'!BD63","v":">Pv"},{"$f":"'RBC Reference Table'!BE63","v":"-"},{"$f":"'RBC Reference Table'!BF63","v":">Pv"},{"$f":"'RBC Reference Table'!BG63","v":"-"},{"$f":"'RBC Reference Table'!BH63","v":">Pv"},{"$f":"'RBC Reference Table'!BI63","v":"-"},{"$f":"'RBC Reference Table'!BJ63","v":">Pv"},{"$f":"'RBC Reference Table'!BK63","v":"-"},{"$f":"'RBC Reference Table'!BL63","v":">Pv"},0,0,0,0,0,0,0,0,0,0,0,0,0,0,0,0,0,0,0,0,0,0,0,0,0,0,0,0,0,0]
[{"$f":"VLOOKUP(H67,'RBC Reference Table'!$B$8:$C$101,2,FALSE)","v":64},null,null,null,null,null,"193-39-5","Indeno[1,2,3-cd]pyrene","c, nv",{"$f":"'RBC Reference Table'!E71","v":1.1000000000000001},{"$f":"'RBC Reference Table'!F71","v":">Csat"},{"$f":"'RBC Reference Table'!G71","v":2.5},{"$f":"'RBC Reference Table'!H71","v":">Csat"},{"$f":"'RBC Reference Table'!I71","v":21},{"$f":"'RBC Reference Table'!J71","v":">Csat"},{"$f":"'RBC Reference Table'!K71","v":170},{"$f":"'RBC Reference Table'!L71","v":">Csat"},{"$f":"'RBC Reference Table'!M71","v":4900},{"$f":"'RBC Reference Table'!N71","v":">Csat"},{"$f":"'RBC Reference Table'!O71","v":"-"},{"$f":"'RBC Reference Table'!P71","v":"NV"},{"$f":"'RBC Reference Table'!Q71","v":"-"},{"$f":"'RBC Reference Table'!R71","v":"NV"},{"$f":"'RBC Reference Table'!S71","v":"-"},{"$f":"'RBC Reference Table'!T71","v":"NV"},{"$f":"'RBC Reference Table'!U71","v":"-"},{"$f":"'RBC Reference Table'!V71","v":"NV"},{"$f":"'RBC Reference Table'!W71","v":"-"},{"$f":"'RBC Reference Table'!X71","v":"NV"},{"$f":"'RBC Reference Table'!Y71","v":"-"},{"$f":"'RBC Reference Table'!Z71","v":"NV"},{"$f":"'RBC Reference Table'!AA71","v":"-"},{"$f":"'RBC Reference Table'!AB71","v":">Csat"},{"$f":"'RBC Reference Table'!AC71","v":"-"},{"$f":"'RBC Reference Table'!AD71","v":">Csat"},{"$f":"'RBC Reference Table'!AE71","v":"-"},{"$f":"'RBC Reference Table'!AF71","v":">Csat"},{"$f":"'RBC Reference Table'!AG71","v":"-"},{"$f":"'RBC Reference Table'!AH71","v":">S"},{"$f":"'RBC Reference Table'!AI71","v":"-"},{"$f":"'RBC Reference Table'!AJ71","v":">S"},{"$f":"'RBC Reference Table'!AK71","v":"-"},{"$f":"'RBC Reference Table'!AL71","v":">S"},{"$f":"'RBC Reference Table'!AM71","v":"-"},{"$f":"'RBC Reference Table'!AN71","v":"NV"},{"$f":"'RBC Reference Table'!AO71","v":"-"},{"$f":"'RBC Reference Table'!AP71","v":"NV"},{"$f":"'RBC Reference Table'!AQ71","v":"-"},{"$f":"'RBC Reference Table'!AR71","v":"NV"},{"$f":"'RBC Reference Table'!AS71","v":"-"},{"$f":"'RBC Reference Table'!AT71","v":"NV"},{"$f":"'RBC Reference Table'!AU71","v":"-"},{"$f":"'RBC Reference Table'!AV71","v":"NV"},{"$f":"'RBC Reference Table'!AW71","v":"-"},{"$f":"'RBC Reference Table'!AX71","v":"NV"},{"$f":"'RBC Reference Table'!AY71","v":"-"},{"$f":"'RBC Reference Table'!AZ71","v":">S"},{"$f":"'RBC Reference Table'!BA71","v":"-"},{"$f":"'RBC Reference Table'!BB71","v":"NV"},{"$f":"'RBC Reference Table'!BC71","v":"-"},{"$f":"'RBC Reference Table'!BD71","v":"NV"},{"$f":"'RBC Reference Table'!BE71","v":"-"},{"$f":"'RBC Reference Table'!BF71","v":"NV"},{"$f":"'RBC Reference Table'!BG71","v":"-"},{"$f":"'RBC Reference Table'!BH71","v":">Pv"},{"$f":"'RBC Reference Table'!BI71","v":"-"},{"$f":"'RBC Reference Table'!BJ71","v":">Pv"},{"$f":"'RBC Reference Table'!BK71","v":"-"},{"$f":"'RBC Reference Table'!BL71","v":">Pv"},0,0,0,0,0,0,0,0,0,0,0,0,0,0,0,0,0,0,0,0,0,0,0,0,0,0,0,0,0,0]
[{"$f":"VLOOKUP(H68,'RBC Reference Table'!$B$8:$C$101,2,FALSE)","v":75},null,null,null,null,null,"129-00-0","Pyrene","nc, v",{"$f":"'RBC Reference Table'!E82","v":1800},{"$f":"'RBC Reference Table'!F82","v":">Csat"},{"$f":"'RBC Reference Table'!G82","v":3600},{"$f":"'RBC Reference Table'!H82","v":">Csat"},{"$f":"'RBC Reference Table'!I82","v":23000},{"$f":"'RBC Reference Table'!J82","v":">Csat"},{"$f":"'RBC Reference Table'!K82","v":7500},{"$f":"'RBC Reference Table'!L82","v":">Csat"},{"$f":"'RBC Reference Table'!M82","v":210000},{"$f":"'RBC Reference Table'!N82","v":">Csat"},{"$f":"'RBC Reference Table'!O82","v":"-"},{"$f":"'RBC Reference Table'!P82","v":">Max"},{"$f":"'RBC Reference Table'!Q82","v":"-"},{"$f":"'RBC Reference Table'!R82","v":">Max"},{"$f":"'RBC Reference Table'!S82","v":"-"},{"$f":"'RBC Reference Table'!T82","v":">Max"},{"$f":"'RBC Reference Table'!U82","v":"-"},{"$f":"'RBC Reference Table'!V82","v":">Max"},{"$f":"'RBC Reference Table'!W82","v":"-"},{"$f":"'RBC Reference Table'!X82","v":">Max"},{"$f":"'RBC Reference Table'!Y82","v":"-"},{"$f":"'RBC Reference Table'!Z82","v":">Max"},{"$f":"'RBC Reference Table'!AA82","v":"-"},{"$f":"'RBC Reference Table'!AB82","v":">Csat"},{"$f":"'RBC Reference Table'!AC82","v":"-"},{"$f":"'RBC Reference Table'!AD82","v":">Csat"},{"$f":"'RBC Reference Table'!AE82","v":"-"},{"$f":"'RBC Reference Table'!AF82","v":">Csat"},{"$f":"'RBC Reference Table'!AG82","v":110},{"$f":"'RBC Reference Table'!AH82","v":0},{"$f":"'RBC Reference Table'!AI82","v":"-"},{"$f":"'RBC Reference Table'!AJ82","v":">S"},{"$f":"'RBC Reference Table'!AK82","v":"-"},{"$f":"'RBC Reference Table'!AL82","v":">S"},{"$f":"'RBC Reference Table'!AM82","v":"-"},{"$f":"'RBC Reference Table'!AN82","v":">S"},{"$f":"'RBC Reference Table'!AO82","v":"-"},{"$f":"'RBC Reference Table'!AP82","v":">S"},{"$f":"'RBC Reference Table'!AQ82","v":"-"},{"$f":"'RBC Reference Table'!AR82","v":">S"},{"$f":"'RBC Reference Table'!AS82","v":"-"},{"$f":"'RBC Reference Table'!AT82","v":">S"},{"$f":"'RBC Reference Table'!AU82","v":"-"},{"$f":"'RBC Reference Table'!AV82","v":">S"},{"$f":"'RBC Reference Table'!AW82","v":"-"},{"$f":"'RBC Reference Table'!AX82","v":">S"},{"$f":"'RBC Reference Table'!AY82","v":"-"},{"$f":"'RBC Reference Table'!AZ82","v":">S"},{"$f":"'RBC Reference Table'!BA82","v":"-"},{"$f":"'RBC Reference Table'!BB82","v":">Pv"},{"$f":"'RBC Reference Table'!BC82","v":"-"},{"$f":"'RBC Reference Table'!BD82","v":">Pv"},{"$f":"'RBC Reference Table'!BE82","v":"-"},{"$f":"'RBC Reference Table'!BF82","v":">Pv"},{"$f":"'RBC Reference Table'!BG82","v":"-"},{"$f":"'RBC Reference Table'!BH82","v":">Pv"},{"$f":"'RBC Reference Table'!BI82","v":"-"},{"$f":"'RBC Reference Table'!BJ82","v":">Pv"},{"$f":"'RBC Reference Table'!BK82","v":"-"},{"$f":"'RBC Reference Table'!BL82","v":">Pv"},0,0,0,0,0,0,0,0,0,0,0,0,0,0,0,0,0,0,0,0,0,0,0,0,0,0,0,0,0,0]
[{"$f":"VLOOKUP(H69,'RBC Reference Table'!$B$8:$C$101,2,FALSE)","v":5},null,null,null,null,null,"7440-38-2","Arsenic","c, nv",{"$f":"'RBC Reference Table'!BM12","v":0.43},{"$f":"'RBC Reference Table'!BN12","v":""},{"$f":"'RBC Reference Table'!BO12","v":1},{"$f":"'RBC Reference Table'!BP12","v":""},{"$f":"'RBC Reference Table'!BQ12","v":1.9},{"$f":"'RBC Reference Table'!BR12","v":""},{"$f":"'RBC Reference Table'!BS12","v":15},{"$f":"'RBC Reference Table'!BT12","v":""},{"$f":"'RBC Reference Table'!BU12","v":420},{"$f":"'RBC Reference Table'!BV12","v":""},{"$f":"'RBC Reference Table'!O12","v":"-"},{"$f":"'RBC Reference Table'!P12","v":"NV"},{"$f":"'RBC Reference Table'!Q12","v":"-"},{"$f":"'RBC Reference Table'!R12","v":"NV"},{"$f":"'RBC Reference Table'!S12","v":"-"},{"$f":"'RBC Reference Table'!T12","v":"NV"},{"$f":"'RBC Reference Table'!U12","v":"-"},{"$f":"'RBC Reference Table'!V12","v":"NV"},{"$f":"'RBC Reference Table'!W12","v":"-"},{"$f":"'RBC Reference Table'!X12","v":"NV"},{"$f":"'RBC Reference Table'!Y12","v":"-"},{"$f":"'RBC Reference Table'!Z12","v":"NV"},{"$f":"'RBC Reference Table'!AA12","v":"*"},{"$f":"'RBC Reference Table'!AB12","v":0},{"$f":"'RBC Reference Table'!AC12","v":"*"},{"$f":"'RBC Reference Table'!AD12","v":0},{"$f":"'RBC Reference Table'!AE12","v":"*"},{"$f":"'RBC Reference Table'!AF12","v":0},{"$f":"'RBC Reference Table'!AG12","v":5.1999999999999998E-2},{"$f":"'RBC Reference Table'!AH12","v":0},{"$f":"'RBC Reference Table'!AI12","v":0.21},{"$f":"'RBC Reference Table'!AJ12","v":0},{"$f":"'RBC Reference Table'!AK12","v":0.31},{"$f":"'RBC Reference Table'!AL12","v":0},{"$f":"'RBC Reference Table'!AM12","v":"-"},{"$f":"'RBC Reference Table'!AN12","v":"NV"},{"$f":"'RBC Reference Table'!AO12","v":"-"},{"$f":"'RBC Reference Table'!AP12","v":"NV"},{"$f":"'RBC Reference Table'!AQ12","v":"-"},{"$f":"'RBC Reference Table'!AR12","v":"NV"},{"$f":"'RBC Reference Table'!AS12","v":"-"},{"$f":"'RBC Reference Table'!AT12","v":"NV"},{"$f":"'RBC Reference Table'!AU12","v":"-"},{"$f":"'RBC Reference Table'!AV12","v":"NV"},{"$f":"'RBC Reference Table'!AW12","v":"-"},{"$f":"'RBC Reference Table'!AX12","v":"NV"},{"$f":"'RBC Reference Table'!AY12","v":6300},{"$f":"'RBC Reference Table'!AZ12","v":0},{"$f":"'RBC Reference Table'!BA12","v":"-"},{"$f":"'RBC Reference Table'!BB12","v":"NV"},{"$f":"'RBC Reference Table'!BC12","v":"-"},{"$f":"'RBC Reference Table'!BD12","v":"NV"},{"$f":"'RBC Reference Table'!BE12","v":"-"},{"$f":"'RBC Reference Table'!BF12","v":"NV"},{"$f":"'RBC Reference Table'!BG12","v":6.4999999999999997E-4},{"$f":"'RBC Reference Table'!BH12","v":0},{"$f":"'RBC Reference Table'!BI12","v":1.5E-3},{"$f":"'RBC Reference Table'!BJ12","v":0},{"$f":"'RBC Reference Table'!BK12","v":2.8999999999999998E-3},{"$f":"'RBC Reference Table'!BL12","v":0},0,0,0,0,0,0,0,0,0,0,0,0,0,0,0,0,0,0,0,0,0,0,0,0,0,0,0,0,0,0]
[{"$f":"VLOOKUP(H70,'RBC Reference Table'!$B$8:$C$101,2,FALSE)","v":6},null,null,null,null,null,"7440-39-3","Barium","nc, nv",{"$f":"'RBC Reference Table'!E13","v":15000},{"$f":"'RBC Reference Table'!F13","v":0},{"$f":"'RBC Reference Table'!G13","v":31000},{"$f":"'RBC Reference Table'!H13","v":0},{"$f":"'RBC Reference Table'!I13","v":220000},{"$f":"'RBC Reference Table'!J13","v":0},{"$f":"'RBC Reference Table'!K13","v":69000},{"$f":"'RBC Reference Table'!L13","v":0},{"$f":"'RBC Reference Table'!M13","v":"-"},{"$f":"'RBC Reference Table'!N13","v":">Max"},{"$f":"'RBC Reference Table'!O13","v":"-"},{"$f":"'RBC Reference Table'!P13","v":"NV"},{"$f":"'RBC Reference Table'!Q13","v":"-"},{"$f":"'RBC Reference Table'!R13","v":"NV"},{"$f":"'RBC Reference Table'!S13","v":"-"},{"$f":"'RBC Reference Table'!T13","v":"NV"},{"$f":"'RBC Reference Table'!U13","v":"-"},{"$f":"'RBC Reference Table'!V13","v":"NV"},{"$f":"'RBC Reference Table'!W13","v":"-"},{"$f":"'RBC Reference Table'!X13","v":"NV"},{"$f":"'RBC Reference Table'!Y13","v":"-"},{"$f":"'RBC Reference Table'!Z13","v":"NV"},{"$f":"'RBC Reference Table'!AA13","v":"*"},{"$f":"'RBC Reference Table'!AB13","v":0},{"$f":"'RBC Reference Table'!AC13","v":"*"},{"$f":"'RBC Reference Table'!AD13","v":0},{"$f":"'RBC Reference Table'!AE13","v":"*"},{"$f":"'RBC Reference Table'!AF13","v":0},{"$f":"'RBC Reference Table'!AG13","v":4000},{"$f":"'RBC Reference Table'!AH13","v":0},{"$f":"'RBC Reference Table'!AI13","v":15000},{"$f":"'RBC Reference Table'!AJ13","v":0},{"$f":"'RBC Reference Table'!AK13","v":33000},{"$f":"'RBC Reference Table'!AL13","v":0},{"$f":"'RBC Reference Table'!AM13","v":"-"},{"$f":"'RBC Reference Table'!AN13","v":"NV"},{"$f":"'RBC Reference Table'!AO13","v":"-"},{"$f":"'RBC Reference Table'!AP13","v":"NV"},{"$f":"'RBC Reference Table'!AQ13","v":"-"},{"$f":"'RBC Reference Table'!AR13","v":"NV"},{"$f":"'RBC Reference Table'!AS13","v":"-"},{"$f":"'RBC Reference Table'!AT13","v":"NV"},{"$f":"'RBC Reference Table'!AU13","v":"-"},{"$f":"'RBC Reference Table'!AV13","v":"NV"},{"$f":"'RBC Reference Table'!AW13","v":"-"},{"$f":"'RBC Reference Table'!AX13","v":"NV"},{"$f":"'RBC Reference Table'!AY13","v":26893604.479811374},{"$f":"'RBC Reference Table'!AZ13","v":0},{"$f":"'RBC Reference Table'!BA13","v":"-"},{"$f":"'RBC Reference Table'!BB13","v":"NV"},{"$f":"'RBC Reference Table'!BC13","v":"-"},{"$f":"'RBC Reference Table'!BD13","v":"NV"},{"$f":"'RBC Reference Table'!BE13","v":"-"},{"$f":"'RBC Reference Table'!BF13","v":"NV"},{"$f":"'RBC Reference Table'!BG13","v":0.52},{"$f":"'RBC Reference Table'!BH13","v":0},{"$f":"'RBC Reference Table'!BI13","v":0.52},{"$f":"'RBC Reference Table'!BJ13","v":0},{"$f":"'RBC Reference Table'!BK13","v":2.2000000000000002},{"$f":"'RBC Reference Table'!BL13","v":0},0,0,0,0,0,0,0,0,0,0,0,0,0,0,0,0,0,0,0,0,0,0,0,0,0,0,0,0,0,0]
[{"$f":"VLOOKUP(H71,'RBC Reference Table'!$B$8:$C$101,2,FALSE)","v":13},null,null,null,null,null,"7440-41-7","Beryllium","c, nv",{"$f":"'RBC Reference Table'!E20","v":1500},{"$f":"'RBC Reference Table'!F20","v":0},{"$f":"'RBC Reference Table'!G20","v":7300},{"$f":"'RBC Reference Table'!H20","v":0},{"$f":"'RBC Reference Table'!I20","v":6700},{"$f":"'RBC Reference Table'!J20","v":0},{"$f":"'RBC Reference Table'!K20","v":170000},{"$f":"'RBC Reference Table'!L20","v":0},{"$f":"'RBC Reference Table'!M20","v":"-"},{"$f":"'RBC Reference Table'!N20","v":">Max"},{"$f":"'RBC Reference Table'!O20","v":"-"},{"$f":"'RBC Reference Table'!P20","v":"NV"},{"$f":"'RBC Reference Table'!Q20","v":"-"},{"$f":"'RBC Reference Table'!R20","v":"NV"},{"$f":"'RBC Reference Table'!S20","v":"-"},{"$f":"'RBC Reference Table'!T20","v":"NV"},{"$f":"'RBC Reference Table'!U20","v":"-"},{"$f":"'RBC Reference Table'!V20","v":"NV"},{"$f":"'RBC Reference Table'!W20","v":"-"},{"$f":"'RBC Reference Table'!X20","v":"NV"},{"$f":"'RBC Reference Table'!Y20","v":"-"},{"$f":"'RBC Reference Table'!Z20","v":"NV"},{"$f":"'RBC Reference Table'!AA20","v":"*"},{"$f":"'RBC Reference Table'!AB20","v":0},{"$f":"'RBC Reference Table'!AC20","v":"*"},{"$f":"'RBC Reference Table'!AD20","v":0},{"$f":"'RBC Reference Table'!AE20","v":"*"},{"$f":"'RBC Reference Table'!AF20","v":0},{"$f":"'RBC Reference Table'!AG20","v":"-"},{"$f":"'RBC Reference Table'!AH20","v":">S"},{"$f":"'RBC Reference Table'!AI20","v":"-"},{"$f":"'RBC Reference Table'!AJ20","v":">S"},{"$f":"'RBC Reference Table'!AK20","v":"-"},{"$f":"'RBC Reference Table'!AL20","v":">S"},{"$f":"'RBC Reference Table'!AM20","v":"-"},{"$f":"'RBC Reference Table'!AN20","v":"NV"},{"$f":"'RBC Reference Table'!AO20","v":"-"},{"$f":"'RBC Reference Table'!AP20","v":"NV"},{"$f":"'RBC Reference Table'!AQ20","v":"-"},{"$f":"'RBC Reference Table'!AR20","v":"NV"},{"$f":"'RBC Reference Table'!AS20","v":"-"},{"$f":"'RBC Reference Table'!AT20","v":"NV"},{"$f":"'RBC Reference Table'!AU20","v":"-"},{"$f":"'RBC Reference Table'!AV20","v":"NV"},{"$f":"'RBC Reference Table'!AW20","v":"-"},{"$f":"'RBC Reference Table'!AX20","v":"NV"},{"$f":"'RBC Reference Table'!AY20","v":"-"},{"$f":"'RBC Reference Table'!AZ20","v":">S"},{"$f":"'RBC Reference Table'!BA20","v":"-"},{"$f":"'RBC Reference Table'!BB20","v":"NV"},{"$f":"'RBC Reference Table'!BC20","v":"-"},{"$f":"'RBC Reference Table'!BD20","v":"NV"},{"$f":"'RBC Reference Table'!BE20","v":"-"},{"$f":"'RBC Reference Table'!BF20","v":"NV"},{"$f":"'RBC Reference Table'!BG20","v":1.1999999999999999E-3},{"$f":"'RBC Reference Table'!BH20","v":0},{"$f":"'RBC Reference Table'!BI20","v":2.8E-3},{"$f":"'RBC Reference Table'!BJ20","v":0},{"$f":"'RBC Reference Table'!BK20","v":5.1000000000000004E-3},{"$f":"'RBC Reference Table'!BL20","v":0},{"$f":"IF($B71>J71,1,0)","v":0},{"$f":"IF($B71>L71,1,0)","v":0},{"$f":"IF($B71>N71,1,0)","v":0},{"$f":"IF(OR($C71>P71,B71>P71),1,0)","v":0},{"$f":"IF(OR($C71>R71,B71>R71),1,0)","v":0},{"$f":"IF(MAX($B71,$C71)>T71,1,0)","v":0},{"$f":"IF(MAX($B71,$C71)>V71,1,0)","v":0},{"$f":"IF(MAX($B71,$C71)>X71,1,0)","v":0},{"$f":"IF(MAX($B71,$C71)>Z71,1,0)","v":0},{"$f":"IF(MAX($B71,$C71)>AB71,1,0)","v":0},{"$f":"IF(MAX($B71,$C71)>AD71,1,0)","v":0},{"$f":"IF(MAX($B71,$C71)>AF71,1,0)","v":0},{"$f":"IF(MAX($B71,$C71)>AH71,1,0)","v":0},{"$f":"IF(MAX($B71,$C71)>AJ71,1,0)","v":0},{"$f":"IF($D71>AL71,1,0)","v":0},{"$f":"IF($D71>AN71,1,0)","v":0},{"$f":"IF($D71>AP71,1,0)","v":0},{"$f":"IF($D71>AR71,1,0)","v":0},{"$f":"IF($D71>AT71,1,0)","v":0},{"$f":"IF($D71>AV71,1,0)","v":0},{"$f":"IF($D71>AX71,1,0)","v":0},{"$f":"IF($D71>AZ71,1,0)","v":0},{"$f":"IF($D71>BB71,1,0)","v":0},{"$f":"IF($D71>BD71,1,0)","v":0},{"$f":"IF($E71>BF71,1,0)","v":0},{"$f":"IF($E71>BH71,1,0)","v":0},{"$f":"IF($E71>BJ71,1,0)","v":0},{"$f":"IF($F71>BL71,1,0)","v":0},{"$f":"IF($F71>BN71,1,0)","v":0},{"$f":"IF($F71>BP71,1,0)","v":0}]
[{"$f":"VLOOKUP(H72,'RBC Reference Table'!$B$8:$C$101,2,FALSE)","v":18},null,null,null,null,null,"7440-43-9","Cadmium","nc, nv",{"$f":"'RBC Reference Table'!E25","v":78},{"$f":"'RBC Reference Table'!F25","v":0},{"$f":"'RBC Reference Table'!G25","v":160},{"$f":"'RBC Reference Table'!H25","v":0},{"$f":"'RBC Reference Table'!I25","v":1100},{"$f":"'RBC Reference Table'!J25","v":0},{"$f":"'RBC Reference Table'!K25","v":350},{"$f":"'RBC Reference Table'!L25","v":0},{"$f":"'RBC Reference Table'!M25","v":9700},{"$f":"'RBC Reference Table'!N25","v":0},{"$f":"'RBC Reference Table'!O25","v":"-"},{"$f":"'RBC Reference Table'!P25","v":"NV"},{"$f":"'RBC Reference Table'!Q25","v":"-"},{"$f":"'RBC Reference Table'!R25","v":"NV"},{"$f":"'RBC Reference Table'!S25","v":"-"},{"$f":"'RBC Reference Table'!T25","v":"NV"},{"$f":"'RBC Reference Table'!U25","v":"-"},{"$f":"'RBC Reference Table'!V25","v":"NV"},{"$f":"'RBC Reference Table'!W25","v":"-"},{"$f":"'RBC Reference Table'!X25","v":"NV"},{"$f":"'RBC Reference Table'!Y25","v":"-"},{"$f":"'RBC Reference Table'!Z25","v":"NV"},{"$f":"'RBC Reference Table'!AA25","v":"*"},{"$f":"'RBC Reference Table'!AB25","v":0},{"$f":"'RBC Reference Table'!AC25","v":"*"},{"$f":"'RBC Reference Table'!AD25","v":0},{"$f":"'RBC Reference Table'!AE25","v":"*"},{"$f":"'RBC Reference Table'!AF25","v":0},{"$f":"'RBC Reference Table'!AG25","v":20},{"$f":"'RBC Reference Table'!AH25","v":0},{"$f":"'RBC Reference Table'!AI25","v":73},{"$f":"'RBC Reference Table'!AJ25","v":0},{"$f":"'RBC Reference Table'!AK25","v":160},{"$f":"'RBC Reference Table'!AL25","v":0},{"$f":"'RBC Reference Table'!AM25","v":"-"},{"$f":"'RBC Reference Table'!AN25","v":"NV"},{"$f":"'RBC Reference Table'!AO25","v":"-"},{"$f":"'RBC Reference Table'!AP25","v":"NV"},{"$f":"'RBC Reference Table'!AQ25","v":"-"},{"$f":"'RBC Reference Table'!AR25","v":"NV"},{"$f":"'RBC Reference Table'!AS25","v":"-"},{"$f":"'RBC Reference Table'!AT25","v":"NV"},{"$f":"'RBC Reference Table'!AU25","v":"-"},{"$f":"'RBC Reference Table'!AV25","v":"NV"},{"$f":"'RBC Reference Table'!AW25","v":"-"},{"$f":"'RBC Reference Table'!AX25","v":"NV"},{"$f":"'RBC Reference Table'!AY25","v":130000},{"$f":"'RBC Reference Table'!AZ25","v":0},{"$f":"'RBC Reference Table'!BA25","v":"-"},{"$f":"'RBC Reference Table'!BB25","v":"NV"},{"$f":"'RBC Reference Table'!BC25","v":"-"},{"$f":"'RBC Reference Table'!BD25","v":"NV"},{"$f":"'RBC Reference Table'!BE25","v":"-"},{"$f":"'RBC Reference Table'!BF25","v":"NV"},{"$f":"'RBC Reference Table'!BG25","v":0.01},{"$f":"'RBC Reference Table'!BH25","v":0},{"$f":"'RBC Reference Table'!BI25","v":0.01},{"$f":"'RBC Reference Table'!BJ25","v":0},{"$f":"'RBC Reference Table'!BK25","v":4.3999999999999997E-2},{"$f":"'RBC Reference Table'!BL25","v":0},0,0,0,0,0,0,0,0,0,0,0,0,0,0,0,0,0,0,0,0,0,0,0,0,0,0,0,0,0,0]
[{"$f":"VLOOKUP(H73,'RBC Reference Table'!$B$8:$C$101,2,FALSE)","v":26},null,null,null,null,null,"16065-83-1","Chromium (III)","nc, nv",{"$f":"'RBC Reference Table'!E33","v":120000},{"$f":"'RBC Reference Table'!F33","v":0},{"$f":"'RBC Reference Table'!G33","v":230000},{"$f":"'RBC Reference Table'!H33","v":0},{"$f":"'RBC Reference Table'!I33","v":"-"},{"$f":"'RBC Reference Table'!J33","v":">Max"},{"$f":"'RBC Reference Table'!K33","v":530000},{"$f":"'RBC Reference Table'!L33","v":0},{"$f":"'RBC Reference Table'!M33","v":"-"},{"$f":"'RBC Reference Table'!N33","v":">Max"},{"$f":"'RBC Reference Table'!O33","v":"-"},{"$f":"'RBC Reference Table'!P33","v":"NV"},{"$f":"'RBC Reference Table'!Q33","v":"-"},{"$f":"'RBC Reference Table'!R33","v":"NV"},{"$f":"'RBC Reference Table'!S33","v":"-"},{"$f":"'RBC Reference Table'!T33","v":"NV"},{"$f":"'RBC Reference Table'!U33","v":"-"},{"$f":"'RBC Reference Table'!V33","v":"NV"},{"$f":"'RBC Reference Table'!W33","v":"-"},{"$f":"'RBC Reference Table'!X33","v":"NV"},{"$f":"'RBC Reference Table'!Y33","v":"-"},{"$f":"'RBC Reference Table'!Z33","v":"NV"},{"$f":"'RBC Reference Table'!AA33","v":"*"},{"$f":"'RBC Reference Table'!AB33","v":0},{"$f":"'RBC Reference Table'!AC33","v":"*"},{"$f":"'RBC Reference Table'!AD33","v":0},{"$f":"'RBC Reference Table'!AE33","v":"*"},{"$f":"'RBC Reference Table'!AF33","v":0},{"$f":"'RBC Reference Table'!AG33","v":30000},{"$f":"'RBC Reference Table'!AH33","v":0},{"$f":"'RBC Reference Table'!AI33","v":110000},{"$f":"'RBC Reference Table'!AJ33","v":0},{"$f":"'RBC Reference Table'!AK33","v":250000},{"$f":"'RBC Reference Table'!AL33","v":0},{"$f":"'RBC Reference Table'!AM33","v":"-"},{"$f":"'RBC Reference Table'!AN33","v":"NV"},{"$f":"'RBC Reference Table'!AO33","v":"-"},{"$f":"'RBC Reference Table'!AP33","v":"NV"},{"$f":"'RBC Reference Table'!AQ33","v":"-"},{"$f":"'RBC Reference Table'!AR33","v":"NV"},{"$f":"'RBC Reference Table'!AS33","v":"-"},{"$f":"'RBC Reference Table'!AT33","v":"NV"},{"$f":"'RBC Reference Table'!AU33","v":"-"},{"$f":"'RBC Reference Table'!AV33","v":"NV"},{"$f":"'RBC Reference Table'!AW33","v":"-"},{"$f":"'RBC Reference Table'!AX33","v":"NV"},{"$f":"'RBC Reference Table'!AY33","v":"-"},{"$f":"'RBC Reference Table'!AZ33","v":">S"},{"$f":"'RBC Reference Table'!BA33","v":"-"},{"$f":"'RBC Reference Table'!BB33","v":"NV"},{"$f":"'RBC Reference Table'!BC33","v":"-"},{"$f":"'RBC Reference Table'!BD33","v":"NV"},{"$f":"'RBC Reference Table'!BE33","v":"-"},{"$f":"'RBC Reference Table'!BF33","v":"NV"},{"$f":"'RBC Reference Table'!BG33","v":1042857142857142.9},{"$f":"'RBC Reference Table'!BH33","v":0},{"$f":"'RBC Reference Table'!BI33","v":1042857142857142.9},{"$f":"'RBC Reference Table'!BJ33","v":0},{"$f":"'RBC Reference Table'!BK33","v":4380000000000000},{"$f":"'RBC Reference Table'!BL33","v":0},0,0,0,0,0,0,0,0,0,0,0,0,0,0,0,0,0,0,0,0,0,0,0,0,0,0,0,0,0,0]
[{"$f":"VLOOKUP(H74,'RBC Reference Table'!$B$8:$C$101,2,FALSE)","v":27},null,null,null,null,null,"18540-29-9","Chromium (VI)","c, nv",{"$f":"'RBC Reference Table'!E34","v":0.3},{"$f":"'RBC Reference Table'!F34","v":0},{"$f":"'RBC Reference Table'!G34","v":0.67},{"$f":"'RBC Reference Table'!H34","v":0},{"$f":"'RBC Reference Table'!I34","v":6.3},{"$f":"'RBC Reference Table'!J34","v":0},{"$f":"'RBC Reference Table'!K34","v":49},{"$f":"'RBC Reference Table'!L34","v":0},{"$f":"'RBC Reference Table'!M34","v":1400},{"$f":"'RBC Reference Table'!N34","v":0},{"$f":"'RBC Reference Table'!O34","v":"-"},{"$f":"'RBC Reference Table'!P34","v":"NV"},{"$f":"'RBC Reference Table'!Q34","v":"-"},{"$f":"'RBC Reference Table'!R34","v":"NV"},{"$f":"'RBC Reference Table'!S34","v":"-"},{"$f":"'RBC Reference Table'!T34","v":"NV"},{"$f":"'RBC Reference Table'!U34","v":"-"},{"$f":"'RBC Reference Table'!V34","v":"NV"},{"$f":"'RBC Reference Table'!W34","v":"-"},{"$f":"'RBC Reference Table'!X34","v":"NV"},{"$f":"'RBC Reference Table'!Y34","v":"-"},{"$f":"'RBC Reference Table'!Z34","v":"NV"},{"$f":"'RBC Reference Table'!AA34","v":"*"},{"$f":"'RBC Reference Table'!AB34","v":0},{"$f":"'RBC Reference Table'!AC34","v":"*"},{"$f":"'RBC Reference Table'!AD34","v":0},{"$f":"'RBC Reference Table'!AE34","v":"*"},{"$f":"'RBC Reference Table'!AF34","v":0},{"$f":"'RBC Reference Table'!AG34","v":0.05},{"$f":"'RBC Reference Table'!AH34","v":0},{"$f":"'RBC Reference Table'!AI34","v":0.16},{"$f":"'RBC Reference Table'!AJ34","v":0},{"$f":"'RBC Reference Table'!AK34","v":0.9},{"$f":"'RBC Reference Table'!AL34","v":0},{"$f":"'RBC Reference Table'!AM34","v":"-"},{"$f":"'RBC Reference Table'!AN34","v":"NV"},{"$f":"'RBC Reference Table'!AO34","v":"-"},{"$f":"'RBC Reference Table'!AP34","v":"NV"},{"$f":"'RBC Reference Table'!AQ34","v":"-"},{"$f":"'RBC Reference Table'!AR34","v":"NV"},{"$f":"'RBC Reference Table'!AS34","v":"-"},{"$f":"'RBC Reference Table'!AT34","v":"NV"},{"$f":"'RBC Reference Table'!AU34","v":"-"},{"$f":"'RBC Reference Table'!AV34","v":"NV"},{"$f":"'RBC Reference Table'!AW34","v":"-"},{"$f":"'RBC Reference Table'!AX34","v":"NV"},{"$f":"'RBC Reference Table'!AY34","v":9400},{"$f":"'RBC Reference Table'!AZ34","v":0},{"$f":"'RBC Reference Table'!BA34","v":"-"},{"$f":"'RBC Reference Table'!BB34","v":"NV"},{"$f":"'RBC Reference Table'!BC34","v":"-"},{"$f":"'RBC Reference Table'!BD34","v":"NV"},{"$f":"'RBC Reference Table'!BE34","v":"-"},{"$f":"'RBC Reference Table'!BF34","v":"NV"},{"$f":"'RBC Reference Table'!BG34","v":1.2E-5},{"$f":"'RBC Reference Table'!BH34","v":0},{"$f":"'RBC Reference Table'!BI34","v":2.3E-5},{"$f":"'RBC Reference Table'!BJ34","v":0},{"$f":"'RBC Reference Table'!BK34","v":1.4999999999999999E-4},{"$f":"'RBC Reference Table'!BL34","v":0},0,0,0,0,0,0,0,0,0,0,0,0,0,0,0,0,0,0,0,0,0,0,0,0,0,0,0,0,0,0]
[{"$f":"VLOOKUP(H75,'RBC Reference Table'!$B$8:$C$101,2,FALSE)","v":29},null,null,null,null,null,"7440-50-8","Copper","nc, nv",{"$f":"'RBC Reference Table'!E36","v":3100},{"$f":"'RBC Reference Table'!F36","v":0},{"$f":"'RBC Reference Table'!G36","v":6200},{"$f":"'RBC Reference Table'!H36","v":0},{"$f":"'RBC Reference Table'!I36","v":47000},{"$f":"'RBC Reference Table'!J36","v":0},{"$f":"'RBC Reference Table'!K36","v":14000},{"$f":"'RBC Reference Table'!L36","v":0},{"$f":"'RBC Reference Table'!M36","v":390000},{"$f":"'RBC Reference Table'!N36","v":0},{"$f":"'RBC Reference Table'!O36","v":"-"},{"$f":"'RBC Reference Table'!P36","v":"NV"},{"$f":"'RBC Reference Table'!Q36","v":"-"},{"$f":"'RBC Reference Table'!R36","v":"NV"},{"$f":"'RBC Reference Table'!S36","v":"-"},{"$f":"'RBC Reference Table'!T36","v":"NV"},{"$f":"'RBC Reference Table'!U36","v":"-"},{"$f":"'RBC Reference Table'!V36","v":"NV"},{"$f":"'RBC Reference Table'!W36","v":"-"},{"$f":"'RBC Reference Table'!X36","v":"NV"},{"$f":"'RBC Reference Table'!Y36","v":"-"},{"$f":"'RBC Reference Table'!Z36","v":"NV"},{"$f":"'RBC Reference Table'!AA36","v":"*"},{"$f":"'RBC Reference Table'!AB36","v":0},{"$f":"'RBC Reference Table'!AC36","v":"*"},{"$f":"'RBC Reference Table'!AD36","v":0},{"$f":"'RBC Reference Table'!AE36","v":"*"},{"$f":"'RBC Reference Table'!AF36","v":0},{"$f":"'RBC Reference Table'!AG36","v":800},{"$f":"'RBC Reference Table'!AH36","v":0},{"$f":"'RBC Reference Table'!AI36","v":2900},{"$f":"'RBC Reference Table'!AJ36","v":0},{"$f":"'RBC Reference Table'!AK36","v":6500},{"$f":"'RBC Reference Table'!AL36","v":0},{"$f":"'RBC Reference Table'!AM36","v":"-"},{"$f":"'RBC Reference Table'!AN36","v":"NV"},{"$f":"'RBC Reference Table'!AO36","v":"-"},{"$f":"'RBC Reference Table'!AP36","v":"NV"},{"$f":"'RBC Reference Table'!AQ36","v":"-"},{"$f":"'RBC Reference Table'!AR36","v":"NV"},{"$f":"'RBC Reference Table'!AS36","v":"-"},{"$f":"'RBC Reference Table'!AT36","v":"NV"},{"$f":"'RBC Reference Table'!AU36","v":"-"},{"$f":"'RBC Reference Table'!AV36","v":"NV"},{"$f":"'RBC Reference Table'!AW36","v":"-"},{"$f":"'RBC Reference Table'!AX36","v":"NV"},{"$f":"'RBC Reference Table'!AY36","v":5400000},{"$f":"'RBC Reference Table'!AZ36","v":0},{"$f":"'RBC Reference Table'!BA36","v":"-"},{"$f":"'RBC Reference Table'!BB36","v":"NV"},{"$f":"'RBC Reference Table'!BC36","v":"-"},{"$f":"'RBC Reference Table'!BD36","v":"NV"},{"$f":"'RBC Reference Table'!BE36","v":"-"},{"$f":"'RBC Reference Table'!BF36","v":"NV"},{"$f":"'RBC Reference Table'!BG36","v":1042857142857142.9},{"$f":"'RBC Reference Table'!BH36","v":0},{"$f":"'RBC Reference Table'!BI36","v":1042857142857142.9},{"$f":"'RBC Reference Table'!BJ36","v":0},{"$f":"'RBC Reference Table'!BK36","v":4380000000000000},{"$f":"'RBC Reference Table'!BL36","v":0},0,0,0,0,0,0,0,0,0,0,0,0,0,0,0,0,0,0,0,0,0,0,0,0,0,0,0,0,0,0]
[{"$f":"VLOOKUP(H76,'RBC Reference Table'!$B$8:$C$101,2,FALSE)","v":65},null,null,null,null,null,"7439-92-1","Lead","NA, nv",{"$f":"'RBC Reference Table'!E72","v":400},{"$f":"'RBC Reference Table'!F72","v":"L"},{"$f":"'RBC Reference Table'!G72","v":400},{"$f":"'RBC Reference Table'!H72","v":"L"},{"$f":"'RBC Reference Table'!I72","v":800},{"$f":"'RBC Reference Table'!J72","v":"L"},{"$f":"'RBC Reference Table'!K72","v":800},{"$f":"'RBC Reference Table'!L72","v":"L"},{"$f":"'RBC Reference Table'!M72","v":800},{"$f":"'RBC Reference Table'!N72","v":0},{"$f":"'RBC Reference Table'!O72","v":"L"},{"$f":"'RBC Reference Table'!P72","v":"NV"},{"$f":"'RBC Reference Table'!Q72","v":"-"},{"$f":"'RBC Reference Table'!R72","v":"NV"},{"$f":"'RBC Reference Table'!S72","v":"-"},{"$f":"'RBC Reference Table'!T72","v":"NV"},{"$f":"'RBC Reference Table'!U72","v":"-"},{"$f":"'RBC Reference Table'!V72","v":"NV"},{"$f":"'RBC Reference Table'!W72","v":"-"},{"$f":"'RBC Reference Table'!X72","v":"NV"},{"$f":"'RBC Reference Table'!Y72","v":"-"},{"$f":"'RBC Reference Table'!Z72","v":"NV"},{"$f":"'RBC Reference Table'!AA72","v":30},{"$f":"'RBC Reference Table'!AB72","v":"L"},{"$f":"'RBC Reference Table'!AC72","v":30},{"$f":"'RBC Reference Table'!AD72","v":"L"},{"$f":"'RBC Reference Table'!AE72","v":30},{"$f":"'RBC Reference Table'!AF72","v":"L"},{"$f":"'RBC Reference Table'!AG72","v":15},{"$f":"'RBC Reference Table'!AH72","v":"L"},{"$f":"'RBC Reference Table'!AI72","v":15},{"$f":"'RBC Reference Table'!AJ72","v":"L"},{"$f":"'RBC Reference Table'!AK72","v":15},{"$f":"'RBC Reference Table'!AL72","v":"L"},{"$f":"'RBC Reference Table'!AM72","v":"-"},{"$f":"'RBC Reference Table'!AN72","v":"NV"},{"$f":"'RBC Reference Table'!AO72","v":"-"},{"$f":"'RBC Reference Table'!AP72","v":"NV"},{"$f":"'RBC Reference Table'!AQ72","v":"-"},{"$f":"'RBC Reference Table'!AR72","v":"NV"},{"$f":"'RBC Reference Table'!AS72","v":"-"},{"$f":"'RBC Reference Table'!AT72","v":"NV"},{"$f":"'RBC Reference Table'!AU72","v":"-"},{"$f":"'RBC Reference Table'!AV72","v":"NV"},{"$f":"'RBC Reference Table'!AW72","v":"-"},{"$f":"'RBC Reference Table'!AX72","v":"NV"},{"$f":"'RBC Reference Table'!AY72","v":"-"},{"$f":"'RBC Reference Table'!AZ72","v":">S"},{"$f":"'RBC Reference Table'!BA72","v":"-"},{"$f":"'RBC Reference Table'!BB72","v":"NV"},{"$f":"'RBC Reference Table'!BC72","v":"-"},{"$f":"'RBC Reference Table'!BD72","v":"NV"},{"$f":"'RBC Reference Table'!BE72","v":"-"},{"$f":"'RBC Reference Table'!BF72","v":"NV"},{"$f":"'RBC Reference Table'!BG72","v":"-"},{"$f":"'RBC Reference Table'!BH72","v":">Pv"},{"$f":"'RBC Reference Table'!BI72","v":"-"},{"$f":"'RBC Reference Table'!BJ72","v":">Pv"},{"$f":"'RBC Reference Table'!BK72","v":"-"},{"$f":"'RBC Reference Table'!BL72","v":">Pv"},0,0,0,0,0,0,0,0,0,0,0,0,0,0,0,0,0,0,0,0,0,0,0,0,0,0,0,0,0,0]
[{"$f":"VLOOKUP(H77,'RBC Reference Table'!$B$8:$C$101,2,FALSE)","v":66},null,null,null,null,null,"7439-96-5","Manganese","nc, nv",{"$f":"'RBC Reference Table'!BM73","v":1800},{"$f":"'RBC Reference Table'!BN73","v":""},{"$f":"'RBC Reference Table'!BO73","v":3600},{"$f":"'RBC Reference Table'!BP73","v":""},{"$f":"'RBC Reference Table'!BQ73","v":25000},{"$f":"'RBC Reference Table'!BR73","v":""},{"$f":"'RBC Reference Table'!BS73","v":8200},{"$f":"'RBC Reference Table'!BT73","v":""},{"$f":"'RBC Reference Table'!BU73","v":230000},{"$f":"'RBC Reference Table'!BV73","v":""},{"$f":"'RBC Reference Table'!O73","v":"-"},{"$f":"'RBC Reference Table'!P73","v":"NV"},{"$f":"'RBC Reference Table'!Q73","v":"-"},{"$f":"'RBC Reference Table'!R73","v":"NV"},{"$f":"'RBC Reference Table'!S73","v":"-"},{"$f":"'RBC Reference Table'!T73","v":"NV"},{"$f":"'RBC Reference Table'!U73","v":"-"},{"$f":"'RBC Reference Table'!V73","v":"NV"},{"$f":"'RBC Reference Table'!W73","v":"-"},{"$f":"'RBC Reference Table'!X73","v":"NV"},{"$f":"'RBC Reference Table'!Y73","v":"-"},{"$f":"'RBC Reference Table'!Z73","v":"NV"},{"$f":"'RBC Reference Table'!AA73","v":"*"},{"$f":"'RBC Reference Table'!AB73","v":0},{"$f":"'RBC Reference Table'!AC73","v":"*"},{"$f":"'RBC Reference Table'!AD73","v":0},{"$f":"'RBC Reference Table'!AE73","v":"*"},{"$f":"'RBC Reference Table'!AF73","v":0},{"$f":"'RBC Reference Table'!AG73","v":480},{"$f":"'RBC Reference Table'!AH73","v":0},{"$f":"'RBC Reference Table'!AI73","v":1800},{"$f":"'RBC Reference Table'!AJ73","v":0},{"$f":"'RBC Reference Table'!AK73","v":3900},{"$f":"'RBC Reference Table'!AL73","v":0},{"$f":"'RBC Reference Table'!AM73","v":"-"},{"$f":"'RBC Reference Table'!AN73","v":"NV"},{"$f":"'RBC Reference Table'!AO73","v":"-"},{"$f":"'RBC Reference Table'!AP73","v":"NV"},{"$f":"'RBC Reference Table'!AQ73","v":"-"},{"$f":"'RBC Reference Table'!AR73","v":"NV"},{"$f":"'RBC Reference Table'!AS73","v":"-"},{"$f":"'RBC Reference Table'!AT73","v":"NV"},{"$f":"'RBC Reference Table'!AU73","v":"-"},{"$f":"'RBC Reference Table'!AV73","v":"NV"},{"$f":"'RBC Reference Table'!AW73","v":"-"},{"$f":"'RBC Reference Table'!AX73","v":"NV"},{"$f":"'RBC Reference Table'!AY73","v":3200000},{"$f":"'RBC Reference Table'!AZ73","v":0},{"$f":"'RBC Reference Table'!BA73","v":"-"},{"$f":"'RBC Reference Table'!BB73","v":"NV"},{"$f":"'RBC Reference Table'!BC73","v":"-"},{"$f":"'RBC Reference Table'!BD73","v":"NV"},{"$f":"'RBC Reference Table'!BE73","v":"-"},{"$f":"'RBC Reference Table'!BF73","v":"NV"},{"$f":"'RBC Reference Table'!BG73","v":5.1999999999999998E-2},{"$f":"'RBC Reference Table'!BH73","v":0},{"$f":"'RBC Reference Table'!BI73","v":5.1999999999999998E-2},{"$f":"'RBC Reference Table'!BJ73","v":0},{"$f":"'RBC Reference Table'!BK73","v":0.22},{"$f":"'RBC Reference Table'!BL73","v":0},0,0,0,0,0,0,0,0,0,0,0,0,0,0,0,0,0,0,0,0,0,0,0,0,0,0,0,0,0,0]
[{"$f":"VLOOKUP(H78,'RBC Reference Table'!$B$8:$C$101,2,FALSE)","v":68},null,null,null,null,null,"7439-97-6","Mercury","nc, nv",{"$f":"'RBC Reference Table'!E75","v":23},{"$f":"'RBC Reference Table'!F75","v":0},{"$f":"'RBC Reference Table'!G75","v":47},{"$f":"'RBC Reference Table'!H75","v":0},{"$f":"'RBC Reference Table'!I75","v":350},{"$f":"'RBC Reference Table'!J75","v":0},{"$f":"'RBC Reference Table'!K75","v":110},{"$f":"'RBC Reference Table'!L75","v":0},{"$f":"'RBC Reference Table'!M75","v":2900},{"$f":"'RBC Reference Table'!N75","v":0},{"$f":"'RBC Reference Table'!O75","v":"-"},{"$f":"'RBC Reference Table'!P75","v":"NV"},{"$f":"'RBC Reference Table'!Q75","v":"-"},{"$f":"'RBC Reference Table'!R75","v":"NV"},{"$f":"'RBC Reference Table'!S75","v":"-"},{"$f":"'RBC Reference Table'!T75","v":"NV"},{"$f":"'RBC Reference Table'!U75","v":"-"},{"$f":"'RBC Reference Table'!V75","v":"NV"},{"$f":"'RBC Reference Table'!W75","v":"-"},{"$f":"'RBC Reference Table'!X75","v":"NV"},{"$f":"'RBC Reference Table'!Y75","v":"-"},{"$f":"'RBC Reference Table'!Z75","v":"NV"},{"$f":"'RBC Reference Table'!AA75","v":"*"},{"$f":"'RBC Reference Table'!AB75","v":0},{"$f":"'RBC Reference Table'!AC75","v":"*"},{"$f":"'RBC Reference Table'!AD75","v":0},{"$f":"'RBC Reference Table'!AE75","v":"*"},{"$f":"'RBC Reference Table'!AF75","v":0},{"$f":"'RBC Reference Table'!AG75","v":6},{"$f":"'RBC Reference Table'!AH75","v":0},{"$f":"'RBC Reference Table'!AI75","v":22},{"$f":"'RBC Reference Table'!AJ75","v":0},{"$f":"'RBC Reference Table'!AK75","v":49},{"$f":"'RBC Reference Table'!AL75","v":0},{"$f":"'RBC Reference Table'!AM75","v":"-"},{"$f":"'RBC Reference Table'!AN75","v":"NV"},{"$f":"'RBC Reference Table'!AO75","v":"-"},{"$f":"'RBC Reference Table'!AP75","v":"NV"},{"$f":"'RBC Reference Table'!AQ75","v":"-"},{"$f":"'RBC Reference Table'!AR75","v":"NV"},{"$f":"'RBC Reference Table'!AS75","v":"-"},{"$f":"'RBC Reference Table'!AT75","v":"NV"},{"$f":"'RBC Reference Table'!AU75","v":"-"},{"$f":"'RBC Reference Table'!AV75","v":"NV"},{"$f":"'RBC Reference Table'!AW75","v":"-"},{"$f":"'RBC Reference Table'!AX75","v":"NV"},{"$f":"'RBC Reference Table'!AY75","v":"-"},{"$f":"'RBC Reference Table'!AZ75","v":">S"},{"$f":"'RBC Reference Table'!BA75","v":"-"},{"$f":"'RBC Reference Table'!BB75","v":"NV"},{"$f":"'RBC Reference Table'!BC75","v":"-"},{"$f":"'RBC Reference Table'!BD75","v":"NV"},{"$f":"'RBC Reference Table'!BE75","v":"-"},{"$f":"'RBC Reference Table'!BF75","v":"NV"},{"$f":"'RBC Reference Table'!BG75","v":0.31},{"$f":"'RBC Reference Table'!BH75","v":0},{"$f":"'RBC Reference Table'!BI75","v":0.31},{"$f":"'RBC Reference Table'!BJ75","v":0},{"$f":"'RBC Reference Table'!BK75","v":1.3},{"$f":"'RBC Reference Table'!BL75","v":0},0,0,0,0,0,0,0,0,0,0,0,0,0,0,0,0,0,0,0,0,0,0,0,0,0,0,0,0,0,0]
[{"$f":"VLOOKUP(H79,'RBC Reference Table'!$B$8:$C$101,2,FALSE)","v":71},null,null,null,null,null,"7440-02-0","Nickel","c, nv",{"$f":"'RBC Reference Table'!E78","v":14000},{"$f":"'RBC Reference Table'!F78","v":0},{"$f":"'RBC Reference Table'!G78","v":67000},{"$f":"'RBC Reference Table'!H78","v":0},{"$f":"'RBC Reference Table'!I78","v":62000},{"$f":"'RBC Reference Table'!J78","v":0},{"$f":"'RBC Reference Table'!K78","v":"-"},{"$f":"'RBC Reference Table'!L78","v":">Max"},{"$f":"'RBC Reference Table'!M78","v":"-"},{"$f":"'RBC Reference Table'!N78","v":">Max"},{"$f":"'RBC Reference Table'!O78","v":"-"},{"$f":"'RBC Reference Table'!P78","v":"NV"},{"$f":"'RBC Reference Table'!Q78","v":"-"},{"$f":"'RBC Reference Table'!R78","v":"NV"},{"$f":"'RBC Reference Table'!S78","v":"-"},{"$f":"'RBC Reference Table'!T78","v":"NV"},{"$f":"'RBC Reference Table'!U78","v":"-"},{"$f":"'RBC Reference Table'!V78","v":"NV"},{"$f":"'RBC Reference Table'!W78","v":"-"},{"$f":"'RBC Reference Table'!X78","v":"NV"},{"$f":"'RBC Reference Table'!Y78","v":"-"},{"$f":"'RBC Reference Table'!Z78","v":"NV"},{"$f":"'RBC Reference Table'!AA78","v":"*"},{"$f":"'RBC Reference Table'!AB78","v":0},{"$f":"'RBC Reference Table'!AC78","v":"*"},{"$f":"'RBC Reference Table'!AD78","v":0},{"$f":"'RBC Reference Table'!AE78","v":"*"},{"$f":"'RBC Reference Table'!AF78","v":0},{"$f":"'RBC Reference Table'!AG78","v":"-"},{"$f":"'RBC Reference Table'!AH78","v":">S"},{"$f":"'RBC Reference Table'!AI78","v":"-"},{"$f":"'RBC Reference Table'!AJ78","v":">S"},{"$f":"'RBC Reference Table'!AK78","v":"-"},{"$f":"'RBC Reference Table'!AL78","v":">S"},{"$f":"'RBC Reference Table'!AM78","v":"-"},{"$f":"'RBC Reference Table'!AN78","v":"NV"},{"$f":"'RBC Reference Table'!AO78","v":"-"},{"$f":"'RBC Reference Table'!AP78","v":"NV"},{"$f":"'RBC Reference Table'!AQ78","v":"-"},{"$f":"'RBC Reference Table'!AR78","v":"NV"},{"$f":"'RBC Reference Table'!AS78","v":"-"},{"$f":"'RBC Reference Table'!AT78","v":"NV"},{"$f":"'RBC Reference Table'!AU78","v":"-"},{"$f":"'RBC Reference Table'!AV78","v":"NV"},{"$f":"'RBC Reference Table'!AW78","v":"-"},{"$f":"'RBC Reference Table'!AX78","v":"NV"},{"$f":"'RBC Reference Table'!AY78","v":"-"},{"$f":"'RBC Reference Table'!AZ78","v":">S"},{"$f":"'RBC Reference Table'!BA78","v":"-"},{"$f":"'RBC Reference Table'!BB78","v":"NV"},{"$f":"'RBC Reference Table'!BC78","v":"-"},{"$f":"'RBC Reference Table'!BD78","v":"NV"},{"$f":"'RBC Reference Table'!BE78","v":"-"},{"$f":"'RBC Reference Table'!BF78","v":"NV"},{"$f":"'RBC Reference Table'!BG78","v":1.0999999999999999E-2},{"$f":"'RBC Reference Table'!BH78","v":0},{"$f":"'RBC Reference Table'!BI78","v":2.5999999999999999E-2},{"$f":"'RBC Reference Table'!BJ78","v":0},{"$f":"'RBC Reference Table'!BK78","v":4.7E-2},{"$f":"'RBC Reference Table'!BL78","v":0},0,0,0,0,0,0,0,0,0,0,0,0,0,0,0,0,0,0,0,0,0,0,0,0,0,0,0,0,0,0]
[{"$f":"VLOOKUP(H80,'RBC Reference Table'!$B$8:$C$101,2,FALSE)","v":76},null,null,null,null,null,"7440-22-4","Silver","nc, nv",{"$f":"'RBC Reference Table'!E83","v":390},{"$f":"'RBC Reference Table'!F83","v":0},{"$f":"'RBC Reference Table'!G83","v":780},{"$f":"'RBC Reference Table'!H83","v":0},{"$f":"'RBC Reference Table'!I83","v":5800},{"$f":"'RBC Reference Table'!J83","v":0},{"$f":"'RBC Reference Table'!K83","v":1800},{"$f":"'RBC Reference Table'!L83","v":0},{"$f":"'RBC Reference Table'!M83","v":49000},{"$f":"'RBC Reference Table'!N83","v":0},{"$f":"'RBC Reference Table'!O83","v":"-"},{"$f":"'RBC Reference Table'!P83","v":"NV"},{"$f":"'RBC Reference Table'!Q83","v":"-"},{"$f":"'RBC Reference Table'!R83","v":"NV"},{"$f":"'RBC Reference Table'!S83","v":"-"},{"$f":"'RBC Reference Table'!T83","v":"NV"},{"$f":"'RBC Reference Table'!U83","v":"-"},{"$f":"'RBC Reference Table'!V83","v":"NV"},{"$f":"'RBC Reference Table'!W83","v":"-"},{"$f":"'RBC Reference Table'!X83","v":"NV"},{"$f":"'RBC Reference Table'!Y83","v":"-"},{"$f":"'RBC Reference Table'!Z83","v":"NV"},{"$f":"'RBC Reference Table'!AA83","v":"*"},{"$f":"'RBC Reference Table'!AB83","v":0},{"$f":"'RBC Reference Table'!AC83","v":"*"},{"$f":"'RBC Reference Table'!AD83","v":0},{"$f":"'RBC Reference Table'!AE83","v":"*"},{"$f":"'RBC Reference Table'!AF83","v":0},{"$f":"'RBC Reference Table'!AG83","v":100},{"$f":"'RBC Reference Table'!AH83","v":0},{"$f":"'RBC Reference Table'!AI83","v":370},{"$f":"'RBC Reference Table'!AJ83","v":0},{"$f":"'RBC Reference Table'!AK83","v":820},{"$f":"'RBC Reference Table'!AL83","v":0},{"$f":"'RBC Reference Table'!AM83","v":"-"},{"$f":"'RBC Reference Table'!AN83","v":"NV"},{"$f":"'RBC Reference Table'!AO83","v":"-"},{"$f":"'RBC Reference Table'!AP83","v":"NV"},{"$f":"'RBC Reference Table'!AQ83","v":"-"},{"$f":"'RBC Reference Table'!AR83","v":"NV"},{"$f":"'RBC Reference Table'!AS83","v":"-"},{"$f":"'RBC Reference Table'!AT83","v":"NV"},{"$f":"'RBC Reference Table'!AU83","v":"-"},{"$f":"'RBC Reference Table'!AV83","v":"NV"},{"$f":"'RBC Reference Table'!AW83","v":"-"},{"$f":"'RBC Reference Table'!AX83","v":"NV"},{"$f":"'RBC Reference Table'!AY83","v":1100000},{"$f":"'RBC Reference Table'!AZ83","v":0},{"$f":"'RBC Reference Table'!BA83","v":"-"},{"$f":"'RBC Reference Table'!BB83","v":"NV"},{"$f":"'RBC Reference Table'!BC83","v":"-"},{"$f":"'RBC Reference Table'!BD83","v":"NV"},{"$f":"'RBC Reference Table'!BE83","v":"-"},{"$f":"'RBC Reference Table'!BF83","v":"NV"},{"$f":"'RBC Reference Table'!BG83","v":1042857142857142.9},{"$f":"'RBC Reference Table'!BH83","v":0},{"$f":"'RBC Reference Table'!BI83","v":1042857142857142.9},{"$f":"'RBC Reference Table'!BJ83","v":0},{"$f":"'RBC Reference Table'!BK83","v":4380000000000000},{"$f":"'RBC Reference Table'!BL83","v":0},0,0,0,0,0,0,0,0,0,0,0,0,0,0,0,0,0,0,0,0,0,0,0,0,0,0,0,0,0,0]
[{"$f":"VLOOKUP(H81,'RBC Reference Table'!$B$8:$C$101,2,FALSE)","v":38},null,null,null,null,null,"75-34-3","1,1-Dichloroethane","c, v",{"$f":"'RBC Reference Table'!E45","v":58},{"$f":"'RBC Reference Table'!F45","v":0},{"$f":"'RBC Reference Table'!G45","v":190},{"$f":"'RBC Reference Table'!H45","v":0},{"$f":"'RBC Reference Table'!I45","v":260},{"$f":"'RBC Reference Table'!J45","v":0},{"$f":"'RBC Reference Table'!K45","v":3200},{"$f":"'RBC Reference Table'!L45","v":">Csat"},{"$f":"'RBC Reference Table'!M45","v":89000},{"$f":"'RBC Reference Table'!N45","v":">Csat"},{"$f":"'RBC Reference Table'!O45","v":56},{"$f":"'RBC Reference Table'!P45","v":0},{"$f":"'RBC Reference Table'!Q45","v":130},{"$f":"'RBC Reference Table'!R45","v":0},{"$f":"'RBC Reference Table'!S45","v":240},{"$f":"'RBC Reference Table'!T45","v":0},{"$f":"'RBC Reference Table'!U45","v":0.45},{"$f":"'RBC Reference Table'!V45","v":0},{"$f":"'RBC Reference Table'!W45","v":1.1000000000000001},{"$f":"'RBC Reference Table'!X45","v":0},{"$f":"'RBC Reference Table'!Y45","v":5.9},{"$f":"'RBC Reference Table'!Z45","v":0},{"$f":"'RBC Reference Table'!AA45","v":4.3999999999999997E-2},{"$f":"'RBC Reference Table'!AB45","v":0},{"$f":"'RBC Reference Table'!AC45","v":0.2},{"$f":"'RBC Reference Table'!AD45","v":0},{"$f":"'RBC Reference Table'!AE45","v":0.2},{"$f":"'RBC Reference Table'!AF45","v":0},{"$f":"'RBC Reference Table'!AG45","v":2.8},{"$f":"'RBC Reference Table'!AH45","v":0},{"$f":"'RBC Reference Table'!AI45","v":13},{"$f":"'RBC Reference Table'!AJ45","v":0},{"$f":"'RBC Reference Table'!AK45","v":13},{"$f":"'RBC Reference Table'!AL45","v":0},{"$f":"'RBC Reference Table'!AM45","v":16000},{"$f":"'RBC Reference Table'!AN45","v":0},{"$f":"'RBC Reference Table'!AO45","v":37000},{"$f":"'RBC Reference Table'!AP45","v":0},{"$f":"'RBC Reference Table'!AQ45","v":68000},{"$f":"'RBC Reference Table'!AR45","v":0},{"$f":"'RBC Reference Table'!AS45","v":1100},{"$f":"'RBC Reference Table'!AT45","v":0},{"$f":"'RBC Reference Table'!AU45","v":2600},{"$f":"'RBC Reference Table'!AV45","v":0},{"$f":"'RBC Reference Table'!AW45","v":14000},{"$f":"'RBC Reference Table'!AX45","v":0},{"$f":"'RBC Reference Table'!AY45","v":10000},{"$f":"'RBC Reference Table'!AZ45","v":0},{"$f":"'RBC Reference Table'!BA45","v":350},{"$f":"'RBC Reference Table'!BB45","v":0},{"$f":"'RBC Reference Table'!BC45","v":830},{"$f":"'RBC Reference Table'!BD45","v":0},{"$f":"'RBC Reference Table'!BE45","v":7700},{"$f":"'RBC Reference Table'!BF45","v":0},{"$f":"'RBC Reference Table'!BG45","v":1.8},{"$f":"'RBC Reference Table'!BH45","v":0},{"$f":"'RBC Reference Table'!BI45","v":4.0999999999999996},{"$f":"'RBC Reference Table'!BJ45","v":0},{"$f":"'RBC Reference Table'!BK45","v":7.7},{"$f":"'RBC Reference Table'!BL45","v":0},{"$f":"IF($B81>J81,1,0)","v":0},{"$f":"IF($B81>L81,1,0)","v":0},{"$f":"IF($B81>N81,1,0)","v":0},{"$f":"IF(OR($C81>P81,B81>P81),1,0)","v":0},{"$f":"IF(OR($C81>R81,B81>R81),1,0)","v":0},{"$f":"IF(MAX($B81,$C81)>T81,1,0)","v":0},{"$f":"IF(MAX($B81,$C81)>V81,1,0)","v":0},{"$f":"IF(MAX($B81,$C81)>X81,1,0)","v":0},{"$f":"IF(MAX($B81,$C81)>Z81,1,0)","v":0},{"$f":"IF(MAX($B81,$C81)>AB81,1,0)","v":0},{"$f":"IF(MAX($B81,$C81)>AD81,1,0)","v":0},{"$f":"IF(MAX($B81,$C81)>AF81,1,0)","v":0},{"$f":"IF(MAX($B81,$C81)>AH81,1,0)","v":0},{"$f":"IF(MAX($B81,$C81)>AJ81,1,0)","v":0},{"$f":"IF($D81>AL81,1,0)","v":0},{"$f":"IF($D81>AN81,1,0)","v":0},{"$f":"IF($D81>AP81,1,0)","v":0},{"$f":"IF($D81>AR81,1,0)","v":0},{"$f":"IF($D81>AT81,1,0)","v":0},{"$f":"IF($D81>AV81,1,0)","v":0},{"$f":"IF($D81>AX81,1,0)","v":0},{"$f":"IF($D81>AZ81,1,0)","v":0},{"$f":"IF($D81>BB81,1,0)","v":0},{"$f":"IF($D81>BD81,1,0)","v":0},{"$f":"IF($E81>BF81,1,0)","v":0},{"$f":"IF($E81>BH81,1,0)","v":0},{"$f":"IF($E81>BJ81,1,0)","v":0},{"$f":"IF($F81>BL81,1,0)","v":0},{"$f":"IF($F81>BN81,1,0)","v":0},{"$f":"IF($F81>BP81,1,0)","v":0}]
[{"$f":"VLOOKUP(H82,'RBC Reference Table'!$B$8:$C$101,2,FALSE)","v":39},null,null,null,null,null,"75-35-4","1,1-Dichloroethene","nc, v",{"$f":"'RBC Reference Table'!E46","v":1800},{"$f":"'RBC Reference Table'!F46","v":">Csat"},{"$f":"'RBC Reference Table'!G46","v":3500},{"$f":"'RBC Reference Table'!H46","v":">Csat"},{"$f":"'RBC Reference Table'!I46","v":29000},{"$f":"'RBC Reference Table'!J46","v":">Csat"},{"$f":"'RBC Reference Table'!K46","v":13000},{"$f":"'RBC Reference Table'!L46","v":">Csat"},{"$f":"'RBC Reference Table'!M46","v":370000},{"$f":"'RBC Reference Table'!N46","v":">Csat"},{"$f":"'RBC Reference Table'!O46","v":"-"},{"$f":"'RBC Reference Table'!P46","v":">Csat"},{"$f":"'RBC Reference Table'!Q46","v":"-"},{"$f":"'RBC Reference Table'!R46","v":">Csat"},{"$f":"'RBC Reference Table'!S46","v":"-"},{"$f":"'RBC Reference Table'!T46","v":">Csat"},{"$f":"'RBC Reference Table'!U46","v":54},{"$f":"'RBC Reference Table'!V46","v":0},{"$f":"'RBC Reference Table'!W46","v":54},{"$f":"'RBC Reference Table'!X46","v":0},{"$f":"'RBC Reference Table'!Y46","v":680},{"$f":"'RBC Reference Table'!Z46","v":0},{"$f":"'RBC Reference Table'!AA46","v":6.7},{"$f":"'RBC Reference Table'!AB46","v":0},{"$f":"'RBC Reference Table'!AC46","v":25},{"$f":"'RBC Reference Table'!AD46","v":0},{"$f":"'RBC Reference Table'!AE46","v":32},{"$f":"'RBC Reference Table'!AF46","v":0},{"$f":"'RBC Reference Table'!AG46","v":280},{"$f":"'RBC Reference Table'!AH46","v":0},{"$f":"'RBC Reference Table'!AI46","v":1100},{"$f":"'RBC Reference Table'!AJ46","v":0},{"$f":"'RBC Reference Table'!AK46","v":1400},{"$f":"'RBC Reference Table'!AL46","v":0},{"$f":"'RBC Reference Table'!AM46","v":570000},{"$f":"'RBC Reference Table'!AN46","v":0},{"$f":"'RBC Reference Table'!AO46","v":570000},{"$f":"'RBC Reference Table'!AP46","v":0},{"$f":"'RBC Reference Table'!AQ46","v":2400000},{"$f":"'RBC Reference Table'!AR46","v":0},{"$f":"'RBC Reference Table'!AS46","v":29000},{"$f":"'RBC Reference Table'!AT46","v":0},{"$f":"'RBC Reference Table'!AU46","v":29000},{"$f":"'RBC Reference Table'!AV46","v":0},{"$f":"'RBC Reference Table'!AW46","v":360000},{"$f":"'RBC Reference Table'!AX46","v":0},{"$f":"'RBC Reference Table'!AY46","v":44000},{"$f":"'RBC Reference Table'!AZ46","v":0},{"$f":"'RBC Reference Table'!BA46","v":42000},{"$f":"'RBC Reference Table'!BB46","v":0},{"$f":"'RBC Reference Table'!BC46","v":42000},{"$f":"'RBC Reference Table'!BD46","v":0},{"$f":"'RBC Reference Table'!BE46","v":880000},{"$f":"'RBC Reference Table'!BF46","v":0},{"$f":"'RBC Reference Table'!BG46","v":210},{"$f":"'RBC Reference Table'!BH46","v":0},{"$f":"'RBC Reference Table'!BI46","v":210},{"$f":"'RBC Reference Table'!BJ46","v":0},{"$f":"'RBC Reference Table'!BK46","v":880},{"$f":"'RBC Reference Table'!BL46","v":0},0,0,0,0,0,0,0,0,0,0,0,0,0,0,0,0,0,0,0,0,0,0,0,0,0,0,0,0,0,0]
[{"$f":"VLOOKUP(H83,'RBC Reference Table'!$B$8:$C$101,2,FALSE)","v":40},null,null,null,null,null,"156-59-2","cis-1,2-Dichloroethene","nc, v",{"$f":"'RBC Reference Table'!E47","v":160},{"$f":"'RBC Reference Table'!F47","v":0},{"$f":"'RBC Reference Table'!G47","v":310},{"$f":"'RBC Reference Table'!H47","v":0},{"$f":"'RBC Reference Table'!I47","v":2300},{"$f":"'RBC Reference Table'!J47","v":">Csat"},{"$f":"'RBC Reference Table'!K47","v":710},{"$f":"'RBC Reference Table'!L47","v":0},{"$f":"'RBC Reference Table'!M47","v":20000},{"$f":"'RBC Reference Table'!N47","v":">Csat"},{"$f":"'RBC Reference Table'!O47","v":"-"},{"$f":"'RBC Reference Table'!P47","v":">Max"},{"$f":"'RBC Reference Table'!Q47","v":"-"},{"$f":"'RBC Reference Table'!R47","v":">Max"},{"$f":"'RBC Reference Table'!S47","v":"-"},{"$f":"'RBC Reference Table'!T47","v":">Max"},{"$f":"'RBC Reference Table'!U47","v":"-"},{"$f":"'RBC Reference Table'!V47","v":">Max"},{"$f":"'RBC Reference Table'!W47","v":"-"},{"$f":"'RBC Reference Table'!X47","v":">Max"},{"$f":"'RBC Reference Table'!Y47","v":"-"},{"$f":"'RBC Reference Table'!Z47","v":">Max"},{"$f":"'RBC Reference Table'!AA47","v":0.63},{"$f":"'RBC Reference Table'!AB47","v":0},{"$f":"'RBC Reference Table'!AC47","v":2.4},{"$f":"'RBC Reference Table'!AD47","v":0},{"$f":"'RBC Reference Table'!AE47","v":4.5},{"$f":"'RBC Reference Table'!AF47","v":0},{"$f":"'RBC Reference Table'!AG47","v":36},{"$f":"'RBC Reference Table'!AH47","v":0},{"$f":"'RBC Reference Table'!AI47","v":140},{"$f":"'RBC Reference Table'!AJ47","v":0},{"$f":"'RBC Reference Table'!AK47","v":260},{"$f":"'RBC Reference Table'!AL47","v":0},{"$f":"'RBC Reference Table'!AM47","v":"-"},{"$f":"'RBC Reference Table'!AN47","v":">S"},{"$f":"'RBC Reference Table'!AO47","v":"-"},{"$f":"'RBC Reference Table'!AP47","v":">S"},{"$f":"'RBC Reference Table'!AQ47","v":"-"},{"$f":"'RBC Reference Table'!AR47","v":">S"},{"$f":"'RBC Reference Table'!AS47","v":"-"},{"$f":"'RBC Reference Table'!AT47","v":">S"},{"$f":"'RBC Reference Table'!AU47","v":"-"},{"$f":"'RBC Reference Table'!AV47","v":">S"},{"$f":"'RBC Reference Table'!AW47","v":"-"},{"$f":"'RBC Reference Table'!AX47","v":">S"},{"$f":"'RBC Reference Table'!AY47","v":18000},{"$f":"'RBC Reference Table'!AZ47","v":0},{"$f":"'RBC Reference Table'!BA47","v":"-"},{"$f":"'RBC Reference Table'!BB47","v":">Pv"},{"$f":"'RBC Reference Table'!BC47","v":"-"},{"$f":"'RBC Reference Table'!BD47","v":">Pv"},{"$f":"'RBC Reference Table'!BE47","v":"-"},{"$f":"'RBC Reference Table'!BF47","v":">Pv"},{"$f":"'RBC Reference Table'!BG47","v":"-"},{"$f":"'RBC Reference Table'!BH47","v":">Pv"},{"$f":"'RBC Reference Table'!BI47","v":"-"},{"$f":"'RBC Reference Table'!BJ47","v":">Pv"},{"$f":"'RBC Reference Table'!BK47","v":"-"},{"$f":"'RBC Reference Table'!BL47","v":">Pv"},0,0,0,0,0,0,0,0,0,0,0,0,0,0,0,0,0,0,0,0,0,0,0,0,0,0,0,0,0,0]
[{"$f":"VLOOKUP(H84,'RBC Reference Table'!$B$8:$C$101,2,FALSE)","v":41},null,null,null,null,null,"156-60-5","trans-1,2-Dichloroethene","nc, v",{"$f":"'RBC Reference Table'!E48","v":1600},{"$f":"'RBC Reference Table'!F48","v":0},{"$f":"'RBC Reference Table'!G48","v":3100},{"$f":"'RBC Reference Table'!H48","v":">Csat"},{"$f":"'RBC Reference Table'!I48","v":23000},{"$f":"'RBC Reference Table'!J48","v":">Csat"},{"$f":"'RBC Reference Table'!K48","v":7100},{"$f":"'RBC Reference Table'!L48","v":">Csat"},{"$f":"'RBC Reference Table'!M48","v":200000},{"$f":"'RBC Reference Table'!N48","v":">Csat"},{"$f":"'RBC Reference Table'!O48","v":"-"},{"$f":"'RBC Reference Table'!P48","v":">Max"},{"$f":"'RBC Reference Table'!Q48","v":"-"},{"$f":"'RBC Reference Table'!R48","v":">Max"},{"$f":"'RBC Reference Table'!S48","v":"-"},{"$f":"'RBC Reference Table'!T48","v":">Max"},{"$f":"'RBC Reference Table'!U48","v":"-"},{"$f":"'RBC Reference Table'!V48","v":">Max"},{"$f":"'RBC Reference Table'!W48","v":"-"},{"$f":"'RBC Reference Table'!X48","v":">Max"},{"$f":"'RBC Reference Table'!Y48","v":"-"},{"$f":"'RBC Reference Table'!Z48","v":">Max"},{"$f":"'RBC Reference Table'!AA48","v":7},{"$f":"'RBC Reference Table'!AB48","v":0},{"$f":"'RBC Reference Table'!AC48","v":27},{"$f":"'RBC Reference Table'!AD48","v":0},{"$f":"'RBC Reference Table'!AE48","v":51},{"$f":"'RBC Reference Table'!AF48","v":0},{"$f":"'RBC Reference Table'!AG48","v":360},{"$f":"'RBC Reference Table'!AH48","v":0},{"$f":"'RBC Reference Table'!AI48","v":1400},{"$f":"'RBC Reference Table'!AJ48","v":0},{"$f":"'RBC Reference Table'!AK48","v":2600},{"$f":"'RBC Reference Table'!AL48","v":0},{"$f":"'RBC Reference Table'!AM48","v":"-"},{"$f":"'RBC Reference Table'!AN48","v":">S"},{"$f":"'RBC Reference Table'!AO48","v":"-"},{"$f":"'RBC Reference Table'!AP48","v":">S"},{"$f":"'RBC Reference Table'!AQ48","v":"-"},{"$f":"'RBC Reference Table'!AR48","v":">S"},{"$f":"'RBC Reference Table'!AS48","v":"-"},{"$f":"'RBC Reference Table'!AT48","v":">S"},{"$f":"'RBC Reference Table'!AU48","v":"-"},{"$f":"'RBC Reference Table'!AV48","v":">S"},{"$f":"'RBC Reference Table'!AW48","v":"-"},{"$f":"'RBC Reference Table'!AX48","v":">S"},{"$f":"'RBC Reference Table'!AY48","v":180000},{"$f":"'RBC Reference Table'!AZ48","v":0},{"$f":"'RBC Reference Table'!BA48","v":"-"},{"$f":"'RBC Reference Table'!BB48","v":">Pv"},{"$f":"'RBC Reference Table'!BC48","v":"-"},{"$f":"'RBC Reference Table'!BD48","v":">Pv"},{"$f":"'RBC Reference Table'!BE48","v":"-"},{"$f":"'RBC Reference Table'!BF48","v":">Pv"},{"$f":"'RBC Reference Table'!BG48","v":"-"},{"$f":"'RBC Reference Table'!BH48","v":">Pv"},{"$f":"'RBC Reference Table'!BI48","v":"-"},{"$f":"'RBC Reference Table'!BJ48","v":">Pv"},{"$f":"'RBC Reference Table'!BK48","v":"-"},{"$f":"'RBC Reference Table'!BL48","v":">Pv"},0,0,0,0,0,0,0,0,0,0,0,0,0,0,0,0,0,0,0,0,0,0,0,0,0,0,0,0,0,0]
[{"$f":"VLOOKUP(H85,'RBC Reference Table'!$B$8:$C$101,2,FALSE)","v":23},null,null,2.48,null,null,"67-66-3","Chloroform","c, v",{"$f":"'RBC Reference Table'!E30","v":5.8},{"$f":"'RBC Reference Table'!F30","v":0},{"$f":"'RBC Reference Table'!G30","v":22},{"$f":"'RBC Reference Table'!H30","v":0},{"$f":"'RBC Reference Table'!I30","v":26},{"$f":"'RBC Reference Table'!J30","v":0},{"$f":"'RBC Reference Table'!K30","v":410},{"$f":"'RBC Reference Table'!L30","v":0},{"$f":"'RBC Reference Table'!M30","v":11000},{"$f":"'RBC Reference Table'!N30","v":">Csat"},{"$f":"'RBC Reference Table'!O30","v":3.9},{"$f":"'RBC Reference Table'!P30","v":0},{"$f":"'RBC Reference Table'!Q30","v":9.1999999999999993},{"$f":"'RBC Reference Table'!R30","v":0},{"$f":"'RBC Reference Table'!S30","v":17},{"$f":"'RBC Reference Table'!T30","v":0},{"$f":"'RBC Reference Table'!U30","v":3.1E-2},{"$f":"'RBC Reference Table'!V30","v":0},{"$f":"'RBC Reference Table'!W30","v":7.3999999999999996E-2},{"$f":"'RBC Reference Table'!X30","v":0},{"$f":"'RBC Reference Table'!Y30","v":0.41},{"$f":"'RBC Reference Table'!Z30","v":0},{"$f":"'RBC Reference Table'!AA30","v":3.3999999999999998E-3},{"$f":"'RBC Reference Table'!AB30","v":0},{"$f":"'RBC Reference Table'!AC30","v":1.6E-2},{"$f":"'RBC Reference Table'!AD30","v":0},{"$f":"'RBC Reference Table'!AE30","v":1.4999999999999999E-2},{"$f":"'RBC Reference Table'!AF30","v":0},{"$f":"'RBC Reference Table'!AG30","v":0.22},{"$f":"'RBC Reference Table'!AH30","v":0},{"$f":"'RBC Reference Table'!AI30","v":1},{"$f":"'RBC Reference Table'!AJ30","v":0},{"$f":"'RBC Reference Table'!AK30","v":0.98},{"$f":"'RBC Reference Table'!AL30","v":0},{"$f":"'RBC Reference Table'!AM30","v":1400},{"$f":"'RBC Reference Table'!AN30","v":0},{"$f":"'RBC Reference Table'!AO30","v":3400},{"$f":"'RBC Reference Table'!AP30","v":0},{"$f":"'RBC Reference Table'!AQ30","v":6300},{"$f":"'RBC Reference Table'!AR30","v":0},{"$f":"'RBC Reference Table'!AS30","v":120},{"$f":"'RBC Reference Table'!AT30","v":0},{"$f":"'RBC Reference Table'!AU30","v":290},{"$f":"'RBC Reference Table'!AV30","v":0},{"$f":"'RBC Reference Table'!AW30","v":1600},{"$f":"'RBC Reference Table'!AX30","v":0},{"$f":"'RBC Reference Table'!AY30","v":720},{"$f":"'RBC Reference Table'!AZ30","v":0},{"$f":"'RBC Reference Table'!BA30","v":24},{"$f":"'RBC Reference Table'!BB30","v":0},{"$f":"'RBC Reference Table'!BC30","v":58},{"$f":"'RBC Reference Table'!BD30","v":0},{"$f":"'RBC Reference Table'!BE30","v":530},{"$f":"'RBC Reference Table'!BF30","v":0},{"$f":"'RBC Reference Table'!BG30","v":0.12},{"$f":"'RBC Reference Table'!BH30","v":0},{"$f":"'RBC Reference Table'!BI30","v":0.28999999999999998},{"$f":"'RBC Reference Table'!BJ30","v":0},{"$f":"'RBC Reference Table'!BK30","v":0.53},{"$f":"'RBC Reference Table'!BL30","v":0},{"$f":"IF($B85>J85,1,0)","v":0},{"$f":"IF($B85>L85,1,0)","v":0},{"$f":"IF($B85>N85,1,0)","v":0},{"$f":"IF(OR($C85>P85,B85>P85),1,0)","v":0},{"$f":"IF(OR($C85>R85,B85>R85),1,0)","v":0},{"$f":"IF(MAX($B85,$C85)>T85,1,0)","v":0},{"$f":"IF(MAX($B85,$C85)>V85,1,0)","v":0},{"$f":"IF(MAX($B85,$C85)>X85,1,0)","v":0},{"$f":"IF(MAX($B85,$C85)>Z85,1,0)","v":0},{"$f":"IF(MAX($B85,$C85)>AB85,1,0)","v":0},{"$f":"IF(MAX($B85,$C85)>AD85,1,0)","v":0},{"$f":"IF(MAX($B85,$C85)>AF85,1,0)","v":0},{"$f":"IF(MAX($B85,$C85)>AH85,1,0)","v":0},{"$f":"IF(MAX($B85,$C85)>AJ85,1,0)","v":0},{"$f":"IF($D85>AL85,1,0)","v":1},{"$f":"IF($D85>AN85,1,0)","v":1},{"$f":"IF($D85>AP85,1,0)","v":1},{"$f":"IF($D85>AR85,1,0)","v":0},{"$f":"IF($D85>AT85,1,0)","v":0},{"$f":"IF($D85>AV85,1,0)","v":0},{"$f":"IF($D85>AX85,1,0)","v":0},{"$f":"IF($D85>AZ85,1,0)","v":0},{"$f":"IF($D85>BB85,1,0)","v":0},{"$f":"IF($D85>BD85,1,0)","v":0},{"$f":"IF($E85>BF85,1,0)","v":0},{"$f":"IF($E85>BH85,1,0)","v":0},{"$f":"IF($E85>BJ85,1,0)","v":0},{"$f":"IF($F85>BL85,1,0)","v":0},{"$f":"IF($F85>BN85,1,0)","v":0},{"$f":"IF($F85>BP85,1,0)","v":0}]
[{"$f":"VLOOKUP(H86,'RBC Reference Table'!$B$8:$C$101,2,FALSE)","v":79},null,null,null,null,null,"127-18-4","Tetrachloroethene (PCE)","c, v",{"$f":"'RBC Reference Table'!E86","v":220},{"$f":"'RBC Reference Table'!F86","v":">Csat"},{"$f":"'RBC Reference Table'!G86","v":650},{"$f":"'RBC Reference Table'!H86","v":">Csat"},{"$f":"'RBC Reference Table'!I86","v":1000},{"$f":"'RBC Reference Table'!J86","v":">Csat"},{"$f":"'RBC Reference Table'!K86","v":10000},{"$f":"'RBC Reference Table'!L86","v":">Csat"},{"$f":"'RBC Reference Table'!M86","v":280000},{"$f":"'RBC Reference Table'!N86","v":">Csat"},{"$f":"'RBC Reference Table'!O86","v":"-"},{"$f":"'RBC Reference Table'!P86","v":">Csat"},{"$f":"'RBC Reference Table'!Q86","v":"-"},{"$f":"'RBC Reference Table'!R86","v":">Csat"},{"$f":"'RBC Reference Table'!S86","v":"-"},{"$f":"'RBC Reference Table'!T86","v":">Csat"},{"$f":"'RBC Reference Table'!U86","v":2.8},{"$f":"'RBC Reference Table'!V86","v":0},{"$f":"'RBC Reference Table'!W86","v":6.6},{"$f":"'RBC Reference Table'!X86","v":0},{"$f":"'RBC Reference Table'!Y86","v":36},{"$f":"'RBC Reference Table'!Z86","v":0},{"$f":"'RBC Reference Table'!AA86","v":0.46},{"$f":"'RBC Reference Table'!AB86","v":0},{"$f":"'RBC Reference Table'!AC86","v":1.9},{"$f":"'RBC Reference Table'!AD86","v":0},{"$f":"'RBC Reference Table'!AE86","v":1.9},{"$f":"'RBC Reference Table'!AF86","v":0},{"$f":"'RBC Reference Table'!AG86","v":12},{"$f":"'RBC Reference Table'!AH86","v":0},{"$f":"'RBC Reference Table'!AI86","v":49},{"$f":"'RBC Reference Table'!AJ86","v":0},{"$f":"'RBC Reference Table'!AK86","v":48},{"$f":"'RBC Reference Table'!AL86","v":0},{"$f":"'RBC Reference Table'!AM86","v":64000},{"$f":"'RBC Reference Table'!AN86","v":0},{"$f":"'RBC Reference Table'!AO86","v":150000},{"$f":"'RBC Reference Table'!AP86","v":0},{"$f":"'RBC Reference Table'!AQ86","v":"-"},{"$f":"'RBC Reference Table'!AR86","v":">S"},{"$f":"'RBC Reference Table'!AS86","v":3700},{"$f":"'RBC Reference Table'!AT86","v":0},{"$f":"'RBC Reference Table'!AU86","v":8700},{"$f":"'RBC Reference Table'!AV86","v":0},{"$f":"'RBC Reference Table'!AW86","v":48000},{"$f":"'RBC Reference Table'!AX86","v":0},{"$f":"'RBC Reference Table'!AY86","v":34000},{"$f":"'RBC Reference Table'!AZ86","v":0},{"$f":"'RBC Reference Table'!BA86","v":2200},{"$f":"'RBC Reference Table'!BB86","v":0},{"$f":"'RBC Reference Table'!BC86","v":5100},{"$f":"'RBC Reference Table'!BD86","v":0},{"$f":"'RBC Reference Table'!BE86","v":47000},{"$f":"'RBC Reference Table'!BF86","v":0},{"$f":"'RBC Reference Table'!BG86","v":11},{"$f":"'RBC Reference Table'!BH86","v":0},{"$f":"'RBC Reference Table'!BI86","v":26},{"$f":"'RBC Reference Table'!BJ86","v":0},{"$f":"'RBC Reference Table'!BK86","v":47},{"$f":"'RBC Reference Table'!BL86","v":0},0,0,0,0,0,0,0,0,0,0,0,0,0,0,0,0,0,0,0,0,0,0,0,0,0,0,0,0,0,0]
[{"$f":"VLOOKUP(H87,'RBC Reference Table'!$B$8:$C$101,2,FALSE)","v":83},null,null,null,null,null,"71-55-6","1,1,1-Trichloroethane","nc, v",{"$f":"'RBC Reference Table'!E90","v":53000},{"$f":"'RBC Reference Table'!F90","v":">Csat"},{"$f":"'RBC Reference Table'!G90","v":110000},{"$f":"'RBC Reference Table'!H90","v":">Csat"},{"$f":"'RBC Reference Table'!I90","v":870000},{"$f":"'RBC Reference Table'!J90","v":">Csat"},{"$f":"'RBC Reference Table'!K90","v":470000},{"$f":"'RBC Reference Table'!L90","v":">Csat"},{"$f":"'RBC Reference Table'!M90","v":"-"},{"$f":"'RBC Reference Table'!N90","v":">Max"},{"$f":"'RBC Reference Table'!O90","v":"-"},{"$f":"'RBC Reference Table'!P90","v":">Csat"},{"$f":"'RBC Reference Table'!Q90","v":"-"},{"$f":"'RBC Reference Table'!R90","v":">Csat"},{"$f":"'RBC Reference Table'!S90","v":"-"},{"$f":"'RBC Reference Table'!T90","v":">Csat"},{"$f":"'RBC Reference Table'!U90","v":"-"},{"$f":"'RBC Reference Table'!V90","v":">Csat"},{"$f":"'RBC Reference Table'!W90","v":"-"},{"$f":"'RBC Reference Table'!X90","v":">Csat"},{"$f":"'RBC Reference Table'!Y90","v":"-"},{"$f":"'RBC Reference Table'!Z90","v":">Csat"},{"$f":"'RBC Reference Table'!AA90","v":190},{"$f":"'RBC Reference Table'!AB90","v":0},{"$f":"'RBC Reference Table'!AC90","v":710},{"$f":"'RBC Reference Table'!AD90","v":0},{"$f":"'RBC Reference Table'!AE90","v":880},{"$f":"'RBC Reference Table'!AF90","v":0},{"$f":"'RBC Reference Table'!AG90","v":8000},{"$f":"'RBC Reference Table'!AH90","v":0},{"$f":"'RBC Reference Table'!AI90","v":30000},{"$f":"'RBC Reference Table'!AJ90","v":0},{"$f":"'RBC Reference Table'!AK90","v":37000},{"$f":"'RBC Reference Table'!AL90","v":0},{"$f":"'RBC Reference Table'!AM90","v":"-"},{"$f":"'RBC Reference Table'!AN90","v":">S"},{"$f":"'RBC Reference Table'!AO90","v":"-"},{"$f":"'RBC Reference Table'!AP90","v":">S"},{"$f":"'RBC Reference Table'!AQ90","v":"-"},{"$f":"'RBC Reference Table'!AR90","v":">S"},{"$f":"'RBC Reference Table'!AS90","v":"-"},{"$f":"'RBC Reference Table'!AT90","v":">S"},{"$f":"'RBC Reference Table'!AU90","v":"-"},{"$f":"'RBC Reference Table'!AV90","v":">S"},{"$f":"'RBC Reference Table'!AW90","v":"-"},{"$f":"'RBC Reference Table'!AX90","v":">S"},{"$f":"'RBC Reference Table'!AY90","v":1100000},{"$f":"'RBC Reference Table'!AZ90","v":0},{"$f":"'RBC Reference Table'!BA90","v":1000000},{"$f":"'RBC Reference Table'!BB90","v":0},{"$f":"'RBC Reference Table'!BC90","v":1000000},{"$f":"'RBC Reference Table'!BD90","v":0},{"$f":"'RBC Reference Table'!BE90","v":21900000},{"$f":"'RBC Reference Table'!BF90","v":0},{"$f":"'RBC Reference Table'!BG90","v":5200},{"$f":"'RBC Reference Table'!BH90","v":0},{"$f":"'RBC Reference Table'!BI90","v":5200},{"$f":"'RBC Reference Table'!BJ90","v":0},{"$f":"'RBC Reference Table'!BK90","v":22000},{"$f":"'RBC Reference Table'!BL90","v":0},0,0,0,0,0,0,0,0,0,0,0,0,0,0,0,0,0,0,0,0,0,0,0,0,0,0,0,0,0,0]
[{"$f":"VLOOKUP(H88,'RBC Reference Table'!$B$8:$C$101,2,FALSE)","v":84},null,null,null,null,null,"79-00-5","1,1,2-Trichloroethane","c, v",{"$f":"'RBC Reference Table'!E91","v":5.8},{"$f":"'RBC Reference Table'!F91","v":0},{"$f":"'RBC Reference Table'!G91","v":19},{"$f":"'RBC Reference Table'!H91","v":0},{"$f":"'RBC Reference Table'!I91","v":26},{"$f":"'RBC Reference Table'!J91","v":0},{"$f":"'RBC Reference Table'!K91","v":320},{"$f":"'RBC Reference Table'!L91","v":0},{"$f":"'RBC Reference Table'!M91","v":8900},{"$f":"'RBC Reference Table'!N91","v":">Csat"},{"$f":"'RBC Reference Table'!O91","v":5.6},{"$f":"'RBC Reference Table'!P91","v":0},{"$f":"'RBC Reference Table'!Q91","v":13},{"$f":"'RBC Reference Table'!R91","v":0},{"$f":"'RBC Reference Table'!S91","v":24},{"$f":"'RBC Reference Table'!T91","v":0},{"$f":"'RBC Reference Table'!U91","v":0.32},{"$f":"'RBC Reference Table'!V91","v":0},{"$f":"'RBC Reference Table'!W91","v":0.75},{"$f":"'RBC Reference Table'!X91","v":0},{"$f":"'RBC Reference Table'!Y91","v":4.2},{"$f":"'RBC Reference Table'!Z91","v":0},{"$f":"'RBC Reference Table'!AA91","v":6.3E-3},{"$f":"'RBC Reference Table'!AB91","v":0},{"$f":"'RBC Reference Table'!AC91","v":2.9000000000000001E-2},{"$f":"'RBC Reference Table'!AD91","v":0},{"$f":"'RBC Reference Table'!AE91","v":2.9000000000000001E-2},{"$f":"'RBC Reference Table'!AF91","v":0},{"$f":"'RBC Reference Table'!AG91","v":0.28000000000000003},{"$f":"'RBC Reference Table'!AH91","v":0},{"$f":"'RBC Reference Table'!AI91","v":1.3},{"$f":"'RBC Reference Table'!AJ91","v":0},{"$f":"'RBC Reference Table'!AK91","v":1.3},{"$f":"'RBC Reference Table'!AL91","v":0},{"$f":"'RBC Reference Table'!AM91","v":4700},{"$f":"'RBC Reference Table'!AN91","v":0},{"$f":"'RBC Reference Table'!AO91","v":11000},{"$f":"'RBC Reference Table'!AP91","v":0},{"$f":"'RBC Reference Table'!AQ91","v":21000},{"$f":"'RBC Reference Table'!AR91","v":0},{"$f":"'RBC Reference Table'!AS91","v":870},{"$f":"'RBC Reference Table'!AT91","v":0},{"$f":"'RBC Reference Table'!AU91","v":2100},{"$f":"'RBC Reference Table'!AV91","v":0},{"$f":"'RBC Reference Table'!AW91","v":11000},{"$f":"'RBC Reference Table'!AX91","v":0},{"$f":"'RBC Reference Table'!AY91","v":1000},{"$f":"'RBC Reference Table'!AZ91","v":0},{"$f":"'RBC Reference Table'!BA91","v":35},{"$f":"'RBC Reference Table'!BB91","v":0},{"$f":"'RBC Reference Table'!BC91","v":83},{"$f":"'RBC Reference Table'!BD91","v":0},{"$f":"'RBC Reference Table'!BE91","v":770},{"$f":"'RBC Reference Table'!BF91","v":0},{"$f":"'RBC Reference Table'!BG91","v":0.18},{"$f":"'RBC Reference Table'!BH91","v":0},{"$f":"'RBC Reference Table'!BI91","v":0.41},{"$f":"'RBC Reference Table'!BJ91","v":0},{"$f":"'RBC Reference Table'!BK91","v":0.77},{"$f":"'RBC Reference Table'!BL91","v":0},0,0,0,0,0,0,0,0,0,0,0,0,0,0,0,0,0,0,0,0,0,0,0,0,0,0,0,0,0,0]
[{"$f":"VLOOKUP(H89,'RBC Reference Table'!$B$8:$C$101,2,FALSE)","v":85},null,null,null,null,null,"79-01-6","Trichloroethene","NA, v",{"$f":"'RBC Reference Table'!E92","v":6.7},{"$f":"'RBC Reference Table'!F92","v":0},{"$f":"'RBC Reference Table'!G92","v":17},{"$f":"'RBC Reference Table'!H92","v":0},{"$f":"'RBC Reference Table'!I92","v":51},{"$f":"'RBC Reference Table'!J92","v":0},{"$f":"'RBC Reference Table'!K92","v":130},{"$f":"'RBC Reference Table'!L92","v":0},{"$f":"'RBC Reference Table'!M92","v":3700},{"$f":"'RBC Reference Table'!N92","v":">Csat"},{"$f":"'RBC Reference Table'!O92","v":15},{"$f":"'RBC Reference Table'!P92","v":0},{"$f":"'RBC Reference Table'!Q92","v":33},{"$f":"'RBC Reference Table'!R92","v":0},{"$f":"'RBC Reference Table'!S92","v":96},{"$f":"'RBC Reference Table'!T92","v":0},{"$f":"'RBC Reference Table'!U92","v":0.12},{"$f":"'RBC Reference Table'!V92","v":0},{"$f":"'RBC Reference Table'!W92","v":0.26},{"$f":"'RBC Reference Table'!X92","v":0},{"$f":"'RBC Reference Table'!Y92","v":2.2999999999999998},{"$f":"'RBC Reference Table'!Z92","v":0},{"$f":"'RBC Reference Table'!AA92","v":1.2999999999999999E-2},{"$f":"'RBC Reference Table'!AB92","v":0},{"$f":"'RBC Reference Table'!AC92","v":5.2999999999999999E-2},{"$f":"'RBC Reference Table'!AD92","v":0},{"$f":"'RBC Reference Table'!AE92","v":8.6999999999999994E-2},{"$f":"'RBC Reference Table'!AF92","v":0},{"$f":"'RBC Reference Table'!AG92","v":0.49},{"$f":"'RBC Reference Table'!AH92","v":0},{"$f":"'RBC Reference Table'!AI92","v":2},{"$f":"'RBC Reference Table'!AJ92","v":0},{"$f":"'RBC Reference Table'!AK92","v":3.3},{"$f":"'RBC Reference Table'!AL92","v":0},{"$f":"'RBC Reference Table'!AM92","v":3300},{"$f":"'RBC Reference Table'!AN92","v":0},{"$f":"'RBC Reference Table'!AO92","v":6900},{"$f":"'RBC Reference Table'!AP92","v":0},{"$f":"'RBC Reference Table'!AQ92","v":20000},{"$f":"'RBC Reference Table'!AR92","v":0},{"$f":"'RBC Reference Table'!AS92","v":200},{"$f":"'RBC Reference Table'!AT92","v":0},{"$f":"'RBC Reference Table'!AU92","v":430},{"$f":"'RBC Reference Table'!AV92","v":0},{"$f":"'RBC Reference Table'!AW92","v":3700},{"$f":"'RBC Reference Table'!AX92","v":0},{"$f":"'RBC Reference Table'!AY92","v":430},{"$f":"'RBC Reference Table'!AZ92","v":0},{"$f":"'RBC Reference Table'!BA92","v":95},{"$f":"'RBC Reference Table'!BB92","v":0},{"$f":"'RBC Reference Table'!BC92","v":200},{"$f":"'RBC Reference Table'!BD92","v":0},{"$f":"'RBC Reference Table'!BE92","v":2900},{"$f":"'RBC Reference Table'!BF92","v":0},{"$f":"'RBC Reference Table'!BG92","v":0.47},{"$f":"'RBC Reference Table'!BH92","v":0},{"$f":"'RBC Reference Table'!BI92","v":1},{"$f":"'RBC Reference Table'!BJ92","v":0},{"$f":"'RBC Reference Table'!BK92","v":2.9},{"$f":"'RBC Reference Table'!BL92","v":0},0,0,0,0,0,0,0,0,0,0,0,0,0,0,0,0,0,0,0,0,0,0,0,0,0,0,0,0,0,0]
[{"$f":"VLOOKUP(H90,'RBC Reference Table'!$B$8:$C$101,2,FALSE)","v":90},null,null,null,null,null,"75-01-4","Vinyl chloride","c, v",{"$f":"'RBC Reference Table'!E97","v":0.36},{"$f":"'RBC Reference Table'!F97","v":0},{"$f":"'RBC Reference Table'!G97","v":0.8},{"$f":"'RBC Reference Table'!H97","v":0},{"$f":"'RBC Reference Table'!I97","v":4.4000000000000004},{"$f":"'RBC Reference Table'!J97","v":0},{"$f":"'RBC Reference Table'!K97","v":34},{"$f":"'RBC Reference Table'!L97","v":0},{"$f":"'RBC Reference Table'!M97","v":950},{"$f":"'RBC Reference Table'!N97","v":">Csat"},{"$f":"'RBC Reference Table'!O97","v":5.3},{"$f":"'RBC Reference Table'!P97","v":0},{"$f":"'RBC Reference Table'!Q97","v":6.5},{"$f":"'RBC Reference Table'!R97","v":0},{"$f":"'RBC Reference Table'!S97","v":89},{"$f":"'RBC Reference Table'!T97","v":0},{"$f":"'RBC Reference Table'!U97","v":4.2999999999999997E-2},{"$f":"'RBC Reference Table'!V97","v":0},{"$f":"'RBC Reference Table'!W97","v":5.2999999999999999E-2},{"$f":"'RBC Reference Table'!X97","v":0},{"$f":"'RBC Reference Table'!Y97","v":2.2000000000000002},{"$f":"'RBC Reference Table'!Z97","v":0},{"$f":"'RBC Reference Table'!AA97","v":5.6999999999999998E-4},{"$f":"'RBC Reference Table'!AB97","v":0},{"$f":"'RBC Reference Table'!AC97","v":1.4E-3},{"$f":"'RBC Reference Table'!AD97","v":0},{"$f":"'RBC Reference Table'!AE97","v":0.01},{"$f":"'RBC Reference Table'!AF97","v":0},{"$f":"'RBC Reference Table'!AG97","v":2.7E-2},{"$f":"'RBC Reference Table'!AH97","v":0},{"$f":"'RBC Reference Table'!AI97","v":6.6000000000000003E-2},{"$f":"'RBC Reference Table'!AJ97","v":0},{"$f":"'RBC Reference Table'!AK97","v":0.49},{"$f":"'RBC Reference Table'!AL97","v":0},{"$f":"'RBC Reference Table'!AM97","v":350},{"$f":"'RBC Reference Table'!AN97","v":0},{"$f":"'RBC Reference Table'!AO97","v":430},{"$f":"'RBC Reference Table'!AP97","v":0},{"$f":"'RBC Reference Table'!AQ97","v":5900},{"$f":"'RBC Reference Table'!AR97","v":0},{"$f":"'RBC Reference Table'!AS97","v":17},{"$f":"'RBC Reference Table'!AT97","v":0},{"$f":"'RBC Reference Table'!AU97","v":21},{"$f":"'RBC Reference Table'!AV97","v":0},{"$f":"'RBC Reference Table'!AW97","v":880},{"$f":"'RBC Reference Table'!AX97","v":0},{"$f":"'RBC Reference Table'!AY97","v":960},{"$f":"'RBC Reference Table'!AZ97","v":0},{"$f":"'RBC Reference Table'!BA97","v":33},{"$f":"'RBC Reference Table'!BB97","v":0},{"$f":"'RBC Reference Table'!BC97","v":41},{"$f":"'RBC Reference Table'!BD97","v":0},{"$f":"'RBC Reference Table'!BE97","v":2800},{"$f":"'RBC Reference Table'!BF97","v":0},{"$f":"'RBC Reference Table'!BG97","v":0.17},{"$f":"'RBC Reference Table'!BH97","v":0},{"$f":"'RBC Reference Table'!BI97","v":0.2},{"$f":"'RBC Reference Table'!BJ97","v":0},{"$f":"'RBC Reference Table'!BK97","v":2.8},{"$f":"'RBC Reference Table'!BL97","v":0},0,0,0,0,0,0,0,0,0,0,0,0,0,0,0,0,0,0,0,0,0,0,0,0,0,0,0,0,0,0]
[{"$f":"VLOOKUP(H91,'RBC Reference Table'!$B$8:$C$101,2,FALSE)","v":3},null,null,null,null,null,"309-00-2","Aldrin","c, v",{"$f":"'RBC Reference Table'!E10","v":3.1E-2},{"$f":"'RBC Reference Table'!F10","v":0},{"$f":"'RBC Reference Table'!G10","v":7.8E-2},{"$f":"'RBC Reference Table'!H10","v":0},{"$f":"'RBC Reference Table'!I10","v":0.13},{"$f":"'RBC Reference Table'!J10","v":0},{"$f":"'RBC Reference Table'!K10","v":1.1000000000000001},{"$f":"'RBC Reference Table'!L10","v":0},{"$f":"'RBC Reference Table'!M10","v":30},{"$f":"'RBC Reference Table'!N10","v":">Csat"},{"$f":"'RBC Reference Table'!O10","v":"-"},{"$f":"'RBC Reference Table'!P10","v":">Csat"},{"$f":"'RBC Reference Table'!Q10","v":"-"},{"$f":"'RBC Reference Table'!R10","v":">Csat"},{"$f":"'RBC Reference Table'!S10","v":"-"},{"$f":"'RBC Reference Table'!T10","v":">Csat"},{"$f":"'RBC Reference Table'!U10","v":"-"},{"$f":"'RBC Reference Table'!V10","v":">Csat"},{"$f":"'RBC Reference Table'!W10","v":"-"},{"$f":"'RBC Reference Table'!X10","v":">Csat"},{"$f":"'RBC Reference Table'!Y10","v":"-"},{"$f":"'RBC Reference Table'!Z10","v":">Csat"},{"$f":"'RBC Reference Table'!AA10","v":2.3E-2},{"$f":"'RBC Reference Table'!AB10","v":0},{"$f":"'RBC Reference Table'!AC10","v":0.1},{"$f":"'RBC Reference Table'!AD10","v":0},{"$f":"'RBC Reference Table'!AE10","v":0.1},{"$f":"'RBC Reference Table'!AF10","v":0},{"$f":"'RBC Reference Table'!AG10","v":9.2000000000000003E-4},{"$f":"'RBC Reference Table'!AH10","v":0},{"$f":"'RBC Reference Table'!AI10","v":4.1999999999999997E-3},{"$f":"'RBC Reference Table'!AJ10","v":0},{"$f":"'RBC Reference Table'!AK10","v":4.1999999999999997E-3},{"$f":"'RBC Reference Table'!AL10","v":0},{"$f":"'RBC Reference Table'!AM10","v":"-"},{"$f":"'RBC Reference Table'!AN10","v":">S"},{"$f":"'RBC Reference Table'!AO10","v":"-"},{"$f":"'RBC Reference Table'!AP10","v":">S"},{"$f":"'RBC Reference Table'!AQ10","v":"-"},{"$f":"'RBC Reference Table'!AR10","v":">S"},{"$f":"'RBC Reference Table'!AS10","v":"-"},{"$f":"'RBC Reference Table'!AT10","v":">S"},{"$f":"'RBC Reference Table'!AU10","v":"-"},{"$f":"'RBC Reference Table'!AV10","v":">S"},{"$f":"'RBC Reference Table'!AW10","v":"-"},{"$f":"'RBC Reference Table'!AX10","v":">S"},{"$f":"'RBC Reference Table'!AY10","v":3.5},{"$f":"'RBC Reference Table'!AZ10","v":0},{"$f":"'RBC Reference Table'!BA10","v":0.11},{"$f":"'RBC Reference Table'!BB10","v":0},{"$f":"'RBC Reference Table'!BC10","v":0.27},{"$f":"'RBC Reference Table'!BD10","v":0},{"$f":"'RBC Reference Table'!BE10","v":2.5},{"$f":"'RBC Reference Table'!BF10","v":0},{"$f":"'RBC Reference Table'!BG10","v":5.6999999999999998E-4},{"$f":"'RBC Reference Table'!BH10","v":0},{"$f":"'RBC Reference Table'!BI10","v":1.4E-3},{"$f":"'RBC Reference Table'!BJ10","v":0},{"$f":"'RBC Reference Table'!BK10","v":2.5000000000000001E-3},{"$f":"'RBC Reference Table'!BL10","v":0},0,0,0,0,0,0,0,0,0,0,0,0,0,0,0,0,0,0,0,0,0,0,0,0,0,0,0,0,0,0]
[{"$f":"VLOOKUP(H92,'RBC Reference Table'!$B$8:$C$101,2,FALSE)","v":25},null,null,null,null,null,"12789-03-6","Chlordane","c, v",{"$f":"'RBC Reference Table'!E32","v":1.7},{"$f":"'RBC Reference Table'!F32","v":0},{"$f":"'RBC Reference Table'!G32","v":4.3},{"$f":"'RBC Reference Table'!H32","v":0},{"$f":"'RBC Reference Table'!I32","v":7.6},{"$f":"'RBC Reference Table'!J32","v":0},{"$f":"'RBC Reference Table'!K32","v":62},{"$f":"'RBC Reference Table'!L32","v":">Csat"},{"$f":"'RBC Reference Table'!M32","v":1700},{"$f":"'RBC Reference Table'!N32","v":">Csat"},{"$f":"'RBC Reference Table'!O32","v":"-"},{"$f":"'RBC Reference Table'!P32","v":">Csat"},{"$f":"'RBC Reference Table'!Q32","v":"-"},{"$f":"'RBC Reference Table'!R32","v":">Csat"},{"$f":"'RBC Reference Table'!S32","v":"-"},{"$f":"'RBC Reference Table'!T32","v":">Csat"},{"$f":"'RBC Reference Table'!U32","v":"-"},{"$f":"'RBC Reference Table'!V32","v":">Csat"},{"$f":"'RBC Reference Table'!W32","v":"-"},{"$f":"'RBC Reference Table'!X32","v":">Csat"},{"$f":"'RBC Reference Table'!Y32","v":"-"},{"$f":"'RBC Reference Table'!Z32","v":">Csat"},{"$f":"'RBC Reference Table'!AA32","v":0.91},{"$f":"'RBC Reference Table'!AB32","v":0},{"$f":"'RBC Reference Table'!AC32","v":4.0999999999999996},{"$f":"'RBC Reference Table'!AD32","v":0},{"$f":"'RBC Reference Table'!AE32","v":4.2},{"$f":"'RBC Reference Table'!AF32","v":0},{"$f":"'RBC Reference Table'!AG32","v":4.4999999999999998E-2},{"$f":"'RBC Reference Table'!AH32","v":0},{"$f":"'RBC Reference Table'!AI32","v":0.2},{"$f":"'RBC Reference Table'!AJ32","v":0},{"$f":"'RBC Reference Table'!AK32","v":0.21},{"$f":"'RBC Reference Table'!AL32","v":0},{"$f":"'RBC Reference Table'!AM32","v":"-"},{"$f":"'RBC Reference Table'!AN32","v":">S"},{"$f":"'RBC Reference Table'!AO32","v":"-"},{"$f":"'RBC Reference Table'!AP32","v":">S"},{"$f":"'RBC Reference Table'!AQ32","v":"-"},{"$f":"'RBC Reference Table'!AR32","v":">S"},{"$f":"'RBC Reference Table'!AS32","v":"-"},{"$f":"'RBC Reference Table'!AT32","v":">S"},{"$f":"'RBC Reference Table'!AU32","v":"-"},{"$f":"'RBC Reference Table'!AV32","v":">S"},{"$f":"'RBC Reference Table'!AW32","v":"-"},{"$f":"'RBC Reference Table'!AX32","v":">S"},{"$f":"'RBC Reference Table'!AY32","v":"-"},{"$f":"'RBC Reference Table'!AZ32","v":">S"},{"$f":"'RBC Reference Table'!BA32","v":5.6},{"$f":"'RBC Reference Table'!BB32","v":0},{"$f":"'RBC Reference Table'!BC32","v":13},{"$f":"'RBC Reference Table'!BD32","v":0},{"$f":"'RBC Reference Table'!BE32","v":"-"},{"$f":"'RBC Reference Table'!BF32","v":">Pv"},{"$f":"'RBC Reference Table'!BG32","v":2.8000000000000001E-2},{"$f":"'RBC Reference Table'!BH32","v":0},{"$f":"'RBC Reference Table'!BI32","v":6.6000000000000003E-2},{"$f":"'RBC Reference Table'!BJ32","v":0},{"$f":"'RBC Reference Table'!BK32","v":0.12},{"$f":"'RBC Reference Table'!BL32","v":0},0,0,0,0,0,0,0,0,0,0,0,0,0,0,0,0,0,0,0,0,0,0,0,0,0,0,0,0,0,0]
[{"$f":"VLOOKUP(H93,'RBC Reference Table'!$B$8:$C$101,2,FALSE)","v":31},null,null,null,null,null,"72-54-8","DDD (4,4'-Dichlorodiphenyldichloroethane)","c, nv",{"$f":"'RBC Reference Table'!E38","v":2.7},{"$f":"'RBC Reference Table'!F38","v":0},{"$f":"'RBC Reference Table'!G38","v":6.6},{"$f":"'RBC Reference Table'!H38","v":0},{"$f":"'RBC Reference Table'!I38","v":12},{"$f":"'RBC Reference Table'!J38","v":0},{"$f":"'RBC Reference Table'!K38","v":94},{"$f":"'RBC Reference Table'!L38","v":0},{"$f":"'RBC Reference Table'!M38","v":2600},{"$f":"'RBC Reference Table'!N38","v":">Csat"},{"$f":"'RBC Reference Table'!O38","v":"-"},{"$f":"'RBC Reference Table'!P38","v":"NV"},{"$f":"'RBC Reference Table'!Q38","v":"-"},{"$f":"'RBC Reference Table'!R38","v":"NV"},{"$f":"'RBC Reference Table'!S38","v":"-"},{"$f":"'RBC Reference Table'!T38","v":"NV"},{"$f":"'RBC Reference Table'!U38","v":"-"},{"$f":"'RBC Reference Table'!V38","v":"NV"},{"$f":"'RBC Reference Table'!W38","v":"-"},{"$f":"'RBC Reference Table'!X38","v":"NV"},{"$f":"'RBC Reference Table'!Y38","v":"-"},{"$f":"'RBC Reference Table'!Z38","v":"NV"},{"$f":"'RBC Reference Table'!AA38","v":1.1000000000000001},{"$f":"'RBC Reference Table'!AB38","v":0},{"$f":"'RBC Reference Table'!AC38","v":3.7},{"$f":"'RBC Reference Table'!AD38","v":0},{"$f":"'RBC Reference Table'!AE38","v":2.6},{"$f":"'RBC Reference Table'!AF38","v":0},{"$f":"'RBC Reference Table'!AG38","v":3.1E-2},{"$f":"'RBC Reference Table'!AH38","v":0},{"$f":"'RBC Reference Table'!AI38","v":0.1},{"$f":"'RBC Reference Table'!AJ38","v":0},{"$f":"'RBC Reference Table'!AK38","v":7.3999999999999996E-2},{"$f":"'RBC Reference Table'!AL38","v":0},{"$f":"'RBC Reference Table'!AM38","v":"-"},{"$f":"'RBC Reference Table'!AN38","v":"NV"},{"$f":"'RBC Reference Table'!AO38","v":"-"},{"$f":"'RBC Reference Table'!AP38","v":"NV"},{"$f":"'RBC Reference Table'!AQ38","v":"-"},{"$f":"'RBC Reference Table'!AR38","v":"NV"},{"$f":"'RBC Reference Table'!AS38","v":"-"},{"$f":"'RBC Reference Table'!AT38","v":"NV"},{"$f":"'RBC Reference Table'!AU38","v":"-"},{"$f":"'RBC Reference Table'!AV38","v":"NV"},{"$f":"'RBC Reference Table'!AW38","v":"-"},{"$f":"'RBC Reference Table'!AX38","v":"NV"},{"$f":"'RBC Reference Table'!AY38","v":31},{"$f":"'RBC Reference Table'!AZ38","v":0},{"$f":"'RBC Reference Table'!BA38","v":"-"},{"$f":"'RBC Reference Table'!BB38","v":"NV"},{"$f":"'RBC Reference Table'!BC38","v":"-"},{"$f":"'RBC Reference Table'!BD38","v":"NV"},{"$f":"'RBC Reference Table'!BE38","v":"-"},{"$f":"'RBC Reference Table'!BF38","v":"NV"},{"$f":"'RBC Reference Table'!BG38","v":4.1000000000000002E-2},{"$f":"'RBC Reference Table'!BH38","v":0},{"$f":"'RBC Reference Table'!BI38","v":9.6000000000000002E-2},{"$f":"'RBC Reference Table'!BJ38","v":0},{"$f":"'RBC Reference Table'!BK38","v":0.18},{"$f":"'RBC Reference Table'!BL38","v":0},0,0,0,0,0,0,0,0,0,0,0,0,0,0,0,0,0,0,0,0,0,0,0,0,0,0,0,0,0,0]
[{"$f":"VLOOKUP(H94,'RBC Reference Table'!$B$8:$C$101,2,FALSE)","v":32},null,null,null,null,null,"72-55-9","DDE (4,4'-Dichlorodiphenyldichloroethene)","c, v",{"$f":"'RBC Reference Table'!E39","v":1.8},{"$f":"'RBC Reference Table'!F39","v":0},{"$f":"'RBC Reference Table'!G39","v":4.5},{"$f":"'RBC Reference Table'!H39","v":0},{"$f":"'RBC Reference Table'!I39","v":8.1999999999999993},{"$f":"'RBC Reference Table'!J39","v":0},{"$f":"'RBC Reference Table'!K39","v":66},{"$f":"'RBC Reference Table'!L39","v":0},{"$f":"'RBC Reference Table'!M39","v":1800},{"$f":"'RBC Reference Table'!N39","v":0},{"$f":"'RBC Reference Table'!O39","v":"-"},{"$f":"'RBC Reference Table'!P39","v":">Csat"},{"$f":"'RBC Reference Table'!Q39","v":"-"},{"$f":"'RBC Reference Table'!R39","v":">Csat"},{"$f":"'RBC Reference Table'!S39","v":"-"},{"$f":"'RBC Reference Table'!T39","v":">Csat"},{"$f":"'RBC Reference Table'!U39","v":"-"},{"$f":"'RBC Reference Table'!V39","v":">Csat"},{"$f":"'RBC Reference Table'!W39","v":"-"},{"$f":"'RBC Reference Table'!X39","v":">Csat"},{"$f":"'RBC Reference Table'!Y39","v":"-"},{"$f":"'RBC Reference Table'!Z39","v":">Csat"},{"$f":"'RBC Reference Table'!AA39","v":1.6},{"$f":"'RBC Reference Table'!AB39","v":0},{"$f":"'RBC Reference Table'!AC39","v":7.4},{"$f":"'RBC Reference Table'!AD39","v":0},{"$f":"'RBC Reference Table'!AE39","v":7.5},{"$f":"'RBC Reference Table'!AF39","v":0},{"$f":"'RBC Reference Table'!AG39","v":4.5999999999999999E-2},{"$f":"'RBC Reference Table'!AH39","v":0},{"$f":"'RBC Reference Table'!AI39","v":0.21},{"$f":"'RBC Reference Table'!AJ39","v":0},{"$f":"'RBC Reference Table'!AK39","v":0.21},{"$f":"'RBC Reference Table'!AL39","v":0},{"$f":"'RBC Reference Table'!AM39","v":"-"},{"$f":"'RBC Reference Table'!AN39","v":">S"},{"$f":"'RBC Reference Table'!AO39","v":"-"},{"$f":"'RBC Reference Table'!AP39","v":">S"},{"$f":"'RBC Reference Table'!AQ39","v":"-"},{"$f":"'RBC Reference Table'!AR39","v":">S"},{"$f":"'RBC Reference Table'!AS39","v":"-"},{"$f":"'RBC Reference Table'!AT39","v":">S"},{"$f":"'RBC Reference Table'!AU39","v":"-"},{"$f":"'RBC Reference Table'!AV39","v":">S"},{"$f":"'RBC Reference Table'!AW39","v":"-"},{"$f":"'RBC Reference Table'!AX39","v":">S"},{"$f":"'RBC Reference Table'!AY39","v":"-"},{"$f":"'RBC Reference Table'!AZ39","v":">S"},{"$f":"'RBC Reference Table'!BA39","v":5.8},{"$f":"'RBC Reference Table'!BB39","v":0},{"$f":"'RBC Reference Table'!BC39","v":14},{"$f":"'RBC Reference Table'!BD39","v":0},{"$f":"'RBC Reference Table'!BE39","v":"-"},{"$f":"'RBC Reference Table'!BF39","v":">Pv"},{"$f":"'RBC Reference Table'!BG39","v":2.9000000000000001E-2},{"$f":"'RBC Reference Table'!BH39","v":0},{"$f":"'RBC Reference Table'!BI39","v":6.8000000000000005E-2},{"$f":"'RBC Reference Table'!BJ39","v":0},{"$f":"'RBC Reference Table'!BK39","v":0.13},{"$f":"'RBC Reference Table'!BL39","v":0},0,0,0,0,0,0,0,0,0,0,0,0,0,0,0,0,0,0,0,0,0,0,0,0,0,0,0,0,0,0]
[{"$f":"VLOOKUP(H95,'RBC Reference Table'!$B$8:$C$101,2,FALSE)","v":33},null,null,null,null,null,"50-29-3","DDT (4,4'-Dichlorodiphenyltrichloroethane)","c, nv",{"$f":"'RBC Reference Table'!E40","v":1.9},{"$f":"'RBC Reference Table'!F40","v":0},{"$f":"'RBC Reference Table'!G40","v":4.5999999999999996},{"$f":"'RBC Reference Table'!H40","v":0},{"$f":"'RBC Reference Table'!I40","v":8.5},{"$f":"'RBC Reference Table'!J40","v":0},{"$f":"'RBC Reference Table'!K40","v":66},{"$f":"'RBC Reference Table'!L40","v":0},{"$f":"'RBC Reference Table'!M40","v":1800},{"$f":"'RBC Reference Table'!N40","v":">Csat"},{"$f":"'RBC Reference Table'!O40","v":"-"},{"$f":"'RBC Reference Table'!P40","v":"NV"},{"$f":"'RBC Reference Table'!Q40","v":"-"},{"$f":"'RBC Reference Table'!R40","v":"NV"},{"$f":"'RBC Reference Table'!S40","v":"-"},{"$f":"'RBC Reference Table'!T40","v":"NV"},{"$f":"'RBC Reference Table'!U40","v":"-"},{"$f":"'RBC Reference Table'!V40","v":"NV"},{"$f":"'RBC Reference Table'!W40","v":"-"},{"$f":"'RBC Reference Table'!X40","v":"NV"},{"$f":"'RBC Reference Table'!Y40","v":"-"},{"$f":"'RBC Reference Table'!Z40","v":"NV"},{"$f":"'RBC Reference Table'!AA40","v":12},{"$f":"'RBC Reference Table'!AB40","v":0},{"$f":"'RBC Reference Table'!AC40","v":46},{"$f":"'RBC Reference Table'!AD40","v":0},{"$f":"'RBC Reference Table'!AE40","v":70},{"$f":"'RBC Reference Table'!AF40","v":0},{"$f":"'RBC Reference Table'!AG40","v":0.23},{"$f":"'RBC Reference Table'!AH40","v":0},{"$f":"'RBC Reference Table'!AI40","v":0.92},{"$f":"'RBC Reference Table'!AJ40","v":0},{"$f":"'RBC Reference Table'!AK40","v":1.4},{"$f":"'RBC Reference Table'!AL40","v":0},{"$f":"'RBC Reference Table'!AM40","v":"-"},{"$f":"'RBC Reference Table'!AN40","v":"NV"},{"$f":"'RBC Reference Table'!AO40","v":"-"},{"$f":"'RBC Reference Table'!AP40","v":"NV"},{"$f":"'RBC Reference Table'!AQ40","v":"-"},{"$f":"'RBC Reference Table'!AR40","v":"NV"},{"$f":"'RBC Reference Table'!AS40","v":"-"},{"$f":"'RBC Reference Table'!AT40","v":"NV"},{"$f":"'RBC Reference Table'!AU40","v":"-"},{"$f":"'RBC Reference Table'!AV40","v":"NV"},{"$f":"'RBC Reference Table'!AW40","v":"-"},{"$f":"'RBC Reference Table'!AX40","v":"NV"},{"$f":"'RBC Reference Table'!AY40","v":"-"},{"$f":"'RBC Reference Table'!AZ40","v":">S"},{"$f":"'RBC Reference Table'!BA40","v":"-"},{"$f":"'RBC Reference Table'!BB40","v":"NV"},{"$f":"'RBC Reference Table'!BC40","v":"-"},{"$f":"'RBC Reference Table'!BD40","v":"NV"},{"$f":"'RBC Reference Table'!BE40","v":"-"},{"$f":"'RBC Reference Table'!BF40","v":"NV"},{"$f":"'RBC Reference Table'!BG40","v":2.9000000000000001E-2},{"$f":"'RBC Reference Table'!BH40","v":0},{"$f":"'RBC Reference Table'!BI40","v":6.8000000000000005E-2},{"$f":"'RBC Reference Table'!BJ40","v":0},{"$f":"'RBC Reference Table'!BK40","v":0.13},{"$f":"'RBC Reference Table'!BL40","v":0},0,0,0,0,0,0,0,0,0,0,0,0,0,0,0,0,0,0,0,0,0,0,0,0,0,0,0,0,0,0]
[{"$f":"VLOOKUP(H96,'RBC Reference Table'!$B$8:$C$101,2,FALSE)","v":48},null,null,null,null,null,"123-91-1","1,4-Dioxane","c, v",{"$f":"'RBC Reference Table'!E55","v":5.4},{"$f":"'RBC Reference Table'!F55","v":0},{"$f":"'RBC Reference Table'!G55","v":14},{"$f":"'RBC Reference Table'!H55","v":0},{"$f":"'RBC Reference Table'!I55","v":24},{"$f":"'RBC Reference Table'!J55","v":0},{"$f":"'RBC Reference Table'!K55","v":210},{"$f":"'RBC Reference Table'!L55","v":0},{"$f":"'RBC Reference Table'!M55","v":5900},{"$f":"'RBC Reference Table'!N55","v":0},{"$f":"'RBC Reference Table'!O55","v":28},{"$f":"'RBC Reference Table'!P55","v":0},{"$f":"'RBC Reference Table'!Q55","v":67},{"$f":"'RBC Reference Table'!R55","v":0},{"$f":"'RBC Reference Table'!S55","v":370},{"$f":"'RBC Reference Table'!T55","v":0},{"$f":"'RBC Reference Table'!U55","v":28},{"$f":"'RBC Reference Table'!V55","v":0},{"$f":"'RBC Reference Table'!W55","v":67},{"$f":"'RBC Reference Table'!X55","v":0},{"$f":"'RBC Reference Table'!Y55","v":370},{"$f":"'RBC Reference Table'!Z55","v":0},{"$f":"'RBC Reference Table'!AA55","v":2.3E-3},{"$f":"'RBC Reference Table'!AB55","v":0},{"$f":"'RBC Reference Table'!AC55","v":9.9000000000000008E-3},{"$f":"'RBC Reference Table'!AD55","v":0},{"$f":"'RBC Reference Table'!AE55","v":1.2E-2},{"$f":"'RBC Reference Table'!AF55","v":0},{"$f":"'RBC Reference Table'!AG55","v":0.46},{"$f":"'RBC Reference Table'!AH55","v":0},{"$f":"'RBC Reference Table'!AI55","v":2},{"$f":"'RBC Reference Table'!AJ55","v":0},{"$f":"'RBC Reference Table'!AK55","v":2.4},{"$f":"'RBC Reference Table'!AL55","v":0},{"$f":"'RBC Reference Table'!AM55","v":820000},{"$f":"'RBC Reference Table'!AN55","v":0},{"$f":"'RBC Reference Table'!AO55","v":1900000},{"$f":"'RBC Reference Table'!AP55","v":0},{"$f":"'RBC Reference Table'!AQ55","v":4500000},{"$f":"'RBC Reference Table'!AR55","v":0},{"$f":"'RBC Reference Table'!AS55","v":340000},{"$f":"'RBC Reference Table'!AT55","v":0},{"$f":"'RBC Reference Table'!AU55","v":810000},{"$f":"'RBC Reference Table'!AV55","v":0},{"$f":"'RBC Reference Table'!AW55","v":4500000},{"$f":"'RBC Reference Table'!AX55","v":0},{"$f":"'RBC Reference Table'!AY55","v":3400},{"$f":"'RBC Reference Table'!AZ55","v":0},{"$f":"'RBC Reference Table'!BA55","v":110},{"$f":"'RBC Reference Table'!BB55","v":0},{"$f":"'RBC Reference Table'!BC55","v":270},{"$f":"'RBC Reference Table'!BD55","v":0},{"$f":"'RBC Reference Table'!BE55","v":2500},{"$f":"'RBC Reference Table'!BF55","v":0},{"$f":"'RBC Reference Table'!BG55","v":0.56000000000000005},{"$f":"'RBC Reference Table'!BH55","v":0},{"$f":"'RBC Reference Table'!BI55","v":1.3},{"$f":"'RBC Reference Table'!BJ55","v":0},{"$f":"'RBC Reference Table'!BK55","v":2.5},{"$f":"'RBC Reference Table'!BL55","v":0},{"$f":"IF($B96>J96,1,0)","v":0},{"$f":"IF($B96>L96,1,0)","v":0},{"$f":"IF($B96>N96,1,0)","v":0},{"$f":"IF(OR($C96>P96,B96>P96),1,0)","v":0},{"$f":"IF(OR($C96>R96,B96>R96),1,0)","v":0},{"$f":"IF(MAX($B96,$C96)>T96,1,0)","v":0},{"$f":"IF(MAX($B96,$C96)>V96,1,0)","v":0},{"$f":"IF(MAX($B96,$C96)>X96,1,0)","v":0},{"$f":"IF(MAX($B96,$C96)>Z96,1,0)","v":0},{"$f":"IF(MAX($B96,$C96)>AB96,1,0)","v":0},{"$f":"IF(MAX($B96,$C96)>AD96,1,0)","v":0},{"$f":"IF(MAX($B96,$C96)>AF96,1,0)","v":0},{"$f":"IF(MAX($B96,$C96)>AH96,1,0)","v":0},{"$f":"IF(MAX($B96,$C96)>AJ96,1,0)","v":0},{"$f":"IF($D96>AL96,1,0)","v":0},{"$f":"IF($D96>AN96,1,0)","v":0},{"$f":"IF($D96>AP96,1,0)","v":0},{"$f":"IF($D96>AR96,1,0)","v":0},{"$f":"IF($D96>AT96,1,0)","v":0},{"$f":"IF($D96>AV96,1,0)","v":0},{"$f":"IF($D96>AX96,1,0)","v":0},{"$f":"IF($D96>AZ96,1,0)","v":0},{"$f":"IF($D96>BB96,1,0)","v":0},{"$f":"IF($D96>BD96,1,0)","v":0},{"$f":"IF($E96>BF96,1,0)","v":0},{"$f":"IF($E96>BH96,1,0)","v":0},{"$f":"IF($E96>BJ96,1,0)","v":0},{"$f":"IF($F96>BL96,1,0)","v":0},{"$f":"IF($F96>BN96,1,0)","v":0},{"$f":"IF($F96>BP96,1,0)","v":0}]
[{"$f":"VLOOKUP(H97,'RBC Reference Table'!$B$8:$C$101,2,FALSE)","v":45},null,null,null,null,null,"60-57-1","Dieldrin","c, nv",{"$f":"'RBC Reference Table'!E52","v":3.4000000000000002E-2},{"$f":"'RBC Reference Table'!F52","v":0},{"$f":"'RBC Reference Table'!G52","v":8.5000000000000006E-2},{"$f":"'RBC Reference Table'!H52","v":0},{"$f":"'RBC Reference Table'!I52","v":0.14000000000000001},{"$f":"'RBC Reference Table'!J52","v":0},{"$f":"'RBC Reference Table'!K52","v":1.2},{"$f":"'RBC Reference Table'!L52","v":0},{"$f":"'RBC Reference Table'!M52","v":33},{"$f":"'RBC Reference Table'!N52","v":">Csat"},{"$f":"'RBC Reference Table'!O52","v":"-"},{"$f":"'RBC Reference Table'!P52","v":"NV"},{"$f":"'RBC Reference Table'!Q52","v":"-"},{"$f":"'RBC Reference Table'!R52","v":"NV"},{"$f":"'RBC Reference Table'!S52","v":"-"},{"$f":"'RBC Reference Table'!T52","v":"NV"},{"$f":"'RBC Reference Table'!U52","v":"-"},{"$f":"'RBC Reference Table'!V52","v":"NV"},{"$f":"'RBC Reference Table'!W52","v":"-"},{"$f":"'RBC Reference Table'!X52","v":"NV"},{"$f":"'RBC Reference Table'!Y52","v":"-"},{"$f":"'RBC Reference Table'!Z52","v":"NV"},{"$f":"'RBC Reference Table'!AA52","v":0.01},{"$f":"'RBC Reference Table'!AB52","v":0},{"$f":"'RBC Reference Table'!AC52","v":3.6999999999999998E-2},{"$f":"'RBC Reference Table'!AD52","v":0},{"$f":"'RBC Reference Table'!AE52","v":0.03},{"$f":"'RBC Reference Table'!AF52","v":0},{"$f":"'RBC Reference Table'!AG52","v":1.6999999999999999E-3},{"$f":"'RBC Reference Table'!AH52","v":0},{"$f":"'RBC Reference Table'!AI52","v":6.1000000000000004E-3},{"$f":"'RBC Reference Table'!AJ52","v":0},{"$f":"'RBC Reference Table'!AK52","v":5.0000000000000001E-3},{"$f":"'RBC Reference Table'!AL52","v":0},{"$f":"'RBC Reference Table'!AM52","v":"-"},{"$f":"'RBC Reference Table'!AN52","v":"NV"},{"$f":"'RBC Reference Table'!AO52","v":"-"},{"$f":"'RBC Reference Table'!AP52","v":"NV"},{"$f":"'RBC Reference Table'!AQ52","v":"-"},{"$f":"'RBC Reference Table'!AR52","v":"NV"},{"$f":"'RBC Reference Table'!AS52","v":"-"},{"$f":"'RBC Reference Table'!AT52","v":"NV"},{"$f":"'RBC Reference Table'!AU52","v":"-"},{"$f":"'RBC Reference Table'!AV52","v":"NV"},{"$f":"'RBC Reference Table'!AW52","v":"-"},{"$f":"'RBC Reference Table'!AX52","v":"NV"},{"$f":"'RBC Reference Table'!AY52","v":2.4},{"$f":"'RBC Reference Table'!AZ52","v":0},{"$f":"'RBC Reference Table'!BA52","v":"-"},{"$f":"'RBC Reference Table'!BB52","v":"NV"},{"$f":"'RBC Reference Table'!BC52","v":"-"},{"$f":"'RBC Reference Table'!BD52","v":"NV"},{"$f":"'RBC Reference Table'!BE52","v":"-"},{"$f":"'RBC Reference Table'!BF52","v":"NV"},{"$f":"'RBC Reference Table'!BG52","v":6.0999999999999997E-4},{"$f":"'RBC Reference Table'!BH52","v":0},{"$f":"'RBC Reference Table'!BI52","v":1.4E-3},{"$f":"'RBC Reference Table'!BJ52","v":0},{"$f":"'RBC Reference Table'!BK52","v":2.7000000000000001E-3},{"$f":"'RBC Reference Table'!BL52","v":0},0,0,0,0,0,0,0,0,0,0,0,0,0,0,0,0,0,0,0,0,0,0,0,0,0,0,0,0,0,0]
[{"$f":"VLOOKUP(H98,'RBC Reference Table'!$B$8:$C$101,2,FALSE)","v":52},null,null,null,null,null,"115-29-7","Endosulfan (alpha-beta) ","nc, v",{"$f":"'RBC Reference Table'!E59","v":380},{"$f":"'RBC Reference Table'!F59","v":">Csat"},{"$f":"'RBC Reference Table'!G59","v":760},{"$f":"'RBC Reference Table'!H59","v":">Csat"},{"$f":"'RBC Reference Table'!I59","v":4900},{"$f":"'RBC Reference Table'!J59","v":">Csat"},{"$f":"'RBC Reference Table'!K59","v":1600},{"$f":"'RBC Reference Table'!L59","v":">Csat"},{"$f":"'RBC Reference Table'!M59","v":45000},{"$f":"'RBC Reference Table'!N59","v":">Csat"},{"$f":"'RBC Reference Table'!O59","v":"-"},{"$f":"'RBC Reference Table'!P59","v":">Max"},{"$f":"'RBC Reference Table'!Q59","v":"-"},{"$f":"'RBC Reference Table'!R59","v":">Max"},{"$f":"'RBC Reference Table'!S59","v":"-"},{"$f":"'RBC Reference Table'!T59","v":">Max"},{"$f":"'RBC Reference Table'!U59","v":"-"},{"$f":"'RBC Reference Table'!V59","v":">Max"},{"$f":"'RBC Reference Table'!W59","v":"-"},{"$f":"'RBC Reference Table'!X59","v":">Max"},{"$f":"'RBC Reference Table'!Y59","v":"-"},{"$f":"'RBC Reference Table'!Z59","v":">Max"},{"$f":"'RBC Reference Table'!AA59","v":"-"},{"$f":"'RBC Reference Table'!AB59","v":">Csat"},{"$f":"'RBC Reference Table'!AC59","v":"-"},{"$f":"'RBC Reference Table'!AD59","v":">Csat"},{"$f":"'RBC Reference Table'!AE59","v":"-"},{"$f":"'RBC Reference Table'!AF59","v":">Csat"},{"$f":"'RBC Reference Table'!AG59","v":98},{"$f":"'RBC Reference Table'!AH59","v":0},{"$f":"'RBC Reference Table'!AI59","v":"-"},{"$f":"'RBC Reference Table'!AJ59","v":">S"},{"$f":"'RBC Reference Table'!AK59","v":"-"},{"$f":"'RBC Reference Table'!AL59","v":">S"},{"$f":"'RBC Reference Table'!AM59","v":"-"},{"$f":"'RBC Reference Table'!AN59","v":">S"},{"$f":"'RBC Reference Table'!AO59","v":"-"},{"$f":"'RBC Reference Table'!AP59","v":">S"},{"$f":"'RBC Reference Table'!AQ59","v":"-"},{"$f":"'RBC Reference Table'!AR59","v":">S"},{"$f":"'RBC Reference Table'!AS59","v":"-"},{"$f":"'RBC Reference Table'!AT59","v":">S"},{"$f":"'RBC Reference Table'!AU59","v":"-"},{"$f":"'RBC Reference Table'!AV59","v":">S"},{"$f":"'RBC Reference Table'!AW59","v":"-"},{"$f":"'RBC Reference Table'!AX59","v":">S"},{"$f":"'RBC Reference Table'!AY59","v":"-"},{"$f":"'RBC Reference Table'!AZ59","v":">S"},{"$f":"'RBC Reference Table'!BA59","v":"-"},{"$f":"'RBC Reference Table'!BB59","v":">Pv"},{"$f":"'RBC Reference Table'!BC59","v":"-"},{"$f":"'RBC Reference Table'!BD59","v":">Pv"},{"$f":"'RBC Reference Table'!BE59","v":"-"},{"$f":"'RBC Reference Table'!BF59","v":">Pv"},{"$f":"'RBC Reference Table'!BG59","v":"-"},{"$f":"'RBC Reference Table'!BH59","v":">Pv"},{"$f":"'RBC Reference Table'!BI59","v":"-"},{"$f":"'RBC Reference Table'!BJ59","v":">Pv"},{"$f":"'RBC Reference Table'!BK59","v":"-"},{"$f":"'RBC Reference Table'!BL59","v":">Pv"},0,0,0,0,0,0,0,0,0,0,0,0,0,0,0,0,0,0,0,0,0,0,0,0,0,0,0,0,0,0]
[{"$f":"VLOOKUP(H99,'RBC Reference Table'!$B$8:$C$101,2,FALSE)","v":53},null,null,null,null,null,"72-20-8","Endrin","nc, nv",{"$f":"'RBC Reference Table'!E60","v":19},{"$f":"'RBC Reference Table'!F60","v":">Csat"},{"$f":"'RBC Reference Table'!G60","v":38},{"$f":"'RBC Reference Table'!H60","v":">Csat"},{"$f":"'RBC Reference Table'!I60","v":250},{"$f":"'RBC Reference Table'!J60","v":">Csat"},{"$f":"'RBC Reference Table'!K60","v":80},{"$f":"'RBC Reference Table'!L60","v":">Csat"},{"$f":"'RBC Reference Table'!M60","v":2200},{"$f":"'RBC Reference Table'!N60","v":">Csat"},{"$f":"'RBC Reference Table'!O60","v":"-"},{"$f":"'RBC Reference Table'!P60","v":"NV"},{"$f":"'RBC Reference Table'!Q60","v":"-"},{"$f":"'RBC Reference Table'!R60","v":"NV"},{"$f":"'RBC Reference Table'!S60","v":"-"},{"$f":"'RBC Reference Table'!T60","v":"NV"},{"$f":"'RBC Reference Table'!U60","v":"-"},{"$f":"'RBC Reference Table'!V60","v":"NV"},{"$f":"'RBC Reference Table'!W60","v":"-"},{"$f":"'RBC Reference Table'!X60","v":"NV"},{"$f":"'RBC Reference Table'!Y60","v":"-"},{"$f":"'RBC Reference Table'!Z60","v":"NV"},{"$f":"'RBC Reference Table'!AA60","v":11},{"$f":"'RBC Reference Table'!AB60","v":0},{"$f":"'RBC Reference Table'!AC60","v":"-"},{"$f":"'RBC Reference Table'!AD60","v":">Csat"},{"$f":"'RBC Reference Table'!AE60","v":"-"},{"$f":"'RBC Reference Table'!AF60","v":">Csat"},{"$f":"'RBC Reference Table'!AG60","v":1.9},{"$f":"'RBC Reference Table'!AH60","v":0},{"$f":"'RBC Reference Table'!AI60","v":9.5},{"$f":"'RBC Reference Table'!AJ60","v":0},{"$f":"'RBC Reference Table'!AK60","v":8.6},{"$f":"'RBC Reference Table'!AL60","v":0},{"$f":"'RBC Reference Table'!AM60","v":"-"},{"$f":"'RBC Reference Table'!AN60","v":"NV"},{"$f":"'RBC Reference Table'!AO60","v":"-"},{"$f":"'RBC Reference Table'!AP60","v":"NV"},{"$f":"'RBC Reference Table'!AQ60","v":"-"},{"$f":"'RBC Reference Table'!AR60","v":"NV"},{"$f":"'RBC Reference Table'!AS60","v":"-"},{"$f":"'RBC Reference Table'!AT60","v":"NV"},{"$f":"'RBC Reference Table'!AU60","v":"-"},{"$f":"'RBC Reference Table'!AV60","v":"NV"},{"$f":"'RBC Reference Table'!AW60","v":"-"},{"$f":"'RBC Reference Table'!AX60","v":"NV"},{"$f":"'RBC Reference Table'!AY60","v":170},{"$f":"'RBC Reference Table'!AZ60","v":0},{"$f":"'RBC Reference Table'!BA60","v":"-"},{"$f":"'RBC Reference Table'!BB60","v":"NV"},{"$f":"'RBC Reference Table'!BC60","v":"-"},{"$f":"'RBC Reference Table'!BD60","v":"NV"},{"$f":"'RBC Reference Table'!BE60","v":"-"},{"$f":"'RBC Reference Table'!BF60","v":"NV"},{"$f":"'RBC Reference Table'!BG60","v":"-"},{"$f":"'RBC Reference Table'!BH60","v":">Pv"},{"$f":"'RBC Reference Table'!BI60","v":"-"},{"$f":"'RBC Reference Table'!BJ60","v":">Pv"},{"$f":"'RBC Reference Table'!BK60","v":"-"},{"$f":"'RBC Reference Table'!BL60","v":">Pv"},0,0,0,0,0,0,0,0,0,0,0,0,0,0,0,0,0,0,0,0,0,0,0,0,0,0,0,0,0,0]
[{"$f":"VLOOKUP(H100,'RBC Reference Table'!$B$8:$C$101,2,FALSE)","v":58},null,null,null,null,null,"76-44-8","Heptachlor","c, v",{"$f":"'RBC Reference Table'!E65","v":0.11},{"$f":"'RBC Reference Table'!F65","v":0},{"$f":"'RBC Reference Table'!G65","v":0.28000000000000003},{"$f":"'RBC Reference Table'!H65","v":0},{"$f":"'RBC Reference Table'!I65","v":0.45},{"$f":"'RBC Reference Table'!J65","v":0},{"$f":"'RBC Reference Table'!K65","v":4},{"$f":"'RBC Reference Table'!L65","v":0},{"$f":"'RBC Reference Table'!M65","v":110},{"$f":"'RBC Reference Table'!N65","v":0},{"$f":"'RBC Reference Table'!O65","v":18},{"$f":"'RBC Reference Table'!P65","v":0},{"$f":"'RBC Reference Table'!Q65","v":42},{"$f":"'RBC Reference Table'!R65","v":0},{"$f":"'RBC Reference Table'!S65","v":230},{"$f":"'RBC Reference Table'!T65","v":0},{"$f":"'RBC Reference Table'!U65","v":18},{"$f":"'RBC Reference Table'!V65","v":0},{"$f":"'RBC Reference Table'!W65","v":42},{"$f":"'RBC Reference Table'!X65","v":0},{"$f":"'RBC Reference Table'!Y65","v":230},{"$f":"'RBC Reference Table'!Z65","v":0},{"$f":"'RBC Reference Table'!AA65","v":1.7000000000000001E-2},{"$f":"'RBC Reference Table'!AB65","v":0},{"$f":"'RBC Reference Table'!AC65","v":6.3E-2},{"$f":"'RBC Reference Table'!AD65","v":0},{"$f":"'RBC Reference Table'!AE65","v":4.8000000000000001E-2},{"$f":"'RBC Reference Table'!AF65","v":0},{"$f":"'RBC Reference Table'!AG65","v":1.4E-3},{"$f":"'RBC Reference Table'!AH65","v":0},{"$f":"'RBC Reference Table'!AI65","v":5.1000000000000004E-3},{"$f":"'RBC Reference Table'!AJ65","v":0},{"$f":"'RBC Reference Table'!AK65","v":3.8999999999999998E-3},{"$f":"'RBC Reference Table'!AL65","v":0},{"$f":"'RBC Reference Table'!AM65","v":"-"},{"$f":"'RBC Reference Table'!AN65","v":">S"},{"$f":"'RBC Reference Table'!AO65","v":"-"},{"$f":"'RBC Reference Table'!AP65","v":">S"},{"$f":"'RBC Reference Table'!AQ65","v":"-"},{"$f":"'RBC Reference Table'!AR65","v":">S"},{"$f":"'RBC Reference Table'!AS65","v":88},{"$f":"'RBC Reference Table'!AT65","v":0},{"$f":"'RBC Reference Table'!AU65","v":"-"},{"$f":"'RBC Reference Table'!AV65","v":">S"},{"$f":"'RBC Reference Table'!AW65","v":"-"},{"$f":"'RBC Reference Table'!AX65","v":">S"},{"$f":"'RBC Reference Table'!AY65","v":1.8},{"$f":"'RBC Reference Table'!AZ65","v":0},{"$f":"'RBC Reference Table'!BA65","v":0.43},{"$f":"'RBC Reference Table'!BB65","v":0},{"$f":"'RBC Reference Table'!BC65","v":1},{"$f":"'RBC Reference Table'!BD65","v":0},{"$f":"'RBC Reference Table'!BE65","v":9.4},{"$f":"'RBC Reference Table'!BF65","v":0},{"$f":"'RBC Reference Table'!BG65","v":2.2000000000000001E-3},{"$f":"'RBC Reference Table'!BH65","v":0},{"$f":"'RBC Reference Table'!BI65","v":5.1000000000000004E-3},{"$f":"'RBC Reference Table'!BJ65","v":0},{"$f":"'RBC Reference Table'!BK65","v":9.4000000000000004E-3},{"$f":"'RBC Reference Table'!BL65","v":0},0,0,0,0,0,0,0,0,0,0,0,0,0,0,0,0,0,0,0,0,0,0,0,0,0,0,0,0,0,0]
[{"$f":"VLOOKUP(H101,'RBC Reference Table'!$B$8:$C$101,2,FALSE)","v":59},null,null,null,null,null,"1024-57-3","Heptachlor Epoxide","c, v",{"$f":"'RBC Reference Table'!E66","v":5.5E-2},{"$f":"'RBC Reference Table'!F66","v":0},{"$f":"'RBC Reference Table'!G66","v":0.14000000000000001},{"$f":"'RBC Reference Table'!H66","v":0},{"$f":"'RBC Reference Table'!I66","v":0.24},{"$f":"'RBC Reference Table'!J66","v":0},{"$f":"'RBC Reference Table'!K66","v":2},{"$f":"'RBC Reference Table'!L66","v":0},{"$f":"'RBC Reference Table'!M66","v":56},{"$f":"'RBC Reference Table'!N66","v":0},{"$f":"'RBC Reference Table'!O66","v":28},{"$f":"'RBC Reference Table'!P66","v":0},{"$f":"'RBC Reference Table'!Q66","v":66},{"$f":"'RBC Reference Table'!R66","v":0},{"$f":"'RBC Reference Table'!S66","v":"-"},{"$f":"'RBC Reference Table'!T66","v":">Csat"},{"$f":"'RBC Reference Table'!U66","v":28},{"$f":"'RBC Reference Table'!V66","v":0},{"$f":"'RBC Reference Table'!W66","v":66},{"$f":"'RBC Reference Table'!X66","v":0},{"$f":"'RBC Reference Table'!Y66","v":"-"},{"$f":"'RBC Reference Table'!Z66","v":">Csat"},{"$f":"'RBC Reference Table'!AA66","v":4.1999999999999997E-3},{"$f":"'RBC Reference Table'!AB66","v":0},{"$f":"'RBC Reference Table'!AC66","v":1.7999999999999999E-2},{"$f":"'RBC Reference Table'!AD66","v":0},{"$f":"'RBC Reference Table'!AE66","v":1.6E-2},{"$f":"'RBC Reference Table'!AF66","v":0},{"$f":"'RBC Reference Table'!AG66","v":1.4E-3},{"$f":"'RBC Reference Table'!AH66","v":0},{"$f":"'RBC Reference Table'!AI66","v":5.8999999999999999E-3},{"$f":"'RBC Reference Table'!AJ66","v":0},{"$f":"'RBC Reference Table'!AK66","v":5.3E-3},{"$f":"'RBC Reference Table'!AL66","v":0},{"$f":"'RBC Reference Table'!AM66","v":"-"},{"$f":"'RBC Reference Table'!AN66","v":">S"},{"$f":"'RBC Reference Table'!AO66","v":"-"},{"$f":"'RBC Reference Table'!AP66","v":">S"},{"$f":"'RBC Reference Table'!AQ66","v":"-"},{"$f":"'RBC Reference Table'!AR66","v":">S"},{"$f":"'RBC Reference Table'!AS66","v":"-"},{"$f":"'RBC Reference Table'!AT66","v":">S"},{"$f":"'RBC Reference Table'!AU66","v":"-"},{"$f":"'RBC Reference Table'!AV66","v":">S"},{"$f":"'RBC Reference Table'!AW66","v":"-"},{"$f":"'RBC Reference Table'!AX66","v":">S"},{"$f":"'RBC Reference Table'!AY66","v":3.2},{"$f":"'RBC Reference Table'!AZ66","v":0},{"$f":"'RBC Reference Table'!BA66","v":0.22},{"$f":"'RBC Reference Table'!BB66","v":0},{"$f":"'RBC Reference Table'!BC66","v":0.51},{"$f":"'RBC Reference Table'!BD66","v":0},{"$f":"'RBC Reference Table'!BE66","v":4.7},{"$f":"'RBC Reference Table'!BF66","v":0},{"$f":"'RBC Reference Table'!BG66","v":1.1000000000000001E-3},{"$f":"'RBC Reference Table'!BH66","v":0},{"$f":"'RBC Reference Table'!BI66","v":2.5999999999999999E-3},{"$f":"'RBC Reference Table'!BJ66","v":0},{"$f":"'RBC Reference Table'!BK66","v":4.7000000000000002E-3},{"$f":"'RBC Reference Table'!BL66","v":0},0,0,0,0,0,0,0,0,0,0,0,0,0,0,0,0,0,0,0,0,0,0,0,0,0,0,0,0,0,0]
[{"$f":"VLOOKUP(H102,'RBC Reference Table'!$B$8:$C$101,2,FALSE)","v":2},null,null,null,null,null,"107-13-1","Acrylonitrile","c, v",{"$f":"'RBC Reference Table'!E9","v":0.86},{"$f":"'RBC Reference Table'!F9","v":0},{"$f":"'RBC Reference Table'!G9","v":2.5},{"$f":"'RBC Reference Table'!H9","v":0},{"$f":"'RBC Reference Table'!I9","v":4},{"$f":"'RBC Reference Table'!J9","v":0},{"$f":"'RBC Reference Table'!K9","v":40},{"$f":"'RBC Reference Table'!L9","v":0},{"$f":"'RBC Reference Table'!M9","v":1100},{"$f":"'RBC Reference Table'!N9","v":0},{"$f":"'RBC Reference Table'!O9","v":1.3},{"$f":"'RBC Reference Table'!P9","v":0},{"$f":"'RBC Reference Table'!Q9","v":3.1},{"$f":"'RBC Reference Table'!R9","v":0},{"$f":"'RBC Reference Table'!S9","v":5.8},{"$f":"'RBC Reference Table'!T9","v":0},{"$f":"'RBC Reference Table'!U9","v":7.9000000000000001E-2},{"$f":"'RBC Reference Table'!V9","v":0},{"$f":"'RBC Reference Table'!W9","v":0.19},{"$f":"'RBC Reference Table'!X9","v":0},{"$f":"'RBC Reference Table'!Y9","v":1},{"$f":"'RBC Reference Table'!Z9","v":0},{"$f":"'RBC Reference Table'!AA9","v":3.6000000000000002E-4},{"$f":"'RBC Reference Table'!AB9","v":0},{"$f":"'RBC Reference Table'!AC9","v":1.6000000000000001E-3},{"$f":"'RBC Reference Table'!AD9","v":0},{"$f":"'RBC Reference Table'!AE9","v":1.6999999999999999E-3},{"$f":"'RBC Reference Table'!AF9","v":0},{"$f":"'RBC Reference Table'!AG9","v":5.1999999999999998E-2},{"$f":"'RBC Reference Table'!AH9","v":0},{"$f":"'RBC Reference Table'!AI9","v":0.23},{"$f":"'RBC Reference Table'!AJ9","v":0},{"$f":"'RBC Reference Table'!AK9","v":0.25},{"$f":"'RBC Reference Table'!AL9","v":0},{"$f":"'RBC Reference Table'!AM9","v":2200},{"$f":"'RBC Reference Table'!AN9","v":0},{"$f":"'RBC Reference Table'!AO9","v":5300},{"$f":"'RBC Reference Table'!AP9","v":0},{"$f":"'RBC Reference Table'!AQ9","v":9800},{"$f":"'RBC Reference Table'!AR9","v":0},{"$f":"'RBC Reference Table'!AS9","v":700},{"$f":"'RBC Reference Table'!AT9","v":0},{"$f":"'RBC Reference Table'!AU9","v":1700},{"$f":"'RBC Reference Table'!AV9","v":0},{"$f":"'RBC Reference Table'!AW9","v":9200},{"$f":"'RBC Reference Table'!AX9","v":0},{"$f":"'RBC Reference Table'!AY9","v":250},{"$f":"'RBC Reference Table'!AZ9","v":0},{"$f":"'RBC Reference Table'!BA9","v":8.3000000000000007},{"$f":"'RBC Reference Table'!BB9","v":0},{"$f":"'RBC Reference Table'!BC9","v":20},{"$f":"'RBC Reference Table'!BD9","v":0},{"$f":"'RBC Reference Table'!BE9","v":180},{"$f":"'RBC Reference Table'!BF9","v":0},{"$f":"'RBC Reference Table'!BG9","v":4.1000000000000002E-2},{"$f":"'RBC Reference Table'!BH9","v":0},{"$f":"'RBC Reference Table'!BI9","v":9.8000000000000004E-2},{"$f":"'RBC Reference Table'!BJ9","v":0},{"$f":"'RBC Reference Table'!BK9","v":0.18},{"$f":"'RBC Reference Table'!BL9","v":0},{"$f":"IF($B102>J102,1,0)","v":0},{"$f":"IF($B102>L102,1,0)","v":0},{"$f":"IF($B102>N102,1,0)","v":0},{"$f":"IF(OR($C102>P102,B102>P102),1,0)","v":0},{"$f":"IF(OR($C102>R102,B102>R102),1,0)","v":0},{"$f":"IF(MAX($B102,$C102)>T102,1,0)","v":0},{"$f":"IF(MAX($B102,$C102)>V102,1,0)","v":0},{"$f":"IF(MAX($B102,$C102)>X102,1,0)","v":0},{"$f":"IF(MAX($B102,$C102)>Z102,1,0)","v":0},{"$f":"IF(MAX($B102,$C102)>AB102,1,0)","v":0},{"$f":"IF(MAX($B102,$C102)>AD102,1,0)","v":0},{"$f":"IF(MAX($B102,$C102)>AF102,1,0)","v":0},{"$f":"IF(MAX($B102,$C102)>AH102,1,0)","v":0},{"$f":"IF(MAX($B102,$C102)>AJ102,1,0)","v":0},{"$f":"IF($D102>AL102,1,0)","v":0},{"$f":"IF($D102>AN102,1,0)","v":0},{"$f":"IF($D102>AP102,1,0)","v":0},{"$f":"IF($D102>AR102,1,0)","v":0},{"$f":"IF($D102>AT102,1,0)","v":0},{"$f":"IF($D102>AV102,1,0)","v":0},{"$f":"IF($D102>AX102,1,0)","v":0},{"$f":"IF($D102>AZ102,1,0)","v":0},{"$f":"IF($D102>BB102,1,0)","v":0},{"$f":"IF($D102>BD102,1,0)","v":0},{"$f":"IF($E102>BF102,1,0)","v":0},{"$f":"IF($E102>BH102,1,0)","v":0},{"$f":"IF($E102>BJ102,1,0)","v":0},{"$f":"IF($F102>BL102,1,0)","v":0},{"$f":"IF($F102>BN102,1,0)","v":0},{"$f":"IF($F102>BP102,1,0)","v":0}]
[{"$f":"VLOOKUP(H103,'RBC Reference Table'!$B$8:$C$101,2,FALSE)","v":9},null,null,null,null,null,"92-87-5","Benzidine","c, nv",{"$f":"'RBC Reference Table'!E16","v":5.1999999999999995E-4},{"$f":"'RBC Reference Table'!F16","v":0},{"$f":"'RBC Reference Table'!G16","v":1.1999999999999999E-3},{"$f":"'RBC Reference Table'!H16","v":0},{"$f":"'RBC Reference Table'!I16","v":0.01},{"$f":"'RBC Reference Table'!J16","v":0},{"$f":"'RBC Reference Table'!K16","v":8.2000000000000003E-2},{"$f":"'RBC Reference Table'!L16","v":0},{"$f":"'RBC Reference Table'!M16","v":2.2999999999999998},{"$f":"'RBC Reference Table'!N16","v":0},{"$f":"'RBC Reference Table'!O16","v":"-"},{"$f":"'RBC Reference Table'!P16","v":"NV"},{"$f":"'RBC Reference Table'!Q16","v":"-"},{"$f":"'RBC Reference Table'!R16","v":"NV"},{"$f":"'RBC Reference Table'!S16","v":"-"},{"$f":"'RBC Reference Table'!T16","v":"NV"},{"$f":"'RBC Reference Table'!U16","v":"-"},{"$f":"'RBC Reference Table'!V16","v":"NV"},{"$f":"'RBC Reference Table'!W16","v":"-"},{"$f":"'RBC Reference Table'!X16","v":"NV"},{"$f":"'RBC Reference Table'!Y16","v":"-"},{"$f":"'RBC Reference Table'!Z16","v":"NV"},{"$f":"'RBC Reference Table'!AA16","v":3.8000000000000002E-5},{"$f":"'RBC Reference Table'!AB16","v":0},{"$f":"'RBC Reference Table'!AC16","v":1.2E-4},{"$f":"'RBC Reference Table'!AD16","v":0},{"$f":"'RBC Reference Table'!AE16","v":6.9999999999999999E-4},{"$f":"'RBC Reference Table'!AF16","v":0},{"$f":"'RBC Reference Table'!AG16","v":1.1E-4},{"$f":"'RBC Reference Table'!AH16","v":0},{"$f":"'RBC Reference Table'!AI16","v":3.4000000000000002E-4},{"$f":"'RBC Reference Table'!AJ16","v":0},{"$f":"'RBC Reference Table'!AK16","v":1.9E-3},{"$f":"'RBC Reference Table'!AL16","v":0},{"$f":"'RBC Reference Table'!AM16","v":"-"},{"$f":"'RBC Reference Table'!AN16","v":"NV"},{"$f":"'RBC Reference Table'!AO16","v":"-"},{"$f":"'RBC Reference Table'!AP16","v":"NV"},{"$f":"'RBC Reference Table'!AQ16","v":"-"},{"$f":"'RBC Reference Table'!AR16","v":"NV"},{"$f":"'RBC Reference Table'!AS16","v":"-"},{"$f":"'RBC Reference Table'!AT16","v":"NV"},{"$f":"'RBC Reference Table'!AU16","v":"-"},{"$f":"'RBC Reference Table'!AV16","v":"NV"},{"$f":"'RBC Reference Table'!AW16","v":"-"},{"$f":"'RBC Reference Table'!AX16","v":"NV"},{"$f":"'RBC Reference Table'!AY16","v":17},{"$f":"'RBC Reference Table'!AZ16","v":0},{"$f":"'RBC Reference Table'!BA16","v":"-"},{"$f":"'RBC Reference Table'!BB16","v":"NV"},{"$f":"'RBC Reference Table'!BC16","v":"-"},{"$f":"'RBC Reference Table'!BD16","v":"NV"},{"$f":"'RBC Reference Table'!BE16","v":"-"},{"$f":"'RBC Reference Table'!BF16","v":"NV"},{"$f":"'RBC Reference Table'!BG16","v":1.5E-5},{"$f":"'RBC Reference Table'!BH16","v":0},{"$f":"'RBC Reference Table'!BI16","v":2.9E-5},{"$f":"'RBC Reference Table'!BJ16","v":0},{"$f":"'RBC Reference Table'!BK16","v":1.8000000000000001E-4},{"$f":"'RBC Reference Table'!BL16","v":0},{"$f":"IF($B103>J103,1,0)","v":0},{"$f":"IF($B103>L103,1,0)","v":0},{"$f":"IF($B103>N103,1,0)","v":0},0,0,{"$f":"IF(MAX($B103,$C103)>T103,1,0)","v":0},{"$f":"IF(MAX($B103,$C103)>V103,1,0)","v":0},{"$f":"IF(MAX($B103,$C103)>X103,1,0)","v":0},{"$f":"IF(MAX($B103,$C103)>Z103,1,0)","v":0},{"$f":"IF(MAX($B103,$C103)>AB103,1,0)","v":0},{"$f":"IF(MAX($B103,$C103)>AD103,1,0)","v":0},{"$f":"IF(MAX($B103,$C103)>AF103,1,0)","v":0},{"$f":"IF(MAX($B103,$C103)>AH103,1,0)","v":0},{"$f":"IF(MAX($B103,$C103)>AJ103,1,0)","v":0},0,0,0,0,0,0,0,0,0,0,0,0,0,0,0,0]
[{"$f":"VLOOKUP(H104,'RBC Reference Table'!$B$8:$C$101,2,FALSE)","v":14},null,null,null,null,null,"117-81-7","Bis(2-ethylhexyl)phthalate","c, nv",{"$f":"'RBC Reference Table'!E21","v":39},{"$f":"'RBC Reference Table'!F21","v":0},{"$f":"'RBC Reference Table'!G21","v":97},{"$f":"'RBC Reference Table'!H21","v":0},{"$f":"'RBC Reference Table'!I21","v":160},{"$f":"'RBC Reference Table'!J21","v":">Csat"},{"$f":"'RBC Reference Table'!K21","v":1300},{"$f":"'RBC Reference Table'!L21","v":">Csat"},{"$f":"'RBC Reference Table'!M21","v":37000},{"$f":"'RBC Reference Table'!N21","v":">Csat"},{"$f":"'RBC Reference Table'!O21","v":"-"},{"$f":"'RBC Reference Table'!P21","v":"NV"},{"$f":"'RBC Reference Table'!Q21","v":"-"},{"$f":"'RBC Reference Table'!R21","v":"NV"},{"$f":"'RBC Reference Table'!S21","v":"-"},{"$f":"'RBC Reference Table'!T21","v":"NV"},{"$f":"'RBC Reference Table'!U21","v":"-"},{"$f":"'RBC Reference Table'!V21","v":"NV"},{"$f":"'RBC Reference Table'!W21","v":"-"},{"$f":"'RBC Reference Table'!X21","v":"NV"},{"$f":"'RBC Reference Table'!Y21","v":"-"},{"$f":"'RBC Reference Table'!Z21","v":"NV"},{"$f":"'RBC Reference Table'!AA21","v":"-"},{"$f":"'RBC Reference Table'!AB21","v":">Csat"},{"$f":"'RBC Reference Table'!AC21","v":"-"},{"$f":"'RBC Reference Table'!AD21","v":">Csat"},{"$f":"'RBC Reference Table'!AE21","v":"-"},{"$f":"'RBC Reference Table'!AF21","v":">Csat"},{"$f":"'RBC Reference Table'!AG21","v":5.6},{"$f":"'RBC Reference Table'!AH21","v":0},{"$f":"'RBC Reference Table'!AI21","v":22},{"$f":"'RBC Reference Table'!AJ21","v":0},{"$f":"'RBC Reference Table'!AK21","v":33},{"$f":"'RBC Reference Table'!AL21","v":0},{"$f":"'RBC Reference Table'!AM21","v":"-"},{"$f":"'RBC Reference Table'!AN21","v":"NV"},{"$f":"'RBC Reference Table'!AO21","v":"-"},{"$f":"'RBC Reference Table'!AP21","v":"NV"},{"$f":"'RBC Reference Table'!AQ21","v":"-"},{"$f":"'RBC Reference Table'!AR21","v":"NV"},{"$f":"'RBC Reference Table'!AS21","v":"-"},{"$f":"'RBC Reference Table'!AT21","v":"NV"},{"$f":"'RBC Reference Table'!AU21","v":"-"},{"$f":"'RBC Reference Table'!AV21","v":"NV"},{"$f":"'RBC Reference Table'!AW21","v":"-"},{"$f":"'RBC Reference Table'!AX21","v":"NV"},{"$f":"'RBC Reference Table'!AY21","v":"-"},{"$f":"'RBC Reference Table'!AZ21","v":">S"},{"$f":"'RBC Reference Table'!BA21","v":"-"},{"$f":"'RBC Reference Table'!BB21","v":"NV"},{"$f":"'RBC Reference Table'!BC21","v":"-"},{"$f":"'RBC Reference Table'!BD21","v":"NV"},{"$f":"'RBC Reference Table'!BE21","v":"-"},{"$f":"'RBC Reference Table'!BF21","v":"NV"},{"$f":"'RBC Reference Table'!BG21","v":"-"},{"$f":"'RBC Reference Table'!BH21","v":">Pv"},{"$f":"'RBC Reference Table'!BI21","v":"-"},{"$f":"'RBC Reference Table'!BJ21","v":">Pv"},{"$f":"'RBC Reference Table'!BK21","v":"-"},{"$f":"'RBC Reference Table'!BL21","v":">Pv"},{"$f":"IF($B104>J104,1,0)","v":0},{"$f":"IF($B104>L104,1,0)","v":0},{"$f":"IF($B104>N104,1,0)","v":0},{"$f":"IF(OR($C104>P104,B104>P104),1,0)","v":0},{"$f":"IF(OR($C104>R104,B104>R104),1,0)","v":0},{"$f":"IF(MAX($B104,$C104)>T104,1,0)","v":0},{"$f":"IF(MAX($B104,$C104)>V104,1,0)","v":0},{"$f":"IF(MAX($B104,$C104)>X104,1,0)","v":0},{"$f":"IF(MAX($B104,$C104)>Z104,1,0)","v":0},{"$f":"IF(MAX($B104,$C104)>AB104,1,0)","v":0},{"$f":"IF(MAX($B104,$C104)>AD104,1,0)","v":0},{"$f":"IF(MAX($B104,$C104)>AF104,1,0)","v":0},{"$f":"IF(MAX($B104,$C104)>AH104,1,0)","v":0},{"$f":"IF(MAX($B104,$C104)>AJ104,1,0)","v":0},0,0,0,0,0,0,0,0,0,0,0,0,0,0,0,0]
[{"$f":"VLOOKUP(H105,'RBC Reference Table'!$B$8:$C$101,2,FALSE)","v":15},null,null,null,null,null,"75-27-4","Bromodichloromethane","c, v",{"$f":"'RBC Reference Table'!E22","v":3.4},{"$f":"'RBC Reference Table'!F22","v":0},{"$f":"'RBC Reference Table'!G22","v":12},{"$f":"'RBC Reference Table'!H22","v":0},{"$f":"'RBC Reference Table'!I22","v":15},{"$f":"'RBC Reference Table'!J22","v":0},{"$f":"'RBC Reference Table'!K22","v":230},{"$f":"'RBC Reference Table'!L22","v":0},{"$f":"'RBC Reference Table'!M22","v":6300},{"$f":"'RBC Reference Table'!N22","v":">Csat"},{"$f":"'RBC Reference Table'!O22","v":2.4},{"$f":"'RBC Reference Table'!P22","v":0},{"$f":"'RBC Reference Table'!Q22","v":5.7},{"$f":"'RBC Reference Table'!R22","v":0},{"$f":"'RBC Reference Table'!S22","v":11},{"$f":"'RBC Reference Table'!T22","v":0},{"$f":"'RBC Reference Table'!U22","v":4.1000000000000002E-2},{"$f":"'RBC Reference Table'!V22","v":0},{"$f":"'RBC Reference Table'!W22","v":9.6000000000000002E-2},{"$f":"'RBC Reference Table'!X22","v":0},{"$f":"'RBC Reference Table'!Y22","v":0.53},{"$f":"'RBC Reference Table'!Z22","v":0},{"$f":"'RBC Reference Table'!AA22","v":2E-3},{"$f":"'RBC Reference Table'!AB22","v":0},{"$f":"'RBC Reference Table'!AC22","v":9.1000000000000004E-3},{"$f":"'RBC Reference Table'!AD22","v":0},{"$f":"'RBC Reference Table'!AE22","v":8.8000000000000005E-3},{"$f":"'RBC Reference Table'!AF22","v":0},{"$f":"'RBC Reference Table'!AG22","v":0.13},{"$f":"'RBC Reference Table'!AH22","v":0},{"$f":"'RBC Reference Table'!AI22","v":0.62},{"$f":"'RBC Reference Table'!AJ22","v":0},{"$f":"'RBC Reference Table'!AK22","v":0.6},{"$f":"'RBC Reference Table'!AL22","v":0},{"$f":"'RBC Reference Table'!AM22","v":1400},{"$f":"'RBC Reference Table'!AN22","v":0},{"$f":"'RBC Reference Table'!AO22","v":3200},{"$f":"'RBC Reference Table'!AP22","v":0},{"$f":"'RBC Reference Table'!AQ22","v":6000},{"$f":"'RBC Reference Table'!AR22","v":0},{"$f":"'RBC Reference Table'!AS22","v":180},{"$f":"'RBC Reference Table'!AT22","v":0},{"$f":"'RBC Reference Table'!AU22","v":420},{"$f":"'RBC Reference Table'!AV22","v":0},{"$f":"'RBC Reference Table'!AW22","v":2300},{"$f":"'RBC Reference Table'!AX22","v":0},{"$f":"'RBC Reference Table'!AY22","v":450},{"$f":"'RBC Reference Table'!AZ22","v":0},{"$f":"'RBC Reference Table'!BA22","v":15},{"$f":"'RBC Reference Table'!BB22","v":0},{"$f":"'RBC Reference Table'!BC22","v":36},{"$f":"'RBC Reference Table'!BD22","v":0},{"$f":"'RBC Reference Table'!BE22","v":330},{"$f":"'RBC Reference Table'!BF22","v":0},{"$f":"'RBC Reference Table'!BG22","v":7.5999999999999998E-2},{"$f":"'RBC Reference Table'!BH22","v":0},{"$f":"'RBC Reference Table'!BI22","v":0.18},{"$f":"'RBC Reference Table'!BJ22","v":0},{"$f":"'RBC Reference Table'!BK22","v":0.33},{"$f":"'RBC Reference Table'!BL22","v":0},0,0,0,0,0,0,0,0,0,0,0,0,0,0,0,0,0,0,0,0,0,0,0,0,0,0,0,0,0,0]
[{"$f":"VLOOKUP(H106,'RBC Reference Table'!$B$8:$C$101,2,FALSE)","v":16},null,null,null,null,null,"75-25-2","Bromoform","c, v",{"$f":"'RBC Reference Table'!E23","v":57},{"$f":"'RBC Reference Table'!F23","v":0},{"$f":"'RBC Reference Table'!G23","v":170},{"$f":"'RBC Reference Table'!H23","v":0},{"$f":"'RBC Reference Table'!I23","v":260},{"$f":"'RBC Reference Table'!J23","v":0},{"$f":"'RBC Reference Table'!K23","v":2700},{"$f":"'RBC Reference Table'!L23","v":">Csat"},{"$f":"'RBC Reference Table'!M23","v":74000},{"$f":"'RBC Reference Table'!N23","v":">Csat"},{"$f":"'RBC Reference Table'!O23","v":81},{"$f":"'RBC Reference Table'!P23","v":0},{"$f":"'RBC Reference Table'!Q23","v":190},{"$f":"'RBC Reference Table'!R23","v":0},{"$f":"'RBC Reference Table'!S23","v":360},{"$f":"'RBC Reference Table'!T23","v":0},{"$f":"'RBC Reference Table'!U23","v":8.1999999999999993},{"$f":"'RBC Reference Table'!V23","v":0},{"$f":"'RBC Reference Table'!W23","v":19},{"$f":"'RBC Reference Table'!X23","v":0},{"$f":"'RBC Reference Table'!Y23","v":110},{"$f":"'RBC Reference Table'!Z23","v":0},{"$f":"'RBC Reference Table'!AA23","v":4.5999999999999999E-2},{"$f":"'RBC Reference Table'!AB23","v":0},{"$f":"'RBC Reference Table'!AC23","v":0.2},{"$f":"'RBC Reference Table'!AD23","v":0},{"$f":"'RBC Reference Table'!AE23","v":0.22},{"$f":"'RBC Reference Table'!AF23","v":0},{"$f":"'RBC Reference Table'!AG23","v":3.3},{"$f":"'RBC Reference Table'!AH23","v":0},{"$f":"'RBC Reference Table'!AI23","v":15},{"$f":"'RBC Reference Table'!AJ23","v":0},{"$f":"'RBC Reference Table'!AK23","v":16},{"$f":"'RBC Reference Table'!AL23","v":0},{"$f":"'RBC Reference Table'!AM23","v":130000},{"$f":"'RBC Reference Table'!AN23","v":0},{"$f":"'RBC Reference Table'!AO23","v":300000},{"$f":"'RBC Reference Table'!AP23","v":0},{"$f":"'RBC Reference Table'!AQ23","v":550000},{"$f":"'RBC Reference Table'!AR23","v":0},{"$f":"'RBC Reference Table'!AS23","v":36000},{"$f":"'RBC Reference Table'!AT23","v":0},{"$f":"'RBC Reference Table'!AU23","v":85000},{"$f":"'RBC Reference Table'!AV23","v":0},{"$f":"'RBC Reference Table'!AW23","v":470000},{"$f":"'RBC Reference Table'!AX23","v":0},{"$f":"'RBC Reference Table'!AY23","v":14000},{"$f":"'RBC Reference Table'!AZ23","v":0},{"$f":"'RBC Reference Table'!BA23","v":510},{"$f":"'RBC Reference Table'!BB23","v":0},{"$f":"'RBC Reference Table'!BC23","v":1200},{"$f":"'RBC Reference Table'!BD23","v":0},{"$f":"'RBC Reference Table'!BE23","v":11000},{"$f":"'RBC Reference Table'!BF23","v":0},{"$f":"'RBC Reference Table'!BG23","v":2.6},{"$f":"'RBC Reference Table'!BH23","v":0},{"$f":"'RBC Reference Table'!BI23","v":6},{"$f":"'RBC Reference Table'!BJ23","v":0},{"$f":"'RBC Reference Table'!BK23","v":11},{"$f":"'RBC Reference Table'!BL23","v":0},0,0,0,0,0,0,0,0,0,0,0,0,0,0,0,0,0,0,0,0,0,0,0,0,0,0,0,0,0,0]
[{"$f":"VLOOKUP(H107,'RBC Reference Table'!$B$8:$C$101,2,FALSE)","v":17},null,null,null,null,null,"74-83-9","Bromomethane","nc, v",{"$f":"'RBC Reference Table'!E24","v":46},{"$f":"'RBC Reference Table'!F24","v":0},{"$f":"'RBC Reference Table'!G24","v":92},{"$f":"'RBC Reference Table'!H24","v":0},{"$f":"'RBC Reference Table'!I24","v":750},{"$f":"'RBC Reference Table'!J24","v":0},{"$f":"'RBC Reference Table'!K24","v":370},{"$f":"'RBC Reference Table'!L24","v":0},{"$f":"'RBC Reference Table'!M24","v":10000},{"$f":"'RBC Reference Table'!N24","v":">Csat"},{"$f":"'RBC Reference Table'!O24","v":170},{"$f":"'RBC Reference Table'!P24","v":0},{"$f":"'RBC Reference Table'!Q24","v":170},{"$f":"'RBC Reference Table'!R24","v":0},{"$f":"'RBC Reference Table'!S24","v":700},{"$f":"'RBC Reference Table'!T24","v":0},{"$f":"'RBC Reference Table'!U24","v":1.3},{"$f":"'RBC Reference Table'!V24","v":0},{"$f":"'RBC Reference Table'!W24","v":1.3},{"$f":"'RBC Reference Table'!X24","v":0},{"$f":"'RBC Reference Table'!Y24","v":17},{"$f":"'RBC Reference Table'!Z24","v":0},{"$f":"'RBC Reference Table'!AA24","v":8.3000000000000004E-2},{"$f":"'RBC Reference Table'!AB24","v":0},{"$f":"'RBC Reference Table'!AC24","v":0.3},{"$f":"'RBC Reference Table'!AD24","v":0},{"$f":"'RBC Reference Table'!AE24","v":0.4},{"$f":"'RBC Reference Table'!AF24","v":0},{"$f":"'RBC Reference Table'!AG24","v":7.5},{"$f":"'RBC Reference Table'!AH24","v":0},{"$f":"'RBC Reference Table'!AI24","v":28},{"$f":"'RBC Reference Table'!AJ24","v":0},{"$f":"'RBC Reference Table'!AK24","v":36},{"$f":"'RBC Reference Table'!AL24","v":0},{"$f":"'RBC Reference Table'!AM24","v":32000},{"$f":"'RBC Reference Table'!AN24","v":0},{"$f":"'RBC Reference Table'!AO24","v":32000},{"$f":"'RBC Reference Table'!AP24","v":0},{"$f":"'RBC Reference Table'!AQ24","v":130000},{"$f":"'RBC Reference Table'!AR24","v":0},{"$f":"'RBC Reference Table'!AS24","v":2100},{"$f":"'RBC Reference Table'!AT24","v":0},{"$f":"'RBC Reference Table'!AU24","v":2100},{"$f":"'RBC Reference Table'!AV24","v":0},{"$f":"'RBC Reference Table'!AW24","v":27000},{"$f":"'RBC Reference Table'!AX24","v":0},{"$f":"'RBC Reference Table'!AY24","v":1200},{"$f":"'RBC Reference Table'!AZ24","v":0},{"$f":"'RBC Reference Table'!BA24","v":1000},{"$f":"'RBC Reference Table'!BB24","v":0},{"$f":"'RBC Reference Table'!BC24","v":1000},{"$f":"'RBC Reference Table'!BD24","v":0},{"$f":"'RBC Reference Table'!BE24","v":22000},{"$f":"'RBC Reference Table'!BF24","v":0},{"$f":"'RBC Reference Table'!BG24","v":5.2},{"$f":"'RBC Reference Table'!BH24","v":0},{"$f":"'RBC Reference Table'!BI24","v":5.2},{"$f":"'RBC Reference Table'!BJ24","v":0},{"$f":"'RBC Reference Table'!BK24","v":22},{"$f":"'RBC Reference Table'!BL24","v":0},0,0,0,0,0,0,0,0,0,0,0,0,0,0,0,0,0,0,0,0,0,0,0,0,0,0,0,0,0,0]
[{"$f":"VLOOKUP(H108,'RBC Reference Table'!$B$8:$C$101,2,FALSE)","v":19},null,null,null,null,null,"56-23-5","Carbon tetrachloride","c, v",{"$f":"'RBC Reference Table'!E26","v":7.5},{"$f":"'RBC Reference Table'!F26","v":0},{"$f":"'RBC Reference Table'!G26","v":21},{"$f":"'RBC Reference Table'!H26","v":0},{"$f":"'RBC Reference Table'!I26","v":34},{"$f":"'RBC Reference Table'!J26","v":0},{"$f":"'RBC Reference Table'!K26","v":320},{"$f":"'RBC Reference Table'!L26","v":0},{"$f":"'RBC Reference Table'!M26","v":8900},{"$f":"'RBC Reference Table'!N26","v":">Csat"},{"$f":"'RBC Reference Table'!O26","v":15},{"$f":"'RBC Reference Table'!P26","v":0},{"$f":"'RBC Reference Table'!Q26","v":35},{"$f":"'RBC Reference Table'!R26","v":0},{"$f":"'RBC Reference Table'!S26","v":65},{"$f":"'RBC Reference Table'!T26","v":0},{"$f":"'RBC Reference Table'!U26","v":0.12},{"$f":"'RBC Reference Table'!V26","v":0},{"$f":"'RBC Reference Table'!W26","v":0.28000000000000003},{"$f":"'RBC Reference Table'!X26","v":0},{"$f":"'RBC Reference Table'!Y26","v":1.6},{"$f":"'RBC Reference Table'!Z26","v":0},{"$f":"'RBC Reference Table'!AA26","v":1.2999999999999999E-2},{"$f":"'RBC Reference Table'!AB26","v":0},{"$f":"'RBC Reference Table'!AC26","v":5.5E-2},{"$f":"'RBC Reference Table'!AD26","v":0},{"$f":"'RBC Reference Table'!AE26","v":5.8000000000000003E-2},{"$f":"'RBC Reference Table'!AF26","v":0},{"$f":"'RBC Reference Table'!AG26","v":0.46},{"$f":"'RBC Reference Table'!AH26","v":0},{"$f":"'RBC Reference Table'!AI26","v":2},{"$f":"'RBC Reference Table'!AJ26","v":0},{"$f":"'RBC Reference Table'!AK26","v":2.1},{"$f":"'RBC Reference Table'!AL26","v":0},{"$f":"'RBC Reference Table'!AM26","v":1800},{"$f":"'RBC Reference Table'!AN26","v":0},{"$f":"'RBC Reference Table'!AO26","v":4200},{"$f":"'RBC Reference Table'!AP26","v":0},{"$f":"'RBC Reference Table'!AQ26","v":7700},{"$f":"'RBC Reference Table'!AR26","v":0},{"$f":"'RBC Reference Table'!AS26","v":92},{"$f":"'RBC Reference Table'!AT26","v":0},{"$f":"'RBC Reference Table'!AU26","v":220},{"$f":"'RBC Reference Table'!AV26","v":0},{"$f":"'RBC Reference Table'!AW26","v":1200},{"$f":"'RBC Reference Table'!AX26","v":0},{"$f":"'RBC Reference Table'!AY26","v":1800},{"$f":"'RBC Reference Table'!AZ26","v":0},{"$f":"'RBC Reference Table'!BA26","v":94},{"$f":"'RBC Reference Table'!BB26","v":0},{"$f":"'RBC Reference Table'!BC26","v":220},{"$f":"'RBC Reference Table'!BD26","v":0},{"$f":"'RBC Reference Table'!BE26","v":2000},{"$f":"'RBC Reference Table'!BF26","v":0},{"$f":"'RBC Reference Table'!BG26","v":0.47},{"$f":"'RBC Reference Table'!BH26","v":0},{"$f":"'RBC Reference Table'!BI26","v":1.1000000000000001},{"$f":"'RBC Reference Table'!BJ26","v":0},{"$f":"'RBC Reference Table'!BK26","v":2},{"$f":"'RBC Reference Table'!BL26","v":0},0,0,0,0,0,0,0,0,0,0,0,0,0,0,0,0,0,0,0,0,0,0,0,0,0,0,0,0,0,0]
[{"$f":"VLOOKUP(H109,'RBC Reference Table'!$B$8:$C$101,2,FALSE)","v":20},null,null,null,null,null,"108-90-7","Chlorobenzene","nc, v",{"$f":"'RBC Reference Table'!E27","v":530},{"$f":"'RBC Reference Table'!F27","v":0},{"$f":"'RBC Reference Table'!G27","v":1100},{"$f":"'RBC Reference Table'!H27","v":">Csat"},{"$f":"'RBC Reference Table'!I27","v":8700},{"$f":"'RBC Reference Table'!J27","v":">Csat"},{"$f":"'RBC Reference Table'!K27","v":4700},{"$f":"'RBC Reference Table'!L27","v":">Csat"},{"$f":"'RBC Reference Table'!M27","v":130000},{"$f":"'RBC Reference Table'!N27","v":">Csat"},{"$f":"'RBC Reference Table'!O27","v":"-"},{"$f":"'RBC Reference Table'!P27","v":">Csat"},{"$f":"'RBC Reference Table'!Q27","v":"-"},{"$f":"'RBC Reference Table'!R27","v":">Csat"},{"$f":"'RBC Reference Table'!S27","v":"-"},{"$f":"'RBC Reference Table'!T27","v":">Csat"},{"$f":"'RBC Reference Table'!U27","v":77},{"$f":"'RBC Reference Table'!V27","v":0},{"$f":"'RBC Reference Table'!W27","v":77},{"$f":"'RBC Reference Table'!X27","v":0},{"$f":"'RBC Reference Table'!Y27","v":"-"},{"$f":"'RBC Reference Table'!Z27","v":">Csat"},{"$f":"'RBC Reference Table'!AA27","v":5.8},{"$f":"'RBC Reference Table'!AB27","v":0},{"$f":"'RBC Reference Table'!AC27","v":22},{"$f":"'RBC Reference Table'!AD27","v":0},{"$f":"'RBC Reference Table'!AE27","v":27},{"$f":"'RBC Reference Table'!AF27","v":0},{"$f":"'RBC Reference Table'!AG27","v":77},{"$f":"'RBC Reference Table'!AH27","v":0},{"$f":"'RBC Reference Table'!AI27","v":290},{"$f":"'RBC Reference Table'!AJ27","v":0},{"$f":"'RBC Reference Table'!AK27","v":350},{"$f":"'RBC Reference Table'!AL27","v":0},{"$f":"'RBC Reference Table'!AM27","v":"-"},{"$f":"'RBC Reference Table'!AN27","v":">S"},{"$f":"'RBC Reference Table'!AO27","v":"-"},{"$f":"'RBC Reference Table'!AP27","v":">S"},{"$f":"'RBC Reference Table'!AQ27","v":"-"},{"$f":"'RBC Reference Table'!AR27","v":">S"},{"$f":"'RBC Reference Table'!AS27","v":67000},{"$f":"'RBC Reference Table'!AT27","v":0},{"$f":"'RBC Reference Table'!AU27","v":67000},{"$f":"'RBC Reference Table'!AV27","v":0},{"$f":"'RBC Reference Table'!AW27","v":"-"},{"$f":"'RBC Reference Table'!AX27","v":">S"},{"$f":"'RBC Reference Table'!AY27","v":10000},{"$f":"'RBC Reference Table'!AZ27","v":0},{"$f":"'RBC Reference Table'!BA27","v":10000},{"$f":"'RBC Reference Table'!BB27","v":0},{"$f":"'RBC Reference Table'!BC27","v":10000},{"$f":"'RBC Reference Table'!BD27","v":0},{"$f":"'RBC Reference Table'!BE27","v":220000},{"$f":"'RBC Reference Table'!BF27","v":0},{"$f":"'RBC Reference Table'!BG27","v":52},{"$f":"'RBC Reference Table'!BH27","v":0},{"$f":"'RBC Reference Table'!BI27","v":52},{"$f":"'RBC Reference Table'!BJ27","v":0},{"$f":"'RBC Reference Table'!BK27","v":220},{"$f":"'RBC Reference Table'!BL27","v":0},0,0,0,0,0,0,0,0,0,0,0,0,0,0,0,0,0,0,0,0,0,0,0,0,0,0,0,0,0,0]
[{"$f":"VLOOKUP(H110,'RBC Reference Table'!$B$8:$C$101,2,FALSE)","v":21},null,null,null,null,null,"124-48-1","Chlorodibromomethane (dibromochloromethane)","c, v",{"$f":"'RBC Reference Table'!E28","v":3.7},{"$f":"'RBC Reference Table'!F28","v":0},{"$f":"'RBC Reference Table'!G28","v":12},{"$f":"'RBC Reference Table'!H28","v":0},{"$f":"'RBC Reference Table'!I28","v":17},{"$f":"'RBC Reference Table'!J28","v":0},{"$f":"'RBC Reference Table'!K28","v":210},{"$f":"'RBC Reference Table'!L28","v":0},{"$f":"'RBC Reference Table'!M28","v":5800},{"$f":"'RBC Reference Table'!N28","v":">Csat"},{"$f":"'RBC Reference Table'!O28","v":3.3},{"$f":"'RBC Reference Table'!P28","v":0},{"$f":"'RBC Reference Table'!Q28","v":7.8},{"$f":"'RBC Reference Table'!R28","v":0},{"$f":"'RBC Reference Table'!S28","v":14},{"$f":"'RBC Reference Table'!T28","v":0},{"$f":"'RBC Reference Table'!U28","v":0.22},{"$f":"'RBC Reference Table'!V28","v":0},{"$f":"'RBC Reference Table'!W28","v":0.53},{"$f":"'RBC Reference Table'!X28","v":0},{"$f":"'RBC Reference Table'!Y28","v":2.9},{"$f":"'RBC Reference Table'!Z28","v":0},{"$f":"'RBC Reference Table'!AA28","v":2.3999999999999998E-3},{"$f":"'RBC Reference Table'!AB28","v":0},{"$f":"'RBC Reference Table'!AC28","v":1.0999999999999999E-2},{"$f":"'RBC Reference Table'!AD28","v":0},{"$f":"'RBC Reference Table'!AE28","v":1.0999999999999999E-2},{"$f":"'RBC Reference Table'!AF28","v":0},{"$f":"'RBC Reference Table'!AG28","v":0.17},{"$f":"'RBC Reference Table'!AH28","v":0},{"$f":"'RBC Reference Table'!AI28","v":0.77},{"$f":"'RBC Reference Table'!AJ28","v":0},{"$f":"'RBC Reference Table'!AK28","v":0.77},{"$f":"'RBC Reference Table'!AL28","v":0},{"$f":"'RBC Reference Table'!AM28","v":3900},{"$f":"'RBC Reference Table'!AN28","v":0},{"$f":"'RBC Reference Table'!AO28","v":9300},{"$f":"'RBC Reference Table'!AP28","v":0},{"$f":"'RBC Reference Table'!AQ28","v":17000},{"$f":"'RBC Reference Table'!AR28","v":0},{"$f":"'RBC Reference Table'!AS28","v":980},{"$f":"'RBC Reference Table'!AT28","v":0},{"$f":"'RBC Reference Table'!AU28","v":2300},{"$f":"'RBC Reference Table'!AV28","v":0},{"$f":"'RBC Reference Table'!AW28","v":13000},{"$f":"'RBC Reference Table'!AX28","v":0},{"$f":"'RBC Reference Table'!AY28","v":610},{"$f":"'RBC Reference Table'!AZ28","v":0},{"$f":"'RBC Reference Table'!BA28","v":21},{"$f":"'RBC Reference Table'!BB28","v":0},{"$f":"'RBC Reference Table'!BC28","v":49},{"$f":"'RBC Reference Table'!BD28","v":0},{"$f":"'RBC Reference Table'!BE28","v":450},{"$f":"'RBC Reference Table'!BF28","v":0},{"$f":"'RBC Reference Table'!BG28","v":0.1},{"$f":"'RBC Reference Table'!BH28","v":0},{"$f":"'RBC Reference Table'!BI28","v":0.25},{"$f":"'RBC Reference Table'!BJ28","v":0},{"$f":"'RBC Reference Table'!BK28","v":0.45},{"$f":"'RBC Reference Table'!BL28","v":0},0,0,0,0,0,0,0,0,0,0,0,0,0,0,0,0,0,0,0,0,0,0,0,0,0,0,0,0,0,0]
[{"$f":"VLOOKUP(H111,'RBC Reference Table'!$B$8:$C$101,2,FALSE)","v":22},null,null,null,null,null,"75-00-3","Chloroethane (ethyl chloride)","nc, v",{"$f":"'RBC Reference Table'!E29","v":160000},{"$f":"'RBC Reference Table'!F29","v":">Csat"},{"$f":"'RBC Reference Table'!G29","v":320000},{"$f":"'RBC Reference Table'!H29","v":">Csat"},{"$f":"'RBC Reference Table'!I29","v":"-"},{"$f":"'RBC Reference Table'!J29","v":">Max"},{"$f":"'RBC Reference Table'!K29","v":"-"},{"$f":"'RBC Reference Table'!L29","v":">Max"},{"$f":"'RBC Reference Table'!M29","v":"-"},{"$f":"'RBC Reference Table'!N29","v":">Max"},{"$f":"'RBC Reference Table'!O29","v":"-"},{"$f":"'RBC Reference Table'!P29","v":">Csat"},{"$f":"'RBC Reference Table'!Q29","v":"-"},{"$f":"'RBC Reference Table'!R29","v":">Csat"},{"$f":"'RBC Reference Table'!S29","v":"-"},{"$f":"'RBC Reference Table'!T29","v":">Max"},{"$f":"'RBC Reference Table'!U29","v":"-"},{"$f":"'RBC Reference Table'!V29","v":">Csat"},{"$f":"'RBC Reference Table'!W29","v":"-"},{"$f":"'RBC Reference Table'!X29","v":">Csat"},{"$f":"'RBC Reference Table'!Y29","v":"-"},{"$f":"'RBC Reference Table'!Z29","v":">Csat"},{"$f":"'RBC Reference Table'!AA29","v":310},{"$f":"'RBC Reference Table'!AB29","v":0},{"$f":"'RBC Reference Table'!AC29","v":1100},{"$f":"'RBC Reference Table'!AD29","v":0},{"$f":"'RBC Reference Table'!AE29","v":1300},{"$f":"'RBC Reference Table'!AF29","v":0},{"$f":"'RBC Reference Table'!AG29","v":21000},{"$f":"'RBC Reference Table'!AH29","v":0},{"$f":"'RBC Reference Table'!AI29","v":76000},{"$f":"'RBC Reference Table'!AJ29","v":0},{"$f":"'RBC Reference Table'!AK29","v":88000},{"$f":"'RBC Reference Table'!AL29","v":0},{"$f":"'RBC Reference Table'!AM29","v":"-"},{"$f":"'RBC Reference Table'!AN29","v":">S"},{"$f":"'RBC Reference Table'!AO29","v":"-"},{"$f":"'RBC Reference Table'!AP29","v":">S"},{"$f":"'RBC Reference Table'!AQ29","v":"-"},{"$f":"'RBC Reference Table'!AR29","v":">S"},{"$f":"'RBC Reference Table'!AS29","v":2800000},{"$f":"'RBC Reference Table'!AT29","v":0},{"$f":"'RBC Reference Table'!AU29","v":2800000},{"$f":"'RBC Reference Table'!AV29","v":0},{"$f":"'RBC Reference Table'!AW29","v":"-"},{"$f":"'RBC Reference Table'!AX29","v":">S"},{"$f":"'RBC Reference Table'!AY29","v":2400000},{"$f":"'RBC Reference Table'!AZ29","v":0},{"$f":"'RBC Reference Table'!BA29","v":2100000},{"$f":"'RBC Reference Table'!BB29","v":0},{"$f":"'RBC Reference Table'!BC29","v":2100000},{"$f":"'RBC Reference Table'!BD29","v":0},{"$f":"'RBC Reference Table'!BE29","v":43800000},{"$f":"'RBC Reference Table'!BF29","v":0},{"$f":"'RBC Reference Table'!BG29","v":10000},{"$f":"'RBC Reference Table'!BH29","v":0},{"$f":"'RBC Reference Table'!BI29","v":10000},{"$f":"'RBC Reference Table'!BJ29","v":0},{"$f":"'RBC Reference Table'!BK29","v":44000},{"$f":"'RBC Reference Table'!BL29","v":0},0,0,0,0,0,0,0,0,0,0,0,0,0,0,0,0,0,0,0,0,0,0,0,0,0,0,0,0,0,0]
[{"$f":"VLOOKUP(H112,'RBC Reference Table'!$B$8:$C$101,2,FALSE)","v":24},null,null,null,null,null,"74-87-3","Chloromethane","nc, v",{"$f":"'RBC Reference Table'!E31","v":1400},{"$f":"'RBC Reference Table'!F31","v":">Csat"},{"$f":"'RBC Reference Table'!G31","v":2900},{"$f":"'RBC Reference Table'!H31","v":">Csat"},{"$f":"'RBC Reference Table'!I31","v":25000},{"$f":"'RBC Reference Table'!J31","v":">Csat"},{"$f":"'RBC Reference Table'!K31","v":25000},{"$f":"'RBC Reference Table'!L31","v":">Csat"},{"$f":"'RBC Reference Table'!M31","v":700000},{"$f":"'RBC Reference Table'!N31","v":">Csat"},{"$f":"'RBC Reference Table'!O31","v":"-"},{"$f":"'RBC Reference Table'!P31","v":">Csat"},{"$f":"'RBC Reference Table'!Q31","v":"-"},{"$f":"'RBC Reference Table'!R31","v":">Csat"},{"$f":"'RBC Reference Table'!S31","v":"-"},{"$f":"'RBC Reference Table'!T31","v":">Csat"},{"$f":"'RBC Reference Table'!U31","v":24},{"$f":"'RBC Reference Table'!V31","v":0},{"$f":"'RBC Reference Table'!W31","v":24},{"$f":"'RBC Reference Table'!X31","v":0},{"$f":"'RBC Reference Table'!Y31","v":300},{"$f":"'RBC Reference Table'!Z31","v":0},{"$f":"'RBC Reference Table'!AA31","v":2.2000000000000002},{"$f":"'RBC Reference Table'!AB31","v":0},{"$f":"'RBC Reference Table'!AC31","v":7.9},{"$f":"'RBC Reference Table'!AD31","v":0},{"$f":"'RBC Reference Table'!AE31","v":9.1},{"$f":"'RBC Reference Table'!AF31","v":0},{"$f":"'RBC Reference Table'!AG31","v":190},{"$f":"'RBC Reference Table'!AH31","v":0},{"$f":"'RBC Reference Table'!AI31","v":690},{"$f":"'RBC Reference Table'!AJ31","v":0},{"$f":"'RBC Reference Table'!AK31","v":790},{"$f":"'RBC Reference Table'!AL31","v":0},{"$f":"'RBC Reference Table'!AM31","v":440000},{"$f":"'RBC Reference Table'!AN31","v":0},{"$f":"'RBC Reference Table'!AO31","v":440000},{"$f":"'RBC Reference Table'!AP31","v":0},{"$f":"'RBC Reference Table'!AQ31","v":1800000},{"$f":"'RBC Reference Table'!AR31","v":0},{"$f":"'RBC Reference Table'!AS31","v":26000},{"$f":"'RBC Reference Table'!AT31","v":0},{"$f":"'RBC Reference Table'!AU31","v":26000},{"$f":"'RBC Reference Table'!AV31","v":0},{"$f":"'RBC Reference Table'!AW31","v":330000},{"$f":"'RBC Reference Table'!AX31","v":0},{"$f":"'RBC Reference Table'!AY31","v":22000},{"$f":"'RBC Reference Table'!AZ31","v":0},{"$f":"'RBC Reference Table'!BA31","v":19000},{"$f":"'RBC Reference Table'!BB31","v":0},{"$f":"'RBC Reference Table'!BC31","v":19000},{"$f":"'RBC Reference Table'!BD31","v":0},{"$f":"'RBC Reference Table'!BE31","v":390000},{"$f":"'RBC Reference Table'!BF31","v":0},{"$f":"'RBC Reference Table'!BG31","v":94},{"$f":"'RBC Reference Table'!BH31","v":0},{"$f":"'RBC Reference Table'!BI31","v":94},{"$f":"'RBC Reference Table'!BJ31","v":0},{"$f":"'RBC Reference Table'!BK31","v":390},{"$f":"'RBC Reference Table'!BL31","v":0},0,0,0,0,0,0,0,0,0,0,0,0,0,0,0,0,0,0,0,0,0,0,0,0,0,0,0,0,0,0]
[{"$f":"VLOOKUP(H113,'RBC Reference Table'!$B$8:$C$101,2,FALSE)","v":30},null,null,null,null,null,"74-90-8","Cyanide (hydrogen cyanide) ʌ","nc, v",{"$f":"'RBC Reference Table'!E37","v":14},{"$f":"'RBC Reference Table'!F37","v":0},{"$f":"'RBC Reference Table'!G37","v":28},{"$f":"'RBC Reference Table'!H37","v":0},{"$f":"'RBC Reference Table'!I37","v":170},{"$f":"'RBC Reference Table'!J37","v":0},{"$f":"'RBC Reference Table'!K37","v":110},{"$f":"'RBC Reference Table'!L37","v":0},{"$f":"'RBC Reference Table'!M37","v":3000},{"$f":"'RBC Reference Table'!N37","v":0},{"$f":"'RBC Reference Table'!O37","v":98},{"$f":"'RBC Reference Table'!P37","v":0},{"$f":"'RBC Reference Table'!Q37","v":98},{"$f":"'RBC Reference Table'!R37","v":0},{"$f":"'RBC Reference Table'!S37","v":1200},{"$f":"'RBC Reference Table'!T37","v":0},{"$f":"'RBC Reference Table'!U37","v":98},{"$f":"'RBC Reference Table'!V37","v":0},{"$f":"'RBC Reference Table'!W37","v":98},{"$f":"'RBC Reference Table'!X37","v":0},{"$f":"'RBC Reference Table'!Y37","v":1200},{"$f":"'RBC Reference Table'!Z37","v":0},{"$f":"'RBC Reference Table'!AA37","v":0.88},{"$f":"'RBC Reference Table'!AB37","v":0},{"$f":"'RBC Reference Table'!AC37","v":3.2},{"$f":"'RBC Reference Table'!AD37","v":0},{"$f":"'RBC Reference Table'!AE37","v":3.9},{"$f":"'RBC Reference Table'!AF37","v":0},{"$f":"'RBC Reference Table'!AG37","v":1.5},{"$f":"'RBC Reference Table'!AH37","v":0},{"$f":"'RBC Reference Table'!AI37","v":5.4},{"$f":"'RBC Reference Table'!AJ37","v":0},{"$f":"'RBC Reference Table'!AK37","v":6.5},{"$f":"'RBC Reference Table'!AL37","v":0},{"$f":"'RBC Reference Table'!AM37","v":32000},{"$f":"'RBC Reference Table'!AN37","v":0},{"$f":"'RBC Reference Table'!AO37","v":32000},{"$f":"'RBC Reference Table'!AP37","v":0},{"$f":"'RBC Reference Table'!AQ37","v":140000},{"$f":"'RBC Reference Table'!AR37","v":0},{"$f":"'RBC Reference Table'!AS37","v":10000},{"$f":"'RBC Reference Table'!AT37","v":0},{"$f":"'RBC Reference Table'!AU37","v":10000},{"$f":"'RBC Reference Table'!AV37","v":0},{"$f":"'RBC Reference Table'!AW37","v":130000},{"$f":"'RBC Reference Table'!AX37","v":0},{"$f":"'RBC Reference Table'!AY37","v":190},{"$f":"'RBC Reference Table'!AZ37","v":0},{"$f":"'RBC Reference Table'!BA37","v":170},{"$f":"'RBC Reference Table'!BB37","v":0},{"$f":"'RBC Reference Table'!BC37","v":170},{"$f":"'RBC Reference Table'!BD37","v":0},{"$f":"'RBC Reference Table'!BE37","v":3500},{"$f":"'RBC Reference Table'!BF37","v":0},{"$f":"'RBC Reference Table'!BG37","v":0.83},{"$f":"'RBC Reference Table'!BH37","v":0},{"$f":"'RBC Reference Table'!BI37","v":0.83},{"$f":"'RBC Reference Table'!BJ37","v":0},{"$f":"'RBC Reference Table'!BK37","v":3.5},{"$f":"'RBC Reference Table'!BL37","v":0},0,0,0,0,0,0,0,0,0,0,0,0,0,0,0,0,0,0,0,0,0,0,0,0,0,0,0,0,0,0]
[{"$f":"VLOOKUP(H114,'RBC Reference Table'!$B$8:$C$101,2,FALSE)","v":35},null,null,null,null,null,"95-50-1","1,2-Dichlorobenzene","nc, v",{"$f":"'RBC Reference Table'!E42","v":2200},{"$f":"'RBC Reference Table'!F42","v":">Csat"},{"$f":"'RBC Reference Table'!G42","v":4400},{"$f":"'RBC Reference Table'!H42","v":">Csat"},{"$f":"'RBC Reference Table'!I42","v":36000},{"$f":"'RBC Reference Table'!J42","v":">Csat"},{"$f":"'RBC Reference Table'!K42","v":20000},{"$f":"'RBC Reference Table'!L42","v":">Csat"},{"$f":"'RBC Reference Table'!M42","v":560000},{"$f":"'RBC Reference Table'!N42","v":">Csat"},{"$f":"'RBC Reference Table'!O42","v":"-"},{"$f":"'RBC Reference Table'!P42","v":">Csat"},{"$f":"'RBC Reference Table'!Q42","v":"-"},{"$f":"'RBC Reference Table'!R42","v":">Csat"},{"$f":"'RBC Reference Table'!S42","v":"-"},{"$f":"'RBC Reference Table'!T42","v":">Csat"},{"$f":"'RBC Reference Table'!U42","v":"-"},{"$f":"'RBC Reference Table'!V42","v":">Csat"},{"$f":"'RBC Reference Table'!W42","v":"-"},{"$f":"'RBC Reference Table'!X42","v":">Csat"},{"$f":"'RBC Reference Table'!Y42","v":"-"},{"$f":"'RBC Reference Table'!Z42","v":">Csat"},{"$f":"'RBC Reference Table'!AA42","v":36},{"$f":"'RBC Reference Table'!AB42","v":0},{"$f":"'RBC Reference Table'!AC42","v":140},{"$f":"'RBC Reference Table'!AD42","v":0},{"$f":"'RBC Reference Table'!AE42","v":160},{"$f":"'RBC Reference Table'!AF42","v":0},{"$f":"'RBC Reference Table'!AG42","v":300},{"$f":"'RBC Reference Table'!AH42","v":0},{"$f":"'RBC Reference Table'!AI42","v":1200},{"$f":"'RBC Reference Table'!AJ42","v":0},{"$f":"'RBC Reference Table'!AK42","v":1400},{"$f":"'RBC Reference Table'!AL42","v":0},{"$f":"'RBC Reference Table'!AM42","v":"-"},{"$f":"'RBC Reference Table'!AN42","v":">S"},{"$f":"'RBC Reference Table'!AO42","v":"-"},{"$f":"'RBC Reference Table'!AP42","v":">S"},{"$f":"'RBC Reference Table'!AQ42","v":"-"},{"$f":"'RBC Reference Table'!AR42","v":">S"},{"$f":"'RBC Reference Table'!AS42","v":"-"},{"$f":"'RBC Reference Table'!AT42","v":">S"},{"$f":"'RBC Reference Table'!AU42","v":"-"},{"$f":"'RBC Reference Table'!AV42","v":">S"},{"$f":"'RBC Reference Table'!AW42","v":"-"},{"$f":"'RBC Reference Table'!AX42","v":">S"},{"$f":"'RBC Reference Table'!AY42","v":37000},{"$f":"'RBC Reference Table'!AZ42","v":0},{"$f":"'RBC Reference Table'!BA42","v":42000},{"$f":"'RBC Reference Table'!BB42","v":0},{"$f":"'RBC Reference Table'!BC42","v":42000},{"$f":"'RBC Reference Table'!BD42","v":0},{"$f":"'RBC Reference Table'!BE42","v":880000},{"$f":"'RBC Reference Table'!BF42","v":0},{"$f":"'RBC Reference Table'!BG42","v":210},{"$f":"'RBC Reference Table'!BH42","v":0},{"$f":"'RBC Reference Table'!BI42","v":210},{"$f":"'RBC Reference Table'!BJ42","v":0},{"$f":"'RBC Reference Table'!BK42","v":880},{"$f":"'RBC Reference Table'!BL42","v":0},0,0,0,0,0,0,0,0,0,0,0,0,0,0,{"$f":"IF($D114>AL114,1,0)","v":0},{"$f":"IF($D114>AN114,1,0)","v":0},{"$f":"IF($D114>AP114,1,0)","v":0},{"$f":"IF($D114>AR114,1,0)","v":0},{"$f":"IF($D114>AT114,1,0)","v":0},{"$f":"IF($D114>AV114,1,0)","v":0},{"$f":"IF($D114>AX114,1,0)","v":0},{"$f":"IF($D114>AZ114,1,0)","v":0},{"$f":"IF($D114>BB114,1,0)","v":0},{"$f":"IF($D114>BD114,1,0)","v":0},{"$f":"IF($E114>BF114,1,0)","v":0},{"$f":"IF($E114>BH114,1,0)","v":0},{"$f":"IF($E114>BJ114,1,0)","v":0},{"$f":"IF($F114>BL114,1,0)","v":0},{"$f":"IF($F114>BN114,1,0)","v":0},{"$f":"IF($F114>BP114,1,0)","v":0}]
[{"$f":"VLOOKUP(H115,'RBC Reference Table'!$B$8:$C$101,2,FALSE)","v":36},null,null,null,null,null,"106-46-7","1,4-Dichlorobenzene","c, v",{"$f":"'RBC Reference Table'!E43","v":14},{"$f":"'RBC Reference Table'!F43","v":0},{"$f":"'RBC Reference Table'!G43","v":62},{"$f":"'RBC Reference Table'!H43","v":0},{"$f":"'RBC Reference Table'!I43","v":64},{"$f":"'RBC Reference Table'!J43","v":0},{"$f":"'RBC Reference Table'!K43","v":1300},{"$f":"'RBC Reference Table'!L43","v":">Csat"},{"$f":"'RBC Reference Table'!M43","v":36000},{"$f":"'RBC Reference Table'!N43","v":">Csat"},{"$f":"'RBC Reference Table'!O43","v":8.1},{"$f":"'RBC Reference Table'!P43","v":0},{"$f":"'RBC Reference Table'!Q43","v":19},{"$f":"'RBC Reference Table'!R43","v":0},{"$f":"'RBC Reference Table'!S43","v":36},{"$f":"'RBC Reference Table'!T43","v":0},{"$f":"'RBC Reference Table'!U43","v":0.99},{"$f":"'RBC Reference Table'!V43","v":0},{"$f":"'RBC Reference Table'!W43","v":2.2999999999999998},{"$f":"'RBC Reference Table'!X43","v":0},{"$f":"'RBC Reference Table'!Y43","v":13},{"$f":"'RBC Reference Table'!Z43","v":0},{"$f":"'RBC Reference Table'!AA43","v":5.7000000000000002E-2},{"$f":"'RBC Reference Table'!AB43","v":0},{"$f":"'RBC Reference Table'!AC43","v":0.27},{"$f":"'RBC Reference Table'!AD43","v":0},{"$f":"'RBC Reference Table'!AE43","v":0.25},{"$f":"'RBC Reference Table'!AF43","v":0},{"$f":"'RBC Reference Table'!AG43","v":0.48},{"$f":"'RBC Reference Table'!AH43","v":0},{"$f":"'RBC Reference Table'!AI43","v":2.2999999999999998},{"$f":"'RBC Reference Table'!AJ43","v":0},{"$f":"'RBC Reference Table'!AK43","v":2.1},{"$f":"'RBC Reference Table'!AL43","v":0},{"$f":"'RBC Reference Table'!AM43","v":4900},{"$f":"'RBC Reference Table'!AN43","v":0},{"$f":"'RBC Reference Table'!AO43","v":12000},{"$f":"'RBC Reference Table'!AP43","v":0},{"$f":"'RBC Reference Table'!AQ43","v":21000},{"$f":"'RBC Reference Table'!AR43","v":0},{"$f":"'RBC Reference Table'!AS43","v":540},{"$f":"'RBC Reference Table'!AT43","v":0},{"$f":"'RBC Reference Table'!AU43","v":1300},{"$f":"'RBC Reference Table'!AV43","v":0},{"$f":"'RBC Reference Table'!AW43","v":7100},{"$f":"'RBC Reference Table'!AX43","v":0},{"$f":"'RBC Reference Table'!AY43","v":1500},{"$f":"'RBC Reference Table'!AZ43","v":0},{"$f":"'RBC Reference Table'!BA43","v":51},{"$f":"'RBC Reference Table'!BB43","v":0},{"$f":"'RBC Reference Table'!BC43","v":120},{"$f":"'RBC Reference Table'!BD43","v":0},{"$f":"'RBC Reference Table'!BE43","v":1100},{"$f":"'RBC Reference Table'!BF43","v":0},{"$f":"'RBC Reference Table'!BG43","v":0.26},{"$f":"'RBC Reference Table'!BH43","v":0},{"$f":"'RBC Reference Table'!BI43","v":0.6},{"$f":"'RBC Reference Table'!BJ43","v":0},{"$f":"'RBC Reference Table'!BK43","v":1.1000000000000001},{"$f":"'RBC Reference Table'!BL43","v":0},0,0,0,0,0,0,0,0,0,0,0,0,0,0,0,0,0,0,0,0,0,0,0,0,0,0,0,0,0,0]
[{"$f":"VLOOKUP(H116,'RBC Reference Table'!$B$8:$C$101,2,FALSE)","v":37},null,null,null,null,null,"91-94-1","3,3-Dichlorobenzidine","c, nv",{"$f":"'RBC Reference Table'!E44","v":1.2},{"$f":"'RBC Reference Table'!F44","v":0},{"$f":"'RBC Reference Table'!G44","v":3},{"$f":"'RBC Reference Table'!H44","v":0},{"$f":"'RBC Reference Table'!I44","v":5.0999999999999996},{"$f":"'RBC Reference Table'!J44","v":0},{"$f":"'RBC Reference Table'!K44","v":42},{"$f":"'RBC Reference Table'!L44","v":">Csat"},{"$f":"'RBC Reference Table'!M44","v":1200},{"$f":"'RBC Reference Table'!N44","v":">Csat"},{"$f":"'RBC Reference Table'!O44","v":"-"},{"$f":"'RBC Reference Table'!P44","v":"NV"},{"$f":"'RBC Reference Table'!Q44","v":"-"},{"$f":"'RBC Reference Table'!R44","v":"NV"},{"$f":"'RBC Reference Table'!S44","v":"-"},{"$f":"'RBC Reference Table'!T44","v":"NV"},{"$f":"'RBC Reference Table'!U44","v":"-"},{"$f":"'RBC Reference Table'!V44","v":"NV"},{"$f":"'RBC Reference Table'!W44","v":"-"},{"$f":"'RBC Reference Table'!X44","v":"NV"},{"$f":"'RBC Reference Table'!Y44","v":"-"},{"$f":"'RBC Reference Table'!Z44","v":"NV"},{"$f":"'RBC Reference Table'!AA44","v":0.17},{"$f":"'RBC Reference Table'!AB44","v":0},{"$f":"'RBC Reference Table'!AC44","v":0.67},{"$f":"'RBC Reference Table'!AD44","v":0},{"$f":"'RBC Reference Table'!AE44","v":1},{"$f":"'RBC Reference Table'!AF44","v":0},{"$f":"'RBC Reference Table'!AG44","v":0.17},{"$f":"'RBC Reference Table'!AH44","v":0},{"$f":"'RBC Reference Table'!AI44","v":0.69},{"$f":"'RBC Reference Table'!AJ44","v":0},{"$f":"'RBC Reference Table'!AK44","v":1},{"$f":"'RBC Reference Table'!AL44","v":0},{"$f":"'RBC Reference Table'!AM44","v":"-"},{"$f":"'RBC Reference Table'!AN44","v":"NV"},{"$f":"'RBC Reference Table'!AO44","v":"-"},{"$f":"'RBC Reference Table'!AP44","v":"NV"},{"$f":"'RBC Reference Table'!AQ44","v":"-"},{"$f":"'RBC Reference Table'!AR44","v":"NV"},{"$f":"'RBC Reference Table'!AS44","v":"-"},{"$f":"'RBC Reference Table'!AT44","v":"NV"},{"$f":"'RBC Reference Table'!AU44","v":"-"},{"$f":"'RBC Reference Table'!AV44","v":"NV"},{"$f":"'RBC Reference Table'!AW44","v":"-"},{"$f":"'RBC Reference Table'!AX44","v":"NV"},{"$f":"'RBC Reference Table'!AY44","v":"-"},{"$f":"'RBC Reference Table'!AZ44","v":">S"},{"$f":"'RBC Reference Table'!BA44","v":"-"},{"$f":"'RBC Reference Table'!BB44","v":"NV"},{"$f":"'RBC Reference Table'!BC44","v":"-"},{"$f":"'RBC Reference Table'!BD44","v":"NV"},{"$f":"'RBC Reference Table'!BE44","v":"-"},{"$f":"'RBC Reference Table'!BF44","v":"NV"},{"$f":"'RBC Reference Table'!BG44","v":8.3000000000000001E-3},{"$f":"'RBC Reference Table'!BH44","v":0},{"$f":"'RBC Reference Table'!BI44","v":0.02},{"$f":"'RBC Reference Table'!BJ44","v":0},{"$f":"'RBC Reference Table'!BK44","v":3.5999999999999997E-2},{"$f":"'RBC Reference Table'!BL44","v":0},0,0,0,0,0,0,0,0,0,0,0,0,0,0,0,0,0,0,0,0,0,0,0,0,0,0,0,0,0,0]
[{"$f":"VLOOKUP(H117,'RBC Reference Table'!$B$8:$C$101,2,FALSE)","v":42},null,null,null,null,null,"111-44-4","Dichloroethylether","c, v",{"$f":"'RBC Reference Table'!E49","v":0.28999999999999998},{"$f":"'RBC Reference Table'!F49","v":0},{"$f":"'RBC Reference Table'!G49","v":0.96},{"$f":"'RBC Reference Table'!H49","v":0},{"$f":"'RBC Reference Table'!I49","v":1.3},{"$f":"'RBC Reference Table'!J49","v":0},{"$f":"'RBC Reference Table'!K49","v":16},{"$f":"'RBC Reference Table'!L49","v":0},{"$f":"'RBC Reference Table'!M49","v":450},{"$f":"'RBC Reference Table'!N49","v":0},{"$f":"'RBC Reference Table'!O49","v":0.53},{"$f":"'RBC Reference Table'!P49","v":0},{"$f":"'RBC Reference Table'!Q49","v":1.2},{"$f":"'RBC Reference Table'!R49","v":0},{"$f":"'RBC Reference Table'!S49","v":6.9},{"$f":"'RBC Reference Table'!T49","v":0},{"$f":"'RBC Reference Table'!U49","v":0.53},{"$f":"'RBC Reference Table'!V49","v":0},{"$f":"'RBC Reference Table'!W49","v":1.2},{"$f":"'RBC Reference Table'!X49","v":0},{"$f":"'RBC Reference Table'!Y49","v":6.9},{"$f":"'RBC Reference Table'!Z49","v":0},{"$f":"'RBC Reference Table'!AA49","v":1.9000000000000001E-4},{"$f":"'RBC Reference Table'!AB49","v":0},{"$f":"'RBC Reference Table'!AC49","v":8.7000000000000001E-4},{"$f":"'RBC Reference Table'!AD49","v":0},{"$f":"'RBC Reference Table'!AE49","v":8.7000000000000001E-4},{"$f":"'RBC Reference Table'!AF49","v":0},{"$f":"'RBC Reference Table'!AG49","v":1.4E-2},{"$f":"'RBC Reference Table'!AH49","v":0},{"$f":"'RBC Reference Table'!AI49","v":6.2E-2},{"$f":"'RBC Reference Table'!AJ49","v":0},{"$f":"'RBC Reference Table'!AK49","v":6.3E-2},{"$f":"'RBC Reference Table'!AL49","v":0},{"$f":"'RBC Reference Table'!AM49","v":5700},{"$f":"'RBC Reference Table'!AN49","v":0},{"$f":"'RBC Reference Table'!AO49","v":13000},{"$f":"'RBC Reference Table'!AP49","v":0},{"$f":"'RBC Reference Table'!AQ49","v":30000},{"$f":"'RBC Reference Table'!AR49","v":0},{"$f":"'RBC Reference Table'!AS49","v":2300},{"$f":"'RBC Reference Table'!AT49","v":0},{"$f":"'RBC Reference Table'!AU49","v":5500},{"$f":"'RBC Reference Table'!AV49","v":0},{"$f":"'RBC Reference Table'!AW49","v":30000},{"$f":"'RBC Reference Table'!AX49","v":0},{"$f":"'RBC Reference Table'!AY49","v":51},{"$f":"'RBC Reference Table'!AZ49","v":0},{"$f":"'RBC Reference Table'!BA49","v":1.7},{"$f":"'RBC Reference Table'!BB49","v":0},{"$f":"'RBC Reference Table'!BC49","v":4},{"$f":"'RBC Reference Table'!BD49","v":0},{"$f":"'RBC Reference Table'!BE49","v":37},{"$f":"'RBC Reference Table'!BF49","v":0},{"$f":"'RBC Reference Table'!BG49","v":8.5000000000000006E-3},{"$f":"'RBC Reference Table'!BH49","v":0},{"$f":"'RBC Reference Table'!BI49","v":0.02},{"$f":"'RBC Reference Table'!BJ49","v":0},{"$f":"'RBC Reference Table'!BK49","v":3.6999999999999998E-2},{"$f":"'RBC Reference Table'!BL49","v":0},0,0,0,0,0,0,0,0,0,0,0,0,0,0,0,0,0,0,0,0,0,0,0,0,0,0,0,0,0,0]
[{"$f":"VLOOKUP(H118,'RBC Reference Table'!$B$8:$C$101,2,FALSE)","v":43},null,null,null,null,null,"75-09-2","Dichloromethane","c, v",{"$f":"'RBC Reference Table'!E50","v":76},{"$f":"'RBC Reference Table'!F50","v":0},{"$f":"'RBC Reference Table'!G50","v":170},{"$f":"'RBC Reference Table'!H50","v":0},{"$f":"'RBC Reference Table'!I50","v":1600},{"$f":"'RBC Reference Table'!J50","v":0},{"$f":"'RBC Reference Table'!K50","v":12000},{"$f":"'RBC Reference Table'!L50","v":">Csat"},{"$f":"'RBC Reference Table'!M50","v":340000},{"$f":"'RBC Reference Table'!N50","v":">Csat"},{"$f":"'RBC Reference Table'!O50","v":"-"},{"$f":"'RBC Reference Table'!P50","v":">Csat"},{"$f":"'RBC Reference Table'!Q50","v":"-"},{"$f":"'RBC Reference Table'!R50","v":">Csat"},{"$f":"'RBC Reference Table'!S50","v":"-"},{"$f":"'RBC Reference Table'!T50","v":">Csat"},{"$f":"'RBC Reference Table'!U50","v":26},{"$f":"'RBC Reference Table'!V50","v":0},{"$f":"'RBC Reference Table'!W50","v":51},{"$f":"'RBC Reference Table'!X50","v":0},{"$f":"'RBC Reference Table'!Y50","v":950},{"$f":"'RBC Reference Table'!Z50","v":0},{"$f":"'RBC Reference Table'!AA50","v":0.14000000000000001},{"$f":"'RBC Reference Table'!AB50","v":0},{"$f":"'RBC Reference Table'!AC50","v":0.44},{"$f":"'RBC Reference Table'!AD50","v":0},{"$f":"'RBC Reference Table'!AE50","v":2.4},{"$f":"'RBC Reference Table'!AF50","v":0},{"$f":"'RBC Reference Table'!AG50","v":11},{"$f":"'RBC Reference Table'!AH50","v":0},{"$f":"'RBC Reference Table'!AI50","v":37},{"$f":"'RBC Reference Table'!AJ50","v":0},{"$f":"'RBC Reference Table'!AK50","v":200},{"$f":"'RBC Reference Table'!AL50","v":0},{"$f":"'RBC Reference Table'!AM50","v":1000000},{"$f":"'RBC Reference Table'!AN50","v":0},{"$f":"'RBC Reference Table'!AO50","v":2000000},{"$f":"'RBC Reference Table'!AP50","v":0},{"$f":"'RBC Reference Table'!AQ50","v":12581128.183097944},{"$f":"'RBC Reference Table'!AR50","v":0},{"$f":"'RBC Reference Table'!AS50","v":90000},{"$f":"'RBC Reference Table'!AT50","v":0},{"$f":"'RBC Reference Table'!AU50","v":170000},{"$f":"'RBC Reference Table'!AV50","v":0},{"$f":"'RBC Reference Table'!AW50","v":3300000},{"$f":"'RBC Reference Table'!AX50","v":0},{"$f":"'RBC Reference Table'!AY50","v":640000},{"$f":"'RBC Reference Table'!AZ50","v":0},{"$f":"'RBC Reference Table'!BA50","v":20000},{"$f":"'RBC Reference Table'!BB50","v":0},{"$f":"'RBC Reference Table'!BC50","v":39000},{"$f":"'RBC Reference Table'!BD50","v":0},{"$f":"'RBC Reference Table'!BE50","v":1200000},{"$f":"'RBC Reference Table'!BF50","v":0},{"$f":"'RBC Reference Table'!BG50","v":100},{"$f":"'RBC Reference Table'!BH50","v":0},{"$f":"'RBC Reference Table'!BI50","v":200},{"$f":"'RBC Reference Table'!BJ50","v":0},{"$f":"'RBC Reference Table'!BK50","v":1200},{"$f":"'RBC Reference Table'!BL50","v":0},{"$f":"IF($B118>J118,1,0)","v":0},{"$f":"IF($B118>L118,1,0)","v":0},{"$f":"IF($B118>N118,1,0)","v":0},{"$f":"IF(OR($C118>P118,B118>P118),1,0)","v":0},{"$f":"IF(OR($C118>R118,B118>R118),1,0)","v":0},{"$f":"IF(MAX($B118,$C118)>T118,1,0)","v":0},{"$f":"IF(MAX($B118,$C118)>V118,1,0)","v":0},{"$f":"IF(MAX($B118,$C118)>X118,1,0)","v":0},{"$f":"IF(MAX($B118,$C118)>Z118,1,0)","v":0},{"$f":"IF(MAX($B118,$C118)>AB118,1,0)","v":0},{"$f":"IF(MAX($B118,$C118)>AD118,1,0)","v":0},{"$f":"IF(MAX($B118,$C118)>AF118,1,0)","v":0},{"$f":"IF(MAX($B118,$C118)>AH118,1,0)","v":0},{"$f":"IF(MAX($B118,$C118)>AJ118,1,0)","v":0},0,0,0,0,0,0,0,0,0,0,0,0,0,0,0,0]
[{"$f":"VLOOKUP(H119,'RBC Reference Table'!$B$8:$C$101,2,FALSE)","v":44},null,null,null,null,null,"94-75-7","2,4-Dichlorophenoxyacetic acid (2,4-D)","nc, nv",{"$f":"'RBC Reference Table'!E51","v":630},{"$f":"'RBC Reference Table'!F51","v":">Csat"},{"$f":"'RBC Reference Table'!G51","v":1300},{"$f":"'RBC Reference Table'!H51","v":">Csat"},{"$f":"'RBC Reference Table'!I51","v":8200},{"$f":"'RBC Reference Table'!J51","v":">Csat"},{"$f":"'RBC Reference Table'!K51","v":2700},{"$f":"'RBC Reference Table'!L51","v":">Csat"},{"$f":"'RBC Reference Table'!M51","v":74000},{"$f":"'RBC Reference Table'!N51","v":">Csat"},{"$f":"'RBC Reference Table'!O51","v":"-"},{"$f":"'RBC Reference Table'!P51","v":"NV"},{"$f":"'RBC Reference Table'!Q51","v":"-"},{"$f":"'RBC Reference Table'!R51","v":"NV"},{"$f":"'RBC Reference Table'!S51","v":"-"},{"$f":"'RBC Reference Table'!T51","v":"NV"},{"$f":"'RBC Reference Table'!U51","v":"-"},{"$f":"'RBC Reference Table'!V51","v":"NV"},{"$f":"'RBC Reference Table'!W51","v":"-"},{"$f":"'RBC Reference Table'!X51","v":"NV"},{"$f":"'RBC Reference Table'!Y51","v":"-"},{"$f":"'RBC Reference Table'!Z51","v":"NV"},{"$f":"'RBC Reference Table'!AA51","v":2.2999999999999998},{"$f":"'RBC Reference Table'!AB51","v":0},{"$f":"'RBC Reference Table'!AC51","v":8.8000000000000007},{"$f":"'RBC Reference Table'!AD51","v":0},{"$f":"'RBC Reference Table'!AE51","v":16},{"$f":"'RBC Reference Table'!AF51","v":0},{"$f":"'RBC Reference Table'!AG51","v":170},{"$f":"'RBC Reference Table'!AH51","v":0},{"$f":"'RBC Reference Table'!AI51","v":670},{"$f":"'RBC Reference Table'!AJ51","v":0},{"$f":"'RBC Reference Table'!AK51","v":1200},{"$f":"'RBC Reference Table'!AL51","v":0},{"$f":"'RBC Reference Table'!AM51","v":"-"},{"$f":"'RBC Reference Table'!AN51","v":"NV"},{"$f":"'RBC Reference Table'!AO51","v":"-"},{"$f":"'RBC Reference Table'!AP51","v":"NV"},{"$f":"'RBC Reference Table'!AQ51","v":"-"},{"$f":"'RBC Reference Table'!AR51","v":"NV"},{"$f":"'RBC Reference Table'!AS51","v":"-"},{"$f":"'RBC Reference Table'!AT51","v":"NV"},{"$f":"'RBC Reference Table'!AU51","v":"-"},{"$f":"'RBC Reference Table'!AV51","v":"NV"},{"$f":"'RBC Reference Table'!AW51","v":"-"},{"$f":"'RBC Reference Table'!AX51","v":"NV"},{"$f":"'RBC Reference Table'!AY51","v":77000},{"$f":"'RBC Reference Table'!AZ51","v":0},{"$f":"'RBC Reference Table'!BA51","v":"-"},{"$f":"'RBC Reference Table'!BB51","v":"NV"},{"$f":"'RBC Reference Table'!BC51","v":"-"},{"$f":"'RBC Reference Table'!BD51","v":"NV"},{"$f":"'RBC Reference Table'!BE51","v":"-"},{"$f":"'RBC Reference Table'!BF51","v":"NV"},{"$f":"'RBC Reference Table'!BG51","v":"-"},{"$f":"'RBC Reference Table'!BH51","v":">Pv"},{"$f":"'RBC Reference Table'!BI51","v":"-"},{"$f":"'RBC Reference Table'!BJ51","v":">Pv"},{"$f":"'RBC Reference Table'!BK51","v":"-"},{"$f":"'RBC Reference Table'!BL51","v":">Pv"},0,0,0,0,0,0,0,0,0,0,0,0,0,0,0,0,0,0,0,0,0,0,0,0,0,0,0,0,0,0]
[{"$f":"VLOOKUP(H120,'RBC Reference Table'!$B$8:$C$101,2,FALSE)","v":46},null,null,null,null,null,"606-20-2","2,6-Dinitrotoluene","c, nv",{"$f":"'RBC Reference Table'!E53","v":0.36},{"$f":"'RBC Reference Table'!F53","v":0},{"$f":"'RBC Reference Table'!G53","v":0.9},{"$f":"'RBC Reference Table'!H53","v":0},{"$f":"'RBC Reference Table'!I53","v":1.5},{"$f":"'RBC Reference Table'!J53","v":0},{"$f":"'RBC Reference Table'!K53","v":13},{"$f":"'RBC Reference Table'!L53","v":0},{"$f":"'RBC Reference Table'!M53","v":350},{"$f":"'RBC Reference Table'!N53","v":0},{"$f":"'RBC Reference Table'!O53","v":"-"},{"$f":"'RBC Reference Table'!P53","v":"NV"},{"$f":"'RBC Reference Table'!Q53","v":"-"},{"$f":"'RBC Reference Table'!R53","v":"NV"},{"$f":"'RBC Reference Table'!S53","v":"-"},{"$f":"'RBC Reference Table'!T53","v":"NV"},{"$f":"'RBC Reference Table'!U53","v":"-"},{"$f":"'RBC Reference Table'!V53","v":"NV"},{"$f":"'RBC Reference Table'!W53","v":"-"},{"$f":"'RBC Reference Table'!X53","v":"NV"},{"$f":"'RBC Reference Table'!Y53","v":"-"},{"$f":"'RBC Reference Table'!Z53","v":"NV"},{"$f":"'RBC Reference Table'!AA53","v":8.8999999999999999E-3},{"$f":"'RBC Reference Table'!AB53","v":0},{"$f":"'RBC Reference Table'!AC53","v":3.5000000000000003E-2},{"$f":"'RBC Reference Table'!AD53","v":0},{"$f":"'RBC Reference Table'!AE53","v":4.9000000000000002E-2},{"$f":"'RBC Reference Table'!AF53","v":0},{"$f":"'RBC Reference Table'!AG53","v":4.9000000000000002E-2},{"$f":"'RBC Reference Table'!AH53","v":0},{"$f":"'RBC Reference Table'!AI53","v":0.19},{"$f":"'RBC Reference Table'!AJ53","v":0},{"$f":"'RBC Reference Table'!AK53","v":0.27},{"$f":"'RBC Reference Table'!AL53","v":0},{"$f":"'RBC Reference Table'!AM53","v":"-"},{"$f":"'RBC Reference Table'!AN53","v":"NV"},{"$f":"'RBC Reference Table'!AO53","v":"-"},{"$f":"'RBC Reference Table'!AP53","v":"NV"},{"$f":"'RBC Reference Table'!AQ53","v":"-"},{"$f":"'RBC Reference Table'!AR53","v":"NV"},{"$f":"'RBC Reference Table'!AS53","v":"-"},{"$f":"'RBC Reference Table'!AT53","v":"NV"},{"$f":"'RBC Reference Table'!AU53","v":"-"},{"$f":"'RBC Reference Table'!AV53","v":"NV"},{"$f":"'RBC Reference Table'!AW53","v":"-"},{"$f":"'RBC Reference Table'!AX53","v":"NV"},{"$f":"'RBC Reference Table'!AY53","v":830},{"$f":"'RBC Reference Table'!AZ53","v":0},{"$f":"'RBC Reference Table'!BA53","v":"-"},{"$f":"'RBC Reference Table'!BB53","v":"NV"},{"$f":"'RBC Reference Table'!BC53","v":"-"},{"$f":"'RBC Reference Table'!BD53","v":"NV"},{"$f":"'RBC Reference Table'!BE53","v":"-"},{"$f":"'RBC Reference Table'!BF53","v":"NV"},{"$f":"'RBC Reference Table'!BG53","v":"-"},{"$f":"'RBC Reference Table'!BH53","v":">Pv"},{"$f":"'RBC Reference Table'!BI53","v":"-"},{"$f":"'RBC Reference Table'!BJ53","v":">Pv"},{"$f":"'RBC Reference Table'!BK53","v":"-"},{"$f":"'RBC Reference Table'!BL53","v":">Pv"},0,0,0,0,0,0,0,0,0,0,0,0,0,0,0,0,0,0,0,0,0,0,0,0,0,0,0,0,0,0]
[{"$f":"VLOOKUP(H121,'RBC Reference Table'!$B$8:$C$101,2,FALSE)","v":47},null,null,null,null,null,"621-64-7","Di-N-propylnitrosamine (N-nitroso-di-N-propylamine)","c, nv",{"$f":"'RBC Reference Table'!E54","v":7.8E-2},{"$f":"'RBC Reference Table'!F54","v":0},{"$f":"'RBC Reference Table'!G54","v":0.19},{"$f":"'RBC Reference Table'!H54","v":0},{"$f":"'RBC Reference Table'!I54","v":0.33},{"$f":"'RBC Reference Table'!J54","v":0},{"$f":"'RBC Reference Table'!K54","v":2.7},{"$f":"'RBC Reference Table'!L54","v":0},{"$f":"'RBC Reference Table'!M54","v":74},{"$f":"'RBC Reference Table'!N54","v":0},{"$f":"'RBC Reference Table'!O54","v":"-"},{"$f":"'RBC Reference Table'!P54","v":"NV"},{"$f":"'RBC Reference Table'!Q54","v":"-"},{"$f":"'RBC Reference Table'!R54","v":"NV"},{"$f":"'RBC Reference Table'!S54","v":"-"},{"$f":"'RBC Reference Table'!T54","v":"NV"},{"$f":"'RBC Reference Table'!U54","v":"-"},{"$f":"'RBC Reference Table'!V54","v":"NV"},{"$f":"'RBC Reference Table'!W54","v":"-"},{"$f":"'RBC Reference Table'!X54","v":"NV"},{"$f":"'RBC Reference Table'!Y54","v":"-"},{"$f":"'RBC Reference Table'!Z54","v":"NV"},{"$f":"'RBC Reference Table'!AA54","v":9.3999999999999997E-4},{"$f":"'RBC Reference Table'!AB54","v":0},{"$f":"'RBC Reference Table'!AC54","v":3.8E-3},{"$f":"'RBC Reference Table'!AD54","v":0},{"$f":"'RBC Reference Table'!AE54","v":5.4000000000000003E-3},{"$f":"'RBC Reference Table'!AF54","v":0},{"$f":"'RBC Reference Table'!AG54","v":1.0999999999999999E-2},{"$f":"'RBC Reference Table'!AH54","v":0},{"$f":"'RBC Reference Table'!AI54","v":4.2999999999999997E-2},{"$f":"'RBC Reference Table'!AJ54","v":0},{"$f":"'RBC Reference Table'!AK54","v":6.2E-2},{"$f":"'RBC Reference Table'!AL54","v":0},{"$f":"'RBC Reference Table'!AM54","v":"-"},{"$f":"'RBC Reference Table'!AN54","v":"NV"},{"$f":"'RBC Reference Table'!AO54","v":"-"},{"$f":"'RBC Reference Table'!AP54","v":"NV"},{"$f":"'RBC Reference Table'!AQ54","v":"-"},{"$f":"'RBC Reference Table'!AR54","v":"NV"},{"$f":"'RBC Reference Table'!AS54","v":"-"},{"$f":"'RBC Reference Table'!AT54","v":"NV"},{"$f":"'RBC Reference Table'!AU54","v":"-"},{"$f":"'RBC Reference Table'!AV54","v":"NV"},{"$f":"'RBC Reference Table'!AW54","v":"-"},{"$f":"'RBC Reference Table'!AX54","v":"NV"},{"$f":"'RBC Reference Table'!AY54","v":370},{"$f":"'RBC Reference Table'!AZ54","v":0},{"$f":"'RBC Reference Table'!BA54","v":"-"},{"$f":"'RBC Reference Table'!BB54","v":"NV"},{"$f":"'RBC Reference Table'!BC54","v":"-"},{"$f":"'RBC Reference Table'!BD54","v":"NV"},{"$f":"'RBC Reference Table'!BE54","v":"-"},{"$f":"'RBC Reference Table'!BF54","v":"NV"},{"$f":"'RBC Reference Table'!BG54","v":1.4E-3},{"$f":"'RBC Reference Table'!BH54","v":0},{"$f":"'RBC Reference Table'!BI54","v":3.3E-3},{"$f":"'RBC Reference Table'!BJ54","v":0},{"$f":"'RBC Reference Table'!BK54","v":6.1000000000000004E-3},{"$f":"'RBC Reference Table'!BL54","v":0},0,0,0,0,0,0,0,0,0,0,0,0,0,0,0,0,0,0,0,0,0,0,0,0,0,0,0,0,0,0]
[{"$f":"VLOOKUP(H122,'RBC Reference Table'!$B$8:$C$101,2,FALSE)","v":49},null,null,null,null,null,"86-30-6","Diphenylnitrosamine","c, nv",{"$f":"'RBC Reference Table'!E56","v":110},{"$f":"'RBC Reference Table'!F56","v":0},{"$f":"'RBC Reference Table'!G56","v":280},{"$f":"'RBC Reference Table'!H56","v":">Csat"},{"$f":"'RBC Reference Table'!I56","v":470},{"$f":"'RBC Reference Table'!J56","v":">Csat"},{"$f":"'RBC Reference Table'!K56","v":3800},{"$f":"'RBC Reference Table'!L56","v":">Csat"},{"$f":"'RBC Reference Table'!M56","v":110000},{"$f":"'RBC Reference Table'!N56","v":">Csat"},{"$f":"'RBC Reference Table'!O56","v":"-"},{"$f":"'RBC Reference Table'!P56","v":"NV"},{"$f":"'RBC Reference Table'!Q56","v":"-"},{"$f":"'RBC Reference Table'!R56","v":"NV"},{"$f":"'RBC Reference Table'!S56","v":"-"},{"$f":"'RBC Reference Table'!T56","v":"NV"},{"$f":"'RBC Reference Table'!U56","v":"-"},{"$f":"'RBC Reference Table'!V56","v":"NV"},{"$f":"'RBC Reference Table'!W56","v":"-"},{"$f":"'RBC Reference Table'!X56","v":"NV"},{"$f":"'RBC Reference Table'!Y56","v":"-"},{"$f":"'RBC Reference Table'!Z56","v":"NV"},{"$f":"'RBC Reference Table'!AA56","v":10},{"$f":"'RBC Reference Table'!AB56","v":0},{"$f":"'RBC Reference Table'!AC56","v":39},{"$f":"'RBC Reference Table'!AD56","v":0},{"$f":"'RBC Reference Table'!AE56","v":45},{"$f":"'RBC Reference Table'!AF56","v":0},{"$f":"'RBC Reference Table'!AG56","v":13},{"$f":"'RBC Reference Table'!AH56","v":0},{"$f":"'RBC Reference Table'!AI56","v":49},{"$f":"'RBC Reference Table'!AJ56","v":0},{"$f":"'RBC Reference Table'!AK56","v":57},{"$f":"'RBC Reference Table'!AL56","v":0},{"$f":"'RBC Reference Table'!AM56","v":"-"},{"$f":"'RBC Reference Table'!AN56","v":"NV"},{"$f":"'RBC Reference Table'!AO56","v":"-"},{"$f":"'RBC Reference Table'!AP56","v":"NV"},{"$f":"'RBC Reference Table'!AQ56","v":"-"},{"$f":"'RBC Reference Table'!AR56","v":"NV"},{"$f":"'RBC Reference Table'!AS56","v":"-"},{"$f":"'RBC Reference Table'!AT56","v":"NV"},{"$f":"'RBC Reference Table'!AU56","v":"-"},{"$f":"'RBC Reference Table'!AV56","v":"NV"},{"$f":"'RBC Reference Table'!AW56","v":"-"},{"$f":"'RBC Reference Table'!AX56","v":"NV"},{"$f":"'RBC Reference Table'!AY56","v":"-"},{"$f":"'RBC Reference Table'!AZ56","v":">S"},{"$f":"'RBC Reference Table'!BA56","v":"-"},{"$f":"'RBC Reference Table'!BB56","v":"NV"},{"$f":"'RBC Reference Table'!BC56","v":"-"},{"$f":"'RBC Reference Table'!BD56","v":"NV"},{"$f":"'RBC Reference Table'!BE56","v":"-"},{"$f":"'RBC Reference Table'!BF56","v":"NV"},{"$f":"'RBC Reference Table'!BG56","v":1.1000000000000001},{"$f":"'RBC Reference Table'!BH56","v":0},{"$f":"'RBC Reference Table'!BI56","v":2.6},{"$f":"'RBC Reference Table'!BJ56","v":0},{"$f":"'RBC Reference Table'!BK56","v":4.7},{"$f":"'RBC Reference Table'!BL56","v":0},0,0,0,0,0,0,0,0,0,0,0,0,0,0,0,0,0,0,0,0,0,0,0,0,0,0,0,0,0,0]
[{"$f":"VLOOKUP(H123,'RBC Reference Table'!$B$8:$C$101,2,FALSE)","v":57},null,null,null,null,null,"50-00-0","Formaldehyde","c, v",{"$f":"'RBC Reference Table'!E64","v":15},{"$f":"'RBC Reference Table'!F64","v":0},{"$f":"'RBC Reference Table'!G64","v":69},{"$f":"'RBC Reference Table'!H64","v":0},{"$f":"'RBC Reference Table'!I64","v":64},{"$f":"'RBC Reference Table'!J64","v":0},{"$f":"'RBC Reference Table'!K64","v":1600},{"$f":"'RBC Reference Table'!L64","v":0},{"$f":"'RBC Reference Table'!M64","v":44000},{"$f":"'RBC Reference Table'!N64","v":">Csat"},{"$f":"'RBC Reference Table'!O64","v":48},{"$f":"'RBC Reference Table'!P64","v":0},{"$f":"'RBC Reference Table'!Q64","v":110},{"$f":"'RBC Reference Table'!R64","v":0},{"$f":"'RBC Reference Table'!S64","v":630},{"$f":"'RBC Reference Table'!T64","v":0},{"$f":"'RBC Reference Table'!U64","v":48},{"$f":"'RBC Reference Table'!V64","v":0},{"$f":"'RBC Reference Table'!W64","v":110},{"$f":"'RBC Reference Table'!X64","v":0},{"$f":"'RBC Reference Table'!Y64","v":630},{"$f":"'RBC Reference Table'!Z64","v":0},{"$f":"'RBC Reference Table'!AA64","v":2E-3},{"$f":"'RBC Reference Table'!AB64","v":0},{"$f":"'RBC Reference Table'!AC64","v":9.2999999999999992E-3},{"$f":"'RBC Reference Table'!AD64","v":0},{"$f":"'RBC Reference Table'!AE64","v":8.6E-3},{"$f":"'RBC Reference Table'!AF64","v":0},{"$f":"'RBC Reference Table'!AG64","v":0.43},{"$f":"'RBC Reference Table'!AH64","v":0},{"$f":"'RBC Reference Table'!AI64","v":2},{"$f":"'RBC Reference Table'!AJ64","v":0},{"$f":"'RBC Reference Table'!AK64","v":1.9},{"$f":"'RBC Reference Table'!AL64","v":0},{"$f":"'RBC Reference Table'!AM64","v":1500000},{"$f":"'RBC Reference Table'!AN64","v":0},{"$f":"'RBC Reference Table'!AO64","v":3700000},{"$f":"'RBC Reference Table'!AP64","v":0},{"$f":"'RBC Reference Table'!AQ64","v":8500000},{"$f":"'RBC Reference Table'!AR64","v":0},{"$f":"'RBC Reference Table'!AS64","v":650000},{"$f":"'RBC Reference Table'!AT64","v":0},{"$f":"'RBC Reference Table'!AU64","v":1500000},{"$f":"'RBC Reference Table'!AV64","v":0},{"$f":"'RBC Reference Table'!AW64","v":8500000},{"$f":"'RBC Reference Table'!AX64","v":0},{"$f":"'RBC Reference Table'!AY64","v":1300},{"$f":"'RBC Reference Table'!AZ64","v":0},{"$f":"'RBC Reference Table'!BA64","v":43},{"$f":"'RBC Reference Table'!BB64","v":0},{"$f":"'RBC Reference Table'!BC64","v":100},{"$f":"'RBC Reference Table'!BD64","v":0},{"$f":"'RBC Reference Table'!BE64","v":940},{"$f":"'RBC Reference Table'!BF64","v":0},{"$f":"'RBC Reference Table'!BG64","v":0.22},{"$f":"'RBC Reference Table'!BH64","v":0},{"$f":"'RBC Reference Table'!BI64","v":0.51},{"$f":"'RBC Reference Table'!BJ64","v":0},{"$f":"'RBC Reference Table'!BK64","v":0.94},{"$f":"'RBC Reference Table'!BL64","v":0},0,0,0,0,0,0,0,0,0,0,0,0,0,0,0,0,0,0,0,0,0,0,0,0,0,0,0,0,0,0]
[{"$f":"VLOOKUP(H124,'RBC Reference Table'!$B$8:$C$101,2,FALSE)","v":60},null,null,null,null,null,"118-74-1","Hexachlorobenzene","c, v",{"$f":"'RBC Reference Table'!E67","v":0.21},{"$f":"'RBC Reference Table'!F67","v":0},{"$f":"'RBC Reference Table'!G67","v":0.67},{"$f":"'RBC Reference Table'!H67","v":0},{"$f":"'RBC Reference Table'!I67","v":0.93},{"$f":"'RBC Reference Table'!J67","v":0},{"$f":"'RBC Reference Table'!K67","v":11},{"$f":"'RBC Reference Table'!L67","v":0},{"$f":"'RBC Reference Table'!M67","v":320},{"$f":"'RBC Reference Table'!N67","v":0},{"$f":"'RBC Reference Table'!O67","v":1},{"$f":"'RBC Reference Table'!P67","v":0},{"$f":"'RBC Reference Table'!Q67","v":2.4},{"$f":"'RBC Reference Table'!R67","v":0},{"$f":"'RBC Reference Table'!S67","v":13},{"$f":"'RBC Reference Table'!T67","v":0},{"$f":"'RBC Reference Table'!U67","v":1},{"$f":"'RBC Reference Table'!V67","v":0},{"$f":"'RBC Reference Table'!W67","v":2.4},{"$f":"'RBC Reference Table'!X67","v":0},{"$f":"'RBC Reference Table'!Y67","v":13},{"$f":"'RBC Reference Table'!Z67","v":0},{"$f":"'RBC Reference Table'!AA67","v":1.7999999999999999E-2},{"$f":"'RBC Reference Table'!AB67","v":0},{"$f":"'RBC Reference Table'!AC67","v":8.3000000000000004E-2},{"$f":"'RBC Reference Table'!AD67","v":0},{"$f":"'RBC Reference Table'!AE67","v":8.4000000000000005E-2},{"$f":"'RBC Reference Table'!AF67","v":0},{"$f":"'RBC Reference Table'!AG67","v":9.7999999999999997E-3},{"$f":"'RBC Reference Table'!AH67","v":0},{"$f":"'RBC Reference Table'!AI67","v":4.4999999999999998E-2},{"$f":"'RBC Reference Table'!AJ67","v":0},{"$f":"'RBC Reference Table'!AK67","v":4.4999999999999998E-2},{"$f":"'RBC Reference Table'!AL67","v":0},{"$f":"'RBC Reference Table'!AM67","v":"-"},{"$f":"'RBC Reference Table'!AN67","v":">S"},{"$f":"'RBC Reference Table'!AO67","v":"-"},{"$f":"'RBC Reference Table'!AP67","v":">S"},{"$f":"'RBC Reference Table'!AQ67","v":"-"},{"$f":"'RBC Reference Table'!AR67","v":">S"},{"$f":"'RBC Reference Table'!AS67","v":"-"},{"$f":"'RBC Reference Table'!AT67","v":">S"},{"$f":"'RBC Reference Table'!AU67","v":"-"},{"$f":"'RBC Reference Table'!AV67","v":">S"},{"$f":"'RBC Reference Table'!AW67","v":"-"},{"$f":"'RBC Reference Table'!AX67","v":">S"},{"$f":"'RBC Reference Table'!AY67","v":"-"},{"$f":"'RBC Reference Table'!AZ67","v":">S"},{"$f":"'RBC Reference Table'!BA67","v":1.2},{"$f":"'RBC Reference Table'!BB67","v":0},{"$f":"'RBC Reference Table'!BC67","v":2.9},{"$f":"'RBC Reference Table'!BD67","v":0},{"$f":"'RBC Reference Table'!BE67","v":27},{"$f":"'RBC Reference Table'!BF67","v":0},{"$f":"'RBC Reference Table'!BG67","v":6.1000000000000004E-3},{"$f":"'RBC Reference Table'!BH67","v":0},{"$f":"'RBC Reference Table'!BI67","v":1.4E-2},{"$f":"'RBC Reference Table'!BJ67","v":0},{"$f":"'RBC Reference Table'!BK67","v":2.7E-2},{"$f":"'RBC Reference Table'!BL67","v":0},0,0,0,0,0,0,0,0,0,0,0,0,0,0,0,0,0,0,0,0,0,0,0,0,0,0,0,0,0,0]
[{"$f":"VLOOKUP(H125,'RBC Reference Table'!$B$8:$C$101,2,FALSE)","v":61},null,null,null,null,null,"319-84-6","alpha-Hexachlorocyclohexane (alpha-HCH)","c, nv",{"$f":"'RBC Reference Table'!E68","v":8.5999999999999993E-2},{"$f":"'RBC Reference Table'!F68","v":0},{"$f":"'RBC Reference Table'!G68","v":0.21},{"$f":"'RBC Reference Table'!H68","v":0},{"$f":"'RBC Reference Table'!I68","v":0.36},{"$f":"'RBC Reference Table'!J68","v":0},{"$f":"'RBC Reference Table'!K68","v":3},{"$f":"'RBC Reference Table'!L68","v":0},{"$f":"'RBC Reference Table'!M68","v":83},{"$f":"'RBC Reference Table'!N68","v":">Csat"},{"$f":"'RBC Reference Table'!O68","v":"-"},{"$f":"'RBC Reference Table'!P68","v":"NV"},{"$f":"'RBC Reference Table'!Q68","v":"-"},{"$f":"'RBC Reference Table'!R68","v":"NV"},{"$f":"'RBC Reference Table'!S68","v":"-"},{"$f":"'RBC Reference Table'!T68","v":"NV"},{"$f":"'RBC Reference Table'!U68","v":"-"},{"$f":"'RBC Reference Table'!V68","v":"NV"},{"$f":"'RBC Reference Table'!W68","v":"-"},{"$f":"'RBC Reference Table'!X68","v":"NV"},{"$f":"'RBC Reference Table'!Y68","v":"-"},{"$f":"'RBC Reference Table'!Z68","v":"NV"},{"$f":"'RBC Reference Table'!AA68","v":6.3E-3},{"$f":"'RBC Reference Table'!AB68","v":0},{"$f":"'RBC Reference Table'!AC68","v":2.4E-2},{"$f":"'RBC Reference Table'!AD68","v":0},{"$f":"'RBC Reference Table'!AE68","v":2.3E-2},{"$f":"'RBC Reference Table'!AF68","v":0},{"$f":"'RBC Reference Table'!AG68","v":7.4999999999999997E-3},{"$f":"'RBC Reference Table'!AH68","v":0},{"$f":"'RBC Reference Table'!AI68","v":2.8000000000000001E-2},{"$f":"'RBC Reference Table'!AJ68","v":0},{"$f":"'RBC Reference Table'!AK68","v":2.7E-2},{"$f":"'RBC Reference Table'!AL68","v":0},{"$f":"'RBC Reference Table'!AM68","v":"-"},{"$f":"'RBC Reference Table'!AN68","v":"NV"},{"$f":"'RBC Reference Table'!AO68","v":"-"},{"$f":"'RBC Reference Table'!AP68","v":"NV"},{"$f":"'RBC Reference Table'!AQ68","v":"-"},{"$f":"'RBC Reference Table'!AR68","v":"NV"},{"$f":"'RBC Reference Table'!AS68","v":"-"},{"$f":"'RBC Reference Table'!AT68","v":"NV"},{"$f":"'RBC Reference Table'!AU68","v":"-"},{"$f":"'RBC Reference Table'!AV68","v":"NV"},{"$f":"'RBC Reference Table'!AW68","v":"-"},{"$f":"'RBC Reference Table'!AX68","v":"NV"},{"$f":"'RBC Reference Table'!AY68","v":18},{"$f":"'RBC Reference Table'!AZ68","v":0},{"$f":"'RBC Reference Table'!BA68","v":"-"},{"$f":"'RBC Reference Table'!BB68","v":"NV"},{"$f":"'RBC Reference Table'!BC68","v":"-"},{"$f":"'RBC Reference Table'!BD68","v":"NV"},{"$f":"'RBC Reference Table'!BE68","v":"-"},{"$f":"'RBC Reference Table'!BF68","v":"NV"},{"$f":"'RBC Reference Table'!BG68","v":1.6000000000000001E-3},{"$f":"'RBC Reference Table'!BH68","v":0},{"$f":"'RBC Reference Table'!BI68","v":3.7000000000000002E-3},{"$f":"'RBC Reference Table'!BJ68","v":0},{"$f":"'RBC Reference Table'!BK68","v":6.7999999999999996E-3},{"$f":"'RBC Reference Table'!BL68","v":0},0,0,0,0,0,0,0,0,0,0,0,0,0,0,0,0,0,0,0,0,0,0,0,0,0,0,0,0,0,0]
[{"$f":"VLOOKUP(H126,'RBC Reference Table'!$B$8:$C$101,2,FALSE)","v":62},null,null,null,null,null,"58-89-9","gamma-Hexachlorocyclohexane (Lindane)","c, nv",{"$f":"'RBC Reference Table'!E69","v":0.49},{"$f":"'RBC Reference Table'!F69","v":0},{"$f":"'RBC Reference Table'!G69","v":1.2},{"$f":"'RBC Reference Table'!H69","v":0},{"$f":"'RBC Reference Table'!I69","v":2.1},{"$f":"'RBC Reference Table'!J69","v":0},{"$f":"'RBC Reference Table'!K69","v":17},{"$f":"'RBC Reference Table'!L69","v":0},{"$f":"'RBC Reference Table'!M69","v":470},{"$f":"'RBC Reference Table'!N69","v":">Csat"},{"$f":"'RBC Reference Table'!O69","v":"-"},{"$f":"'RBC Reference Table'!P69","v":"NV"},{"$f":"'RBC Reference Table'!Q69","v":"-"},{"$f":"'RBC Reference Table'!R69","v":"NV"},{"$f":"'RBC Reference Table'!S69","v":"-"},{"$f":"'RBC Reference Table'!T69","v":"NV"},{"$f":"'RBC Reference Table'!U69","v":"-"},{"$f":"'RBC Reference Table'!V69","v":"NV"},{"$f":"'RBC Reference Table'!W69","v":"-"},{"$f":"'RBC Reference Table'!X69","v":"NV"},{"$f":"'RBC Reference Table'!Y69","v":"-"},{"$f":"'RBC Reference Table'!Z69","v":"NV"},{"$f":"'RBC Reference Table'!AA69","v":3.5999999999999997E-2},{"$f":"'RBC Reference Table'!AB69","v":0},{"$f":"'RBC Reference Table'!AC69","v":0.13},{"$f":"'RBC Reference Table'!AD69","v":0},{"$f":"'RBC Reference Table'!AE69","v":0.13},{"$f":"'RBC Reference Table'!AF69","v":0},{"$f":"'RBC Reference Table'!AG69","v":4.2999999999999997E-2},{"$f":"'RBC Reference Table'!AH69","v":0},{"$f":"'RBC Reference Table'!AI69","v":0.16},{"$f":"'RBC Reference Table'!AJ69","v":0},{"$f":"'RBC Reference Table'!AK69","v":0.16},{"$f":"'RBC Reference Table'!AL69","v":0},{"$f":"'RBC Reference Table'!AM69","v":"-"},{"$f":"'RBC Reference Table'!AN69","v":"NV"},{"$f":"'RBC Reference Table'!AO69","v":"-"},{"$f":"'RBC Reference Table'!AP69","v":"NV"},{"$f":"'RBC Reference Table'!AQ69","v":"-"},{"$f":"'RBC Reference Table'!AR69","v":"NV"},{"$f":"'RBC Reference Table'!AS69","v":"-"},{"$f":"'RBC Reference Table'!AT69","v":"NV"},{"$f":"'RBC Reference Table'!AU69","v":"-"},{"$f":"'RBC Reference Table'!AV69","v":"NV"},{"$f":"'RBC Reference Table'!AW69","v":"-"},{"$f":"'RBC Reference Table'!AX69","v":"NV"},{"$f":"'RBC Reference Table'!AY69","v":100},{"$f":"'RBC Reference Table'!AZ69","v":0},{"$f":"'RBC Reference Table'!BA69","v":"-"},{"$f":"'RBC Reference Table'!BB69","v":"NV"},{"$f":"'RBC Reference Table'!BC69","v":"-"},{"$f":"'RBC Reference Table'!BD69","v":"NV"},{"$f":"'RBC Reference Table'!BE69","v":"-"},{"$f":"'RBC Reference Table'!BF69","v":"NV"},{"$f":"'RBC Reference Table'!BG69","v":9.1000000000000004E-3},{"$f":"'RBC Reference Table'!BH69","v":0},{"$f":"'RBC Reference Table'!BI69","v":2.1000000000000001E-2},{"$f":"'RBC Reference Table'!BJ69","v":0},{"$f":"'RBC Reference Table'!BK69","v":0.04},{"$f":"'RBC Reference Table'!BL69","v":0},0,0,0,0,0,0,0,0,0,0,0,0,0,0,0,0,0,0,0,0,0,0,0,0,0,0,0,0,0,0]
[{"$f":"VLOOKUP(H127,'RBC Reference Table'!$B$8:$C$101,2,FALSE)","v":63},null,null,null,null,null,"67-72-1","Hexachloroethane","c, v",{"$f":"'RBC Reference Table'!E70","v":7.4},{"$f":"'RBC Reference Table'!F70","v":0},{"$f":"'RBC Reference Table'!G70","v":24},{"$f":"'RBC Reference Table'!H70","v":0},{"$f":"'RBC Reference Table'!I70","v":32},{"$f":"'RBC Reference Table'!J70","v":0},{"$f":"'RBC Reference Table'!K70","v":370},{"$f":"'RBC Reference Table'!L70","v":0},{"$f":"'RBC Reference Table'!M70","v":10000},{"$f":"'RBC Reference Table'!N70","v":">Csat"},{"$f":"'RBC Reference Table'!O70","v":8.1},{"$f":"'RBC Reference Table'!P70","v":0},{"$f":"'RBC Reference Table'!Q70","v":19},{"$f":"'RBC Reference Table'!R70","v":0},{"$f":"'RBC Reference Table'!S70","v":36},{"$f":"'RBC Reference Table'!T70","v":0},{"$f":"'RBC Reference Table'!U70","v":0.57999999999999996},{"$f":"'RBC Reference Table'!V70","v":0},{"$f":"'RBC Reference Table'!W70","v":1.4},{"$f":"'RBC Reference Table'!X70","v":0},{"$f":"'RBC Reference Table'!Y70","v":7.6},{"$f":"'RBC Reference Table'!Z70","v":0},{"$f":"'RBC Reference Table'!AA70","v":2.1999999999999999E-2},{"$f":"'RBC Reference Table'!AB70","v":0},{"$f":"'RBC Reference Table'!AC70","v":9.5000000000000001E-2},{"$f":"'RBC Reference Table'!AD70","v":0},{"$f":"'RBC Reference Table'!AE70","v":8.6999999999999994E-2},{"$f":"'RBC Reference Table'!AF70","v":0},{"$f":"'RBC Reference Table'!AG70","v":0.34},{"$f":"'RBC Reference Table'!AH70","v":0},{"$f":"'RBC Reference Table'!AI70","v":1.5},{"$f":"'RBC Reference Table'!AJ70","v":0},{"$f":"'RBC Reference Table'!AK70","v":1.3},{"$f":"'RBC Reference Table'!AL70","v":0},{"$f":"'RBC Reference Table'!AM70","v":5000},{"$f":"'RBC Reference Table'!AN70","v":0},{"$f":"'RBC Reference Table'!AO70","v":12000},{"$f":"'RBC Reference Table'!AP70","v":0},{"$f":"'RBC Reference Table'!AQ70","v":22000},{"$f":"'RBC Reference Table'!AR70","v":0},{"$f":"'RBC Reference Table'!AS70","v":570},{"$f":"'RBC Reference Table'!AT70","v":0},{"$f":"'RBC Reference Table'!AU70","v":1400},{"$f":"'RBC Reference Table'!AV70","v":0},{"$f":"'RBC Reference Table'!AW70","v":7500},{"$f":"'RBC Reference Table'!AX70","v":0},{"$f":"'RBC Reference Table'!AY70","v":860},{"$f":"'RBC Reference Table'!AZ70","v":0},{"$f":"'RBC Reference Table'!BA70","v":51},{"$f":"'RBC Reference Table'!BB70","v":0},{"$f":"'RBC Reference Table'!BC70","v":120},{"$f":"'RBC Reference Table'!BD70","v":0},{"$f":"'RBC Reference Table'!BE70","v":1100},{"$f":"'RBC Reference Table'!BF70","v":0},{"$f":"'RBC Reference Table'!BG70","v":0.26},{"$f":"'RBC Reference Table'!BH70","v":0},{"$f":"'RBC Reference Table'!BI70","v":0.6},{"$f":"'RBC Reference Table'!BJ70","v":0},{"$f":"'RBC Reference Table'!BK70","v":1.1000000000000001},{"$f":"'RBC Reference Table'!BL70","v":0},0,0,0,0,0,0,0,0,0,0,0,0,0,0,0,0,0,0,0,0,0,0,0,0,0,0,0,0,0,0]
[{"$f":"VLOOKUP(H128,'RBC Reference Table'!$B$8:$C$101,2,FALSE)","v":67},null,null,null,null,null,"94-74-6","MCPA ((4-chloro-2-methylphenoxy)acetic acid)","nc, nv",{"$f":"'RBC Reference Table'!E74","v":32},{"$f":"'RBC Reference Table'!F74","v":0},{"$f":"'RBC Reference Table'!G74","v":63},{"$f":"'RBC Reference Table'!H74","v":0},{"$f":"'RBC Reference Table'!I74","v":410},{"$f":"'RBC Reference Table'!J74","v":">Csat"},{"$f":"'RBC Reference Table'!K74","v":130},{"$f":"'RBC Reference Table'!L74","v":0},{"$f":"'RBC Reference Table'!M74","v":3700},{"$f":"'RBC Reference Table'!N74","v":">Csat"},{"$f":"'RBC Reference Table'!O74","v":"-"},{"$f":"'RBC Reference Table'!P74","v":"NV"},{"$f":"'RBC Reference Table'!Q74","v":"-"},{"$f":"'RBC Reference Table'!R74","v":"NV"},{"$f":"'RBC Reference Table'!S74","v":"-"},{"$f":"'RBC Reference Table'!T74","v":"NV"},{"$f":"'RBC Reference Table'!U74","v":"-"},{"$f":"'RBC Reference Table'!V74","v":"NV"},{"$f":"'RBC Reference Table'!W74","v":"-"},{"$f":"'RBC Reference Table'!X74","v":"NV"},{"$f":"'RBC Reference Table'!Y74","v":"-"},{"$f":"'RBC Reference Table'!Z74","v":"NV"},{"$f":"'RBC Reference Table'!AA74","v":9.7000000000000003E-2},{"$f":"'RBC Reference Table'!AB74","v":0},{"$f":"'RBC Reference Table'!AC74","v":0.4},{"$f":"'RBC Reference Table'!AD74","v":0},{"$f":"'RBC Reference Table'!AE74","v":0.61},{"$f":"'RBC Reference Table'!AF74","v":0},{"$f":"'RBC Reference Table'!AG74","v":7.4},{"$f":"'RBC Reference Table'!AH74","v":0},{"$f":"'RBC Reference Table'!AI74","v":30},{"$f":"'RBC Reference Table'!AJ74","v":0},{"$f":"'RBC Reference Table'!AK74","v":47},{"$f":"'RBC Reference Table'!AL74","v":0},{"$f":"'RBC Reference Table'!AM74","v":"-"},{"$f":"'RBC Reference Table'!AN74","v":"NV"},{"$f":"'RBC Reference Table'!AO74","v":"-"},{"$f":"'RBC Reference Table'!AP74","v":"NV"},{"$f":"'RBC Reference Table'!AQ74","v":"-"},{"$f":"'RBC Reference Table'!AR74","v":"NV"},{"$f":"'RBC Reference Table'!AS74","v":"-"},{"$f":"'RBC Reference Table'!AT74","v":"NV"},{"$f":"'RBC Reference Table'!AU74","v":"-"},{"$f":"'RBC Reference Table'!AV74","v":"NV"},{"$f":"'RBC Reference Table'!AW74","v":"-"},{"$f":"'RBC Reference Table'!AX74","v":"NV"},{"$f":"'RBC Reference Table'!AY74","v":1700},{"$f":"'RBC Reference Table'!AZ74","v":0},{"$f":"'RBC Reference Table'!BA74","v":"-"},{"$f":"'RBC Reference Table'!BB74","v":"NV"},{"$f":"'RBC Reference Table'!BC74","v":"-"},{"$f":"'RBC Reference Table'!BD74","v":"NV"},{"$f":"'RBC Reference Table'!BE74","v":"-"},{"$f":"'RBC Reference Table'!BF74","v":"NV"},{"$f":"'RBC Reference Table'!BG74","v":"-"},{"$f":"'RBC Reference Table'!BH74","v":">Pv"},{"$f":"'RBC Reference Table'!BI74","v":"-"},{"$f":"'RBC Reference Table'!BJ74","v":">Pv"},{"$f":"'RBC Reference Table'!BK74","v":"-"},{"$f":"'RBC Reference Table'!BL74","v":">Pv"},0,0,0,0,0,0,0,0,0,0,0,0,0,0,{"$f":"IF($D128>AL128,1,0)","v":0},{"$f":"IF($D128>AN128,1,0)","v":0},{"$f":"IF($D128>AP128,1,0)","v":0},{"$f":"IF($D128>AR128,1,0)","v":0},{"$f":"IF($D128>AT128,1,0)","v":0},{"$f":"IF($D128>AV128,1,0)","v":0},{"$f":"IF($D128>AX128,1,0)","v":0},{"$f":"IF($D128>AZ128,1,0)","v":0},{"$f":"IF($D128>BB128,1,0)","v":0},{"$f":"IF($D128>BD128,1,0)","v":0},{"$f":"IF($E128>BF128,1,0)","v":0},{"$f":"IF($E128>BH128,1,0)","v":0},{"$f":"IF($E128>BJ128,1,0)","v":0},{"$f":"IF($F128>BL128,1,0)","v":0},{"$f":"IF($F128>BN128,1,0)","v":0},{"$f":"IF($F128>BP128,1,0)","v":0}]
[{"$f":"VLOOKUP(H129,'RBC Reference Table'!$B$8:$C$101,2,FALSE)","v":72},null,null,null,null,null,"87-86-5","Pentachlorophenol","c, nv",{"$f":"'RBC Reference Table'!E79","v":1},{"$f":"'RBC Reference Table'!F79","v":0},{"$f":"'RBC Reference Table'!G79","v":2.6},{"$f":"'RBC Reference Table'!H79","v":0},{"$f":"'RBC Reference Table'!I79","v":4},{"$f":"'RBC Reference Table'!J79","v":0},{"$f":"'RBC Reference Table'!K79","v":34},{"$f":"'RBC Reference Table'!L79","v":0},{"$f":"'RBC Reference Table'!M79","v":960},{"$f":"'RBC Reference Table'!N79","v":0},{"$f":"'RBC Reference Table'!O79","v":"-"},{"$f":"'RBC Reference Table'!P79","v":"NV"},{"$f":"'RBC Reference Table'!Q79","v":"-"},{"$f":"'RBC Reference Table'!R79","v":"NV"},{"$f":"'RBC Reference Table'!S79","v":"-"},{"$f":"'RBC Reference Table'!T79","v":"NV"},{"$f":"'RBC Reference Table'!U79","v":"-"},{"$f":"'RBC Reference Table'!V79","v":"NV"},{"$f":"'RBC Reference Table'!W79","v":"-"},{"$f":"'RBC Reference Table'!X79","v":"NV"},{"$f":"'RBC Reference Table'!Y79","v":"-"},{"$f":"'RBC Reference Table'!Z79","v":"NV"},{"$f":"'RBC Reference Table'!AA79","v":6.6000000000000003E-2},{"$f":"'RBC Reference Table'!AB79","v":0},{"$f":"'RBC Reference Table'!AC79","v":0.23},{"$f":"'RBC Reference Table'!AD79","v":0},{"$f":"'RBC Reference Table'!AE79","v":0.17},{"$f":"'RBC Reference Table'!AF79","v":0},{"$f":"'RBC Reference Table'!AG79","v":4.3999999999999997E-2},{"$f":"'RBC Reference Table'!AH79","v":0},{"$f":"'RBC Reference Table'!AI79","v":0.15},{"$f":"'RBC Reference Table'!AJ79","v":0},{"$f":"'RBC Reference Table'!AK79","v":0.12},{"$f":"'RBC Reference Table'!AL79","v":0},{"$f":"'RBC Reference Table'!AM79","v":"-"},{"$f":"'RBC Reference Table'!AN79","v":"NV"},{"$f":"'RBC Reference Table'!AO79","v":"-"},{"$f":"'RBC Reference Table'!AP79","v":"NV"},{"$f":"'RBC Reference Table'!AQ79","v":"-"},{"$f":"'RBC Reference Table'!AR79","v":"NV"},{"$f":"'RBC Reference Table'!AS79","v":"-"},{"$f":"'RBC Reference Table'!AT79","v":"NV"},{"$f":"'RBC Reference Table'!AU79","v":"-"},{"$f":"'RBC Reference Table'!AV79","v":"NV"},{"$f":"'RBC Reference Table'!AW79","v":"-"},{"$f":"'RBC Reference Table'!AX79","v":"NV"},{"$f":"'RBC Reference Table'!AY79","v":53},{"$f":"'RBC Reference Table'!AZ79","v":0},{"$f":"'RBC Reference Table'!BA79","v":"-"},{"$f":"'RBC Reference Table'!BB79","v":"NV"},{"$f":"'RBC Reference Table'!BC79","v":"-"},{"$f":"'RBC Reference Table'!BD79","v":"NV"},{"$f":"'RBC Reference Table'!BE79","v":"-"},{"$f":"'RBC Reference Table'!BF79","v":"NV"},{"$f":"'RBC Reference Table'!BG79","v":0.55000000000000004},{"$f":"'RBC Reference Table'!BH79","v":0},{"$f":"'RBC Reference Table'!BI79","v":1.3},{"$f":"'RBC Reference Table'!BJ79","v":0},{"$f":"'RBC Reference Table'!BK79","v":2.4},{"$f":"'RBC Reference Table'!BL79","v":0},0,0,0,0,0,0,0,0,0,0,0,0,0,0,0,0,0,0,0,0,0,0,0,0,0,0,0,0,0,0]
[{"$f":"VLOOKUP(H130,'RBC Reference Table'!$B$8:$C$101,2,FALSE)","v":73},null,null,null,null,null,"11097-69-1","Polychlorinated biphenyls (Total PCBs)","c, v",{"$f":"'RBC Reference Table'!E80","v":0.23},{"$f":"'RBC Reference Table'!F80","v":0},{"$f":"'RBC Reference Table'!G80","v":0.6},{"$f":"'RBC Reference Table'!H80","v":0},{"$f":"'RBC Reference Table'!I80","v":0.74},{"$f":"'RBC Reference Table'!J80","v":0},{"$f":"'RBC Reference Table'!K80","v":8.4},{"$f":"'RBC Reference Table'!L80","v":">Csat"},{"$f":"'RBC Reference Table'!M80","v":230},{"$f":"'RBC Reference Table'!N80","v":">Csat"},{"$f":"'RBC Reference Table'!O80","v":"-"},{"$f":"'RBC Reference Table'!P80","v":">Csat"},{"$f":"'RBC Reference Table'!Q80","v":"-"},{"$f":"'RBC Reference Table'!R80","v":">Csat"},{"$f":"'RBC Reference Table'!S80","v":"-"},{"$f":"'RBC Reference Table'!T80","v":">Csat"},{"$f":"'RBC Reference Table'!U80","v":"-"},{"$f":"'RBC Reference Table'!V80","v":">Csat"},{"$f":"'RBC Reference Table'!W80","v":"-"},{"$f":"'RBC Reference Table'!X80","v":">Csat"},{"$f":"'RBC Reference Table'!Y80","v":"-"},{"$f":"'RBC Reference Table'!Z80","v":">Csat"},{"$f":"'RBC Reference Table'!AA80","v":0.24},{"$f":"'RBC Reference Table'!AB80","v":0},{"$f":"'RBC Reference Table'!AC80","v":1.1000000000000001},{"$f":"'RBC Reference Table'!AD80","v":0},{"$f":"'RBC Reference Table'!AE80","v":1.1000000000000001},{"$f":"'RBC Reference Table'!AF80","v":0},{"$f":"'RBC Reference Table'!AG80","v":6.0000000000000001E-3},{"$f":"'RBC Reference Table'!AH80","v":0},{"$f":"'RBC Reference Table'!AI80","v":2.8000000000000001E-2},{"$f":"'RBC Reference Table'!AJ80","v":0},{"$f":"'RBC Reference Table'!AK80","v":2.8000000000000001E-2},{"$f":"'RBC Reference Table'!AL80","v":0},{"$f":"'RBC Reference Table'!AM80","v":"-"},{"$f":"'RBC Reference Table'!AN80","v":">S"},{"$f":"'RBC Reference Table'!AO80","v":"-"},{"$f":"'RBC Reference Table'!AP80","v":">S"},{"$f":"'RBC Reference Table'!AQ80","v":"-"},{"$f":"'RBC Reference Table'!AR80","v":">S"},{"$f":"'RBC Reference Table'!AS80","v":"-"},{"$f":"'RBC Reference Table'!AT80","v":">S"},{"$f":"'RBC Reference Table'!AU80","v":"-"},{"$f":"'RBC Reference Table'!AV80","v":">S"},{"$f":"'RBC Reference Table'!AW80","v":"-"},{"$f":"'RBC Reference Table'!AX80","v":">S"},{"$f":"'RBC Reference Table'!AY80","v":30},{"$f":"'RBC Reference Table'!AZ80","v":0},{"$f":"'RBC Reference Table'!BA80","v":0.99},{"$f":"'RBC Reference Table'!BB80","v":0},{"$f":"'RBC Reference Table'!BC80","v":2.2999999999999998},{"$f":"'RBC Reference Table'!BD80","v":0},{"$f":"'RBC Reference Table'!BE80","v":22},{"$f":"'RBC Reference Table'!BF80","v":0},{"$f":"'RBC Reference Table'!BG80","v":3.8E-3},{"$f":"'RBC Reference Table'!BH80","v":0},{"$f":"'RBC Reference Table'!BI80","v":8.9999999999999993E-3},{"$f":"'RBC Reference Table'!BJ80","v":0},{"$f":"'RBC Reference Table'!BK80","v":1.7000000000000001E-2},{"$f":"'RBC Reference Table'!BL80","v":0},0,0,0,0,0,0,0,0,0,0,0,0,0,0,0,0,0,0,0,0,0,0,0,0,0,0,0,0,0,0]
[{"$f":"VLOOKUP(H131,'RBC Reference Table'!$B$8:$C$101,2,FALSE)","v":77},null,null,null,null,null,"100-42-5","Styrene","nc, v",{"$f":"'RBC Reference Table'!E84","v":7900},{"$f":"'RBC Reference Table'!F84","v":">Csat"},{"$f":"'RBC Reference Table'!G84","v":16000},{"$f":"'RBC Reference Table'!H84","v":">Csat"},{"$f":"'RBC Reference Table'!I84","v":130000},{"$f":"'RBC Reference Table'!J84","v":">Csat"},{"$f":"'RBC Reference Table'!K84","v":56000},{"$f":"'RBC Reference Table'!L84","v":">Csat"},{"$f":"'RBC Reference Table'!M84","v":"-"},{"$f":"'RBC Reference Table'!N84","v":">Max"},{"$f":"'RBC Reference Table'!O84","v":"-"},{"$f":"'RBC Reference Table'!P84","v":">Csat"},{"$f":"'RBC Reference Table'!Q84","v":"-"},{"$f":"'RBC Reference Table'!R84","v":">Csat"},{"$f":"'RBC Reference Table'!S84","v":"-"},{"$f":"'RBC Reference Table'!T84","v":">Csat"},{"$f":"'RBC Reference Table'!U84","v":"-"},{"$f":"'RBC Reference Table'!V84","v":">Csat"},{"$f":"'RBC Reference Table'!W84","v":"-"},{"$f":"'RBC Reference Table'!X84","v":">Csat"},{"$f":"'RBC Reference Table'!Y84","v":"-"},{"$f":"'RBC Reference Table'!Z84","v":">Csat"},{"$f":"'RBC Reference Table'!AA84","v":170},{"$f":"'RBC Reference Table'!AB84","v":0},{"$f":"'RBC Reference Table'!AC84","v":640},{"$f":"'RBC Reference Table'!AD84","v":0},{"$f":"'RBC Reference Table'!AE84","v":800},{"$f":"'RBC Reference Table'!AF84","v":0},{"$f":"'RBC Reference Table'!AG84","v":1200},{"$f":"'RBC Reference Table'!AH84","v":0},{"$f":"'RBC Reference Table'!AI84","v":4600},{"$f":"'RBC Reference Table'!AJ84","v":0},{"$f":"'RBC Reference Table'!AK84","v":5700},{"$f":"'RBC Reference Table'!AL84","v":0},{"$f":"'RBC Reference Table'!AM84","v":"-"},{"$f":"'RBC Reference Table'!AN84","v":">S"},{"$f":"'RBC Reference Table'!AO84","v":"-"},{"$f":"'RBC Reference Table'!AP84","v":">S"},{"$f":"'RBC Reference Table'!AQ84","v":"-"},{"$f":"'RBC Reference Table'!AR84","v":">S"},{"$f":"'RBC Reference Table'!AS84","v":"-"},{"$f":"'RBC Reference Table'!AT84","v":">S"},{"$f":"'RBC Reference Table'!AU84","v":"-"},{"$f":"'RBC Reference Table'!AV84","v":">S"},{"$f":"'RBC Reference Table'!AW84","v":"-"},{"$f":"'RBC Reference Table'!AX84","v":">S"},{"$f":"'RBC Reference Table'!AY84","v":170000},{"$f":"'RBC Reference Table'!AZ84","v":0},{"$f":"'RBC Reference Table'!BA84","v":210000},{"$f":"'RBC Reference Table'!BB84","v":0},{"$f":"'RBC Reference Table'!BC84","v":210000},{"$f":"'RBC Reference Table'!BD84","v":0},{"$f":"'RBC Reference Table'!BE84","v":4400000},{"$f":"'RBC Reference Table'!BF84","v":0},{"$f":"'RBC Reference Table'!BG84","v":1000},{"$f":"'RBC Reference Table'!BH84","v":0},{"$f":"'RBC Reference Table'!BI84","v":1000},{"$f":"'RBC Reference Table'!BJ84","v":0},{"$f":"'RBC Reference Table'!BK84","v":4400},{"$f":"'RBC Reference Table'!BL84","v":0},{"$f":"IF($B131>J131,1,0)","v":0},{"$f":"IF($B131>L131,1,0)","v":0},{"$f":"IF($B131>N131,1,0)","v":0},{"$f":"IF(OR($C131>P131,B131>P131),1,0)","v":0},{"$f":"IF(OR($C131>R131,B131>R131),1,0)","v":0},{"$f":"IF(MAX($B131,$C131)>T131,1,0)","v":0},{"$f":"IF(MAX($B131,$C131)>V131,1,0)","v":0},{"$f":"IF(MAX($B131,$C131)>X131,1,0)","v":0},{"$f":"IF(MAX($B131,$C131)>Z131,1,0)","v":0},{"$f":"IF(MAX($B131,$C131)>AB131,1,0)","v":0},{"$f":"IF(MAX($B131,$C131)>AD131,1,0)","v":0},{"$f":"IF(MAX($B131,$C131)>AF131,1,0)","v":0},{"$f":"IF(MAX($B131,$C131)>AH131,1,0)","v":0},{"$f":"IF(MAX($B131,$C131)>AJ131,1,0)","v":0},0,0,0,0,0,0,0,0,0,0,0,0,0,0,0,0]
[{"$f":"VLOOKUP(H132,'RBC Reference Table'!$B$8:$C$101,2,FALSE)","v":78},null,null,null,null,null,"1746-01-6","2,3,7,8-TCDD (dioxin) equivalents","c, v",{"$f":"'RBC Reference Table'!E85","v":4.7441143396812132E-6},{"$f":"'RBC Reference Table'!F85","v":0},{"$f":"'RBC Reference Table'!G85","v":1.2E-5},{"$f":"'RBC Reference Table'!H85","v":0},{"$f":"'RBC Reference Table'!I85","v":1.5999999999999999E-5},{"$f":"'RBC Reference Table'!J85","v":0},{"$f":"'RBC Reference Table'!K85","v":1.7000000000000001E-4},{"$f":"'RBC Reference Table'!L85","v":0},{"$f":"'RBC Reference Table'!M85","v":4.7999999999999996E-3},{"$f":"'RBC Reference Table'!N85","v":0},{"$f":"'RBC Reference Table'!O85","v":0.01},{"$f":"'RBC Reference Table'!P85","v":0},{"$f":"'RBC Reference Table'!Q85","v":2.4E-2},{"$f":"'RBC Reference Table'!R85","v":0},{"$f":"'RBC Reference Table'!S85","v":0.13},{"$f":"'RBC Reference Table'!T85","v":0},{"$f":"'RBC Reference Table'!U85","v":0.01},{"$f":"'RBC Reference Table'!V85","v":0},{"$f":"'RBC Reference Table'!W85","v":2.4E-2},{"$f":"'RBC Reference Table'!X85","v":0},{"$f":"'RBC Reference Table'!Y85","v":0.13},{"$f":"'RBC Reference Table'!Z85","v":0},{"$f":"'RBC Reference Table'!AA85","v":6.8147899587461333E-6},{"$f":"'RBC Reference Table'!AB85","v":0},{"$f":"'RBC Reference Table'!AC85","v":3.1000000000000001E-5},{"$f":"'RBC Reference Table'!AD85","v":0},{"$f":"'RBC Reference Table'!AE85","v":3.1000000000000001E-5},{"$f":"'RBC Reference Table'!AF85","v":0},{"$f":"'RBC Reference Table'!AG85","v":9.1186967009054988E-8},{"$f":"'RBC Reference Table'!AH85","v":0},{"$f":"'RBC Reference Table'!AI85","v":4.1615093167214994E-7},{"$f":"'RBC Reference Table'!AJ85","v":0},{"$f":"'RBC Reference Table'!AK85","v":4.2091895834227105E-7},{"$f":"'RBC Reference Table'!AL85","v":0},{"$f":"'RBC Reference Table'!AM85","v":2.1999999999999999E-2},{"$f":"'RBC Reference Table'!AN85","v":0},{"$f":"'RBC Reference Table'!AO85","v":5.1999999999999998E-2},{"$f":"'RBC Reference Table'!AP85","v":0},{"$f":"'RBC Reference Table'!AQ85","v":0.11},{"$f":"'RBC Reference Table'!AR85","v":0},{"$f":"'RBC Reference Table'!AS85","v":8.3000000000000001E-3},{"$f":"'RBC Reference Table'!AT85","v":0},{"$f":"'RBC Reference Table'!AU85","v":0.02},{"$f":"'RBC Reference Table'!AV85","v":0},{"$f":"'RBC Reference Table'!AW85","v":0.11},{"$f":"'RBC Reference Table'!AX85","v":0},{"$f":"'RBC Reference Table'!AY85","v":4.4999999999999999E-4},{"$f":"'RBC Reference Table'!AZ85","v":0},{"$f":"'RBC Reference Table'!BA85","v":1.5E-5},{"$f":"'RBC Reference Table'!BB85","v":0},{"$f":"'RBC Reference Table'!BC85","v":3.4999999999999997E-5},{"$f":"'RBC Reference Table'!BD85","v":0},{"$f":"'RBC Reference Table'!BE85","v":3.2000000000000003E-4},{"$f":"'RBC Reference Table'!BF85","v":0},{"$f":"'RBC Reference Table'!BG85","v":5.6835876673933347E-8},{"$f":"'RBC Reference Table'!BH85","v":0},{"$f":"'RBC Reference Table'!BI85","v":1.3433934486566066E-7},{"$f":"'RBC Reference Table'!BJ85","v":0},{"$f":"'RBC Reference Table'!BK85","v":2.4825910931174087E-7},{"$f":"'RBC Reference Table'!BL85","v":0},0,0,0,0,0,0,0,0,0,0,0,0,0,0,0,0,0,0,0,0,0,0,0,0,0,0,0,0,0,0]
[{"$f":"VLOOKUP(H133,'RBC Reference Table'!$B$8:$C$101,2,FALSE)","v":81},null,null,null,null,null,"8001-35-2","Toxaphene","c, nv",{"$f":"'RBC Reference Table'!E88","v":0.49},{"$f":"'RBC Reference Table'!F88","v":0},{"$f":"'RBC Reference Table'!G88","v":1.2},{"$f":"'RBC Reference Table'!H88","v":0},{"$f":"'RBC Reference Table'!I88","v":2.1},{"$f":"'RBC Reference Table'!J88","v":0},{"$f":"'RBC Reference Table'!K88","v":17},{"$f":"'RBC Reference Table'!L88","v":0},{"$f":"'RBC Reference Table'!M88","v":470},{"$f":"'RBC Reference Table'!N88","v":0},{"$f":"'RBC Reference Table'!O88","v":"-"},{"$f":"'RBC Reference Table'!P88","v":"NV"},{"$f":"'RBC Reference Table'!Q88","v":"-"},{"$f":"'RBC Reference Table'!R88","v":"NV"},{"$f":"'RBC Reference Table'!S88","v":"-"},{"$f":"'RBC Reference Table'!T88","v":"NV"},{"$f":"'RBC Reference Table'!U88","v":"-"},{"$f":"'RBC Reference Table'!V88","v":"NV"},{"$f":"'RBC Reference Table'!W88","v":"-"},{"$f":"'RBC Reference Table'!X88","v":"NV"},{"$f":"'RBC Reference Table'!Y88","v":"-"},{"$f":"'RBC Reference Table'!Z88","v":"NV"},{"$f":"'RBC Reference Table'!AA88","v":0.36},{"$f":"'RBC Reference Table'!AB88","v":0},{"$f":"'RBC Reference Table'!AC88","v":1.2},{"$f":"'RBC Reference Table'!AD88","v":0},{"$f":"'RBC Reference Table'!AE88","v":0.93},{"$f":"'RBC Reference Table'!AF88","v":0},{"$f":"'RBC Reference Table'!AG88","v":1.4999999999999999E-2},{"$f":"'RBC Reference Table'!AH88","v":0},{"$f":"'RBC Reference Table'!AI88","v":5.2999999999999999E-2},{"$f":"'RBC Reference Table'!AJ88","v":0},{"$f":"'RBC Reference Table'!AK88","v":0.04},{"$f":"'RBC Reference Table'!AL88","v":0},{"$f":"'RBC Reference Table'!AM88","v":"-"},{"$f":"'RBC Reference Table'!AN88","v":"NV"},{"$f":"'RBC Reference Table'!AO88","v":"-"},{"$f":"'RBC Reference Table'!AP88","v":"NV"},{"$f":"'RBC Reference Table'!AQ88","v":"-"},{"$f":"'RBC Reference Table'!AR88","v":"NV"},{"$f":"'RBC Reference Table'!AS88","v":"-"},{"$f":"'RBC Reference Table'!AT88","v":"NV"},{"$f":"'RBC Reference Table'!AU88","v":"-"},{"$f":"'RBC Reference Table'!AV88","v":"NV"},{"$f":"'RBC Reference Table'!AW88","v":"-"},{"$f":"'RBC Reference Table'!AX88","v":"NV"},{"$f":"'RBC Reference Table'!AY88","v":18},{"$f":"'RBC Reference Table'!AZ88","v":0},{"$f":"'RBC Reference Table'!BA88","v":"-"},{"$f":"'RBC Reference Table'!BB88","v":"NV"},{"$f":"'RBC Reference Table'!BC88","v":"-"},{"$f":"'RBC Reference Table'!BD88","v":"NV"},{"$f":"'RBC Reference Table'!BE88","v":"-"},{"$f":"'RBC Reference Table'!BF88","v":"NV"},{"$f":"'RBC Reference Table'!BG88","v":8.8000000000000005E-3},{"$f":"'RBC Reference Table'!BH88","v":0},{"$f":"'RBC Reference Table'!BI88","v":2.1000000000000001E-2},{"$f":"'RBC Reference Table'!BJ88","v":0},{"$f":"'RBC Reference Table'!BK88","v":3.7999999999999999E-2},{"$f":"'RBC Reference Table'!BL88","v":0},0,0,0,0,0,0,0,0,0,0,0,0,0,0,0,0,0,0,0,0,0,0,0,0,0,0,0,0,0,0]
[{"$f":"VLOOKUP(H134,'RBC Reference Table'!$B$8:$C$101,2,FALSE)","v":82},null,null,null,null,null,"76-13-1","1,1,2-Trichloro-1,2,2-trifluoroethane (Freon 113)","nc, v",{"$f":"'RBC Reference Table'!E89","v":400000},{"$f":"'RBC Reference Table'!F89","v":">Csat"},{"$f":"'RBC Reference Table'!G89","v":800000},{"$f":"'RBC Reference Table'!H89","v":">Csat"},{"$f":"'RBC Reference Table'!I89","v":"-"},{"$f":"'RBC Reference Table'!J89","v":">Max"},{"$f":"'RBC Reference Table'!K89","v":"-"},{"$f":"'RBC Reference Table'!L89","v":">Max"},{"$f":"'RBC Reference Table'!M89","v":"-"},{"$f":"'RBC Reference Table'!N89","v":">Max"},{"$f":"'RBC Reference Table'!O89","v":"-"},{"$f":"'RBC Reference Table'!P89","v":">Csat"},{"$f":"'RBC Reference Table'!Q89","v":"-"},{"$f":"'RBC Reference Table'!R89","v":">Csat"},{"$f":"'RBC Reference Table'!S89","v":"-"},{"$f":"'RBC Reference Table'!T89","v":">Max"},{"$f":"'RBC Reference Table'!U89","v":"-"},{"$f":"'RBC Reference Table'!V89","v":">Csat"},{"$f":"'RBC Reference Table'!W89","v":"-"},{"$f":"'RBC Reference Table'!X89","v":">Csat"},{"$f":"'RBC Reference Table'!Y89","v":"-"},{"$f":"'RBC Reference Table'!Z89","v":">Csat"},{"$f":"'RBC Reference Table'!AA89","v":"-"},{"$f":"'RBC Reference Table'!AB89","v":">Csat"},{"$f":"'RBC Reference Table'!AC89","v":"-"},{"$f":"'RBC Reference Table'!AD89","v":">Csat"},{"$f":"'RBC Reference Table'!AE89","v":"-"},{"$f":"'RBC Reference Table'!AF89","v":">Csat"},{"$f":"'RBC Reference Table'!AG89","v":55000},{"$f":"'RBC Reference Table'!AH89","v":0},{"$f":"'RBC Reference Table'!AI89","v":"-"},{"$f":"'RBC Reference Table'!AJ89","v":">S"},{"$f":"'RBC Reference Table'!AK89","v":"-"},{"$f":"'RBC Reference Table'!AL89","v":">S"},{"$f":"'RBC Reference Table'!AM89","v":"-"},{"$f":"'RBC Reference Table'!AN89","v":">S"},{"$f":"'RBC Reference Table'!AO89","v":"-"},{"$f":"'RBC Reference Table'!AP89","v":">S"},{"$f":"'RBC Reference Table'!AQ89","v":"-"},{"$f":"'RBC Reference Table'!AR89","v":">S"},{"$f":"'RBC Reference Table'!AS89","v":"-"},{"$f":"'RBC Reference Table'!AT89","v":">S"},{"$f":"'RBC Reference Table'!AU89","v":"-"},{"$f":"'RBC Reference Table'!AV89","v":">S"},{"$f":"'RBC Reference Table'!AW89","v":"-"},{"$f":"'RBC Reference Table'!AX89","v":">S"},{"$f":"'RBC Reference Table'!AY89","v":"-"},{"$f":"'RBC Reference Table'!AZ89","v":">S"},{"$f":"'RBC Reference Table'!BA89","v":6300000},{"$f":"'RBC Reference Table'!BB89","v":0},{"$f":"'RBC Reference Table'!BC89","v":6300000},{"$f":"'RBC Reference Table'!BD89","v":0},{"$f":"'RBC Reference Table'!BE89","v":131400000},{"$f":"'RBC Reference Table'!BF89","v":0},{"$f":"'RBC Reference Table'!BG89","v":31000},{"$f":"'RBC Reference Table'!BH89","v":0},{"$f":"'RBC Reference Table'!BI89","v":31000},{"$f":"'RBC Reference Table'!BJ89","v":0},{"$f":"'RBC Reference Table'!BK89","v":130000},{"$f":"'RBC Reference Table'!BL89","v":0},0,0,0,0,0,0,0,0,0,0,0,0,0,0,0,0,0,0,0,0,0,0,0,0,0,0,0,0,0,0]
[{"$f":"VLOOKUP(H135,'RBC Reference Table'!$B$8:$C$101,2,FALSE)","v":86},null,null,null,null,null,"75-69-4","Trichlorofluoromethane (Freon 11)","nc, v",{"$f":"'RBC Reference Table'!E93","v":7600},{"$f":"'RBC Reference Table'!F93","v":">Csat"},{"$f":"'RBC Reference Table'!G93","v":15000},{"$f":"'RBC Reference Table'!H93","v":">Csat"},{"$f":"'RBC Reference Table'!I93","v":130000},{"$f":"'RBC Reference Table'!J93","v":">Csat"},{"$f":"'RBC Reference Table'!K93","v":69000},{"$f":"'RBC Reference Table'!L93","v":">Csat"},{"$f":"'RBC Reference Table'!M93","v":"-"},{"$f":"'RBC Reference Table'!N93","v":">Max"},{"$f":"'RBC Reference Table'!O93","v":"-"},{"$f":"'RBC Reference Table'!P93","v":">Csat"},{"$f":"'RBC Reference Table'!Q93","v":"-"},{"$f":"'RBC Reference Table'!R93","v":">Csat"},{"$f":"'RBC Reference Table'!S93","v":"-"},{"$f":"'RBC Reference Table'!T93","v":">Csat"},{"$f":"'RBC Reference Table'!U93","v":190},{"$f":"'RBC Reference Table'!V93","v":0},{"$f":"'RBC Reference Table'!W93","v":190},{"$f":"'RBC Reference Table'!X93","v":0},{"$f":"'RBC Reference Table'!Y93","v":"-"},{"$f":"'RBC Reference Table'!Z93","v":">Csat"},{"$f":"'RBC Reference Table'!AA93","v":61},{"$f":"'RBC Reference Table'!AB93","v":0},{"$f":"'RBC Reference Table'!AC93","v":230},{"$f":"'RBC Reference Table'!AD93","v":0},{"$f":"'RBC Reference Table'!AE93","v":280},{"$f":"'RBC Reference Table'!AF93","v":0},{"$f":"'RBC Reference Table'!AG93","v":1100},{"$f":"'RBC Reference Table'!AH93","v":0},{"$f":"'RBC Reference Table'!AI93","v":4200},{"$f":"'RBC Reference Table'!AJ93","v":0},{"$f":"'RBC Reference Table'!AK93","v":5200},{"$f":"'RBC Reference Table'!AL93","v":0},{"$f":"'RBC Reference Table'!AM93","v":780000},{"$f":"'RBC Reference Table'!AN93","v":0},{"$f":"'RBC Reference Table'!AO93","v":780000},{"$f":"'RBC Reference Table'!AP93","v":0},{"$f":"'RBC Reference Table'!AQ93","v":"-"},{"$f":"'RBC Reference Table'!AR93","v":">S"},{"$f":"'RBC Reference Table'!AS93","v":36000},{"$f":"'RBC Reference Table'!AT93","v":0},{"$f":"'RBC Reference Table'!AU93","v":36000},{"$f":"'RBC Reference Table'!AV93","v":0},{"$f":"'RBC Reference Table'!AW93","v":460000},{"$f":"'RBC Reference Table'!AX93","v":0},{"$f":"'RBC Reference Table'!AY93","v":160000},{"$f":"'RBC Reference Table'!AZ93","v":0},{"$f":"'RBC Reference Table'!BA93","v":150000},{"$f":"'RBC Reference Table'!BB93","v":0},{"$f":"'RBC Reference Table'!BC93","v":150000},{"$f":"'RBC Reference Table'!BD93","v":0},{"$f":"'RBC Reference Table'!BE93","v":3100000},{"$f":"'RBC Reference Table'!BF93","v":0},{"$f":"'RBC Reference Table'!BG93","v":730},{"$f":"'RBC Reference Table'!BH93","v":0},{"$f":"'RBC Reference Table'!BI93","v":730},{"$f":"'RBC Reference Table'!BJ93","v":0},{"$f":"'RBC Reference Table'!BK93","v":3100},{"$f":"'RBC Reference Table'!BL93","v":0},0,0,0,0,0,0,0,0,0,0,0,0,0,0,0,0,0,0,0,0,0,0,0,0,0,0,0,0,0,0]
[{"$f":"VLOOKUP(H136,'RBC Reference Table'!$B$8:$C$101,2,FALSE)","v":87},null,null,null,null,null,"88-06-2","2,4,6-Trichlorophenol","c, nv",{"$f":"'RBC Reference Table'!E94","v":49},{"$f":"'RBC Reference Table'!F94","v":0},{"$f":"'RBC Reference Table'!G94","v":120},{"$f":"'RBC Reference Table'!H94","v":0},{"$f":"'RBC Reference Table'!I94","v":210},{"$f":"'RBC Reference Table'!J94","v":0},{"$f":"'RBC Reference Table'!K94","v":1700},{"$f":"'RBC Reference Table'!L94","v":0},{"$f":"'RBC Reference Table'!M94","v":47000},{"$f":"'RBC Reference Table'!N94","v":">Csat"},{"$f":"'RBC Reference Table'!O94","v":"-"},{"$f":"'RBC Reference Table'!P94","v":"NV"},{"$f":"'RBC Reference Table'!Q94","v":"-"},{"$f":"'RBC Reference Table'!R94","v":"NV"},{"$f":"'RBC Reference Table'!S94","v":"-"},{"$f":"'RBC Reference Table'!T94","v":"NV"},{"$f":"'RBC Reference Table'!U94","v":"-"},{"$f":"'RBC Reference Table'!V94","v":"NV"},{"$f":"'RBC Reference Table'!W94","v":"-"},{"$f":"'RBC Reference Table'!X94","v":"NV"},{"$f":"'RBC Reference Table'!Y94","v":"-"},{"$f":"'RBC Reference Table'!Z94","v":"NV"},{"$f":"'RBC Reference Table'!AA94","v":2.4},{"$f":"'RBC Reference Table'!AB94","v":0},{"$f":"'RBC Reference Table'!AC94","v":8.9},{"$f":"'RBC Reference Table'!AD94","v":0},{"$f":"'RBC Reference Table'!AE94","v":8.9},{"$f":"'RBC Reference Table'!AF94","v":0},{"$f":"'RBC Reference Table'!AG94","v":4.4000000000000004},{"$f":"'RBC Reference Table'!AH94","v":0},{"$f":"'RBC Reference Table'!AI94","v":17},{"$f":"'RBC Reference Table'!AJ94","v":0},{"$f":"'RBC Reference Table'!AK94","v":16},{"$f":"'RBC Reference Table'!AL94","v":0},{"$f":"'RBC Reference Table'!AM94","v":"-"},{"$f":"'RBC Reference Table'!AN94","v":"NV"},{"$f":"'RBC Reference Table'!AO94","v":"-"},{"$f":"'RBC Reference Table'!AP94","v":"NV"},{"$f":"'RBC Reference Table'!AQ94","v":"-"},{"$f":"'RBC Reference Table'!AR94","v":"NV"},{"$f":"'RBC Reference Table'!AS94","v":"-"},{"$f":"'RBC Reference Table'!AT94","v":"NV"},{"$f":"'RBC Reference Table'!AU94","v":"-"},{"$f":"'RBC Reference Table'!AV94","v":"NV"},{"$f":"'RBC Reference Table'!AW94","v":"-"},{"$f":"'RBC Reference Table'!AX94","v":"NV"},{"$f":"'RBC Reference Table'!AY94","v":11000},{"$f":"'RBC Reference Table'!AZ94","v":0},{"$f":"'RBC Reference Table'!BA94","v":"-"},{"$f":"'RBC Reference Table'!BB94","v":"NV"},{"$f":"'RBC Reference Table'!BC94","v":"-"},{"$f":"'RBC Reference Table'!BD94","v":"NV"},{"$f":"'RBC Reference Table'!BE94","v":"-"},{"$f":"'RBC Reference Table'!BF94","v":"NV"},{"$f":"'RBC Reference Table'!BG94","v":0.91},{"$f":"'RBC Reference Table'!BH94","v":0},{"$f":"'RBC Reference Table'!BI94","v":2.1},{"$f":"'RBC Reference Table'!BJ94","v":0},{"$f":"'RBC Reference Table'!BK94","v":4},{"$f":"'RBC Reference Table'!BL94","v":0},0,0,0,0,0,0,0,0,0,0,0,0,0,0,0,0,0,0,0,0,0,0,0,0,0,0,0,0,0,0]
[]
[]
[]
[]
[]
[null,"Notes:"]
[null,1,"A zero (0) for the maximum concentration means the constituent was tested for but was not detected in any sample."]
[null,2,"If the maximum concentration is blank, no samples were analized for that constituent in its respective media."]
[null,3,"RBCs Updated May 2018"]
[null,4,"Direct or Indirect Pathway Codes have the following meanings: DC means it is a direct contact pathway with a limiting value of Csat. IVS means it is an indirect pathway with a limiting value of Csat. DS means it is a direct contact pathway with a limiting value equal to the solubility, S. IVW means it is an indirect pathway with a limiting value equal to the solubility,  S. DCA means it is a direct contact pathway with a limiting value equal to the vapor pressure, Pv. "]
[null,"c","This chemical is a known or suspected carcinogen. The RBCs in this row were calculated using equations for carcinogens.  "]
[null,"c*","The RBCs in this row were calculated using equations for both carcinogens and noncarcinogens (where lower). For some scenarios the RBCs based on non-carcinogenic effects are lower than RBCs based on cancer effects for these chemicals.  You should use the lower of the calculated RBCs for each exposure scenario, as shown in this table."]
[null,">Csat","This soil RBC exceeds the limit of three-phase equilibrium partitioning. Refer to \"ChemData\" page for the corresponding value of Csat. Soil concentrations in excess of Csat indicate that free product might be present. See Section B.2.1.4 for additional information.  "]
[null,"L","The values for lead reported in this table are not calculated. See Section B.3.4 for the source of the lead numbers and information on applying them.   "]
[null,">Max","The constituent RBC for this pathway is calculated as greater than 1,000,000 mg/kg or 1,000,000 mg/L. Therefore, this substance is deemed not to pose risks in this scenario. "]
[null,"BG","The standard RBC value has been replaced with the background value from the physiographic region of the site."]

{"sheet":"Risk Calculations","index":3,"n_rows":105,"n_cols":129,"rows_kept":105,"cut":false,"hidden":false,"merged":[[3,81,3,84],[3,85,3,88],[3,89,3,92],[3,93,3,96],[3,97,3,100],[3,101,3,104],[3,33,3,36],[3,37,3,40],[3,41,3,44],[3,45,3,48],[3,49,3,52],[3,53,3,56],[3,57,3,60],[3,61,3,64],[3,77,3,80],[1,125,1,128],[1,101,1,104],[1,105,1,108],[1,109,1,112],[1,113,1,116],[1,93,1,96],[1,97,1,100],[2,121,2,124],[2,125,2,128],[2,37,2,40],[2,41,2,44],[1,69,1,72],[1,73,1,76],[1,61,1,64],[1,65,1,68],[2,81,2,84],[2,85,2,88],[2,89,2,92],[1,37,1,40],[1,41,1,44],[1,45,1,48],[1,49,1,52],[2,57,2,60],[1,53,1,56],[1,57,1,60],[0,17,0,20],[0,21,0,24],[0,25,0,28],[0,29,0,32],[2,17,2,20],[2,21,2,24],[2,25,2,28],[2,29,2,32],[2,33,2,36],[1,17,1,20],[1,21,1,24],[1,25,1,28],[1,29,1,32],[1,33,1,36],[0,33,0,36],[0,57,0,60],[1,77,1,80],[1,81,1,84],[1,85,1,88],[1,89,1,92],[0,77,0,80],[0,81,0,84],[0,85,0,88],[0,89,0,92],[101,1,101,8],[0,13,0,16],[1,13,1,16],[2,13,2,16],[3,13,3,16],[4,6,4,8],[5,6,5,8],[0,9,0,12],[1,9,1,12],[2,9,2,12],[3,9,3,12],[2,6,3,8],[0,6,1,8],[5,1,5,2],[5,3,6,3],[5,4,6,4],[5,5,6,5],[0,1,4,5],[4,9,4,12],[5,9,5,12],[4,13,4,16],[0,37,0,40],[0,41,0,44],[3,17,3,20],[3,21,3,24],[3,25,3,28],[3,29,3,32],[2,113,2,116],[2,117,2,120],[2,105,2,108],[2,109,2,112],[2,65,2,68],[2,69,2,72],[2,73,2,76],[2,77,2,80],[2,61,2,64],[3,113,3,116],[3,117,3,120],[0,61,0,64],[0,45,0,48],[0,49,0,52],[2,45,2,48],[2,49,2,52],[2,53,2,56],[0,53,0,56],[3,121,3,124],[3,125,3,128],[3,105,3,108],[3,109,3,112],[3,65,3,68],[3,69,3,72],[3,73,3,76],[0,109,0,112],[0,113,0,116],[0,117,0,120],[0,121,0,124],[0,101,0,104],[0,105,0,108],[0,65,0,68],[0,69,0,72],[0,73,0,76],[0,125,0,128],[0,93,0,96],[0,97,0,100],[2,93,2,96],[2,97,2,100],[2,101,2,104],[1,117,1,120],[1,121,1,124],[4,17,4,20],[4,21,4,24],[4,25,4,28],[4,29,4,32],[4,33,4,36],[4,37,4,40],[4,41,4,44],[4,45,4,48],[4,49,4,52],[4,105,4,108],[4,109,4,112],[4,113,4,116],[4,117,4,120],[4,121,4,124],[4,53,4,56],[4,57,4,60],[4,61,4,64],[4,65,4,68],[4,69,4,72],[4,73,4,76],[4,77,4,80],[4,81,4,84],[4,85,4,88],[5,81,5,84],[5,85,5,88],[5,89,5,92],[5,93,5,96],[5,97,5,100],[5,101,5,104],[4,89,4,92],[4,93,4,96],[4,97,4,100],[4,101,4,104],[5,105,5,108],[5,109,5,112],[5,113,5,116],[5,117,5,120],[5,121,5,124],[5,125,5,128],[4,125,4,128],[5,13,5,16],[5,17,5,20],[5,21,5,24],[5,25,5,28],[5,29,5,32],[5,33,5,36],[5,37,5,40],[5,41,5,44],[5,45,5,48],[5,49,5,52],[5,53,5,56],[5,57,5,60],[5,61,5,64],[5,65,5,68],[5,69,5,72],[5,73,5,76],[5,77,5,80]]}
[null,"Risk Calculations\n\nMaximum Concentrations\nFrom Applicable RBC Table",null,null,null,null,"Contaminated Medium",null,null,"SOIL ",null,null,null,"SOIL ",null,null,null,"SOIL ",null,null,null,"SOIL ",null,null,null,"SOIL ",null,null,null,"SOIL ",null,null,null,"SOIL ",null,null,null,"SOIL ",null,null,null,"SOIL ",null,null,null,"SOIL ",null,null,null,"SOIL ",null,null,null,"SOIL ",null,null,null,"SOIL ",null,null,null,"SOIL ",null,null,null,"GROUNDWATER",null,null,null,"GROUNDWATER",null,null,null,"GROUNDWATER",null,null,null,"GROUNDWATER",null,null,null,"GROUNDWATER",null,null,null,"GROUNDWATER",null,null,null,"GROUNDWATER",null,null,null,"GROUNDWATER",null,null,null,"GROUNDWATER",null,null,null,"GROUNDWATER",null,null,null,"SOIL GAS",null,null,null,"SOIL GAS",null,null,null,"SOIL GAS",null,null,null,"AIR",null,null,null,"AIR",null,null,null,"AIR"]
[null,null,null,null,null,null,null,null,null,"mg/Kg (ppm)",null,null,null,"mg/Kg (ppm)",null,null,null,"mg/Kg (ppm)",null,null,null,"mg/Kg (ppm)",null,null,null,"mg/Kg (ppm)",null,null,null,"mg/Kg (ppm)",null,null,null,"mg/Kg (ppm)",null,null,null,"mg/Kg (ppm)",null,null,null,"mg/Kg (ppm)",null,null,null,"mg/Kg (ppm)",null,null,null,"mg/Kg (ppm)",null,null,null,"mg/Kg (ppm)",null,null,null,"mg/Kg (ppm)",null,null,null,"mg/Kg (ppm)",null,null,null,"µg/L (ppb)",null,null,null,"µg/L (ppb)",null,null,null,"µg/L (ppb)",null,null,null,"µg/L (ppb)",null,null,null,"µg/L (ppb)",null,null,null,"µg/L (ppb)",null,null,null,"µg/L (ppb)",null,null,null,"µg/L (ppb)",null,null,null,"µg/L (ppb)",null,null,null,"µg/L (ppb)",null,null,null,"µg/m3",null,null,null,"µg/m3",null,null,null,"µg/m3",null,null,null,"µg/m3",null,null,null,"µg/m3",null,null,null,"µg/m3"]
[null,null,null,null,null,null,"Exposure Pathway",null,null,"Soil Ingestion, Dermal Contact, and Inhalation",null,null,null,"Soil Ingestion, Dermal Contact, and Inhalation",null,null,null,"Soil Ingestion, Dermal Contact, and Inhalation",null,null,null,"Soil Ingestion, Dermal Contact, and Inhalation",null,null,null,"Soil Ingestion, Dermal Contact, and Inhalation",null,null,null,"Volatilization to Outdoor Air",null,null,null,"Volatilization to Outdoor Air",null,null,null,"Volatilization to Outdoor Air",null,null,null,"Vapor Intrusion into Buildings",null,null,null,"Vapor Intrusion into Buildings",null,null,null,"Vapor Intrusion into Buildings",null,null,null,"Leaching to Groundwater",null,null,null,"Leaching to Groundwater",null,null,null,"Leaching to Groundwater",null,null,null,"Ingestion, Dermal  & Inhalation from Tapwater",null,null,null,"Ingestion, Dermal  & Inhalation from Tapwater",null,null,null,"Ingestion, Dermal  & Inhalation from Tapwater",null,null,null,"Volatilization to Outdoor Air",null,null,null,"Volatilization to Outdoor Air",null,null,null,"Volatilization to Outdoor Air",null,null,null,"Vapor Intrusion into Buildings",null,null,null,"Vapor Intrusion into Buildings",null,null,null,"Vapor Intrusion into Buildings",null,null,null,"GW in Excavation",null,null,null,"Vapor Intrusion into Buildings",null,null,null,"Vapor Intrusion into Buildings",null,null,null,"Vapor Intrusion into Buildings",null,null,null,"Inhalation",null,null,null,"Inhalation",null,null,null,"Inhalation"]
[null,null,null,null,null,null,null,null,null,"RBCss",null,null,null,"RBCss",null,null,null,"RBCss",null,null,null,"RBCss",null,null,null,"RBCss",null,null,null,"RBCso",null,null,null,"RBCso",null,null,null,"RBCso",null,null,null,"RBCsi",null,null,null,"RBCsi",null,null,null,"RBCsi",null,null,null,"RBCsw",null,null,null,"RBCsw",null,null,null,"RBCsw",null,null,null,"RBCtw",null,null,null,"RBCtw",null,null,null,"RBCtw",null,null,null,"RBCwo",null,null,null,"RBCwo",null,null,null,"RBCwo",null,null,null,"RBCwi",null,null,null,"RBCwi",null,null,null,"RBCwi",null,null,null,"RBCwe",null,null,null,"RBCsv",null,null,null,"RBCsv",null,null,null,"RBCsv",null,null,null,"RBCair",null,null,null,"RBCair",null,null,null,"RBCair"]
[null,null,null,null,null,null,"Receptor Scenario",null,null,"Residential",null,null,null,"Urban Residential",null,null,null,"Occupational",null,null,null,"Construction Worker",null,null,null,"Excavation Worker",null,null,null,"Residential",null,null,null,"Urban Residential",null,null,null,"Occupational",null,null,null,"Residential",null,null,null,"Urban Residential",null,null,null,"Occupational",null,null,null,"Residential",null,null,null,"Urban Residential",null,null,null,"Occupational",null,null,null,"Residential",null,null,null,"Urban Residential",null,null,null,"Occupational",null,null,null,"Residential",null,null,null,"Urban Residential",null,null,null,"Occupational",null,null,null,"Residential",null,null,null,"Urban Residential",null,null,null,"Occupational",null,null,null,"Construction & Excavation Worker",null,null,null,"Residential",null,null,null,"Urban Residential",null,null,null,"Occupational",null,null,null,"Residential",null,null,null,"Urban Residential",null,null,null,"Occupational"]
[null,"Soil",null,"Groundwater","Soil Gas","Air","Direct or Indirect Pathway (see notes)  ",null,null,"DCS",null,null,null,"DCS",null,null,null,"DCS",null,null,null,"DCS",null,null,null,"DCS",null,null,null,"IVS",null,null,null,"IVS",null,null,null,"IVS",null,null,null,"IVS",null,null,null,"IVS",null,null,null,"IVS",null,null,null,"ILS",null,null,null,"ILS",null,null,null,"ILS",null,null,null,"DCW",null,null,null,"DCW",null,null,null,"DCW",null,null,null,"IVW",null,null,null,"IVW",null,null,null,"IVW",null,null,null,"IVW",null,null,null,"IVW",null,null,null,"IVW",null,null,null,"DCW",null,null,null,"ICA",null,null,null,"ICA",null,null,null,"ICA",null,null,null,"DCA",null,null,null,"DCA",null,null,null,"DCA"]
["Analyte helper collumn for referencing from applicable RBC table","Surface","SubSurface",null,null,null,"CASn","Chemical","Note",null,"Note","ECR","HI",null,"Note","ECR","HI",null,"Note","ECR","HI",null,"Note","ECR","HI",null,"Note","ECR","HI",null,"Note","ECR","HI",null,"Note","ECR","HI",null,"Note","ECR","HI",null,"Note","ECR","HI",null,"Note","ECR","HI",null,"Note","ECR","HI",null,"Note","ECR","HI",null,"Note","ECR","HI",null,"Note","ECR","HI",null,"Note","ECR","HI",null,"Note","ECR","HI",null,"Note","ECR","HI",null,"Note","ECR","HI",null,"Note","ECR","HI",null,"Note","ECR","HI",null,"Note","ECR","HI",null,"Note","ECR","HI",null,"Note","ECR","HI",null,"Note","ECR","HI",1,"Note","ECR","HI",1,"Note","ECR","HI",1,"Note","ECR","HI",null,"Note","ECR","HI",null,"Note","ECR","HI",null,"Note","ECR","HI"]
[1,{"$f":"VLOOKUP($A8,'Applicable RBC Table'!$A$43:$F$136,2,FALSE)","v":0},{"$f":"VLOOKUP($A8,'Applicable RBC Table'!$A$43:$F$136,3,FALSE)","v":0},{"$f":"VLOOKUP($A8,'Applicable RBC Table'!$A$43:$F$136,4,FALSE)","v":0},{"$f":"VLOOKUP($A8,'Applicable RBC Table'!$A$43:$F$136,5,FALSE)","v":0},{"$f":"VLOOKUP($A8,'Applicable RBC Table'!$A$43:$F$136,6,FALSE)","v":0},"83-32-9","Acenaphthene","nc, v",{"$f":"'RBC Reference Table'!E8","v":4700},{"$f":"'RBC Reference Table'!F8","v":">Csat"},"--",{"$f":"IF(ISNUMBER(J8),$B8/J8,\"\")","v":0},{"$f":"'RBC Reference Table'!G8","v":9400},{"$f":"'RBC Reference Table'!H8","v":">Csat"},"--",{"$f":"IF(ISNUMBER(N8),$B8/N8,\"\")","v":0},{"$f":"'RBC Reference Table'!I8","v":70000},{"$f":"'RBC Reference Table'!J8","v":">Csat"},"--",{"$f":"IF(ISNUMBER(R8),$B8/R8,\"\")","v":0},{"$f":"'RBC Reference Table'!K8","v":21000},{"$f":"'RBC Reference Table'!L8","v":">Csat"},"--",{"$f":"IF(ISNUMBER(V8),MAX($B8,$C8)/V8,\"\")","v":0},{"$f":"'RBC Reference Table'!M8","v":590000},{"$f":"'RBC Reference Table'!N8","v":">Csat"},"--",{"$f":"IF(ISNUMBER(Z8),MAX($B8,$C8)/Z8,\"\")","v":0},{"$f":"'RBC Reference Table'!O8","v":"-"},{"$f":"'RBC Reference Table'!P8","v":">Max"},"--",{"$f":"IF(ISNUMBER(AD8),MAX($B8:$C8)/AD8,\"\")","v":""},{"$f":"'RBC Reference Table'!O8","v":"-"},{"$f":"'RBC Reference Table'!P8","v":">Max"},"--",{"$f":"IF(ISNUMBER(AH8),MAX($B8:$C8)/AH8,\"\")","v":""},{"$f":"'RBC Reference Table'!S8","v":"-"},{"$f":"'RBC Reference Table'!T8","v":">Max"},"--",{"$f":"IF(ISNUMBER(AL8),MAX($B8:$C8)/AL8,\"\")","v":""},{"$f":"'RBC Reference Table'!U8","v":"-"},{"$f":"'RBC Reference Table'!V8","v":">Max"},"--",{"$f":"IF(ISNUMBER(AP8),MAX($B8:$C8)/AP8,\"\")","v":""},{"$f":"'RBC Reference Table'!W8","v":"-"},{"$f":"'RBC Reference Table'!X8","v":">Max"},"--",{"$f":"IF(ISNUMBER(AT8),MAX($B8:$C8)/AT8,\"\")","v":""},{"$f":"'RBC Reference Table'!Y8","v":"-"},{"$f":"'RBC Reference Table'!Z8","v":">Max"},"--",{"$f":"IF(ISNUMBER(AX8),MAX($B8:$C8)/AX8,\"\")","v":""},{"$f":"'RBC Reference Table'!AA8","v":"-"},{"$f":"'RBC Reference Table'!AB8","v":">Csat"},null,null,{"$f":"'RBC Reference Table'!AC8","v":"-"},{"$f":"'RBC Reference Table'!AD8","v":">Csat"},null,null,{"$f":"'RBC Reference Table'!AE8","v":"-"},{"$f":"'RBC Reference Table'!AF8","v":">Csat"},null,null,{"$f":"'RBC Reference Table'!AG8","v":510},{"$f":"'RBC Reference Table'!AH8","v":0},"--",{"$f":"IF(ISNUMBER(BN8),$D8/BN8,\"\")","v":0},{"$f":"'RBC Reference Table'!AI8","v":2400},{"$f":"'RBC Reference Table'!AJ8","v":0},"--",{"$f":"IF(ISNUMBER(BR8),$D8/BR8,\"\")","v":0},{"$f":"'RBC Reference Table'!AK8","v":2500},{"$f":"'RBC Reference Table'!AL8","v":0},"--",{"$f":"IF(ISNUMBER(BV8),$D8/BV8,\"\")","v":0},{"$f":"'RBC Reference Table'!AM8","v":"-"},{"$f":"'RBC Reference Table'!AN8","v":">S"},"--",{"$f":"IF(ISNUMBER(BZ8),$D8/BZ8,\"\")","v":""},{"$f":"'RBC Reference Table'!AO8","v":"-"},{"$f":"'RBC Reference Table'!AP8","v":">S"},"--",{"$f":"IF(ISNUMBER(CD8),$D8/CD8,\"\")","v":""},{"$f":"'RBC Reference Table'!AQ8","v":"-"},{"$f":"'RBC Reference Table'!AR8","v":">S"},"--",{"$f":"IF(ISNUMBER(CH8),$D8/CH8,\"\")","v":""},{"$f":"'RBC Reference Table'!AS8","v":"-"},{"$f":"'RBC Reference Table'!AT8","v":">S"},"--",{"$f":"IF(ISNUMBER(CL8),$D8/CL8,\"\")","v":""},{"$f":"'RBC Reference Table'!AU8","v":"-"},{"$f":"'RBC Reference Table'!AV8","v":">S"},"--",{"$f":"IF(ISNUMBER(CP8),$D8/CP8,\"\")","v":""},{"$f":"'RBC Reference Table'!AW8","v":"-"},{"$f":"'RBC Reference Table'!AX8","v":">S"},"--",{"$f":"IF(ISNUMBER(CT8),$D8/CT8,\"\")","v":""},{"$f":"'RBC Reference Table'!AY8","v":"-"},{"$f":"'RBC Reference Table'!AZ8","v":">S"},"--",{"$f":"IF(ISNUMBER(CX8),$D8/CX8,\"\")","v":""},{"$f":"'RBC Reference Table'!BA8","v":"-"},{"$f":"'RBC Reference Table'!BB8","v":">Pv"},"--",{"$f":"IF(ISNUMBER(DB8),$E8/DB8,\"\")","v":""},{"$f":"'RBC Reference Table'!BC8","v":"-"},{"$f":"'RBC Reference Table'!BD8","v":">Pv"},"--",{"$f":"IF(ISNUMBER(DF8),$E8/DF8,\"\")","v":""},{"$f":"'RBC Reference Table'!#REF!","v":{"$error":"#REF!"}},{"$f":"'RBC Reference Table'!#REF!","v":{"$error":"#REF!"}},"--",{"$f":"IF(ISNUMBER(DJ8),$E8/DJ8,\"\")","v":""},{"$f":"'RBC Reference Table'!BG8","v":"-"},">Pv","--",{"$f":"IF(ISNUMBER(DN8),$F8/DN8,\"\")","v":""},{"$f":"'RBC Reference Table'!BI8","v":"-"},">Pv","--",{"$f":"IF(ISNUMBER(DR8),$F8/DR8,\"\")","v":""},{"$f":"'RBC Reference Table'!BK8","v":"-"},">Pv","--",{"$f":"IF(ISNUMBER(DV8),$F8/DV8,\"\")","v":""}]
[2,{"$f":"VLOOKUP($A9,'Applicable RBC Table'!$A$43:$F$136,2,FALSE)","v":0},{"$f":"VLOOKUP($A9,'Applicable RBC Table'!$A$43:$F$136,3,FALSE)","v":0},{"$f":"VLOOKUP($A9,'Applicable RBC Table'!$A$43:$F$136,4,FALSE)","v":0},{"$f":"VLOOKUP($A9,'Applicable RBC Table'!$A$43:$F$136,5,FALSE)","v":0},{"$f":"VLOOKUP($A9,'Applicable RBC Table'!$A$43:$F$136,6,FALSE)","v":0},"107-13-1","Acrylonitrile","c, v",{"$f":"'RBC Reference Table'!E9","v":0.86},{"$f":"'RBC Reference Table'!F9","v":0},{"$f":"IF(ISNUMBER(J9),($B9/J9)*10^-6,\"\")","v":0},"--",{"$f":"'RBC Reference Table'!G9","v":2.5},{"$f":"'RBC Reference Table'!H9","v":0},{"$f":"IF(ISNUMBER(N9),($B9/N9)*10^-6,\"\")","v":0},"--",{"$f":"'RBC Reference Table'!I9","v":4},{"$f":"'RBC Reference Table'!J9","v":0},{"$f":"IF(ISNUMBER(R9),($B9/R9)*10^-6,\"\")","v":0},"--",{"$f":"'RBC Reference Table'!K9","v":40},{"$f":"'RBC Reference Table'!L9","v":0},{"$f":"IF(ISNUMBER(V9),(MAX($B9,$C9)/V9)*10^-6,\"\")","v":0},"--",{"$f":"'RBC Reference Table'!M9","v":1100},{"$f":"'RBC Reference Table'!N9","v":0},{"$f":"IF(ISNUMBER(Z9),(MAX($B9,$C9)/Z9)*10^-6,\"\")","v":0},"--",{"$f":"'RBC Reference Table'!O9","v":1.3},{"$f":"'RBC Reference Table'!P9","v":0},{"$f":"IF(ISNUMBER(AD9),(MAX($B9:$C9)/AD9)*10^-6,\"\")","v":0},"--",{"$f":"'RBC Reference Table'!O9","v":1.3},{"$f":"'RBC Reference Table'!P9","v":0},{"$f":"IF(ISNUMBER(AH9),(MAX($B9:$C9)/AH9)*10^-6,\"\")","v":0},"--",{"$f":"'RBC Reference Table'!S9","v":5.8},{"$f":"'RBC Reference Table'!T9","v":0},{"$f":"IF(ISNUMBER(AL9),(MAX($B9:$C9)/AL9)*10^-6,\"\")","v":0},"--",{"$f":"'RBC Reference Table'!U9","v":7.9000000000000001E-2},{"$f":"'RBC Reference Table'!V9","v":0},{"$f":"IF(ISNUMBER(AP9),(MAX($B9:$C9)/AP9)*10^-6,\"\")","v":0},"--",{"$f":"'RBC Reference Table'!W9","v":0.19},{"$f":"'RBC Reference Table'!X9","v":0},{"$f":"IF(ISNUMBER(AT9),(MAX($B9:$C9)/AT9)*10^-6,\"\")","v":0},"--",{"$f":"'RBC Reference Table'!Y9","v":1},{"$f":"'RBC Reference Table'!Z9","v":0},{"$f":"IF(ISNUMBER(AX9),(MAX($B9:$C9)/AX9)*10^-6,\"\")","v":0},"--",{"$f":"'RBC Reference Table'!AA9","v":3.6000000000000002E-4},{"$f":"'RBC Reference Table'!AB9","v":0},null,null,{"$f":"'RBC Reference Table'!AC9","v":1.6000000000000001E-3},{"$f":"'RBC Reference Table'!AD9","v":0},null,null,{"$f":"'RBC Reference Table'!AE9","v":1.6999999999999999E-3},{"$f":"'RBC Reference Table'!AF9","v":0},null,null,{"$f":"'RBC Reference Table'!AG9","v":5.1999999999999998E-2},{"$f":"'RBC Reference Table'!AH9","v":0},{"$f":"IF(ISNUMBER(BN9),($D9/BN9)*10^-6,\"\")","v":0},"--",{"$f":"'RBC Reference Table'!AI9","v":0.23},{"$f":"'RBC Reference Table'!AJ9","v":0},{"$f":"IF(ISNUMBER(BR9),($D9/BR9)*10^-6,\"\")","v":0},"--",{"$f":"'RBC Reference Table'!AK9","v":0.25},{"$f":"'RBC Reference Table'!AL9","v":0},{"$f":"IF(ISNUMBER(BV9),($D9/BV9)*10^-6,\"\")","v":0},"--",{"$f":"'RBC Reference Table'!AM9","v":2200},{"$f":"'RBC Reference Table'!AN9","v":0},{"$f":"IF(ISNUMBER(BZ9),($D9/BZ9)*10^-6,\"\")","v":0},"--",{"$f":"'RBC Reference Table'!AO9","v":5300},{"$f":"'RBC Reference Table'!AP9","v":0},{"$f":"IF(ISNUMBER(CD9),($D9/CD9)*10^-6,\"\")","v":0},"--",{"$f":"'RBC Reference Table'!AQ9","v":9800},{"$f":"'RBC Reference Table'!AR9","v":0},{"$f":"IF(ISNUMBER(CH9),($D9/CH9)*10^-6,\"\")","v":0},"--",{"$f":"'RBC Reference Table'!AS9","v":700},{"$f":"'RBC Reference Table'!AT9","v":0},{"$f":"IF(ISNUMBER(CL9),($D9/CL9)*10^-6,\"\")","v":0},"--",{"$f":"'RBC Reference Table'!AU9","v":1700},{"$f":"'RBC Reference Table'!AV9","v":0},{"$f":"IF(ISNUMBER(CP9),($D9/CP9)*10^-6,\"\")","v":0},"--",{"$f":"'RBC Reference Table'!AW9","v":9200},{"$f":"'RBC Reference Table'!AX9","v":0},{"$f":"IF(ISNUMBER(CT9),($D9/CT9)*10^-6,\"\")","v":0},"--",{"$f":"'RBC Reference Table'!AY9","v":250},{"$f":"'RBC Reference Table'!AZ9","v":0},{"$f":"IF(ISNUMBER(CX9),($D9/CX9)*10^-6,\"\")","v":0},"--",{"$f":"'RBC Reference Table'!BA9","v":8.3000000000000007},{"$f":"'RBC Reference Table'!BB9","v":0},{"$f":"IF(ISNUMBER(DB9),($E9/DB9)*10^-6,\"\")","v":0},"--",{"$f":"'RBC Reference Table'!BC9","v":20},{"$f":"'RBC Reference Table'!BD9","v":0},{"$f":"IF(ISNUMBER(DF9),($E9/DF9)*10^-6,\"\")","v":0},"--",{"$f":"'RBC Reference Table'!BE8","v":"-"},{"$f":"'RBC Reference Table'!BF8","v":">Pv"},{"$f":"IF(ISNUMBER(DJ9),($E9/DJ9)*10^-6,\"\")","v":""},"--",{"$f":"'RBC Reference Table'!BG9","v":4.1000000000000002E-2},null,{"$f":"IF(ISNUMBER(DN9),($F9/DN9)*10^-6,\"\")","v":0},"--",{"$f":"'RBC Reference Table'!BI9","v":9.8000000000000004E-2},null,{"$f":"IF(ISNUMBER(DR9),($F9/DR9)*10^-6,\"\")","v":0},"--",{"$f":"'RBC Reference Table'!BK9","v":0.18},null,{"$f":"IF(ISNUMBER(DV9),($F9/DV9)*10^-6,\"\")","v":0},"--"]
[3,{"$f":"VLOOKUP($A10,'Applicable RBC Table'!$A$43:$F$136,2,FALSE)","v":0},{"$f":"VLOOKUP($A10,'Applicable RBC Table'!$A$43:$F$136,3,FALSE)","v":0},{"$f":"VLOOKUP($A10,'Applicable RBC Table'!$A$43:$F$136,4,FALSE)","v":0},{"$f":"VLOOKUP($A10,'Applicable RBC Table'!$A$43:$F$136,5,FALSE)","v":0},{"$f":"VLOOKUP($A10,'Applicable RBC Table'!$A$43:$F$136,6,FALSE)","v":0},"309-00-2","Aldrin","c, v",{"$f":"'RBC Reference Table'!E10","v":3.1E-2},{"$f":"'RBC Reference Table'!F10","v":0},{"$f":"IF(ISNUMBER(J10),($B10/J10)*10^-6,\"\")","v":0},"--",{"$f":"'RBC Reference Table'!G10","v":7.8E-2},{"$f":"'RBC Reference Table'!H10","v":0},{"$f":"IF(ISNUMBER(N10),($B10/N10)*10^-6,\"\")","v":0},"--",{"$f":"'RBC Reference Table'!I10","v":0.13},{"$f":"'RBC Reference Table'!J10","v":0},{"$f":"IF(ISNUMBER(R10),($B10/R10)*10^-6,\"\")","v":0},"--",{"$f":"'RBC Reference Table'!K10","v":1.1000000000000001},{"$f":"'RBC Reference Table'!L10","v":0},{"$f":"IF(ISNUMBER(V10),(MAX($B10,$C10)/V10)*10^-6,\"\")","v":0},"--",{"$f":"'RBC Reference Table'!M10","v":30},{"$f":"'RBC Reference Table'!N10","v":">Csat"},{"$f":"IF(ISNUMBER(Z10),(MAX($B10,$C10)/Z10)*10^-6,\"\")","v":0},"--",{"$f":"'RBC Reference Table'!O10","v":"-"},{"$f":"'RBC Reference Table'!P10","v":">Csat"},{"$f":"IF(ISNUMBER(AD10),(MAX($B10:$C10)/AD10)*10^-6,\"\")","v":""},"--",{"$f":"'RBC Reference Table'!O10","v":"-"},{"$f":"'RBC Reference Table'!P10","v":">Csat"},{"$f":"IF(ISNUMBER(AH10),(MAX($B10:$C10)/AH10)*10^-6,\"\")","v":""},"--",{"$f":"'RBC Reference Table'!S10","v":"-"},{"$f":"'RBC Reference Table'!T10","v":">Csat"},{"$f":"IF(ISNUMBER(AL10),(MAX($B10:$C10)/AL10)*10^-6,\"\")","v":""},"--",{"$f":"'RBC Reference Table'!U10","v":"-"},{"$f":"'RBC Reference Table'!V10","v":">Csat"},{"$f":"IF(ISNUMBER(AP10),(MAX($B10:$C10)/AP10)*10^-6,\"\")","v":""},"--",{"$f":"'RBC Reference Table'!W10","v":"-"},{"$f":"'RBC Reference Table'!X10","v":">Csat"},{"$f":"IF(ISNUMBER(AT10),(MAX($B10:$C10)/AT10)*10^-6,\"\")","v":""},"--",{"$f":"'RBC Reference Table'!Y10","v":"-"},{"$f":"'RBC Reference Table'!Z10","v":">Csat"},{"$f":"IF(ISNUMBER(AX10),(MAX($B10:$C10)/AX10)*10^-6,\"\")","v":""},"--",{"$f":"'RBC Reference Table'!AA10","v":2.3E-2},{"$f":"'RBC Reference Table'!AB10","v":0},null,null,{"$f":"'RBC Reference Table'!AC10","v":0.1},{"$f":"'RBC Reference Table'!AD10","v":0},null,null,{"$f":"'RBC Reference Table'!AE10","v":0.1},{"$f":"'RBC Reference Table'!AF10","v":0},null,null,{"$f":"'RBC Reference Table'!AG10","v":9.2000000000000003E-4},{"$f":"'RBC Reference Table'!AH10","v":0},{"$f":"IF(ISNUMBER(BN10),($D10/BN10)*10^-6,\"\")","v":0},"--",{"$f":"'RBC Reference Table'!AI10","v":4.1999999999999997E-3},{"$f":"'RBC Reference Table'!AJ10","v":0},{"$f":"IF(ISNUMBER(BR10),($D10/BR10)*10^-6,\"\")","v":0},"--",{"$f":"'RBC Reference Table'!AK10","v":4.1999999999999997E-3},{"$f":"'RBC Reference Table'!AL10","v":0},{"$f":"IF(ISNUMBER(BV10),($D10/BV10)*10^-6,\"\")","v":0},"--",{"$f":"'RBC Reference Table'!AM10","v":"-"},{"$f":"'RBC Reference Table'!AN10","v":">S"},{"$f":"IF(ISNUMBER(BZ10),($D10/BZ10)*10^-6,\"\")","v":""},"--",{"$f":"'RBC Reference Table'!AO10","v":"-"},{"$f":"'RBC Reference Table'!AP10","v":">S"},{"$f":"IF(ISNUMBER(CD10),($D10/CD10)*10^-6,\"\")","v":""},"--",{"$f":"'RBC Reference Table'!AQ10","v":"-"},{"$f":"'RBC Reference Table'!AR10","v":">S"},{"$f":"IF(ISNUMBER(CH10),($D10/CH10)*10^-6,\"\")","v":""},"--",{"$f":"'RBC Reference Table'!AS10","v":"-"},{"$f":"'RBC Reference Table'!AT10","v":">S"},{"$f":"IF(ISNUMBER(CL10),($D10/CL10)*10^-6,\"\")","v":""},"--",{"$f":"'RBC Reference Table'!AU10","v":"-"},{"$f":"'RBC Reference Table'!AV10","v":">S"},{"$f":"IF(ISNUMBER(CP10),($D10/CP10)*10^-6,\"\")","v":""},"--",{"$f":"'RBC Reference Table'!AW10","v":"-"},{"$f":"'RBC Reference Table'!AX10","v":">S"},{"$f":"IF(ISNUMBER(CT10),($D10/CT10)*10^-6,\"\")","v":""},"--",{"$f":"'RBC Reference Table'!AY10","v":3.5},{"$f":"'RBC Reference Table'!AZ10","v":0},{"$f":"IF(ISNUMBER(CX10),($D10/CX10)*10^-6,\"\")","v":0},"--",{"$f":"'RBC Reference Table'!BA10","v":0.11},{"$f":"'RBC Reference Table'!BB10","v":0},{"$f":"IF(ISNUMBER(DB10),($E10/DB10)*10^-6,\"\")","v":0},"--",{"$f":"'RBC Reference Table'!BC10","v":0.27},{"$f":"'RBC Reference Table'!BD10","v":0},{"$f":"IF(ISNUMBER(DF10),($E10/DF10)*10^-6,\"\")","v":0},"--",{"$f":"'RBC Reference Table'!BE9","v":180},{"$f":"'RBC Reference Table'!BF9","v":0},{"$f":"IF(ISNUMBER(DJ10),($E10/DJ10)*10^-6,\"\")","v":0},"--",{"$f":"'RBC Reference Table'!BG10","v":5.6999999999999998E-4},null,{"$f":"IF(ISNUMBER(DN10),($F10/DN10)*10^-6,\"\")","v":0},"--",{"$f":"'RBC Reference Table'!BI10","v":1.4E-3},null,{"$f":"IF(ISNUMBER(DR10),($F10/DR10)*10^-6,\"\")","v":0},"--",{"$f":"'RBC Reference Table'!BK10","v":2.5000000000000001E-3},null,{"$f":"IF(ISNUMBER(DV10),($F10/DV10)*10^-6,\"\")","v":0},"--"]
[4,{"$f":"VLOOKUP($A11,'Applicable RBC Table'!$A$43:$F$136,2,FALSE)","v":0},{"$f":"VLOOKUP($A11,'Applicable RBC Table'!$A$43:$F$136,3,FALSE)","v":0},{"$f":"VLOOKUP($A11,'Applicable RBC Table'!$A$43:$F$136,4,FALSE)","v":0},{"$f":"VLOOKUP($A11,'Applicable RBC Table'!$A$43:$F$136,5,FALSE)","v":0},{"$f":"VLOOKUP($A11,'Applicable RBC Table'!$A$43:$F$136,6,FALSE)","v":0},"120-12-7","Anthracene","nc, v",{"$f":"'RBC Reference Table'!E11","v":23000},{"$f":"'RBC Reference Table'!F11","v":">Csat"},"--",{"$f":"IF(ISNUMBER(J11),$B11/J11,\"\")","v":0},{"$f":"'RBC Reference Table'!G11","v":47000},{"$f":"'RBC Reference Table'!H11","v":">Csat"},"--",{"$f":"IF(ISNUMBER(N11),$B11/N11,\"\")","v":0},{"$f":"'RBC Reference Table'!I11","v":350000},{"$f":"'RBC Reference Table'!J11","v":">Csat"},"--",{"$f":"IF(ISNUMBER(R11),$B11/R11,\"\")","v":0},{"$f":"'RBC Reference Table'!K11","v":110000},{"$f":"'RBC Reference Table'!L11","v":">Csat"},"--",{"$f":"IF(ISNUMBER(V11),MAX($B11,$C11)/V11,\"\")","v":0},{"$f":"'RBC Reference Table'!M11","v":"-"},{"$f":"'RBC Reference Table'!N11","v":">Max"},"--",{"$f":"IF(ISNUMBER(Z11),MAX($B11,$C11)/Z11,\"\")","v":""},{"$f":"'RBC Reference Table'!O11","v":"-"},{"$f":"'RBC Reference Table'!P11","v":">Max"},"--",{"$f":"IF(ISNUMBER(AD11),MAX($B11:$C11)/AD11,\"\")","v":""},{"$f":"'RBC Reference Table'!O11","v":"-"},{"$f":"'RBC Reference Table'!P11","v":">Max"},"--",{"$f":"IF(ISNUMBER(AH11),MAX($B11:$C11)/AH11,\"\")","v":""},{"$f":"'RBC Reference Table'!S11","v":"-"},{"$f":"'RBC Reference Table'!T11","v":">Max"},"--",{"$f":"IF(ISNUMBER(AL11),MAX($B11:$C11)/AL11,\"\")","v":""},{"$f":"'RBC Reference Table'!U11","v":"-"},{"$f":"'RBC Reference Table'!V11","v":">Max"},"--",{"$f":"IF(ISNUMBER(AP11),MAX($B11:$C11)/AP11,\"\")","v":""},{"$f":"'RBC Reference Table'!W11","v":"-"},{"$f":"'RBC Reference Table'!X11","v":">Max"},"--",{"$f":"IF(ISNUMBER(AT11),MAX($B11:$C11)/AT11,\"\")","v":""},{"$f":"'RBC Reference Table'!Y11","v":"-"},{"$f":"'RBC Reference Table'!Z11","v":">Max"},"--",{"$f":"IF(ISNUMBER(AX11),MAX($B11:$C11)/AX11,\"\")","v":""},{"$f":"'RBC Reference Table'!AA11","v":"-"},{"$f":"'RBC Reference Table'!AB11","v":">Csat"},null,null,{"$f":"'RBC Reference Table'!AC11","v":"-"},{"$f":"'RBC Reference Table'!AD11","v":">Csat"},null,null,{"$f":"'RBC Reference Table'!AE11","v":"-"},{"$f":"'RBC Reference Table'!AF11","v":">Csat"},null,null,{"$f":"'RBC Reference Table'!AG11","v":"-"},{"$f":"'RBC Reference Table'!AH11","v":">S"},"--",{"$f":"IF(ISNUMBER(BN11),$D11/BN11,\"\")","v":""},{"$f":"'RBC Reference Table'!AI11","v":"-"},{"$f":"'RBC Reference Table'!AJ11","v":">S"},"--",{"$f":"IF(ISNUMBER(BR11),$D11/BR11,\"\")","v":""},{"$f":"'RBC Reference Table'!AK11","v":"-"},{"$f":"'RBC Reference Table'!AL11","v":">S"},"--",{"$f":"IF(ISNUMBER(BV11),$D11/BV11,\"\")","v":""},{"$f":"'RBC Reference Table'!AM11","v":"-"},{"$f":"'RBC Reference Table'!AN11","v":">S"},"--",{"$f":"IF(ISNUMBER(BZ11),$D11/BZ11,\"\")","v":""},{"$f":"'RBC Reference Table'!AO11","v":"-"},{"$f":"'RBC Reference Table'!AP11","v":">S"},"--",{"$f":"IF(ISNUMBER(CD11),$D11/CD11,\"\")","v":""},{"$f":"'RBC Reference Table'!AQ11","v":"-"},{"$f":"'RBC Reference Table'!AR11","v":">S"},"--",{"$f":"IF(ISNUMBER(CH11),$D11/CH11,\"\")","v":""},{"$f":"'RBC Reference Table'!AS11","v":"-"},{"$f":"'RBC Reference Table'!AT11","v":">S"},"--",{"$f":"IF(ISNUMBER(CL11),$D11/CL11,\"\")","v":""},{"$f":"'RBC Reference Table'!AU11","v":"-"},{"$f":"'RBC Reference Table'!AV11","v":">S"},"--",{"$f":"IF(ISNUMBER(CP11),$D11/CP11,\"\")","v":""},{"$f":"'RBC Reference Table'!AW11","v":"-"},{"$f":"'RBC Reference Table'!AX11","v":">S"},"--",{"$f":"IF(ISNUMBER(CT11),$D11/CT11,\"\")","v":""},{"$f":"'RBC Reference Table'!AY11","v":"-"},{"$f":"'RBC Reference Table'!AZ11","v":">S"},"--",{"$f":"IF(ISNUMBER(CX11),$D11/CX11,\"\")","v":""},{"$f":"'RBC Reference Table'!BA11","v":"-"},{"$f":"'RBC Reference Table'!BB11","v":">Pv"},"--",{"$f":"IF(ISNUMBER(DB11),$E11/DB11,\"\")","v":""},{"$f":"'RBC Reference Table'!BC11","v":"-"},{"$f":"'RBC Reference Table'!BD11","v":">Pv"},"--",{"$f":"IF(ISNUMBER(DF11),$E11/DF11,\"\")","v":""},{"$f":"'RBC Reference Table'!BE10","v":2.5},{"$f":"'RBC Reference Table'!BF10","v":0},"--",{"$f":"IF(ISNUMBER(DJ11),$E11/DJ11,\"\")","v":0},{"$f":"'RBC Reference Table'!BG11","v":"-"},">Pv","--",{"$f":"IF(ISNUMBER(DN11),$F11/DN11,\"\")","v":""},{"$f":"'RBC Reference Table'!BI11","v":"-"},">Pv","--",{"$f":"IF(ISNUMBER(DR11),$F11/DR11,\"\")","v":""},{"$f":"'RBC Reference Table'!BK11","v":"-"},">Pv","--",{"$f":"IF(ISNUMBER(DV11),$F11/DV11,\"\")","v":""}]
[5,{"$f":"VLOOKUP($A12,'Applicable RBC Table'!$A$43:$F$136,2,FALSE)","v":0},{"$f":"VLOOKUP($A12,'Applicable RBC Table'!$A$43:$F$136,3,FALSE)","v":0},{"$f":"VLOOKUP($A12,'Applicable RBC Table'!$A$43:$F$136,4,FALSE)","v":0},{"$f":"VLOOKUP($A12,'Applicable RBC Table'!$A$43:$F$136,5,FALSE)","v":0},{"$f":"VLOOKUP($A12,'Applicable RBC Table'!$A$43:$F$136,6,FALSE)","v":0},"7440-38-2","Arsenic","c, nv",{"$f":"'RBC Reference Table'!BM12","v":0.43},{"$f":"'RBC Reference Table'!F12","v":0},{"$f":"IF(ISNUMBER(J12),($B12/J12)*10^-6,\"\")","v":0},"--",{"$f":"'RBC Reference Table'!BO12","v":1},{"$f":"'RBC Reference Table'!H12","v":0},{"$f":"IF(ISNUMBER(N12),($B12/N12)*10^-6,\"\")","v":0},"--",{"$f":"'RBC Reference Table'!BQ12","v":1.9},{"$f":"'RBC Reference Table'!J12","v":0},{"$f":"IF(ISNUMBER(R12),($B12/R12)*10^-6,\"\")","v":0},"--",{"$f":"'RBC Reference Table'!BS12","v":15},{"$f":"'RBC Reference Table'!L12","v":0},{"$f":"IF(ISNUMBER(V12),(MAX($B12,$C12)/V12)*10^-6,\"\")","v":0},"--",{"$f":"'RBC Reference Table'!BU12","v":420},{"$f":"'RBC Reference Table'!N12","v":0},{"$f":"IF(ISNUMBER(Z12),(MAX($B12,$C12)/Z12)*10^-6,\"\")","v":0},"--",{"$f":"'RBC Reference Table'!O12","v":"-"},{"$f":"'RBC Reference Table'!P12","v":"NV"},{"$f":"IF(ISNUMBER(AD12),(MAX($B12:$C12)/AD12)*10^-6,\"\")","v":""},"--",{"$f":"'RBC Reference Table'!O12","v":"-"},{"$f":"'RBC Reference Table'!P12","v":"NV"},{"$f":"IF(ISNUMBER(AH12),(MAX($B12:$C12)/AH12)*10^-6,\"\")","v":""},"--",{"$f":"'RBC Reference Table'!S12","v":"-"},{"$f":"'RBC Reference Table'!T12","v":"NV"},{"$f":"IF(ISNUMBER(AL12),(MAX($B12:$C12)/AL12)*10^-6,\"\")","v":""},"--",{"$f":"'RBC Reference Table'!U12","v":"-"},{"$f":"'RBC Reference Table'!V12","v":"NV"},{"$f":"IF(ISNUMBER(AP12),(MAX($B12:$C12)/AP12)*10^-6,\"\")","v":""},"--",{"$f":"'RBC Reference Table'!W12","v":"-"},{"$f":"'RBC Reference Table'!X12","v":"NV"},{"$f":"IF(ISNUMBER(AT12),(MAX($B12:$C12)/AT12)*10^-6,\"\")","v":""},"--",{"$f":"'RBC Reference Table'!Y12","v":"-"},{"$f":"'RBC Reference Table'!Z12","v":"NV"},{"$f":"IF(ISNUMBER(AX12),(MAX($B12:$C12)/AX12)*10^-6,\"\")","v":""},"--",{"$f":"'RBC Reference Table'!AA12","v":"*"},{"$f":"'RBC Reference Table'!AB12","v":0},null,null,{"$f":"'RBC Reference Table'!AC12","v":"*"},{"$f":"'RBC Reference Table'!AD12","v":0},null,null,{"$f":"'RBC Reference Table'!AE12","v":"*"},{"$f":"'RBC Reference Table'!AF12","v":0},null,null,{"$f":"'RBC Reference Table'!AG12","v":5.1999999999999998E-2},{"$f":"'RBC Reference Table'!AH12","v":0},{"$f":"IF(ISNUMBER(BN12),($D12/BN12)*10^-6,\"\")","v":0},"--",{"$f":"'RBC Reference Table'!AI12","v":0.21},{"$f":"'RBC Reference Table'!AJ12","v":0},{"$f":"IF(ISNUMBER(BR12),($D12/BR12)*10^-6,\"\")","v":0},"--",{"$f":"'RBC Reference Table'!AK12","v":0.31},{"$f":"'RBC Reference Table'!AL12","v":0},{"$f":"IF(ISNUMBER(BV12),($D12/BV12)*10^-6,\"\")","v":0},"--",{"$f":"'RBC Reference Table'!AM12","v":"-"},{"$f":"'RBC Reference Table'!AN12","v":"NV"},{"$f":"IF(ISNUMBER(BZ12),($D12/BZ12)*10^-6,\"\")","v":""},"--",{"$f":"'RBC Reference Table'!AO12","v":"-"},{"$f":"'RBC Reference Table'!AP12","v":"NV"},{"$f":"IF(ISNUMBER(CD12),($D12/CD12)*10^-6,\"\")","v":""},"--",{"$f":"'RBC Reference Table'!AQ12","v":"-"},{"$f":"'RBC Reference Table'!AR12","v":"NV"},{"$f":"IF(ISNUMBER(CH12),($D12/CH12)*10^-6,\"\")","v":""},"--",{"$f":"'RBC Reference Table'!AS12","v":"-"},{"$f":"'RBC Reference Table'!AT12","v":"NV"},{"$f":"IF(ISNUMBER(CL12),($D12/CL12)*10^-6,\"\")","v":""},"--",{"$f":"'RBC Reference Table'!AU12","v":"-"},{"$f":"'RBC Reference Table'!AV12","v":"NV"},{"$f":"IF(ISNUMBER(CP12),($D12/CP12)*10^-6,\"\")","v":""},"--",{"$f":"'RBC Reference Table'!AW12","v":"-"},{"$f":"'RBC Reference Table'!AX12","v":"NV"},{"$f":"IF(ISNUMBER(CT12),($D12/CT12)*10^-6,\"\")","v":""},"--",{"$f":"'RBC Reference Table'!AY12","v":6300},{"$f":"'RBC Reference Table'!AZ12","v":0},{"$f":"IF(ISNUMBER(CX12),($D12/CX12)*10^-6,\"\")","v":0},"--",{"$f":"'RBC Reference Table'!BA12","v":"-"},{"$f":"'RBC Reference Table'!BB12","v":"NV"},{"$f":"IF(ISNUMBER(DB12),($E12/DB12)*10^-6,\"\")","v":""},"--",{"$f":"'RBC Reference Table'!BC12","v":"-"},{"$f":"'RBC Reference Table'!BD12","v":"NV"},{"$f":"IF(ISNUMBER(DF12),($E12/DF12)*10^-6,\"\")","v":""},"--",{"$f":"'RBC Reference Table'!BE11","v":"-"},{"$f":"'RBC Reference Table'!BF11","v":">Pv"},{"$f":"IF(ISNUMBER(DJ12),($E12/DJ12)*10^-6,\"\")","v":""},"--",{"$f":"'RBC Reference Table'!BG12","v":6.4999999999999997E-4},null,{"$f":"IF(ISNUMBER(DN12),($F12/DN12)*10^-6,\"\")","v":0},"--",{"$f":"'RBC Reference Table'!BI12","v":1.5E-3},null,{"$f":"IF(ISNUMBER(DR12),($F12/DR12)*10^-6,\"\")","v":0},"--",{"$f":"'RBC Reference Table'!BK12","v":2.8999999999999998E-3},null,{"$f":"IF(ISNUMBER(DV12),($F12/DV12)*10^-6,\"\")","v":0},"--"]
[6,{"$f":"VLOOKUP($A13,'Applicable RBC Table'!$A$43:$F$136,2,FALSE)","v":0},{"$f":"VLOOKUP($A13,'Applicable RBC Table'!$A$43:$F$136,3,FALSE)","v":0},{"$f":"VLOOKUP($A13,'Applicable RBC Table'!$A$43:$F$136,4,FALSE)","v":0},{"$f":"VLOOKUP($A13,'Applicable RBC Table'!$A$43:$F$136,5,FALSE)","v":0},{"$f":"VLOOKUP($A13,'Applicable RBC Table'!$A$43:$F$136,6,FALSE)","v":0},"7440-39-3","Barium","nc, nv",{"$f":"'RBC Reference Table'!E13","v":15000},{"$f":"'RBC Reference Table'!F13","v":0},"--",{"$f":"IF(ISNUMBER(J13),$B13/J13,\"\")","v":0},{"$f":"'RBC Reference Table'!G13","v":31000},{"$f":"'RBC Reference Table'!H13","v":0},"--",{"$f":"IF(ISNUMBER(N13),$B13/N13,\"\")","v":0},{"$f":"'RBC Reference Table'!I13","v":220000},{"$f":"'RBC Reference Table'!J13","v":0},"--",{"$f":"IF(ISNUMBER(R13),$B13/R13,\"\")","v":0},{"$f":"'RBC Reference Table'!K13","v":69000},{"$f":"'RBC Reference Table'!L13","v":0},"--",{"$f":"IF(ISNUMBER(V13),MAX($B13,$C13)/V13,\"\")","v":0},{"$f":"'RBC Reference Table'!M13","v":"-"},{"$f":"'RBC Reference Table'!N13","v":">Max"},"--",{"$f":"IF(ISNUMBER(Z13),MAX($B13,$C13)/Z13,\"\")","v":""},{"$f":"'RBC Reference Table'!O13","v":"-"},{"$f":"'RBC Reference Table'!P13","v":"NV"},"--",{"$f":"IF(ISNUMBER(AD13),MAX($B13:$C13)/AD13,\"\")","v":""},{"$f":"'RBC Reference Table'!O13","v":"-"},{"$f":"'RBC Reference Table'!P13","v":"NV"},"--",{"$f":"IF(ISNUMBER(AH13),MAX($B13:$C13)/AH13,\"\")","v":""},{"$f":"'RBC Reference Table'!S13","v":"-"},{"$f":"'RBC Reference Table'!T13","v":"NV"},"--",{"$f":"IF(ISNUMBER(AL13),MAX($B13:$C13)/AL13,\"\")","v":""},{"$f":"'RBC Reference Table'!U13","v":"-"},{"$f":"'RBC Reference Table'!V13","v":"NV"},"--",{"$f":"IF(ISNUMBER(AP13),MAX($B13:$C13)/AP13,\"\")","v":""},{"$f":"'RBC Reference Table'!W13","v":"-"},{"$f":"'RBC Reference Table'!X13","v":"NV"},"--",{"$f":"IF(ISNUMBER(AT13),MAX($B13:$C13)/AT13,\"\")","v":""},{"$f":"'RBC Reference Table'!Y13","v":"-"},{"$f":"'RBC Reference Table'!Z13","v":"NV"},"--",{"$f":"IF(ISNUMBER(AX13),MAX($B13:$C13)/AX13,\"\")","v":""},{"$f":"'RBC Reference Table'!AA13","v":"*"},{"$f":"'RBC Reference Table'!AB13","v":0},null,null,{"$f":"'RBC Reference Table'!AC13","v":"*"},{"$f":"'RBC Reference Table'!AD13","v":0},null,null,{"$f":"'RBC Reference Table'!AE13","v":"*"},{"$f":"'RBC Reference Table'!AF13","v":0},null,null,{"$f":"'RBC Reference Table'!AG13","v":4000},{"$f":"'RBC Reference Table'!AH13","v":0},"--",{"$f":"IF(ISNUMBER(BN13),$D13/BN13,\"\")","v":0},{"$f":"'RBC Reference Table'!AI13","v":15000},{"$f":"'RBC Reference Table'!AJ13","v":0},"--",{"$f":"IF(ISNUMBER(BR13),$D13/BR13,\"\")","v":0},{"$f":"'RBC Reference Table'!AK13","v":33000},{"$f":"'RBC Reference Table'!AL13","v":0},"--",{"$f":"IF(ISNUMBER(BV13),$D13/BV13,\"\")","v":0},{"$f":"'RBC Reference Table'!AM13","v":"-"},{"$f":"'RBC Reference Table'!AN13","v":"NV"},"--",{"$f":"IF(ISNUMBER(BZ13),$D13/BZ13,\"\")","v":""},{"$f":"'RBC Reference Table'!AO13","v":"-"},{"$f":"'RBC Reference Table'!AP13","v":"NV"},"--",{"$f":"IF(ISNUMBER(CD13),$D13/CD13,\"\")","v":""},{"$f":"'RBC Reference Table'!AQ13","v":"-"},{"$f":"'RBC Reference Table'!AR13","v":"NV"},"--",{"$f":"IF(ISNUMBER(CH13),$D13/CH13,\"\")","v":""},{"$f":"'RBC Reference Table'!AS13","v":"-"},{"$f":"'RBC Reference Table'!AT13","v":"NV"},"--",{"$f":"IF(ISNUMBER(CL13),$D13/CL13,\"\")","v":""},{"$f":"'RBC Reference Table'!AU13","v":"-"},{"$f":"'RBC Reference Table'!AV13","v":"NV"},"--",{"$f":"IF(ISNUMBER(CP13),$D13/CP13,\"\")","v":""},{"$f":"'RBC Reference Table'!AW13","v":"-"},{"$f":"'RBC Reference Table'!AX13","v":"NV"},"--",{"$f":"IF(ISNUMBER(CT13),$D13/CT13,\"\")","v":""},{"$f":"'RBC Reference Table'!AY13","v":26893604.479811374},{"$f":"'RBC Reference Table'!AZ13","v":0},"--",{"$f":"IF(ISNUMBER(CX13),$D13/CX13,\"\")","v":0},{"$f":"'RBC Reference Table'!BA13","v":"-"},{"$f":"'RBC Reference Table'!BB13","v":"NV"},"--",{"$f":"IF(ISNUMBER(DB13),$E13/DB13,\"\")","v":""},{"$f":"'RBC Reference Table'!BC13","v":"-"},{"$f":"'RBC Reference Table'!BD13","v":"NV"},"--",{"$f":"IF(ISNUMBER(DF13),$E13/DF13,\"\")","v":""},{"$f":"'RBC Reference Table'!BE12","v":"-"},{"$f":"'RBC Reference Table'!BF12","v":"NV"},"--",{"$f":"IF(ISNUMBER(DJ13),$E13/DJ13,\"\")","v":""},{"$f":"'RBC Reference Table'!BG13","v":0.52},null,"--",{"$f":"IF(ISNUMBER(DN13),$F13/DN13,\"\")","v":0},{"$f":"'RBC Reference Table'!BI13","v":0.52},null,"--",{"$f":"IF(ISNUMBER(DR13),$F13/DR13,\"\")","v":0},{"$f":"'RBC Reference Table'!BK13","v":2.2000000000000002},null,"--",{"$f":"IF(ISNUMBER(DV13),$F13/DV13,\"\")","v":0}]
[7,{"$f":"VLOOKUP($A14,'Applicable RBC Table'!$A$43:$F$136,2,FALSE)","v":0},{"$f":"VLOOKUP($A14,'Applicable RBC Table'!$A$43:$F$136,3,FALSE)","v":0},{"$f":"VLOOKUP($A14,'Applicable RBC Table'!$A$43:$F$136,4,FALSE)","v":0},{"$f":"VLOOKUP($A14,'Applicable RBC Table'!$A$43:$F$136,5,FALSE)","v":0},{"$f":"VLOOKUP($A14,'Applicable RBC Table'!$A$43:$F$136,6,FALSE)","v":0},"56-55-3","Benz[a]anthracene","c, v",{"$f":"'RBC Reference Table'!E14","v":1.1000000000000001},{"$f":"'RBC Reference Table'!F14","v":0},{"$f":"IF(ISNUMBER(J14),($B14/J14)*10^-6,\"\")","v":0},"--",{"$f":"'RBC Reference Table'!G14","v":2.5},{"$f":"'RBC Reference Table'!H14","v":0},{"$f":"IF(ISNUMBER(N14),($B14/N14)*10^-6,\"\")","v":0},"--",{"$f":"'RBC Reference Table'!I14","v":21},{"$f":"'RBC Reference Table'!J14","v":">Csat"},{"$f":"IF(ISNUMBER(R14),($B14/R14)*10^-6,\"\")","v":0},"--",{"$f":"'RBC Reference Table'!K14","v":170},{"$f":"'RBC Reference Table'!L14","v":">Csat"},{"$f":"IF(ISNUMBER(V14),(MAX($B14,$C14)/V14)*10^-6,\"\")","v":0},"--",{"$f":"'RBC Reference Table'!M14","v":4800},{"$f":"'RBC Reference Table'!N14","v":">Csat"},{"$f":"IF(ISNUMBER(Z14),(MAX($B14,$C14)/Z14)*10^-6,\"\")","v":0},"--",{"$f":"'RBC Reference Table'!O14","v":"-"},{"$f":"'RBC Reference Table'!P14","v":">Csat"},{"$f":"IF(ISNUMBER(AD14),(MAX($B14:$C14)/AD14)*10^-6,\"\")","v":""},"--",{"$f":"'RBC Reference Table'!O14","v":"-"},{"$f":"'RBC Reference Table'!P14","v":">Csat"},{"$f":"IF(ISNUMBER(AH14),(MAX($B14:$C14)/AH14)*10^-6,\"\")","v":""},"--",{"$f":"'RBC Reference Table'!S14","v":"-"},{"$f":"'RBC Reference Table'!T14","v":">Csat"},{"$f":"IF(ISNUMBER(AL14),(MAX($B14:$C14)/AL14)*10^-6,\"\")","v":""},"--",{"$f":"'RBC Reference Table'!U14","v":"-"},{"$f":"'RBC Reference Table'!V14","v":">Csat"},{"$f":"IF(ISNUMBER(AP14),(MAX($B14:$C14)/AP14)*10^-6,\"\")","v":""},"--",{"$f":"'RBC Reference Table'!W14","v":"-"},{"$f":"'RBC Reference Table'!X14","v":">Csat"},{"$f":"IF(ISNUMBER(AT14),(MAX($B14:$C14)/AT14)*10^-6,\"\")","v":""},"--",{"$f":"'RBC Reference Table'!Y14","v":"-"},{"$f":"'RBC Reference Table'!Z14","v":">Csat"},{"$f":"IF(ISNUMBER(AX14),(MAX($B14:$C14)/AX14)*10^-6,\"\")","v":""},"--",{"$f":"'RBC Reference Table'!AA14","v":1.6},{"$f":"'RBC Reference Table'!AB14","v":0},null,null,{"$f":"'RBC Reference Table'!AC14","v":6},{"$f":"'RBC Reference Table'!AD14","v":0},null,null,{"$f":"'RBC Reference Table'!AE14","v":"-"},{"$f":"'RBC Reference Table'!AF14","v":">Csat"},null,null,{"$f":"'RBC Reference Table'!AG14","v":0.03},{"$f":"'RBC Reference Table'!AH14","v":0},{"$f":"IF(ISNUMBER(BN14),($D14/BN14)*10^-6,\"\")","v":0},"--",{"$f":"'RBC Reference Table'!AI14","v":0.11},{"$f":"'RBC Reference Table'!AJ14","v":0},{"$f":"IF(ISNUMBER(BR14),($D14/BR14)*10^-6,\"\")","v":0},"--",{"$f":"'RBC Reference Table'!AK14","v":0.38},{"$f":"'RBC Reference Table'!AL14","v":0},{"$f":"IF(ISNUMBER(BV14),($D14/BV14)*10^-6,\"\")","v":0},"--",{"$f":"'RBC Reference Table'!AM14","v":"-"},{"$f":"'RBC Reference Table'!AN14","v":">S"},{"$f":"IF(ISNUMBER(BZ14),($D14/BZ14)*10^-6,\"\")","v":""},"--",{"$f":"'RBC Reference Table'!AO14","v":"-"},{"$f":"'RBC Reference Table'!AP14","v":">S"},{"$f":"IF(ISNUMBER(CD14),($D14/CD14)*10^-6,\"\")","v":""},"--",{"$f":"'RBC Reference Table'!AQ14","v":"-"},{"$f":"'RBC Reference Table'!AR14","v":">S"},{"$f":"IF(ISNUMBER(CH14),($D14/CH14)*10^-6,\"\")","v":""},"--",{"$f":"'RBC Reference Table'!AS14","v":"-"},{"$f":"'RBC Reference Table'!AT14","v":">S"},{"$f":"IF(ISNUMBER(CL14),($D14/CL14)*10^-6,\"\")","v":""},"--",{"$f":"'RBC Reference Table'!AU14","v":"-"},{"$f":"'RBC Reference Table'!AV14","v":">S"},{"$f":"IF(ISNUMBER(CP14),($D14/CP14)*10^-6,\"\")","v":""},"--",{"$f":"'RBC Reference Table'!AW14","v":"-"},{"$f":"'RBC Reference Table'!AX14","v":">S"},{"$f":"IF(ISNUMBER(CT14),($D14/CT14)*10^-6,\"\")","v":""},"--",{"$f":"'RBC Reference Table'!AY14","v":"-"},{"$f":"'RBC Reference Table'!AZ14","v":">S"},{"$f":"IF(ISNUMBER(CX14),($D14/CX14)*10^-6,\"\")","v":""},"--",{"$f":"'RBC Reference Table'!BA14","v":"-"},{"$f":"'RBC Reference Table'!BB14","v":">Pv"},{"$f":"IF(ISNUMBER(DB14),($E14/DB14)*10^-6,\"\")","v":""},"--",{"$f":"'RBC Reference Table'!BC14","v":"-"},{"$f":"'RBC Reference Table'!BD14","v":">Pv"},{"$f":"IF(ISNUMBER(DF14),($E14/DF14)*10^-6,\"\")","v":""},"--",{"$f":"'RBC Reference Table'!BE13","v":"-"},{"$f":"'RBC Reference Table'!BF13","v":"NV"},{"$f":"IF(ISNUMBER(DJ14),($E14/DJ14)*10^-6,\"\")","v":""},"--",{"$f":"'RBC Reference Table'!BG14","v":1.7000000000000001E-2},null,{"$f":"IF(ISNUMBER(DN14),($F14/DN14)*10^-6,\"\")","v":0},"--",{"$f":"'RBC Reference Table'!BI14","v":3.3000000000000002E-2},null,{"$f":"IF(ISNUMBER(DR14),($F14/DR14)*10^-6,\"\")","v":0},"--",{"$f":"'RBC Reference Table'!BK14","v":0.2},null,{"$f":"IF(ISNUMBER(DV14),($F14/DV14)*10^-6,\"\")","v":0},"--"]
[8,{"$f":"VLOOKUP($A15,'Applicable RBC Table'!$A$43:$F$136,2,FALSE)","v":0},null,{"$f":"VLOOKUP($A15,'Applicable RBC Table'!$A$43:$F$136,4,FALSE)","v":5.58},{"$f":"VLOOKUP($A15,'Applicable RBC Table'!$A$43:$F$136,5,FALSE)","v":0},{"$f":"VLOOKUP($A15,'Applicable RBC Table'!$A$43:$F$136,6,FALSE)","v":0},"71-43-2","Benzene","c, v",{"$f":"'RBC Reference Table'!E15","v":8.1999999999999993},{"$f":"'RBC Reference Table'!F15","v":0},0,"--",{"$f":"'RBC Reference Table'!G15","v":24},{"$f":"'RBC Reference Table'!H15","v":0},0,"--",{"$f":"'RBC Reference Table'!I15","v":37},{"$f":"'RBC Reference Table'!J15","v":0},0,"--",{"$f":"'RBC Reference Table'!K15","v":380},{"$f":"'RBC Reference Table'!L15","v":0},0,"--",{"$f":"'RBC Reference Table'!M15","v":11000},{"$f":"'RBC Reference Table'!N15","v":">Csat"},0,"--",{"$f":"'RBC Reference Table'!O15","v":11},{"$f":"'RBC Reference Table'!P15","v":0},0,"--",{"$f":"'RBC Reference Table'!O15","v":11},{"$f":"'RBC Reference Table'!P15","v":0},0,"--",{"$f":"'RBC Reference Table'!S15","v":50},{"$f":"'RBC Reference Table'!T15","v":0},0,"--",{"$f":"'RBC Reference Table'!U15","v":0.16},{"$f":"'RBC Reference Table'!V15","v":0},0,"--",{"$f":"'RBC Reference Table'!W15","v":0.38},{"$f":"'RBC Reference Table'!X15","v":0},0,"--",{"$f":"'RBC Reference Table'!Y15","v":2.1},{"$f":"'RBC Reference Table'!Z15","v":0},0,"--",{"$f":"'RBC Reference Table'!AA15","v":2.3E-2},{"$f":"'RBC Reference Table'!AB15","v":0},null,null,{"$f":"'RBC Reference Table'!AC15","v":0.1},{"$f":"'RBC Reference Table'!AD15","v":0},null,null,{"$f":"'RBC Reference Table'!AE15","v":0.1},{"$f":"'RBC Reference Table'!AF15","v":0},null,null,{"$f":"'RBC Reference Table'!AG15","v":0.46},{"$f":"'RBC Reference Table'!AH15","v":0},1.2130434782608695E-5,"--",{"$f":"'RBC Reference Table'!AI15","v":2},{"$f":"'RBC Reference Table'!AJ15","v":0},2.79E-6,"--",{"$f":"'RBC Reference Table'!AK15","v":2.1},{"$f":"'RBC Reference Table'!AL15","v":0},2.6571428571428571E-6,"--",{"$f":"'RBC Reference Table'!AM15","v":3100},{"$f":"'RBC Reference Table'!AN15","v":0},1.7999999999999998E-9,"--",{"$f":"'RBC Reference Table'!AO15","v":7400},{"$f":"'RBC Reference Table'!AP15","v":0},7.54054054054054E-10,"--",{"$f":"'RBC Reference Table'!AQ15","v":14000},{"$f":"'RBC Reference Table'!AR15","v":0},3.9857142857142854E-10,"--",{"$f":"'RBC Reference Table'!AS15","v":210},{"$f":"'RBC Reference Table'!AT15","v":0},2.6571428571428571E-8,"--",{"$f":"'RBC Reference Table'!AU15","v":510},{"$f":"'RBC Reference Table'!AV15","v":0},1.0941176470588235E-8,"--",{"$f":"'RBC Reference Table'!AW15","v":2800},{"$f":"'RBC Reference Table'!AX15","v":0},1.9928571428571428E-9,"--",{"$f":"'RBC Reference Table'!AY15","v":1800},{"$f":"'RBC Reference Table'!AZ15","v":0},3.0999999999999996E-9,"--",{"$f":"'RBC Reference Table'!BA15","v":72},{"$f":"'RBC Reference Table'!BB15","v":0},0,"--",{"$f":"'RBC Reference Table'!BC15","v":170},{"$f":"'RBC Reference Table'!BD15","v":0},0,"--",{"$f":"'RBC Reference Table'!BE14","v":"-"},{"$f":"'RBC Reference Table'!BF14","v":">Pv"},"","--",{"$f":"'RBC Reference Table'!BG15","v":0.36},null,0,"--",{"$f":"'RBC Reference Table'!BI15","v":0.85},null,0,"--",{"$f":"'RBC Reference Table'!BK15","v":1.6},null,0,"--"]
[9,{"$f":"VLOOKUP($A16,'Applicable RBC Table'!$A$43:$F$136,2,FALSE)","v":0},{"$f":"VLOOKUP($A16,'Applicable RBC Table'!$A$43:$F$136,3,FALSE)","v":0},{"$f":"VLOOKUP($A16,'Applicable RBC Table'!$A$43:$F$136,4,FALSE)","v":0},{"$f":"VLOOKUP($A16,'Applicable RBC Table'!$A$43:$F$136,5,FALSE)","v":0},{"$f":"VLOOKUP($A16,'Applicable RBC Table'!$A$43:$F$136,6,FALSE)","v":0},"92-87-5","Benzidine","c, nv",{"$f":"'RBC Reference Table'!E16","v":5.1999999999999995E-4},{"$f":"'RBC Reference Table'!F16","v":0},0,"--",{"$f":"'RBC Reference Table'!G16","v":1.1999999999999999E-3},{"$f":"'RBC Reference Table'!H16","v":0},0,"--",{"$f":"'RBC Reference Table'!I16","v":0.01},{"$f":"'RBC Reference Table'!J16","v":0},0,"--",{"$f":"'RBC Reference Table'!K16","v":8.2000000000000003E-2},{"$f":"'RBC Reference Table'!L16","v":0},0,"--",{"$f":"'RBC Reference Table'!M16","v":2.2999999999999998},{"$f":"'RBC Reference Table'!N16","v":0},0,"--",{"$f":"'RBC Reference Table'!O16","v":"-"},{"$f":"'RBC Reference Table'!P16","v":"NV"},"","--",{"$f":"'RBC Reference Table'!O16","v":"-"},{"$f":"'RBC Reference Table'!P16","v":"NV"},"","--",{"$f":"'RBC Reference Table'!S16","v":"-"},{"$f":"'RBC Reference Table'!T16","v":"NV"},"","--",{"$f":"'RBC Reference Table'!U16","v":"-"},{"$f":"'RBC Reference Table'!V16","v":"NV"},"","--",{"$f":"'RBC Reference Table'!W16","v":"-"},{"$f":"'RBC Reference Table'!X16","v":"NV"},"","--",{"$f":"'RBC Reference Table'!Y16","v":"-"},{"$f":"'RBC Reference Table'!Z16","v":"NV"},"","--",{"$f":"'RBC Reference Table'!AA16","v":3.8000000000000002E-5},{"$f":"'RBC Reference Table'!AB16","v":0},null,null,{"$f":"'RBC Reference Table'!AC16","v":1.2E-4},{"$f":"'RBC Reference Table'!AD16","v":0},null,null,{"$f":"'RBC Reference Table'!AE16","v":6.9999999999999999E-4},{"$f":"'RBC Reference Table'!AF16","v":0},null,null,{"$f":"'RBC Reference Table'!AG16","v":1.1E-4},{"$f":"'RBC Reference Table'!AH16","v":0},0,"--",{"$f":"'RBC Reference Table'!AI16","v":3.4000000000000002E-4},{"$f":"'RBC Reference Table'!AJ16","v":0},0,"--",{"$f":"'RBC Reference Table'!AK16","v":1.9E-3},{"$f":"'RBC Reference Table'!AL16","v":0},0,"--",{"$f":"'RBC Reference Table'!AM16","v":"-"},{"$f":"'RBC Reference Table'!AN16","v":"NV"},"","--",{"$f":"'RBC Reference Table'!AO16","v":"-"},{"$f":"'RBC Reference Table'!AP16","v":"NV"},"","--",{"$f":"'RBC Reference Table'!AQ16","v":"-"},{"$f":"'RBC Reference Table'!AR16","v":"NV"},"","--",{"$f":"'RBC Reference Table'!AS16","v":"-"},{"$f":"'RBC Reference Table'!AT16","v":"NV"},"","--",{"$f":"'RBC Reference Table'!AU16","v":"-"},{"$f":"'RBC Reference Table'!AV16","v":"NV"},"","--",{"$f":"'RBC Reference Table'!AW16","v":"-"},{"$f":"'RBC Reference Table'!AX16","v":"NV"},"","--",{"$f":"'RBC Reference Table'!AY16","v":17},{"$f":"'RBC Reference Table'!AZ16","v":0},0,"--",{"$f":"'RBC Reference Table'!BA16","v":"-"},{"$f":"'RBC Reference Table'!BB16","v":"NV"},"","--",{"$f":"'RBC Reference Table'!BC16","v":"-"},{"$f":"'RBC Reference Table'!BD16","v":"NV"},"","--",{"$f":"'RBC Reference Table'!BE15","v":1600},{"$f":"'RBC Reference Table'!BF15","v":0},0,"--",{"$f":"'RBC Reference Table'!BG16","v":1.5E-5},null,0,"--",{"$f":"'RBC Reference Table'!BI16","v":2.9E-5},null,0,"--",{"$f":"'RBC Reference Table'!BK16","v":1.8000000000000001E-4},null,0,"--"]
[10,{"$f":"VLOOKUP($A17,'Applicable RBC Table'!$A$43:$F$136,2,FALSE)","v":0},{"$f":"VLOOKUP($A17,'Applicable RBC Table'!$A$43:$F$136,3,FALSE)","v":1.7000000000000001E-2},{"$f":"VLOOKUP($A17,'Applicable RBC Table'!$A$43:$F$136,4,FALSE)","v":0},{"$f":"VLOOKUP($A17,'Applicable RBC Table'!$A$43:$F$136,5,FALSE)","v":0},{"$f":"VLOOKUP($A17,'Applicable RBC Table'!$A$43:$F$136,6,FALSE)","v":0},"50-32-8","Benzo[a]pyrene (BaP equivalents)","c, nv",{"$f":"'RBC Reference Table'!E17","v":0.11},{"$f":"'RBC Reference Table'!F17","v":0},0,"--",{"$f":"'RBC Reference Table'!G17","v":0.25},{"$f":"'RBC Reference Table'!H17","v":0},0,"--",{"$f":"'RBC Reference Table'!I17","v":2.1},{"$f":"'RBC Reference Table'!J17","v":0},0,"--",{"$f":"'RBC Reference Table'!K17","v":17},{"$f":"'RBC Reference Table'!L17","v":">Csat"},1.0000000000000001E-9,"--",{"$f":"'RBC Reference Table'!M17","v":490},{"$f":"'RBC Reference Table'!N17","v":">Csat"},3.4693877551020407E-11,"--",{"$f":"'RBC Reference Table'!O17","v":"-"},{"$f":"'RBC Reference Table'!P17","v":"NV"},"","--",{"$f":"'RBC Reference Table'!O17","v":"-"},{"$f":"'RBC Reference Table'!P17","v":"NV"},"","--",{"$f":"'RBC Reference Table'!S17","v":"-"},{"$f":"'RBC Reference Table'!T17","v":"NV"},"","--",{"$f":"'RBC Reference Table'!U17","v":"-"},{"$f":"'RBC Reference Table'!V17","v":"NV"},"","--",{"$f":"'RBC Reference Table'!W17","v":"-"},{"$f":"'RBC Reference Table'!X17","v":"NV"},"","--",{"$f":"'RBC Reference Table'!Y17","v":"-"},{"$f":"'RBC Reference Table'!Z17","v":"NV"},"","--",{"$f":"'RBC Reference Table'!AA17","v":4.4000000000000004},{"$f":"'RBC Reference Table'!AB17","v":0},null,null,{"$f":"'RBC Reference Table'!AC17","v":"-"},{"$f":"'RBC Reference Table'!AD17","v":">Csat"},null,null,{"$f":"'RBC Reference Table'!AE17","v":"-"},{"$f":"'RBC Reference Table'!AF17","v":">Csat"},null,null,{"$f":"'RBC Reference Table'!AG17","v":2.5000000000000001E-2},{"$f":"'RBC Reference Table'!AH17","v":0},0,"--",{"$f":"'RBC Reference Table'!AI17","v":0.08},{"$f":"'RBC Reference Table'!AJ17","v":0},0,"--",{"$f":"'RBC Reference Table'!AK17","v":0.47},{"$f":"'RBC Reference Table'!AL17","v":0},0,"--",{"$f":"'RBC Reference Table'!AM17","v":"-"},{"$f":"'RBC Reference Table'!AN17","v":"NV"},"","--",{"$f":"'RBC Reference Table'!AO17","v":"-"},{"$f":"'RBC Reference Table'!AP17","v":"NV"},"","--",{"$f":"'RBC Reference Table'!AQ17","v":"-"},{"$f":"'RBC Reference Table'!AR17","v":"NV"},"","--",{"$f":"'RBC Reference Table'!AS17","v":"-"},{"$f":"'RBC Reference Table'!AT17","v":"NV"},"","--",{"$f":"'RBC Reference Table'!AU17","v":"-"},{"$f":"'RBC Reference Table'!AV17","v":"NV"},"","--",{"$f":"'RBC Reference Table'!AW17","v":"-"},{"$f":"'RBC Reference Table'!AX17","v":"NV"},"","--",{"$f":"'RBC Reference Table'!AY17","v":"-"},{"$f":"'RBC Reference Table'!AZ17","v":">S"},"","--",{"$f":"'RBC Reference Table'!BA17","v":"-"},{"$f":"'RBC Reference Table'!BB17","v":"NV"},"","--",{"$f":"'RBC Reference Table'!BC17","v":"-"},{"$f":"'RBC Reference Table'!BD17","v":"NV"},"","--",{"$f":"'RBC Reference Table'!BE16","v":"-"},{"$f":"'RBC Reference Table'!BF16","v":"NV"},"","--",{"$f":"'RBC Reference Table'!BG17","v":1.6999999999999999E-3},null,0,"--",{"$f":"'RBC Reference Table'!BI17","v":3.3E-3},null,0,"--",{"$f":"'RBC Reference Table'!BK17","v":0.02},null,0,"--"]
[11,{"$f":"VLOOKUP($A18,'Applicable RBC Table'!$A$43:$F$136,2,FALSE)","v":0},{"$f":"VLOOKUP($A18,'Applicable RBC Table'!$A$43:$F$136,3,FALSE)","v":0},{"$f":"VLOOKUP($A18,'Applicable RBC Table'!$A$43:$F$136,4,FALSE)","v":0},{"$f":"VLOOKUP($A18,'Applicable RBC Table'!$A$43:$F$136,5,FALSE)","v":0},{"$f":"VLOOKUP($A18,'Applicable RBC Table'!$A$43:$F$136,6,FALSE)","v":0},"205-99-2","Benzo[b]fluoranthene","c, nv",{"$f":"'RBC Reference Table'!E18","v":1.1000000000000001},{"$f":"'RBC Reference Table'!F18","v":0},0,"--",{"$f":"'RBC Reference Table'!G18","v":2.5},{"$f":"'RBC Reference Table'!H18","v":0},0,"--",{"$f":"'RBC Reference Table'!I18","v":21},{"$f":"'RBC Reference Table'!J18","v":">Csat"},0,"--",{"$f":"'RBC Reference Table'!K18","v":170},{"$f":"'RBC Reference Table'!L18","v":">Csat"},0,"--",{"$f":"'RBC Reference Table'!M18","v":4900},{"$f":"'RBC Reference Table'!N18","v":">Csat"},0,"--",{"$f":"'RBC Reference Table'!O18","v":"-"},{"$f":"'RBC Reference Table'!P18","v":"NV"},"","--",{"$f":"'RBC Reference Table'!O18","v":"-"},{"$f":"'RBC Reference Table'!P18","v":"NV"},"","--",{"$f":"'RBC Reference Table'!S18","v":"-"},{"$f":"'RBC Reference Table'!T18","v":"NV"},"","--",{"$f":"'RBC Reference Table'!U18","v":"-"},{"$f":"'RBC Reference Table'!V18","v":"NV"},"","--",{"$f":"'RBC Reference Table'!W18","v":"-"},{"$f":"'RBC Reference Table'!X18","v":"NV"},"","--",{"$f":"'RBC Reference Table'!Y18","v":"-"},{"$f":"'RBC Reference Table'!Z18","v":"NV"},"","--",{"$f":"'RBC Reference Table'!AA18","v":"-"},{"$f":"'RBC Reference Table'!AB18","v":">Csat"},null,null,{"$f":"'RBC Reference Table'!AC18","v":"-"},{"$f":"'RBC Reference Table'!AD18","v":">Csat"},null,null,{"$f":"'RBC Reference Table'!AE18","v":"-"},{"$f":"'RBC Reference Table'!AF18","v":">Csat"},null,null,{"$f":"'RBC Reference Table'!AG18","v":0.25},{"$f":"'RBC Reference Table'!AH18","v":0},0,"--",{"$f":"'RBC Reference Table'!AI18","v":0.8},{"$f":"'RBC Reference Table'!AJ18","v":0},0,"--",{"$f":"'RBC Reference Table'!AK18","v":"-"},{"$f":"'RBC Reference Table'!AL18","v":">S"},"","--",{"$f":"'RBC Reference Table'!AM18","v":"-"},{"$f":"'RBC Reference Table'!AN18","v":"NV"},"","--",{"$f":"'RBC Reference Table'!AO18","v":"-"},{"$f":"'RBC Reference Table'!AP18","v":"NV"},"","--",{"$f":"'RBC Reference Table'!AQ18","v":"-"},{"$f":"'RBC Reference Table'!AR18","v":"NV"},"","--",{"$f":"'RBC Reference Table'!AS18","v":"-"},{"$f":"'RBC Reference Table'!AT18","v":"NV"},"","--",{"$f":"'RBC Reference Table'!AU18","v":"-"},{"$f":"'RBC Reference Table'!AV18","v":"NV"},"","--",{"$f":"'RBC Reference Table'!AW18","v":"-"},{"$f":"'RBC Reference Table'!AX18","v":"NV"},"","--",{"$f":"'RBC Reference Table'!AY18","v":"-"},{"$f":"'RBC Reference Table'!AZ18","v":">S"},"","--",{"$f":"'RBC Reference Table'!BA18","v":"-"},{"$f":"'RBC Reference Table'!BB18","v":"NV"},"","--",{"$f":"'RBC Reference Table'!BC18","v":"-"},{"$f":"'RBC Reference Table'!BD18","v":"NV"},"","--",{"$f":"'RBC Reference Table'!BE17","v":"-"},{"$f":"'RBC Reference Table'!BF17","v":"NV"},"","--",{"$f":"'RBC Reference Table'!BG18","v":1.7000000000000001E-2},null,0,"--",{"$f":"'RBC Reference Table'!BI18","v":3.3000000000000002E-2},null,0,"--",{"$f":"'RBC Reference Table'!BK18","v":0.2},null,0,"--"]
[12,{"$f":"VLOOKUP($A19,'Applicable RBC Table'!$A$43:$F$136,2,FALSE)","v":0},{"$f":"VLOOKUP($A19,'Applicable RBC Table'!$A$43:$F$136,3,FALSE)","v":0},{"$f":"VLOOKUP($A19,'Applicable RBC Table'!$A$43:$F$136,4,FALSE)","v":0},{"$f":"VLOOKUP($A19,'Applicable RBC Table'!$A$43:$F$136,5,FALSE)","v":0},{"$f":"VLOOKUP($A19,'Applicable RBC Table'!$A$43:$F$136,6,FALSE)","v":0},"207-08-9","Benzo[k]fluoranthene","c, nv",{"$f":"'RBC Reference Table'!E19","v":11},{"$f":"'RBC Reference Table'!F19","v":">Csat"},0,"--",{"$f":"'RBC Reference Table'!G19","v":25},{"$f":"'RBC Reference Table'!H19","v":">Csat"},0,"--",{"$f":"'RBC Reference Table'!I19","v":210},{"$f":"'RBC Reference Table'!J19","v":">Csat"},0,"--",{"$f":"'RBC Reference Table'!K19","v":1700},{"$f":"'RBC Reference Table'!L19","v":">Csat"},0,"--",{"$f":"'RBC Reference Table'!M19","v":49000},{"$f":"'RBC Reference Table'!N19","v":">Csat"},0,"--",{"$f":"'RBC Reference Table'!O19","v":"-"},{"$f":"'RBC Reference Table'!P19","v":"NV"},"","--",{"$f":"'RBC Reference Table'!O19","v":"-"},{"$f":"'RBC Reference Table'!P19","v":"NV"},"","--",{"$f":"'RBC Reference Table'!S19","v":"-"},{"$f":"'RBC Reference Table'!T19","v":"NV"},"","--",{"$f":"'RBC Reference Table'!U19","v":"-"},{"$f":"'RBC Reference Table'!V19","v":"NV"},"","--",{"$f":"'RBC Reference Table'!W19","v":"-"},{"$f":"'RBC Reference Table'!X19","v":"NV"},"","--",{"$f":"'RBC Reference Table'!Y19","v":"-"},{"$f":"'RBC Reference Table'!Z19","v":"NV"},"","--",{"$f":"'RBC Reference Table'!AA19","v":"-"},{"$f":"'RBC Reference Table'!AB19","v":">Csat"},null,null,{"$f":"'RBC Reference Table'!AC19","v":"-"},{"$f":"'RBC Reference Table'!AD19","v":">Csat"},null,null,{"$f":"'RBC Reference Table'!AE19","v":"-"},{"$f":"'RBC Reference Table'!AF19","v":">Csat"},null,null,{"$f":"'RBC Reference Table'!AG19","v":"-"},{"$f":"'RBC Reference Table'!AH19","v":">S"},"","--",{"$f":"'RBC Reference Table'!AI19","v":"-"},{"$f":"'RBC Reference Table'!AJ19","v":">S"},"","--",{"$f":"'RBC Reference Table'!AK19","v":"-"},{"$f":"'RBC Reference Table'!AL19","v":">S"},"","--",{"$f":"'RBC Reference Table'!AM19","v":"-"},{"$f":"'RBC Reference Table'!AN19","v":"NV"},"","--",{"$f":"'RBC Reference Table'!AO19","v":"-"},{"$f":"'RBC Reference Table'!AP19","v":"NV"},"","--",{"$f":"'RBC Reference Table'!AQ19","v":"-"},{"$f":"'RBC Reference Table'!AR19","v":"NV"},"","--",{"$f":"'RBC Reference Table'!AS19","v":"-"},{"$f":"'RBC Reference Table'!AT19","v":"NV"},"","--",{"$f":"'RBC Reference Table'!AU19","v":"-"},{"$f":"'RBC Reference Table'!AV19","v":"NV"},"","--",{"$f":"'RBC Reference Table'!AW19","v":"-"},{"$f":"'RBC Reference Table'!AX19","v":"NV"},"","--",{"$f":"'RBC Reference Table'!AY19","v":"-"},{"$f":"'RBC Reference Table'!AZ19","v":">S"},"","--",{"$f":"'RBC Reference Table'!BA19","v":"-"},{"$f":"'RBC Reference Table'!BB19","v":"NV"},"","--",{"$f":"'RBC Reference Table'!BC19","v":"-"},{"$f":"'RBC Reference Table'!BD19","v":"NV"},"","--",{"$f":"'RBC Reference Table'!BE18","v":"-"},{"$f":"'RBC Reference Table'!BF18","v":"NV"},"","--",{"$f":"'RBC Reference Table'!BG19","v":"-"},">Pv","","--",{"$f":"'RBC Reference Table'!BI19","v":"-"},">Pv","","--",{"$f":"'RBC Reference Table'!BK19","v":"-"},">Pv","","--"]
[13,{"$f":"VLOOKUP($A20,'Applicable RBC Table'!$A$43:$F$136,2,FALSE)","v":0},{"$f":"VLOOKUP($A20,'Applicable RBC Table'!$A$43:$F$136,3,FALSE)","v":0},{"$f":"VLOOKUP($A20,'Applicable RBC Table'!$A$43:$F$136,4,FALSE)","v":0},{"$f":"VLOOKUP($A20,'Applicable RBC Table'!$A$43:$F$136,5,FALSE)","v":0},{"$f":"VLOOKUP($A20,'Applicable RBC Table'!$A$43:$F$136,6,FALSE)","v":0},"7440-41-7","Beryllium","c, nv",{"$f":"'RBC Reference Table'!E20","v":1500},{"$f":"'RBC Reference Table'!F20","v":0},0,"--",{"$f":"'RBC Reference Table'!G20","v":7300},{"$f":"'RBC Reference Table'!H20","v":0},0,"--",{"$f":"'RBC Reference Table'!I20","v":6700},{"$f":"'RBC Reference Table'!J20","v":0},0,"--",{"$f":"'RBC Reference Table'!K20","v":170000},{"$f":"'RBC Reference Table'!L20","v":0},0,"--",{"$f":"'RBC Reference Table'!M20","v":"-"},{"$f":"'RBC Reference Table'!N20","v":">Max"},"","--",{"$f":"'RBC Reference Table'!O20","v":"-"},{"$f":"'RBC Reference Table'!P20","v":"NV"},"","--",{"$f":"'RBC Reference Table'!O20","v":"-"},{"$f":"'RBC Reference Table'!P20","v":"NV"},"","--",{"$f":"'RBC Reference Table'!S20","v":"-"},{"$f":"'RBC Reference Table'!T20","v":"NV"},"","--",{"$f":"'RBC Reference Table'!U20","v":"-"},{"$f":"'RBC Reference Table'!V20","v":"NV"},"","--",{"$f":"'RBC Reference Table'!W20","v":"-"},{"$f":"'RBC Reference Table'!X20","v":"NV"},"","--",{"$f":"'RBC Reference Table'!Y20","v":"-"},{"$f":"'RBC Reference Table'!Z20","v":"NV"},"","--",{"$f":"'RBC Reference Table'!AA20","v":"*"},{"$f":"'RBC Reference Table'!AB20","v":0},null,null,{"$f":"'RBC Reference Table'!AC20","v":"*"},{"$f":"'RBC Reference Table'!AD20","v":0},null,null,{"$f":"'RBC Reference Table'!AE20","v":"*"},{"$f":"'RBC Reference Table'!AF20","v":0},null,null,{"$f":"'RBC Reference Table'!AG20","v":"-"},{"$f":"'RBC Reference Table'!AH20","v":">S"},"","--",{"$f":"'RBC Reference Table'!AI20","v":"-"},{"$f":"'RBC Reference Table'!AJ20","v":">S"},"","--",{"$f":"'RBC Reference Table'!AK20","v":"-"},{"$f":"'RBC Reference Table'!AL20","v":">S"},"","--",{"$f":"'RBC Reference Table'!AM20","v":"-"},{"$f":"'RBC Reference Table'!AN20","v":"NV"},"","--",{"$f":"'RBC Reference Table'!AO20","v":"-"},{"$f":"'RBC Reference Table'!AP20","v":"NV"},"","--",{"$f":"'RBC Reference Table'!AQ20","v":"-"},{"$f":"'RBC Reference Table'!AR20","v":"NV"},"","--",{"$f":"'RBC Reference Table'!AS20","v":"-"},{"$f":"'RBC Reference Table'!AT20","v":"NV"},"","--",{"$f":"'RBC Reference Table'!AU20","v":"-"},{"$f":"'RBC Reference Table'!AV20","v":"NV"},"","--",{"$f":"'RBC Reference Table'!AW20","v":"-"},{"$f":"'RBC Reference Table'!AX20","v":"NV"},"","--",{"$f":"'RBC Reference Table'!AY20","v":"-"},{"$f":"'RBC Reference Table'!AZ20","v":">S"},"","--",{"$f":"'RBC Reference Table'!BA20","v":"-"},{"$f":"'RBC Reference Table'!BB20","v":"NV"},"","--",{"$f":"'RBC Reference Table'!BC20","v":"-"},{"$f":"'RBC Reference Table'!BD20","v":"NV"},"","--",{"$f":"'RBC Reference Table'!BE19","v":"-"},{"$f":"'RBC Reference Table'!BF19","v":"NV"},"","--",{"$f":"'RBC Reference Table'!BG20","v":1.1999999999999999E-3},null,0,"--",{"$f":"'RBC Reference Table'!BI20","v":2.8E-3},null,0,"--",{"$f":"'RBC Reference Table'!BK20","v":5.1000000000000004E-3},null,0,"--"]
[14,{"$f":"VLOOKUP($A21,'Applicable RBC Table'!$A$43:$F$136,2,FALSE)","v":0},{"$f":"VLOOKUP($A21,'Applicable RBC Table'!$A$43:$F$136,3,FALSE)","v":0},{"$f":"VLOOKUP($A21,'Applicable RBC Table'!$A$43:$F$136,4,FALSE)","v":0},{"$f":"VLOOKUP($A21,'Applicable RBC Table'!$A$43:$F$136,5,FALSE)","v":0},{"$f":"VLOOKUP($A21,'Applicable RBC Table'!$A$43:$F$136,6,FALSE)","v":0},"117-81-7","Bis(2-ethylhexyl)phthalate","c, nv",{"$f":"'RBC Reference Table'!E21","v":39},{"$f":"'RBC Reference Table'!F21","v":0},0,"--",{"$f":"'RBC Reference Table'!G21","v":97},{"$f":"'RBC Reference Table'!H21","v":0},0,"--",{"$f":"'RBC Reference Table'!I21","v":160},{"$f":"'RBC Reference Table'!J21","v":">Csat"},0,"--",{"$f":"'RBC Reference Table'!K21","v":1300},{"$f":"'RBC Reference Table'!L21","v":">Csat"},0,"--",{"$f":"'RBC Reference Table'!M21","v":37000},{"$f":"'RBC Reference Table'!N21","v":">Csat"},0,"--",{"$f":"'RBC Reference Table'!O21","v":"-"},{"$f":"'RBC Reference Table'!P21","v":"NV"},"","--",{"$f":"'RBC Reference Table'!O21","v":"-"},{"$f":"'RBC Reference Table'!P21","v":"NV"},"","--",{"$f":"'RBC Reference Table'!S21","v":"-"},{"$f":"'RBC Reference Table'!T21","v":"NV"},"","--",{"$f":"'RBC Reference Table'!U21","v":"-"},{"$f":"'RBC Reference Table'!V21","v":"NV"},"","--",{"$f":"'RBC Reference Table'!W21","v":"-"},{"$f":"'RBC Reference Table'!X21","v":"NV"},"","--",{"$f":"'RBC Reference Table'!Y21","v":"-"},{"$f":"'RBC Reference Table'!Z21","v":"NV"},"","--",{"$f":"'RBC Reference Table'!AA21","v":"-"},{"$f":"'RBC Reference Table'!AB21","v":">Csat"},null,null,{"$f":"'RBC Reference Table'!AC21","v":"-"},{"$f":"'RBC Reference Table'!AD21","v":">Csat"},null,null,{"$f":"'RBC Reference Table'!AE21","v":"-"},{"$f":"'RBC Reference Table'!AF21","v":">Csat"},null,null,{"$f":"'RBC Reference Table'!AG21","v":5.6},{"$f":"'RBC Reference Table'!AH21","v":0},0,"--",{"$f":"'RBC Reference Table'!AI21","v":22},{"$f":"'RBC Reference Table'!AJ21","v":0},0,"--",{"$f":"'RBC Reference Table'!AK21","v":33},{"$f":"'RBC Reference Table'!AL21","v":0},0,"--",{"$f":"'RBC Reference Table'!AM21","v":"-"},{"$f":"'RBC Reference Table'!AN21","v":"NV"},"","--",{"$f":"'RBC Reference Table'!AO21","v":"-"},{"$f":"'RBC Reference Table'!AP21","v":"NV"},"","--",{"$f":"'RBC Reference Table'!AQ21","v":"-"},{"$f":"'RBC Reference Table'!AR21","v":"NV"},"","--",{"$f":"'RBC Reference Table'!AS21","v":"-"},{"$f":"'RBC Reference Table'!AT21","v":"NV"},"","--",{"$f":"'RBC Reference Table'!AU21","v":"-"},{"$f":"'RBC Reference Table'!AV21","v":"NV"},"","--",{"$f":"'RBC Reference Table'!AW21","v":"-"},{"$f":"'RBC Reference Table'!AX21","v":"NV"},"","--",{"$f":"'RBC Reference Table'!AY21","v":"-"},{"$f":"'RBC Reference Table'!AZ21","v":">S"},"","--",{"$f":"'RBC Reference Table'!BA21","v":"-"},{"$f":"'RBC Reference Table'!BB21","v":"NV"},"","--",{"$f":"'RBC Reference Table'!BC21","v":"-"},{"$f":"'RBC Reference Table'!BD21","v":"NV"},"","--",{"$f":"'RBC Reference Table'!BE20","v":"-"},{"$f":"'RBC Reference Table'!BF20","v":"NV"},"","--",{"$f":"'RBC Reference Table'!BG21","v":"-"},">Pv","","--",{"$f":"'RBC Reference Table'!BI21","v":"-"},">Pv","","--",{"$f":"'RBC Reference Table'!BK21","v":"-"},">Pv","","--"]
[15,{"$f":"VLOOKUP($A22,'Applicable RBC Table'!$A$43:$F$136,2,FALSE)","v":0},{"$f":"VLOOKUP($A22,'Applicable RBC Table'!$A$43:$F$136,3,FALSE)","v":0},{"$f":"VLOOKUP($A22,'Applicable RBC Table'!$A$43:$F$136,4,FALSE)","v":0},{"$f":"VLOOKUP($A22,'Applicable RBC Table'!$A$43:$F$136,5,FALSE)","v":0},{"$f":"VLOOKUP($A22,'Applicable RBC Table'!$A$43:$F$136,6,FALSE)","v":0},"75-27-4","Bromodichloromethane","c, v",{"$f":"'RBC Reference Table'!E22","v":3.4},{"$f":"'RBC Reference Table'!F22","v":0},0,"--",{"$f":"'RBC Reference Table'!G22","v":12},{"$f":"'RBC Reference Table'!H22","v":0},0,"--",{"$f":"'RBC Reference Table'!I22","v":15},{"$f":"'RBC Reference Table'!J22","v":0},0,"--",{"$f":"'RBC Reference Table'!K22","v":230},{"$f":"'RBC Reference Table'!L22","v":0},0,"--",{"$f":"'RBC Reference Table'!M22","v":6300},{"$f":"'RBC Reference Table'!N22","v":">Csat"},0,"--",{"$f":"'RBC Reference Table'!O22","v":2.4},{"$f":"'RBC Reference Table'!P22","v":0},0,"--",{"$f":"'RBC Reference Table'!O22","v":2.4},{"$f":"'RBC Reference Table'!P22","v":0},0,"--",{"$f":"'RBC Reference Table'!S22","v":11},{"$f":"'RBC Reference Table'!T22","v":0},0,"--",{"$f":"'RBC Reference Table'!U22","v":4.1000000000000002E-2},{"$f":"'RBC Reference Table'!V22","v":0},0,"--",{"$f":"'RBC Reference Table'!W22","v":9.6000000000000002E-2},{"$f":"'RBC Reference Table'!X22","v":0},0,"--",{"$f":"'RBC Reference Table'!Y22","v":0.53},{"$f":"'RBC Reference Table'!Z22","v":0},0,"--",{"$f":"'RBC Reference Table'!AA22","v":2E-3},{"$f":"'RBC Reference Table'!AB22","v":0},null,null,{"$f":"'RBC Reference Table'!AC22","v":9.1000000000000004E-3},{"$f":"'RBC Reference Table'!AD22","v":0},null,null,{"$f":"'RBC Reference Table'!AE22","v":8.8000000000000005E-3},{"$f":"'RBC Reference Table'!AF22","v":0},null,null,{"$f":"'RBC Reference Table'!AG22","v":0.13},{"$f":"'RBC Reference Table'!AH22","v":0},0,"--",{"$f":"'RBC Reference Table'!AI22","v":0.62},{"$f":"'RBC Reference Table'!AJ22","v":0},0,"--",{"$f":"'RBC Reference Table'!AK22","v":0.6},{"$f":"'RBC Reference Table'!AL22","v":0},0,"--",{"$f":"'RBC Reference Table'!AM22","v":1400},{"$f":"'RBC Reference Table'!AN22","v":0},0,"--",{"$f":"'RBC Reference Table'!AO22","v":3200},{"$f":"'RBC Reference Table'!AP22","v":0},0,"--",{"$f":"'RBC Reference Table'!AQ22","v":6000},{"$f":"'RBC Reference Table'!AR22","v":0},0,"--",{"$f":"'RBC Reference Table'!AS22","v":180},{"$f":"'RBC Reference Table'!AT22","v":0},0,"--",{"$f":"'RBC Reference Table'!AU22","v":420},{"$f":"'RBC Reference Table'!AV22","v":0},0,"--",{"$f":"'RBC Reference Table'!AW22","v":2300},{"$f":"'RBC Reference Table'!AX22","v":0},0,"--",{"$f":"'RBC Reference Table'!AY22","v":450},{"$f":"'RBC Reference Table'!AZ22","v":0},0,"--",{"$f":"'RBC Reference Table'!BA22","v":15},{"$f":"'RBC Reference Table'!BB22","v":0},0,"--",{"$f":"'RBC Reference Table'!BC22","v":36},{"$f":"'RBC Reference Table'!BD22","v":0},0,"--",{"$f":"'RBC Reference Table'!BE21","v":"-"},{"$f":"'RBC Reference Table'!BF21","v":"NV"},"","--",{"$f":"'RBC Reference Table'!BG22","v":7.5999999999999998E-2},null,0,"--",{"$f":"'RBC Reference Table'!BI22","v":0.18},null,0,"--",{"$f":"'RBC Reference Table'!BK22","v":0.33},null,0,"--"]
[16,{"$f":"VLOOKUP($A23,'Applicable RBC Table'!$A$43:$F$136,2,FALSE)","v":0},{"$f":"VLOOKUP($A23,'Applicable RBC Table'!$A$43:$F$136,3,FALSE)","v":0},{"$f":"VLOOKUP($A23,'Applicable RBC Table'!$A$43:$F$136,4,FALSE)","v":0},{"$f":"VLOOKUP($A23,'Applicable RBC Table'!$A$43:$F$136,5,FALSE)","v":0},{"$f":"VLOOKUP($A23,'Applicable RBC Table'!$A$43:$F$136,6,FALSE)","v":0},"75-25-2","Bromoform","c, v",{"$f":"'RBC Reference Table'!E23","v":57},{"$f":"'RBC Reference Table'!F23","v":0},0,"--",{"$f":"'RBC Reference Table'!G23","v":170},{"$f":"'RBC Reference Table'!H23","v":0},0,"--",{"$f":"'RBC Reference Table'!I23","v":260},{"$f":"'RBC Reference Table'!J23","v":0},0,"--",{"$f":"'RBC Reference Table'!K23","v":2700},{"$f":"'RBC Reference Table'!L23","v":">Csat"},0,"--",{"$f":"'RBC Reference Table'!M23","v":74000},{"$f":"'RBC Reference Table'!N23","v":">Csat"},0,"--",{"$f":"'RBC Reference Table'!O23","v":81},{"$f":"'RBC Reference Table'!P23","v":0},0,"--",{"$f":"'RBC Reference Table'!O23","v":81},{"$f":"'RBC Reference Table'!P23","v":0},0,"--",{"$f":"'RBC Reference Table'!S23","v":360},{"$f":"'RBC Reference Table'!T23","v":0},0,"--",{"$f":"'RBC Reference Table'!U23","v":8.1999999999999993},{"$f":"'RBC Reference Table'!V23","v":0},0,"--",{"$f":"'RBC Reference Table'!W23","v":19},{"$f":"'RBC Reference Table'!X23","v":0},0,"--",{"$f":"'RBC Reference Table'!Y23","v":110},{"$f":"'RBC Reference Table'!Z23","v":0},0,"--",{"$f":"'RBC Reference Table'!AA23","v":4.5999999999999999E-2},{"$f":"'RBC Reference Table'!AB23","v":0},null,null,{"$f":"'RBC Reference Table'!AC23","v":0.2},{"$f":"'RBC Reference Table'!AD23","v":0},null,null,{"$f":"'RBC Reference Table'!AE23","v":0.22},{"$f":"'RBC Reference Table'!AF23","v":0},null,null,{"$f":"'RBC Reference Table'!AG23","v":3.3},{"$f":"'RBC Reference Table'!AH23","v":0},0,"--",{"$f":"'RBC Reference Table'!AI23","v":15},{"$f":"'RBC Reference Table'!AJ23","v":0},0,"--",{"$f":"'RBC Reference Table'!AK23","v":16},{"$f":"'RBC Reference Table'!AL23","v":0},0,"--",{"$f":"'RBC Reference Table'!AM23","v":130000},{"$f":"'RBC Reference Table'!AN23","v":0},0,"--",{"$f":"'RBC Reference Table'!AO23","v":300000},{"$f":"'RBC Reference Table'!AP23","v":0},0,"--",{"$f":"'RBC Reference Table'!AQ23","v":550000},{"$f":"'RBC Reference Table'!AR23","v":0},0,"--",{"$f":"'RBC Reference Table'!AS23","v":36000},{"$f":"'RBC Reference Table'!AT23","v":0},0,"--",{"$f":"'RBC Reference Table'!AU23","v":85000},{"$f":"'RBC Reference Table'!AV23","v":0},0,"--",{"$f":"'RBC Reference Table'!AW23","v":470000},{"$f":"'RBC Reference Table'!AX23","v":0},0,"--",{"$f":"'RBC Reference Table'!AY23","v":14000},{"$f":"'RBC Reference Table'!AZ23","v":0},0,"--",{"$f":"'RBC Reference Table'!BA23","v":510},{"$f":"'RBC Reference Table'!BB23","v":0},0,"--",{"$f":"'RBC Reference Table'!BC23","v":1200},{"$f":"'RBC Reference Table'!BD23","v":0},0,"--",{"$f":"'RBC Reference Table'!BE22","v":330},{"$f":"'RBC Reference Table'!BF22","v":0},0,"--",{"$f":"'RBC Reference Table'!BG23","v":2.6},null,0,"--",{"$f":"'RBC Reference Table'!BI23","v":6},null,0,"--",{"$f":"'RBC Reference Table'!BK23","v":11},null,0,"--"]
[17,{"$f":"VLOOKUP($A24,'Applicable RBC Table'!$A$43:$F$136,2,FALSE)","v":0},{"$f":"VLOOKUP($A24,'Applicable RBC Table'!$A$43:$F$136,3,FALSE)","v":0},{"$f":"VLOOKUP($A24,'Applicable RBC Table'!$A$43:$F$136,4,FALSE)","v":0},{"$f":"VLOOKUP($A24,'Applicable RBC Table'!$A$43:$F$136,5,FALSE)","v":0},{"$f":"VLOOKUP($A24,'Applicable RBC Table'!$A$43:$F$136,6,FALSE)","v":0},"74-83-9","Bromomethane","nc, v",{"$f":"'RBC Reference Table'!E24","v":46},{"$f":"'RBC Reference Table'!F24","v":0},"--",{"$f":"IF(ISNUMBER(J24),$B24/J24,\"\")","v":0},{"$f":"'RBC Reference Table'!G24","v":92},{"$f":"'RBC Reference Table'!H24","v":0},"--",{"$f":"IF(ISNUMBER(N24),$B24/N24,\"\")","v":0},{"$f":"'RBC Reference Table'!I24","v":750},{"$f":"'RBC Reference Table'!J24","v":0},"--",{"$f":"IF(ISNUMBER(R24),$B24/R24,\"\")","v":0},{"$f":"'RBC Reference Table'!K24","v":370},{"$f":"'RBC Reference Table'!L24","v":0},"--",{"$f":"IF(ISNUMBER(V24),MAX($B24,$C24)/V24,\"\")","v":0},{"$f":"'RBC Reference Table'!M24","v":10000},{"$f":"'RBC Reference Table'!N24","v":">Csat"},"--",{"$f":"IF(ISNUMBER(Z24),MAX($B24,$C24)/Z24,\"\")","v":0},{"$f":"'RBC Reference Table'!O24","v":170},{"$f":"'RBC Reference Table'!P24","v":0},"--",{"$f":"IF(ISNUMBER(AD24),MAX($B24:$C24)/AD24,\"\")","v":0},{"$f":"'RBC Reference Table'!O24","v":170},{"$f":"'RBC Reference Table'!P24","v":0},"--",{"$f":"IF(ISNUMBER(AH24),MAX($B24:$C24)/AH24,\"\")","v":0},{"$f":"'RBC Reference Table'!S24","v":700},{"$f":"'RBC Reference Table'!T24","v":0},"--",{"$f":"IF(ISNUMBER(AL24),MAX($B24:$C24)/AL24,\"\")","v":0},{"$f":"'RBC Reference Table'!U24","v":1.3},{"$f":"'RBC Reference Table'!V24","v":0},"--",{"$f":"IF(ISNUMBER(AP24),MAX($B24:$C24)/AP24,\"\")","v":0},{"$f":"'RBC Reference Table'!W24","v":1.3},{"$f":"'RBC Reference Table'!X24","v":0},"--",{"$f":"IF(ISNUMBER(AT24),MAX($B24:$C24)/AT24,\"\")","v":0},{"$f":"'RBC Reference Table'!Y24","v":17},{"$f":"'RBC Reference Table'!Z24","v":0},"--",{"$f":"IF(ISNUMBER(AX24),MAX($B24:$C24)/AX24,\"\")","v":0},{"$f":"'RBC Reference Table'!AA24","v":8.3000000000000004E-2},{"$f":"'RBC Reference Table'!AB24","v":0},null,null,{"$f":"'RBC Reference Table'!AC24","v":0.3},{"$f":"'RBC Reference Table'!AD24","v":0},null,null,{"$f":"'RBC Reference Table'!AE24","v":0.4},{"$f":"'RBC Reference Table'!AF24","v":0},null,null,{"$f":"'RBC Reference Table'!AG24","v":7.5},{"$f":"'RBC Reference Table'!AH24","v":0},"--",{"$f":"IF(ISNUMBER(BN24),$D24/BN24,\"\")","v":0},{"$f":"'RBC Reference Table'!AI24","v":28},{"$f":"'RBC Reference Table'!AJ24","v":0},"--",{"$f":"IF(ISNUMBER(BR24),$D24/BR24,\"\")","v":0},{"$f":"'RBC Reference Table'!AK24","v":36},{"$f":"'RBC Reference Table'!AL24","v":0},"--",{"$f":"IF(ISNUMBER(BV24),$D24/BV24,\"\")","v":0},{"$f":"'RBC Reference Table'!AM24","v":32000},{"$f":"'RBC Reference Table'!AN24","v":0},"--",{"$f":"IF(ISNUMBER(BZ24),$D24/BZ24,\"\")","v":0},{"$f":"'RBC Reference Table'!AO24","v":32000},{"$f":"'RBC Reference Table'!AP24","v":0},"--",{"$f":"IF(ISNUMBER(CD24),$D24/CD24,\"\")","v":0},{"$f":"'RBC Reference Table'!AQ24","v":130000},{"$f":"'RBC Reference Table'!AR24","v":0},"--",{"$f":"IF(ISNUMBER(CH24),$D24/CH24,\"\")","v":0},{"$f":"'RBC Reference Table'!AS24","v":2100},{"$f":"'RBC Reference Table'!AT24","v":0},"--",{"$f":"IF(ISNUMBER(CL24),$D24/CL24,\"\")","v":0},{"$f":"'RBC Reference Table'!AU24","v":2100},{"$f":"'RBC Reference Table'!AV24","v":0},"--",{"$f":"IF(ISNUMBER(CP24),$D24/CP24,\"\")","v":0},{"$f":"'RBC Reference Table'!AW24","v":27000},{"$f":"'RBC Reference Table'!AX24","v":0},"--",{"$f":"IF(ISNUMBER(CT24),$D24/CT24,\"\")","v":0},{"$f":"'RBC Reference Table'!AY24","v":1200},{"$f":"'RBC Reference Table'!AZ24","v":0},"--",{"$f":"IF(ISNUMBER(CX24),$D24/CX24,\"\")","v":0},{"$f":"'RBC Reference Table'!BA24","v":1000},{"$f":"'RBC Reference Table'!BB24","v":0},"--",{"$f":"IF(ISNUMBER(DB24),$E24/DB24,\"\")","v":0},{"$f":"'RBC Reference Table'!BC24","v":1000},{"$f":"'RBC Reference Table'!BD24","v":0},"--",{"$f":"IF(ISNUMBER(DF24),$E24/DF24,\"\")","v":0},{"$f":"'RBC Reference Table'!BE23","v":11000},{"$f":"'RBC Reference Table'!BF23","v":0},"--",{"$f":"IF(ISNUMBER(DJ24),$E24/DJ24,\"\")","v":0},{"$f":"'RBC Reference Table'!BG24","v":5.2},null,"--",{"$f":"IF(ISNUMBER(DN24),$F24/DN24,\"\")","v":0},{"$f":"'RBC Reference Table'!BI24","v":5.2},null,"--",{"$f":"IF(ISNUMBER(DR24),$F24/DR24,\"\")","v":0},{"$f":"'RBC Reference Table'!BK24","v":22},null,"--",{"$f":"IF(ISNUMBER(DV24),$F24/DV24,\"\")","v":0}]
[18,{"$f":"VLOOKUP($A25,'Applicable RBC Table'!$A$43:$F$136,2,FALSE)","v":0},{"$f":"VLOOKUP($A25,'Applicable RBC Table'!$A$43:$F$136,3,FALSE)","v":0},{"$f":"VLOOKUP($A25,'Applicable RBC Table'!$A$43:$F$136,4,FALSE)","v":0},{"$f":"VLOOKUP($A25,'Applicable RBC Table'!$A$43:$F$136,5,FALSE)","v":0},{"$f":"VLOOKUP($A25,'Applicable RBC Table'!$A$43:$F$136,6,FALSE)","v":0},"7440-43-9","Cadmium","c, nv",{"$f":"'RBC Reference Table'!E25","v":78},{"$f":"'RBC Reference Table'!F25","v":0},{"$f":"IF(ISNUMBER(J25),($B25/J25)*10^-6,\"\")","v":0},"--",{"$f":"'RBC Reference Table'!G25","v":160},{"$f":"'RBC Reference Table'!H25","v":0},{"$f":"IF(ISNUMBER(N25),($B25/N25)*10^-6,\"\")","v":0},"--",{"$f":"'RBC Reference Table'!I25","v":1100},{"$f":"'RBC Reference Table'!J25","v":0},{"$f":"IF(ISNUMBER(R25),($B25/R25)*10^-6,\"\")","v":0},"--",{"$f":"'RBC Reference Table'!K25","v":350},{"$f":"'RBC Reference Table'!L25","v":0},{"$f":"IF(ISNUMBER(V25),(MAX($B25,$C25)/V25)*10^-6,\"\")","v":0},"--",{"$f":"'RBC Reference Table'!M25","v":9700},{"$f":"'RBC Reference Table'!N25","v":0},{"$f":"IF(ISNUMBER(Z25),(MAX($B25,$C25)/Z25)*10^-6,\"\")","v":0},"--",{"$f":"'RBC Reference Table'!O25","v":"-"},{"$f":"'RBC Reference Table'!P25","v":"NV"},{"$f":"IF(ISNUMBER(AD25),(MAX($B25:$C25)/AD25)*10^-6,\"\")","v":""},"--",{"$f":"'RBC Reference Table'!O25","v":"-"},{"$f":"'RBC Reference Table'!P25","v":"NV"},{"$f":"IF(ISNUMBER(AH25),(MAX($B25:$C25)/AH25)*10^-6,\"\")","v":""},"--",{"$f":"'RBC Reference Table'!S25","v":"-"},{"$f":"'RBC Reference Table'!T25","v":"NV"},{"$f":"IF(ISNUMBER(AL25),(MAX($B25:$C25)/AL25)*10^-6,\"\")","v":""},"--",{"$f":"'RBC Reference Table'!U25","v":"-"},{"$f":"'RBC Reference Table'!V25","v":"NV"},{"$f":"IF(ISNUMBER(AP25),(MAX($B25:$C25)/AP25)*10^-6,\"\")","v":""},"--",{"$f":"'RBC Reference Table'!W25","v":"-"},{"$f":"'RBC Reference Table'!X25","v":"NV"},{"$f":"IF(ISNUMBER(AT25),(MAX($B25:$C25)/AT25)*10^-6,\"\")","v":""},"--",{"$f":"'RBC Reference Table'!Y25","v":"-"},{"$f":"'RBC Reference Table'!Z25","v":"NV"},{"$f":"IF(ISNUMBER(AX25),(MAX($B25:$C25)/AX25)*10^-6,\"\")","v":""},"--",{"$f":"'RBC Reference Table'!AA25","v":"*"},{"$f":"'RBC Reference Table'!AB25","v":0},null,null,{"$f":"'RBC Reference Table'!AC25","v":"*"},{"$f":"'RBC Reference Table'!AD25","v":0},null,null,{"$f":"'RBC Reference Table'!AE25","v":"*"},{"$f":"'RBC Reference Table'!AF25","v":0},null,null,{"$f":"'RBC Reference Table'!AG25","v":20},{"$f":"'RBC Reference Table'!AH25","v":0},{"$f":"IF(ISNUMBER(BN25),($D25/BN25)*10^-6,\"\")","v":0},"--",{"$f":"'RBC Reference Table'!AI25","v":73},{"$f":"'RBC Reference Table'!AJ25","v":0},{"$f":"IF(ISNUMBER(BR25),($D25/BR25)*10^-6,\"\")","v":0},"--",{"$f":"'RBC Reference Table'!AK25","v":160},{"$f":"'RBC Reference Table'!AL25","v":0},{"$f":"IF(ISNUMBER(BV25),($D25/BV25)*10^-6,\"\")","v":0},"--",{"$f":"'RBC Reference Table'!AM25","v":"-"},{"$f":"'RBC Reference Table'!AN25","v":"NV"},{"$f":"IF(ISNUMBER(BZ25),($D25/BZ25)*10^-6,\"\")","v":""},"--",{"$f":"'RBC Reference Table'!AO25","v":"-"},{"$f":"'RBC Reference Table'!AP25","v":"NV"},{"$f":"IF(ISNUMBER(CD25),($D25/CD25)*10^-6,\"\")","v":""},"--",{"$f":"'RBC Reference Table'!AQ25","v":"-"},{"$f":"'RBC Reference Table'!AR25","v":"NV"},{"$f":"IF(ISNUMBER(CH25),($D25/CH25)*10^-6,\"\")","v":""},"--",{"$f":"'RBC Reference Table'!AS25","v":"-"},{"$f":"'RBC Reference Table'!AT25","v":"NV"},{"$f":"IF(ISNUMBER(CL25),($D25/CL25)*10^-6,\"\")","v":""},"--",{"$f":"'RBC Reference Table'!AU25","v":"-"},{"$f":"'RBC Reference Table'!AV25","v":"NV"},{"$f":"IF(ISNUMBER(CP25),($D25/CP25)*10^-6,\"\")","v":""},"--",{"$f":"'RBC Reference Table'!AW25","v":"-"},{"$f":"'RBC Reference Table'!AX25","v":"NV"},{"$f":"IF(ISNUMBER(CT25),($D25/CT25)*10^-6,\"\")","v":""},"--",{"$f":"'RBC Reference Table'!AY25","v":130000},{"$f":"'RBC Reference Table'!AZ25","v":0},{"$f":"IF(ISNUMBER(CX25),($D25/CX25)*10^-6,\"\")","v":0},"--",{"$f":"'RBC Reference Table'!BA25","v":"-"},{"$f":"'RBC Reference Table'!BB25","v":"NV"},{"$f":"IF(ISNUMBER(DB25),($E25/DB25)*10^-6,\"\")","v":""},"--",{"$f":"'RBC Reference Table'!BC25","v":"-"},{"$f":"'RBC Reference Table'!BD25","v":"NV"},{"$f":"IF(ISNUMBER(DF25),($E25/DF25)*10^-6,\"\")","v":""},"--",{"$f":"'RBC Reference Table'!BE24","v":22000},{"$f":"'RBC Reference Table'!BF24","v":0},{"$f":"IF(ISNUMBER(DJ25),($E25/DJ25)*10^-6,\"\")","v":0},"--",{"$f":"'RBC Reference Table'!BG25","v":0.01},null,{"$f":"IF(ISNUMBER(DN25),($F25/DN25)*10^-6,\"\")","v":0},"--",{"$f":"'RBC Reference Table'!BI25","v":0.01},null,{"$f":"IF(ISNUMBER(DR25),($F25/DR25)*10^-6,\"\")","v":0},"--",{"$f":"'RBC Reference Table'!BK25","v":4.3999999999999997E-2},null,{"$f":"IF(ISNUMBER(DV25),($F25/DV25)*10^-6,\"\")","v":0},"--"]
[19,{"$f":"VLOOKUP($A26,'Applicable RBC Table'!$A$43:$F$136,2,FALSE)","v":0},{"$f":"VLOOKUP($A26,'Applicable RBC Table'!$A$43:$F$136,3,FALSE)","v":0},{"$f":"VLOOKUP($A26,'Applicable RBC Table'!$A$43:$F$136,4,FALSE)","v":0},{"$f":"VLOOKUP($A26,'Applicable RBC Table'!$A$43:$F$136,5,FALSE)","v":0},{"$f":"VLOOKUP($A26,'Applicable RBC Table'!$A$43:$F$136,6,FALSE)","v":0},"56-23-5","Carbon tetrachloride","c, v",{"$f":"'RBC Reference Table'!E26","v":7.5},{"$f":"'RBC Reference Table'!F26","v":0},{"$f":"IF(ISNUMBER(J26),($B26/J26)*10^-6,\"\")","v":0},"--",{"$f":"'RBC Reference Table'!G26","v":21},{"$f":"'RBC Reference Table'!H26","v":0},{"$f":"IF(ISNUMBER(N26),($B26/N26)*10^-6,\"\")","v":0},"--",{"$f":"'RBC Reference Table'!I26","v":34},{"$f":"'RBC Reference Table'!J26","v":0},{"$f":"IF(ISNUMBER(R26),($B26/R26)*10^-6,\"\")","v":0},"--",{"$f":"'RBC Reference Table'!K26","v":320},{"$f":"'RBC Reference Table'!L26","v":0},{"$f":"IF(ISNUMBER(V26),(MAX($B26,$C26)/V26)*10^-6,\"\")","v":0},"--",{"$f":"'RBC Reference Table'!M26","v":8900},{"$f":"'RBC Reference Table'!N26","v":">Csat"},{"$f":"IF(ISNUMBER(Z26),(MAX($B26,$C26)/Z26)*10^-6,\"\")","v":0},"--",{"$f":"'RBC Reference Table'!O26","v":15},{"$f":"'RBC Reference Table'!P26","v":0},{"$f":"IF(ISNUMBER(AD26),(MAX($B26:$C26)/AD26)*10^-6,\"\")","v":0},"--",{"$f":"'RBC Reference Table'!O26","v":15},{"$f":"'RBC Reference Table'!P26","v":0},{"$f":"IF(ISNUMBER(AH26),(MAX($B26:$C26)/AH26)*10^-6,\"\")","v":0},"--",{"$f":"'RBC Reference Table'!S26","v":65},{"$f":"'RBC Reference Table'!T26","v":0},{"$f":"IF(ISNUMBER(AL26),(MAX($B26:$C26)/AL26)*10^-6,\"\")","v":0},"--",{"$f":"'RBC Reference Table'!U26","v":0.12},{"$f":"'RBC Reference Table'!V26","v":0},{"$f":"IF(ISNUMBER(AP26),(MAX($B26:$C26)/AP26)*10^-6,\"\")","v":0},"--",{"$f":"'RBC Reference Table'!W26","v":0.28000000000000003},{"$f":"'RBC Reference Table'!X26","v":0},{"$f":"IF(ISNUMBER(AT26),(MAX($B26:$C26)/AT26)*10^-6,\"\")","v":0},"--",{"$f":"'RBC Reference Table'!Y26","v":1.6},{"$f":"'RBC Reference Table'!Z26","v":0},{"$f":"IF(ISNUMBER(AX26),(MAX($B26:$C26)/AX26)*10^-6,\"\")","v":0},"--",{"$f":"'RBC Reference Table'!AA26","v":1.2999999999999999E-2},{"$f":"'RBC Reference Table'!AB26","v":0},null,null,{"$f":"'RBC Reference Table'!AC26","v":5.5E-2},{"$f":"'RBC Reference Table'!AD26","v":0},null,null,{"$f":"'RBC Reference Table'!AE26","v":5.8000000000000003E-2},{"$f":"'RBC Reference Table'!AF26","v":0},null,null,{"$f":"'RBC Reference Table'!AG26","v":0.46},{"$f":"'RBC Reference Table'!AH26","v":0},{"$f":"IF(ISNUMBER(BN26),($D26/BN26)*10^-6,\"\")","v":0},"--",{"$f":"'RBC Reference Table'!AI26","v":2},{"$f":"'RBC Reference Table'!AJ26","v":0},{"$f":"IF(ISNUMBER(BR26),($D26/BR26)*10^-6,\"\")","v":0},"--",{"$f":"'RBC Reference Table'!AK26","v":2.1},{"$f":"'RBC Reference Table'!AL26","v":0},{"$f":"IF(ISNUMBER(BV26),($D26/BV26)*10^-6,\"\")","v":0},"--",{"$f":"'RBC Reference Table'!AM26","v":1800},{"$f":"'RBC Reference Table'!AN26","v":0},{"$f":"IF(ISNUMBER(BZ26),($D26/BZ26)*10^-6,\"\")","v":0},"--",{"$f":"'RBC Reference Table'!AO26","v":4200},{"$f":"'RBC Reference Table'!AP26","v":0},{"$f":"IF(ISNUMBER(CD26),($D26/CD26)*10^-6,\"\")","v":0},"--",{"$f":"'RBC Reference Table'!AQ26","v":7700},{"$f":"'RBC Reference Table'!AR26","v":0},{"$f":"IF(ISNUMBER(CH26),($D26/CH26)*10^-6,\"\")","v":0},"--",{"$f":"'RBC Reference Table'!AS26","v":92},{"$f":"'RBC Reference Table'!AT26","v":0},{"$f":"IF(ISNUMBER(CL26),($D26/CL26)*10^-6,\"\")","v":0},"--",{"$f":"'RBC Reference Table'!AU26","v":220},{"$f":"'RBC Reference Table'!AV26","v":0},{"$f":"IF(ISNUMBER(CP26),($D26/CP26)*10^-6,\"\")","v":0},"--",{"$f":"'RBC Reference Table'!AW26","v":1200},{"$f":"'RBC Reference Table'!AX26","v":0},{"$f":"IF(ISNUMBER(CT26),($D26/CT26)*10^-6,\"\")","v":0},"--",{"$f":"'RBC Reference Table'!AY26","v":1800},{"$f":"'RBC Reference Table'!AZ26","v":0},{"$f":"IF(ISNUMBER(CX26),($D26/CX26)*10^-6,\"\")","v":0},"--",{"$f":"'RBC Reference Table'!BA26","v":94},{"$f":"'RBC Reference Table'!BB26","v":0},{"$f":"IF(ISNUMBER(DB26),($E26/DB26)*10^-6,\"\")","v":0},"--",{"$f":"'RBC Reference Table'!BC26","v":220},{"$f":"'RBC Reference Table'!BD26","v":0},{"$f":"IF(ISNUMBER(DF26),($E26/DF26)*10^-6,\"\")","v":0},"--",{"$f":"'RBC Reference Table'!BE25","v":"-"},{"$f":"'RBC Reference Table'!BF25","v":"NV"},{"$f":"IF(ISNUMBER(DJ26),($E26/DJ26)*10^-6,\"\")","v":""},"--",{"$f":"'RBC Reference Table'!BG26","v":0.47},null,{"$f":"IF(ISNUMBER(DN26),($F26/DN26)*10^-6,\"\")","v":0},"--",{"$f":"'RBC Reference Table'!BI26","v":1.1000000000000001},null,{"$f":"IF(ISNUMBER(DR26),($F26/DR26)*10^-6,\"\")","v":0},"--",{"$f":"'RBC Reference Table'!BK26","v":2},null,{"$f":"IF(ISNUMBER(DV26),($F26/DV26)*10^-6,\"\")","v":0},"--"]
[20,{"$f":"VLOOKUP($A27,'Applicable RBC Table'!$A$43:$F$136,2,FALSE)","v":0},{"$f":"VLOOKUP($A27,'Applicable RBC Table'!$A$43:$F$136,3,FALSE)","v":0},{"$f":"VLOOKUP($A27,'Applicable RBC Table'!$A$43:$F$136,4,FALSE)","v":0},{"$f":"VLOOKUP($A27,'Applicable RBC Table'!$A$43:$F$136,5,FALSE)","v":0},{"$f":"VLOOKUP($A27,'Applicable RBC Table'!$A$43:$F$136,6,FALSE)","v":0},"108-90-7","Chlorobenzene","nc, v",{"$f":"'RBC Reference Table'!E27","v":530},{"$f":"'RBC Reference Table'!F27","v":0},"--",{"$f":"IF(ISNUMBER(J27),$B27/J27,\"\")","v":0},{"$f":"'RBC Reference Table'!G27","v":1100},{"$f":"'RBC Reference Table'!H27","v":">Csat"},"--",{"$f":"IF(ISNUMBER(N27),$B27/N27,\"\")","v":0},{"$f":"'RBC Reference Table'!I27","v":8700},{"$f":"'RBC Reference Table'!J27","v":">Csat"},"--",{"$f":"IF(ISNUMBER(R27),$B27/R27,\"\")","v":0},{"$f":"'RBC Reference Table'!K27","v":4700},{"$f":"'RBC Reference Table'!L27","v":">Csat"},"--",{"$f":"IF(ISNUMBER(V27),MAX($B27,$C27)/V27,\"\")","v":0},{"$f":"'RBC Reference Table'!M27","v":130000},{"$f":"'RBC Reference Table'!N27","v":">Csat"},"--",{"$f":"IF(ISNUMBER(Z27),MAX($B27,$C27)/Z27,\"\")","v":0},{"$f":"'RBC Reference Table'!O27","v":"-"},{"$f":"'RBC Reference Table'!P27","v":">Csat"},"--",{"$f":"IF(ISNUMBER(AD27),MAX($B27:$C27)/AD27,\"\")","v":""},{"$f":"'RBC Reference Table'!O27","v":"-"},{"$f":"'RBC Reference Table'!P27","v":">Csat"},"--",{"$f":"IF(ISNUMBER(AH27),MAX($B27:$C27)/AH27,\"\")","v":""},{"$f":"'RBC Reference Table'!S27","v":"-"},{"$f":"'RBC Reference Table'!T27","v":">Csat"},"--",{"$f":"IF(ISNUMBER(AL27),MAX($B27:$C27)/AL27,\"\")","v":""},{"$f":"'RBC Reference Table'!U27","v":77},{"$f":"'RBC Reference Table'!V27","v":0},"--",{"$f":"IF(ISNUMBER(AP27),MAX($B27:$C27)/AP27,\"\")","v":0},{"$f":"'RBC Reference Table'!W27","v":77},{"$f":"'RBC Reference Table'!X27","v":0},"--",{"$f":"IF(ISNUMBER(AT27),MAX($B27:$C27)/AT27,\"\")","v":0},{"$f":"'RBC Reference Table'!Y27","v":"-"},{"$f":"'RBC Reference Table'!Z27","v":">Csat"},"--",{"$f":"IF(ISNUMBER(AX27),MAX($B27:$C27)/AX27,\"\")","v":""},{"$f":"'RBC Reference Table'!AA27","v":5.8},{"$f":"'RBC Reference Table'!AB27","v":0},null,null,{"$f":"'RBC Reference Table'!AC27","v":22},{"$f":"'RBC Reference Table'!AD27","v":0},null,null,{"$f":"'RBC Reference Table'!AE27","v":27},{"$f":"'RBC Reference Table'!AF27","v":0},null,null,{"$f":"'RBC Reference Table'!AG27","v":77},{"$f":"'RBC Reference Table'!AH27","v":0},"--",{"$f":"IF(ISNUMBER(BN27),$D27/BN27,\"\")","v":0},{"$f":"'RBC Reference Table'!AI27","v":290},{"$f":"'RBC Reference Table'!AJ27","v":0},"--",{"$f":"IF(ISNUMBER(BR27),$D27/BR27,\"\")","v":0},{"$f":"'RBC Reference Table'!AK27","v":350},{"$f":"'RBC Reference Table'!AL27","v":0},"--",{"$f":"IF(ISNUMBER(BV27),$D27/BV27,\"\")","v":0},{"$f":"'RBC Reference Table'!AM27","v":"-"},{"$f":"'RBC Reference Table'!AN27","v":">S"},"--",{"$f":"IF(ISNUMBER(BZ27),$D27/BZ27,\"\")","v":""},{"$f":"'RBC Reference Table'!AO27","v":"-"},{"$f":"'RBC Reference Table'!AP27","v":">S"},"--",{"$f":"IF(ISNUMBER(CD27),$D27/CD27,\"\")","v":""},{"$f":"'RBC Reference Table'!AQ27","v":"-"},{"$f":"'RBC Reference Table'!AR27","v":">S"},"--",{"$f":"IF(ISNUMBER(CH27),$D27/CH27,\"\")","v":""},{"$f":"'RBC Reference Table'!AS27","v":67000},{"$f":"'RBC Reference Table'!AT27","v":0},"--",{"$f":"IF(ISNUMBER(CL27),$D27/CL27,\"\")","v":0},{"$f":"'RBC Reference Table'!AU27","v":67000},{"$f":"'RBC Reference Table'!AV27","v":0},"--",{"$f":"IF(ISNUMBER(CP27),$D27/CP27,\"\")","v":0},{"$f":"'RBC Reference Table'!AW27","v":"-"},{"$f":"'RBC Reference Table'!AX27","v":">S"},"--",{"$f":"IF(ISNUMBER(CT27),$D27/CT27,\"\")","v":""},{"$f":"'RBC Reference Table'!AY27","v":10000},{"$f":"'RBC Reference Table'!AZ27","v":0},"--",{"$f":"IF(ISNUMBER(CX27),$D27/CX27,\"\")","v":0},{"$f":"'RBC Reference Table'!BA27","v":10000},{"$f":"'RBC Reference Table'!BB27","v":0},"--",{"$f":"IF(ISNUMBER(DB27),$E27/DB27,\"\")","v":0},{"$f":"'RBC Reference Table'!BC27","v":10000},{"$f":"'RBC Reference Table'!BD27","v":0},"--",{"$f":"IF(ISNUMBER(DF27),$E27/DF27,\"\")","v":0},{"$f":"'RBC Reference Table'!BE26","v":2000},{"$f":"'RBC Reference Table'!BF26","v":0},"--",{"$f":"IF(ISNUMBER(DJ27),$E27/DJ27,\"\")","v":0},{"$f":"'RBC Reference Table'!BG27","v":52},null,"--",{"$f":"IF(ISNUMBER(DN27),$F27/DN27,\"\")","v":0},{"$f":"'RBC Reference Table'!BI27","v":52},null,"--",{"$f":"IF(ISNUMBER(DR27),$F27/DR27,\"\")","v":0},{"$f":"'RBC Reference Table'!BK27","v":220},null,"--",{"$f":"IF(ISNUMBER(DV27),$F27/DV27,\"\")","v":0}]
[21,{"$f":"VLOOKUP($A28,'Applicable RBC Table'!$A$43:$F$136,2,FALSE)","v":0},{"$f":"VLOOKUP($A28,'Applicable RBC Table'!$A$43:$F$136,3,FALSE)","v":0},{"$f":"VLOOKUP($A28,'Applicable RBC Table'!$A$43:$F$136,4,FALSE)","v":0},{"$f":"VLOOKUP($A28,'Applicable RBC Table'!$A$43:$F$136,5,FALSE)","v":0},{"$f":"VLOOKUP($A28,'Applicable RBC Table'!$A$43:$F$136,6,FALSE)","v":0},"124-48-1","Chlorodibromomethane (dibromochloromethane)","c, v",{"$f":"'RBC Reference Table'!E28","v":3.7},{"$f":"'RBC Reference Table'!F28","v":0},{"$f":"IF(ISNUMBER(J28),($B28/J28)*10^-6,\"\")","v":0},"--",{"$f":"'RBC Reference Table'!G28","v":12},{"$f":"'RBC Reference Table'!H28","v":0},{"$f":"IF(ISNUMBER(N28),($B28/N28)*10^-6,\"\")","v":0},"--",{"$f":"'RBC Reference Table'!I28","v":17},{"$f":"'RBC Reference Table'!J28","v":0},{"$f":"IF(ISNUMBER(R28),($B28/R28)*10^-6,\"\")","v":0},"--",{"$f":"'RBC Reference Table'!K28","v":210},{"$f":"'RBC Reference Table'!L28","v":0},{"$f":"IF(ISNUMBER(V28),(MAX($B28,$C28)/V28)*10^-6,\"\")","v":0},"--",{"$f":"'RBC Reference Table'!M28","v":5800},{"$f":"'RBC Reference Table'!N28","v":">Csat"},{"$f":"IF(ISNUMBER(Z28),(MAX($B28,$C28)/Z28)*10^-6,\"\")","v":0},"--",{"$f":"'RBC Reference Table'!O28","v":3.3},{"$f":"'RBC Reference Table'!P28","v":0},{"$f":"IF(ISNUMBER(AD28),(MAX($B28:$C28)/AD28)*10^-6,\"\")","v":0},"--",{"$f":"'RBC Reference Table'!O28","v":3.3},{"$f":"'RBC Reference Table'!P28","v":0},{"$f":"IF(ISNUMBER(AH28),(MAX($B28:$C28)/AH28)*10^-6,\"\")","v":0},"--",{"$f":"'RBC Reference Table'!S28","v":14},{"$f":"'RBC Reference Table'!T28","v":0},{"$f":"IF(ISNUMBER(AL28),(MAX($B28:$C28)/AL28)*10^-6,\"\")","v":0},"--",{"$f":"'RBC Reference Table'!U28","v":0.22},{"$f":"'RBC Reference Table'!V28","v":0},{"$f":"IF(ISNUMBER(AP28),(MAX($B28:$C28)/AP28)*10^-6,\"\")","v":0},"--",{"$f":"'RBC Reference Table'!W28","v":0.53},{"$f":"'RBC Reference Table'!X28","v":0},{"$f":"IF(ISNUMBER(AT28),(MAX($B28:$C28)/AT28)*10^-6,\"\")","v":0},"--",{"$f":"'RBC Reference Table'!Y28","v":2.9},{"$f":"'RBC Reference Table'!Z28","v":0},{"$f":"IF(ISNUMBER(AX28),(MAX($B28:$C28)/AX28)*10^-6,\"\")","v":0},"--",{"$f":"'RBC Reference Table'!AA28","v":2.3999999999999998E-3},{"$f":"'RBC Reference Table'!AB28","v":0},null,null,{"$f":"'RBC Reference Table'!AC28","v":1.0999999999999999E-2},{"$f":"'RBC Reference Table'!AD28","v":0},null,null,{"$f":"'RBC Reference Table'!AE28","v":1.0999999999999999E-2},{"$f":"'RBC Reference Table'!AF28","v":0},null,null,{"$f":"'RBC Reference Table'!AG28","v":0.17},{"$f":"'RBC Reference Table'!AH28","v":0},{"$f":"IF(ISNUMBER(BN28),($D28/BN28)*10^-6,\"\")","v":0},"--",{"$f":"'RBC Reference Table'!AI28","v":0.77},{"$f":"'RBC Reference Table'!AJ28","v":0},{"$f":"IF(ISNUMBER(BR28),($D28/BR28)*10^-6,\"\")","v":0},"--",{"$f":"'RBC Reference Table'!AK28","v":0.77},{"$f":"'RBC Reference Table'!AL28","v":0},{"$f":"IF(ISNUMBER(BV28),($D28/BV28)*10^-6,\"\")","v":0},"--",{"$f":"'RBC Reference Table'!AM28","v":3900},{"$f":"'RBC Reference Table'!AN28","v":0},{"$f":"IF(ISNUMBER(BZ28),($D28/BZ28)*10^-6,\"\")","v":0},"--",{"$f":"'RBC Reference Table'!AO28","v":9300},{"$f":"'RBC Reference Table'!AP28","v":0},{"$f":"IF(ISNUMBER(CD28),($D28/CD28)*10^-6,\"\")","v":0},"--",{"$f":"'RBC Reference Table'!AQ28","v":17000},{"$f":"'RBC Reference Table'!AR28","v":0},{"$f":"IF(ISNUMBER(CH28),($D28/CH28)*10^-6,\"\")","v":0},"--",{"$f":"'RBC Reference Table'!AS28","v":980},{"$f":"'RBC Reference Table'!AT28","v":0},{"$f":"IF(ISNUMBER(CL28),($D28/CL28)*10^-6,\"\")","v":0},"--",{"$f":"'RBC Reference Table'!AU28","v":2300},{"$f":"'RBC Reference Table'!AV28","v":0},{"$f":"IF(ISNUMBER(CP28),($D28/CP28)*10^-6,\"\")","v":0},"--",{"$f":"'RBC Reference Table'!AW28","v":13000},{"$f":"'RBC Reference Table'!AX28","v":0},{"$f":"IF(ISNUMBER(CT28),($D28/CT28)*10^-6,\"\")","v":0},"--",{"$f":"'RBC Reference Table'!AY28","v":610},{"$f":"'RBC Reference Table'!AZ28","v":0},{"$f":"IF(ISNUMBER(CX28),($D28/CX28)*10^-6,\"\")","v":0},"--",{"$f":"'RBC Reference Table'!BA28","v":21},{"$f":"'RBC Reference Table'!BB28","v":0},{"$f":"IF(ISNUMBER(DB28),($E28/DB28)*10^-6,\"\")","v":0},"--",{"$f":"'RBC Reference Table'!BC28","v":49},{"$f":"'RBC Reference Table'!BD28","v":0},{"$f":"IF(ISNUMBER(DF28),($E28/DF28)*10^-6,\"\")","v":0},"--",{"$f":"'RBC Reference Table'!BE27","v":220000},{"$f":"'RBC Reference Table'!BF27","v":0},{"$f":"IF(ISNUMBER(DJ28),($E28/DJ28)*10^-6,\"\")","v":0},"--",{"$f":"'RBC Reference Table'!BG28","v":0.1},null,{"$f":"IF(ISNUMBER(DN28),($F28/DN28)*10^-6,\"\")","v":0},"--",{"$f":"'RBC Reference Table'!BI28","v":0.25},null,{"$f":"IF(ISNUMBER(DR28),($F28/DR28)*10^-6,\"\")","v":0},"--",{"$f":"'RBC Reference Table'!BK28","v":0.45},null,{"$f":"IF(ISNUMBER(DV28),($F28/DV28)*10^-6,\"\")","v":0},"--"]
[22,{"$f":"VLOOKUP($A29,'Applicable RBC Table'!$A$43:$F$136,2,FALSE)","v":0},{"$f":"VLOOKUP($A29,'Applicable RBC Table'!$A$43:$F$136,3,FALSE)","v":0},{"$f":"VLOOKUP($A29,'Applicable RBC Table'!$A$43:$F$136,4,FALSE)","v":0},{"$f":"VLOOKUP($A29,'Applicable RBC Table'!$A$43:$F$136,5,FALSE)","v":0},{"$f":"VLOOKUP($A29,'Applicable RBC Table'!$A$43:$F$136,6,FALSE)","v":0},"75-00-3","Chloroethane (ethyl chloride)","nc, v",{"$f":"'RBC Reference Table'!E29","v":160000},{"$f":"'RBC Reference Table'!F29","v":">Csat"},"--",{"$f":"IF(ISNUMBER(J29),$B29/J29,\"\")","v":0},{"$f":"'RBC Reference Table'!G29","v":320000},{"$f":"'RBC Reference Table'!H29","v":">Csat"},"--",{"$f":"IF(ISNUMBER(N29),$B29/N29,\"\")","v":0},{"$f":"'RBC Reference Table'!I29","v":"-"},{"$f":"'RBC Reference Table'!J29","v":">Max"},"--",{"$f":"IF(ISNUMBER(R29),$B29/R29,\"\")","v":""},{"$f":"'RBC Reference Table'!K29","v":"-"},{"$f":"'RBC Reference Table'!L29","v":">Max"},"--",{"$f":"IF(ISNUMBER(V29),MAX($B29,$C29)/V29,\"\")","v":""},{"$f":"'RBC Reference Table'!M29","v":"-"},{"$f":"'RBC Reference Table'!N29","v":">Max"},"--",{"$f":"IF(ISNUMBER(Z29),MAX($B29,$C29)/Z29,\"\")","v":""},{"$f":"'RBC Reference Table'!O29","v":"-"},{"$f":"'RBC Reference Table'!P29","v":">Csat"},"--",{"$f":"IF(ISNUMBER(AD29),MAX($B29:$C29)/AD29,\"\")","v":""},{"$f":"'RBC Reference Table'!O29","v":"-"},{"$f":"'RBC Reference Table'!P29","v":">Csat"},"--",{"$f":"IF(ISNUMBER(AH29),MAX($B29:$C29)/AH29,\"\")","v":""},{"$f":"'RBC Reference Table'!S29","v":"-"},{"$f":"'RBC Reference Table'!T29","v":">Max"},"--",{"$f":"IF(ISNUMBER(AL29),MAX($B29:$C29)/AL29,\"\")","v":""},{"$f":"'RBC Reference Table'!U29","v":"-"},{"$f":"'RBC Reference Table'!V29","v":">Csat"},"--",{"$f":"IF(ISNUMBER(AP29),MAX($B29:$C29)/AP29,\"\")","v":""},{"$f":"'RBC Reference Table'!W29","v":"-"},{"$f":"'RBC Reference Table'!X29","v":">Csat"},"--",{"$f":"IF(ISNUMBER(AT29),MAX($B29:$C29)/AT29,\"\")","v":""},{"$f":"'RBC Reference Table'!Y29","v":"-"},{"$f":"'RBC Reference Table'!Z29","v":">Csat"},"--",{"$f":"IF(ISNUMBER(AX29),MAX($B29:$C29)/AX29,\"\")","v":""},{"$f":"'RBC Reference Table'!AA29","v":310},{"$f":"'RBC Reference Table'!AB29","v":0},null,null,{"$f":"'RBC Reference Table'!AC29","v":1100},{"$f":"'RBC Reference Table'!AD29","v":0},null,null,{"$f":"'RBC Reference Table'!AE29","v":1300},{"$f":"'RBC Reference Table'!AF29","v":0},null,null,{"$f":"'RBC Reference Table'!AG29","v":21000},{"$f":"'RBC Reference Table'!AH29","v":0},"--",{"$f":"IF(ISNUMBER(BN29),$D29/BN29,\"\")","v":0},{"$f":"'RBC Reference Table'!AI29","v":76000},{"$f":"'RBC Reference Table'!AJ29","v":0},"--",{"$f":"IF(ISNUMBER(BR29),$D29/BR29,\"\")","v":0},{"$f":"'RBC Reference Table'!AK29","v":88000},{"$f":"'RBC Reference Table'!AL29","v":0},"--",{"$f":"IF(ISNUMBER(BV29),$D29/BV29,\"\")","v":0},{"$f":"'RBC Reference Table'!AM29","v":"-"},{"$f":"'RBC Reference Table'!AN29","v":">S"},"--",{"$f":"IF(ISNUMBER(BZ29),$D29/BZ29,\"\")","v":""},{"$f":"'RBC Reference Table'!AO29","v":"-"},{"$f":"'RBC Reference Table'!AP29","v":">S"},"--",{"$f":"IF(ISNUMBER(CD29),$D29/CD29,\"\")","v":""},{"$f":"'RBC Reference Table'!AQ29","v":"-"},{"$f":"'RBC Reference Table'!AR29","v":">S"},"--",{"$f":"IF(ISNUMBER(CH29),$D29/CH29,\"\")","v":""},{"$f":"'RBC Reference Table'!AS29","v":2800000},{"$f":"'RBC Reference Table'!AT29","v":0},"--",{"$f":"IF(ISNUMBER(CL29),$D29/CL29,\"\")","v":0},{"$f":"'RBC Reference Table'!AU29","v":2800000},{"$f":"'RBC Reference Table'!AV29","v":0},"--",{"$f":"IF(ISNUMBER(CP29),$D29/CP29,\"\")","v":0},{"$f":"'RBC Reference Table'!AW29","v":"-"},{"$f":"'RBC Reference Table'!AX29","v":">S"},"--",{"$f":"IF(ISNUMBER(CT29),$D29/CT29,\"\")","v":""},{"$f":"'RBC Reference Table'!AY29","v":2400000},{"$f":"'RBC Reference Table'!AZ29","v":0},"--",{"$f":"IF(ISNUMBER(CX29),$D29/CX29,\"\")","v":0},{"$f":"'RBC Reference Table'!BA29","v":2100000},{"$f":"'RBC Reference Table'!BB29","v":0},"--",{"$f":"IF(ISNUMBER(DB29),$E29/DB29,\"\")","v":0},{"$f":"'RBC Reference Table'!BC29","v":2100000},{"$f":"'RBC Reference Table'!BD29","v":0},"--",{"$f":"IF(ISNUMBER(DF29),$E29/DF29,\"\")","v":0},{"$f":"'RBC Reference Table'!BE28","v":450},{"$f":"'RBC Reference Table'!BF28","v":0},"--",{"$f":"IF(ISNUMBER(DJ29),$E29/DJ29,\"\")","v":0},{"$f":"'RBC Reference Table'!BG29","v":10000},null,"--",{"$f":"IF(ISNUMBER(DN29),$F29/DN29,\"\")","v":0},{"$f":"'RBC Reference Table'!BI29","v":10000},null,"--",{"$f":"IF(ISNUMBER(DR29),$F29/DR29,\"\")","v":0},{"$f":"'RBC Reference Table'!BK29","v":44000},null,"--",{"$f":"IF(ISNUMBER(DV29),$F29/DV29,\"\")","v":0}]
[23,{"$f":"VLOOKUP($A30,'Applicable RBC Table'!$A$43:$F$136,2,FALSE)","v":0},{"$f":"VLOOKUP($A30,'Applicable RBC Table'!$A$43:$F$136,3,FALSE)","v":0},{"$f":"VLOOKUP($A30,'Applicable RBC Table'!$A$43:$F$136,4,FALSE)","v":2.48},{"$f":"VLOOKUP($A30,'Applicable RBC Table'!$A$43:$F$136,5,FALSE)","v":0},{"$f":"VLOOKUP($A30,'Applicable RBC Table'!$A$43:$F$136,6,FALSE)","v":0},"67-66-3","Chloroform","c, v",{"$f":"'RBC Reference Table'!E30","v":5.8},{"$f":"'RBC Reference Table'!F30","v":0},{"$f":"IF(ISNUMBER(J30),($B30/J30)*10^-6,\"\")","v":0},"--",{"$f":"'RBC Reference Table'!G30","v":22},{"$f":"'RBC Reference Table'!H30","v":0},{"$f":"IF(ISNUMBER(N30),($B30/N30)*10^-6,\"\")","v":0},"--",{"$f":"'RBC Reference Table'!I30","v":26},{"$f":"'RBC Reference Table'!J30","v":0},{"$f":"IF(ISNUMBER(R30),($B30/R30)*10^-6,\"\")","v":0},"--",{"$f":"'RBC Reference Table'!K30","v":410},{"$f":"'RBC Reference Table'!L30","v":0},{"$f":"IF(ISNUMBER(V30),(MAX($B30,$C30)/V30)*10^-6,\"\")","v":0},"--",{"$f":"'RBC Reference Table'!M30","v":11000},{"$f":"'RBC Reference Table'!N30","v":">Csat"},{"$f":"IF(ISNUMBER(Z30),(MAX($B30,$C30)/Z30)*10^-6,\"\")","v":0},"--",{"$f":"'RBC Reference Table'!O30","v":3.9},{"$f":"'RBC Reference Table'!P30","v":0},{"$f":"IF(ISNUMBER(AD30),(MAX($B30:$C30)/AD30)*10^-6,\"\")","v":0},"--",{"$f":"'RBC Reference Table'!O30","v":3.9},{"$f":"'RBC Reference Table'!P30","v":0},{"$f":"IF(ISNUMBER(AH30),(MAX($B30:$C30)/AH30)*10^-6,\"\")","v":0},"--",{"$f":"'RBC Reference Table'!S30","v":17},{"$f":"'RBC Reference Table'!T30","v":0},{"$f":"IF(ISNUMBER(AL30),(MAX($B30:$C30)/AL30)*10^-6,\"\")","v":0},"--",{"$f":"'RBC Reference Table'!U30","v":3.1E-2},{"$f":"'RBC Reference Table'!V30","v":0},{"$f":"IF(ISNUMBER(AP30),(MAX($B30:$C30)/AP30)*10^-6,\"\")","v":0},"--",{"$f":"'RBC Reference Table'!W30","v":7.3999999999999996E-2},{"$f":"'RBC Reference Table'!X30","v":0},{"$f":"IF(ISNUMBER(AT30),(MAX($B30:$C30)/AT30)*10^-6,\"\")","v":0},"--",{"$f":"'RBC Reference Table'!Y30","v":0.41},{"$f":"'RBC Reference Table'!Z30","v":0},{"$f":"IF(ISNUMBER(AX30),(MAX($B30:$C30)/AX30)*10^-6,\"\")","v":0},"--",{"$f":"'RBC Reference Table'!AA30","v":3.3999999999999998E-3},{"$f":"'RBC Reference Table'!AB30","v":0},null,null,{"$f":"'RBC Reference Table'!AC30","v":1.6E-2},{"$f":"'RBC Reference Table'!AD30","v":0},null,null,{"$f":"'RBC Reference Table'!AE30","v":1.4999999999999999E-2},{"$f":"'RBC Reference Table'!AF30","v":0},null,null,{"$f":"'RBC Reference Table'!AG30","v":0.22},{"$f":"'RBC Reference Table'!AH30","v":0},{"$f":"IF(ISNUMBER(BN30),($D30/BN30)*10^-6,\"\")","v":1.1272727272727272E-5},"--",{"$f":"'RBC Reference Table'!AI30","v":1},{"$f":"'RBC Reference Table'!AJ30","v":0},{"$f":"IF(ISNUMBER(BR30),($D30/BR30)*10^-6,\"\")","v":2.48E-6},"--",{"$f":"'RBC Reference Table'!AK30","v":0.98},{"$f":"'RBC Reference Table'!AL30","v":0},{"$f":"IF(ISNUMBER(BV30),($D30/BV30)*10^-6,\"\")","v":2.530612244897959E-6},"--",{"$f":"'RBC Reference Table'!AM30","v":1400},{"$f":"'RBC Reference Table'!AN30","v":0},{"$f":"IF(ISNUMBER(BZ30),($D30/BZ30)*10^-6,\"\")","v":1.7714285714285713E-9},"--",{"$f":"'RBC Reference Table'!AO30","v":3400},{"$f":"'RBC Reference Table'!AP30","v":0},{"$f":"IF(ISNUMBER(CD30),($D30/CD30)*10^-6,\"\")","v":7.2941176470588236E-10},"--",{"$f":"'RBC Reference Table'!AQ30","v":6300},{"$f":"'RBC Reference Table'!AR30","v":0},{"$f":"IF(ISNUMBER(CH30),($D30/CH30)*10^-6,\"\")","v":3.9365079365079362E-10},"--",{"$f":"'RBC Reference Table'!AS30","v":120},{"$f":"'RBC Reference Table'!AT30","v":0},{"$f":"IF(ISNUMBER(CL30),($D30/CL30)*10^-6,\"\")","v":2.0666666666666666E-8},"--",{"$f":"'RBC Reference Table'!AU30","v":290},{"$f":"'RBC Reference Table'!AV30","v":0},{"$f":"IF(ISNUMBER(CP30),($D30/CP30)*10^-6,\"\")","v":8.5517241379310345E-9},"--",{"$f":"'RBC Reference Table'!AW30","v":1600},{"$f":"'RBC Reference Table'!AX30","v":0},{"$f":"IF(ISNUMBER(CT30),($D30/CT30)*10^-6,\"\")","v":1.5499999999999998E-9},"--",{"$f":"'RBC Reference Table'!AY30","v":720},{"$f":"'RBC Reference Table'!AZ30","v":0},{"$f":"IF(ISNUMBER(CX30),($D30/CX30)*10^-6,\"\")","v":3.4444444444444444E-9},"--",{"$f":"'RBC Reference Table'!BA30","v":24},{"$f":"'RBC Reference Table'!BB30","v":0},{"$f":"IF(ISNUMBER(DB30),($E30/DB30)*10^-6,\"\")","v":0},"--",{"$f":"'RBC Reference Table'!BC30","v":58},{"$f":"'RBC Reference Table'!BD30","v":0},{"$f":"IF(ISNUMBER(DF30),($E30/DF30)*10^-6,\"\")","v":0},"--",{"$f":"'RBC Reference Table'!BE29","v":43800000},{"$f":"'RBC Reference Table'!BF29","v":0},{"$f":"IF(ISNUMBER(DJ30),($E30/DJ30)*10^-6,\"\")","v":0},"--",{"$f":"'RBC Reference Table'!BG30","v":0.12},null,{"$f":"IF(ISNUMBER(DN30),($F30/DN30)*10^-6,\"\")","v":0},"--",{"$f":"'RBC Reference Table'!BI30","v":0.28999999999999998},null,{"$f":"IF(ISNUMBER(DR30),($F30/DR30)*10^-6,\"\")","v":0},"--",{"$f":"'RBC Reference Table'!BK30","v":0.53},null,{"$f":"IF(ISNUMBER(DV30),($F30/DV30)*10^-6,\"\")","v":0},"--"]
[24,{"$f":"VLOOKUP($A31,'Applicable RBC Table'!$A$43:$F$136,2,FALSE)","v":0},{"$f":"VLOOKUP($A31,'Applicable RBC Table'!$A$43:$F$136,3,FALSE)","v":0},{"$f":"VLOOKUP($A31,'Applicable RBC Table'!$A$43:$F$136,4,FALSE)","v":0},{"$f":"VLOOKUP($A31,'Applicable RBC Table'!$A$43:$F$136,5,FALSE)","v":0},{"$f":"VLOOKUP($A31,'Applicable RBC Table'!$A$43:$F$136,6,FALSE)","v":0},"74-87-3","Chloromethane","nc, v",{"$f":"'RBC Reference Table'!E31","v":1400},{"$f":"'RBC Reference Table'!F31","v":">Csat"},"--",{"$f":"IF(ISNUMBER(J31),$B31/J31,\"\")","v":0},{"$f":"'RBC Reference Table'!G31","v":2900},{"$f":"'RBC Reference Table'!H31","v":">Csat"},"--",{"$f":"IF(ISNUMBER(N31),$B31/N31,\"\")","v":0},{"$f":"'RBC Reference Table'!I31","v":25000},{"$f":"'RBC Reference Table'!J31","v":">Csat"},"--",{"$f":"IF(ISNUMBER(R31),$B31/R31,\"\")","v":0},{"$f":"'RBC Reference Table'!K31","v":25000},{"$f":"'RBC Reference Table'!L31","v":">Csat"},"--",{"$f":"IF(ISNUMBER(V31),MAX($B31,$C31)/V31,\"\")","v":0},{"$f":"'RBC Reference Table'!M31","v":700000},{"$f":"'RBC Reference Table'!N31","v":">Csat"},"--",{"$f":"IF(ISNUMBER(Z31),MAX($B31,$C31)/Z31,\"\")","v":0},{"$f":"'RBC Reference Table'!O31","v":"-"},{"$f":"'RBC Reference Table'!P31","v":">Csat"},"--",{"$f":"IF(ISNUMBER(AD31),MAX($B31:$C31)/AD31,\"\")","v":""},{"$f":"'RBC Reference Table'!O31","v":"-"},{"$f":"'RBC Reference Table'!P31","v":">Csat"},"--",{"$f":"IF(ISNUMBER(AH31),MAX($B31:$C31)/AH31,\"\")","v":""},{"$f":"'RBC Reference Table'!S31","v":"-"},{"$f":"'RBC Reference Table'!T31","v":">Csat"},"--",{"$f":"IF(ISNUMBER(AL31),MAX($B31:$C31)/AL31,\"\")","v":""},{"$f":"'RBC Reference Table'!U31","v":24},{"$f":"'RBC Reference Table'!V31","v":0},"--",{"$f":"IF(ISNUMBER(AP31),MAX($B31:$C31)/AP31,\"\")","v":0},{"$f":"'RBC Reference Table'!W31","v":24},{"$f":"'RBC Reference Table'!X31","v":0},"--",{"$f":"IF(ISNUMBER(AT31),MAX($B31:$C31)/AT31,\"\")","v":0},{"$f":"'RBC Reference Table'!Y31","v":300},{"$f":"'RBC Reference Table'!Z31","v":0},"--",{"$f":"IF(ISNUMBER(AX31),MAX($B31:$C31)/AX31,\"\")","v":0},{"$f":"'RBC Reference Table'!AA31","v":2.2000000000000002},{"$f":"'RBC Reference Table'!AB31","v":0},null,null,{"$f":"'RBC Reference Table'!AC31","v":7.9},{"$f":"'RBC Reference Table'!AD31","v":0},null,null,{"$f":"'RBC Reference Table'!AE31","v":9.1},{"$f":"'RBC Reference Table'!AF31","v":0},null,null,{"$f":"'RBC Reference Table'!AG31","v":190},{"$f":"'RBC Reference Table'!AH31","v":0},"--",{"$f":"IF(ISNUMBER(BN31),$D31/BN31,\"\")","v":0},{"$f":"'RBC Reference Table'!AI31","v":690},{"$f":"'RBC Reference Table'!AJ31","v":0},"--",{"$f":"IF(ISNUMBER(BR31),$D31/BR31,\"\")","v":0},{"$f":"'RBC Reference Table'!AK31","v":790},{"$f":"'RBC Reference Table'!AL31","v":0},"--",{"$f":"IF(ISNUMBER(BV31),$D31/BV31,\"\")","v":0},{"$f":"'RBC Reference Table'!AM31","v":440000},{"$f":"'RBC Reference Table'!AN31","v":0},"--",{"$f":"IF(ISNUMBER(BZ31),$D31/BZ31,\"\")","v":0},{"$f":"'RBC Reference Table'!AO31","v":440000},{"$f":"'RBC Reference Table'!AP31","v":0},"--",{"$f":"IF(ISNUMBER(CD31),$D31/CD31,\"\")","v":0},{"$f":"'RBC Reference Table'!AQ31","v":1800000},{"$f":"'RBC Reference Table'!AR31","v":0},"--",{"$f":"IF(ISNUMBER(CH31),$D31/CH31,\"\")","v":0},{"$f":"'RBC Reference Table'!AS31","v":26000},{"$f":"'RBC Reference Table'!AT31","v":0},"--",{"$f":"IF(ISNUMBER(CL31),$D31/CL31,\"\")","v":0},{"$f":"'RBC Reference Table'!AU31","v":26000},{"$f":"'RBC Reference Table'!AV31","v":0},"--",{"$f":"IF(ISNUMBER(CP31),$D31/CP31,\"\")","v":0},{"$f":"'RBC Reference Table'!AW31","v":330000},{"$f":"'RBC Reference Table'!AX31","v":0},"--",{"$f":"IF(ISNUMBER(CT31),$D31/CT31,\"\")","v":0},{"$f":"'RBC Reference Table'!AY31","v":22000},{"$f":"'RBC Reference Table'!AZ31","v":0},"--",{"$f":"IF(ISNUMBER(CX31),$D31/CX31,\"\")","v":0},{"$f":"'RBC Reference Table'!BA31","v":19000},{"$f":"'RBC Reference Table'!BB31","v":0},"--",{"$f":"IF(ISNUMBER(DB31),$E31/DB31,\"\")","v":0},{"$f":"'RBC Reference Table'!BC31","v":19000},{"$f":"'RBC Reference Table'!BD31","v":0},"--",{"$f":"IF(ISNUMBER(DF31),$E31/DF31,\"\")","v":0},{"$f":"'RBC Reference Table'!BE30","v":530},{"$f":"'RBC Reference Table'!BF30","v":0},"--",{"$f":"IF(ISNUMBER(DJ31),$E31/DJ31,\"\")","v":0},{"$f":"'RBC Reference Table'!BG31","v":94},null,"--",{"$f":"IF(ISNUMBER(DN31),$F31/DN31,\"\")","v":0},{"$f":"'RBC Reference Table'!BI31","v":94},null,"--",{"$f":"IF(ISNUMBER(DR31),$F31/DR31,\"\")","v":0},{"$f":"'RBC Reference Table'!BK31","v":390},null,"--",{"$f":"IF(ISNUMBER(DV31),$F31/DV31,\"\")","v":0}]
[25,{"$f":"VLOOKUP($A32,'Applicable RBC Table'!$A$43:$F$136,2,FALSE)","v":0},{"$f":"VLOOKUP($A32,'Applicable RBC Table'!$A$43:$F$136,3,FALSE)","v":0},{"$f":"VLOOKUP($A32,'Applicable RBC Table'!$A$43:$F$136,4,FALSE)","v":0},{"$f":"VLOOKUP($A32,'Applicable RBC Table'!$A$43:$F$136,5,FALSE)","v":0},{"$f":"VLOOKUP($A32,'Applicable RBC Table'!$A$43:$F$136,6,FALSE)","v":0},"12789-03-6","Chordane","c, v",{"$f":"'RBC Reference Table'!E32","v":1.7},{"$f":"'RBC Reference Table'!F32","v":0},{"$f":"IF(ISNUMBER(J32),($B32/J32)*10^-6,\"\")","v":0},"--",{"$f":"'RBC Reference Table'!G32","v":4.3},{"$f":"'RBC Reference Table'!H32","v":0},{"$f":"IF(ISNUMBER(N32),($B32/N32)*10^-6,\"\")","v":0},"--",{"$f":"'RBC Reference Table'!I32","v":7.6},{"$f":"'RBC Reference Table'!J32","v":0},{"$f":"IF(ISNUMBER(R32),($B32/R32)*10^-6,\"\")","v":0},"--",{"$f":"'RBC Reference Table'!K32","v":62},{"$f":"'RBC Reference Table'!L32","v":">Csat"},{"$f":"IF(ISNUMBER(V32),(MAX($B32,$C32)/V32)*10^-6,\"\")","v":0},"--",{"$f":"'RBC Reference Table'!M32","v":1700},{"$f":"'RBC Reference Table'!N32","v":">Csat"},{"$f":"IF(ISNUMBER(Z32),(MAX($B32,$C32)/Z32)*10^-6,\"\")","v":0},"--",{"$f":"'RBC Reference Table'!O32","v":"-"},{"$f":"'RBC Reference Table'!P32","v":">Csat"},{"$f":"IF(ISNUMBER(AD32),(MAX($B32:$C32)/AD32)*10^-6,\"\")","v":""},"--",{"$f":"'RBC Reference Table'!O32","v":"-"},{"$f":"'RBC Reference Table'!P32","v":">Csat"},{"$f":"IF(ISNUMBER(AH32),(MAX($B32:$C32)/AH32)*10^-6,\"\")","v":""},"--",{"$f":"'RBC Reference Table'!S32","v":"-"},{"$f":"'RBC Reference Table'!T32","v":">Csat"},{"$f":"IF(ISNUMBER(AL32),(MAX($B32:$C32)/AL32)*10^-6,\"\")","v":""},"--",{"$f":"'RBC Reference Table'!U32","v":"-"},{"$f":"'RBC Reference Table'!V32","v":">Csat"},{"$f":"IF(ISNUMBER(AP32),(MAX($B32:$C32)/AP32)*10^-6,\"\")","v":""},"--",{"$f":"'RBC Reference Table'!W32","v":"-"},{"$f":"'RBC Reference Table'!X32","v":">Csat"},{"$f":"IF(ISNUMBER(AT32),(MAX($B32:$C32)/AT32)*10^-6,\"\")","v":""},"--",{"$f":"'RBC Reference Table'!Y32","v":"-"},{"$f":"'RBC Reference Table'!Z32","v":">Csat"},{"$f":"IF(ISNUMBER(AX32),(MAX($B32:$C32)/AX32)*10^-6,\"\")","v":""},"--",{"$f":"'RBC Reference Table'!AA32","v":0.91},{"$f":"'RBC Reference Table'!AB32","v":0},null,null,{"$f":"'RBC Reference Table'!AC32","v":4.0999999999999996},{"$f":"'RBC Reference Table'!AD32","v":0},null,null,{"$f":"'RBC Reference Table'!AE32","v":4.2},{"$f":"'RBC Reference Table'!AF32","v":0},null,null,{"$f":"'RBC Reference Table'!AG32","v":4.4999999999999998E-2},{"$f":"'RBC Reference Table'!AH32","v":0},{"$f":"IF(ISNUMBER(BN32),($D32/BN32)*10^-6,\"\")","v":0},"--",{"$f":"'RBC Reference Table'!AI32","v":0.2},{"$f":"'RBC Reference Table'!AJ32","v":0},{"$f":"IF(ISNUMBER(BR32),($D32/BR32)*10^-6,\"\")","v":0},"--",{"$f":"'RBC Reference Table'!AK32","v":0.21},{"$f":"'RBC Reference Table'!AL32","v":0},{"$f":"IF(ISNUMBER(BV32),($D32/BV32)*10^-6,\"\")","v":0},"--",{"$f":"'RBC Reference Table'!AM32","v":"-"},{"$f":"'RBC Reference Table'!AN32","v":">S"},{"$f":"IF(ISNUMBER(BZ32),($D32/BZ32)*10^-6,\"\")","v":""},"--",{"$f":"'RBC Reference Table'!AO32","v":"-"},{"$f":"'RBC Reference Table'!AP32","v":">S"},{"$f":"IF(ISNUMBER(CD32),($D32/CD32)*10^-6,\"\")","v":""},"--",{"$f":"'RBC Reference Table'!AQ32","v":"-"},{"$f":"'RBC Reference Table'!AR32","v":">S"},{"$f":"IF(ISNUMBER(CH32),($D32/CH32)*10^-6,\"\")","v":""},"--",{"$f":"'RBC Reference Table'!AS32","v":"-"},{"$f":"'RBC Reference Table'!AT32","v":">S"},{"$f":"IF(ISNUMBER(CL32),($D32/CL32)*10^-6,\"\")","v":""},"--",{"$f":"'RBC Reference Table'!AU32","v":"-"},{"$f":"'RBC Reference Table'!AV32","v":">S"},{"$f":"IF(ISNUMBER(CP32),($D32/CP32)*10^-6,\"\")","v":""},"--",{"$f":"'RBC Reference Table'!AW32","v":"-"},{"$f":"'RBC Reference Table'!AX32","v":">S"},{"$f":"IF(ISNUMBER(CT32),($D32/CT32)*10^-6,\"\")","v":""},"--",{"$f":"'RBC Reference Table'!AY32","v":"-"},{"$f":"'RBC Reference Table'!AZ32","v":">S"},{"$f":"IF(ISNUMBER(CX32),($D32/CX32)*10^-6,\"\")","v":""},"--",{"$f":"'RBC Reference Table'!BA32","v":5.6},{"$f":"'RBC Reference Table'!BB32","v":0},{"$f":"IF(ISNUMBER(DB32),($E32/DB32)*10^-6,\"\")","v":0},"--",{"$f":"'RBC Reference Table'!BC32","v":13},{"$f":"'RBC Reference Table'!BD32","v":0},{"$f":"IF(ISNUMBER(DF32),($E32/DF32)*10^-6,\"\")","v":0},"--",{"$f":"'RBC Reference Table'!BE31","v":390000},{"$f":"'RBC Reference Table'!BF31","v":0},{"$f":"IF(ISNUMBER(DJ32),($E32/DJ32)*10^-6,\"\")","v":0},"--",{"$f":"'RBC Reference Table'!BG32","v":2.8000000000000001E-2},null,{"$f":"IF(ISNUMBER(DN32),($F32/DN32)*10^-6,\"\")","v":0},"--",{"$f":"'RBC Reference Table'!BI32","v":6.6000000000000003E-2},null,{"$f":"IF(ISNUMBER(DR32),($F32/DR32)*10^-6,\"\")","v":0},"--",{"$f":"'RBC Reference Table'!BK32","v":0.12},null,{"$f":"IF(ISNUMBER(DV32),($F32/DV32)*10^-6,\"\")","v":0},"--"]
[26,{"$f":"VLOOKUP($A33,'Applicable RBC Table'!$A$43:$F$136,2,FALSE)","v":0},{"$f":"VLOOKUP($A33,'Applicable RBC Table'!$A$43:$F$136,3,FALSE)","v":0},{"$f":"VLOOKUP($A33,'Applicable RBC Table'!$A$43:$F$136,4,FALSE)","v":0},{"$f":"VLOOKUP($A33,'Applicable RBC Table'!$A$43:$F$136,5,FALSE)","v":0},{"$f":"VLOOKUP($A33,'Applicable RBC Table'!$A$43:$F$136,6,FALSE)","v":0},"16065-83-1","Chromium (III)","nc, nv",{"$f":"'RBC Reference Table'!E33","v":120000},{"$f":"'RBC Reference Table'!F33","v":0},"--",{"$f":"IF(ISNUMBER(J33),$B33/J33,\"\")","v":0},{"$f":"'RBC Reference Table'!G33","v":230000},{"$f":"'RBC Reference Table'!H33","v":0},"--",{"$f":"IF(ISNUMBER(N33),$B33/N33,\"\")","v":0},{"$f":"'RBC Reference Table'!I33","v":"-"},{"$f":"'RBC Reference Table'!J33","v":">Max"},"--",{"$f":"IF(ISNUMBER(R33),$B33/R33,\"\")","v":""},{"$f":"'RBC Reference Table'!K33","v":530000},{"$f":"'RBC Reference Table'!L33","v":0},"--",{"$f":"IF(ISNUMBER(V33),MAX($B33,$C33)/V33,\"\")","v":0},{"$f":"'RBC Reference Table'!M33","v":"-"},{"$f":"'RBC Reference Table'!N33","v":">Max"},"--",{"$f":"IF(ISNUMBER(Z33),MAX($B33,$C33)/Z33,\"\")","v":""},{"$f":"'RBC Reference Table'!O33","v":"-"},{"$f":"'RBC Reference Table'!P33","v":"NV"},"--",{"$f":"IF(ISNUMBER(AD33),MAX($B33:$C33)/AD33,\"\")","v":""},{"$f":"'RBC Reference Table'!O33","v":"-"},{"$f":"'RBC Reference Table'!P33","v":"NV"},"--",{"$f":"IF(ISNUMBER(AH33),MAX($B33:$C33)/AH33,\"\")","v":""},{"$f":"'RBC Reference Table'!S33","v":"-"},{"$f":"'RBC Reference Table'!T33","v":"NV"},"--",{"$f":"IF(ISNUMBER(AL33),MAX($B33:$C33)/AL33,\"\")","v":""},{"$f":"'RBC Reference Table'!U33","v":"-"},{"$f":"'RBC Reference Table'!V33","v":"NV"},"--",{"$f":"IF(ISNUMBER(AP33),MAX($B33:$C33)/AP33,\"\")","v":""},{"$f":"'RBC Reference Table'!W33","v":"-"},{"$f":"'RBC Reference Table'!X33","v":"NV"},"--",{"$f":"IF(ISNUMBER(AT33),MAX($B33:$C33)/AT33,\"\")","v":""},{"$f":"'RBC Reference Table'!Y33","v":"-"},{"$f":"'RBC Reference Table'!Z33","v":"NV"},"--",{"$f":"IF(ISNUMBER(AX33),MAX($B33:$C33)/AX33,\"\")","v":""},{"$f":"'RBC Reference Table'!AA33","v":"*"},{"$f":"'RBC Reference Table'!AB33","v":0},null,null,{"$f":"'RBC Reference Table'!AC33","v":"*"},{"$f":"'RBC Reference Table'!AD33","v":0},null,null,{"$f":"'RBC Reference Table'!AE33","v":"*"},{"$f":"'RBC Reference Table'!AF33","v":0},null,null,{"$f":"'RBC Reference Table'!AG33","v":30000},{"$f":"'RBC Reference Table'!AH33","v":0},"--",{"$f":"IF(ISNUMBER(BN33),$D33/BN33,\"\")","v":0},{"$f":"'RBC Reference Table'!AI33","v":110000},{"$f":"'RBC Reference Table'!AJ33","v":0},"--",{"$f":"IF(ISNUMBER(BR33),$D33/BR33,\"\")","v":0},{"$f":"'RBC Reference Table'!AK33","v":250000},{"$f":"'RBC Reference Table'!AL33","v":0},"--",{"$f":"IF(ISNUMBER(BV33),$D33/BV33,\"\")","v":0},{"$f":"'RBC Reference Table'!AM33","v":"-"},{"$f":"'RBC Reference Table'!AN33","v":"NV"},"--",{"$f":"IF(ISNUMBER(BZ33),$D33/BZ33,\"\")","v":""},{"$f":"'RBC Reference Table'!AO33","v":"-"},{"$f":"'RBC Reference Table'!AP33","v":"NV"},"--",{"$f":"IF(ISNUMBER(CD33),$D33/CD33,\"\")","v":""},{"$f":"'RBC Reference Table'!AQ33","v":"-"},{"$f":"'RBC Reference Table'!AR33","v":"NV"},"--",{"$f":"IF(ISNUMBER(CH33),$D33/CH33,\"\")","v":""},{"$f":"'RBC Reference Table'!AS33","v":"-"},{"$f":"'RBC Reference Table'!AT33","v":"NV"},"--",{"$f":"IF(ISNUMBER(CL33),$D33/CL33,\"\")","v":""},{"$f":"'RBC Reference Table'!AU33","v":"-"},{"$f":"'RBC Reference Table'!AV33","v":"NV"},"--",{"$f":"IF(ISNUMBER(CP33),$D33/CP33,\"\")","v":""},{"$f":"'RBC Reference Table'!AW33","v":"-"},{"$f":"'RBC Reference Table'!AX33","v":"NV"},"--",{"$f":"IF(ISNUMBER(CT33),$D33/CT33,\"\")","v":""},{"$f":"'RBC Reference Table'!AY33","v":"-"},{"$f":"'RBC Reference Table'!AZ33","v":">S"},"--",{"$f":"IF(ISNUMBER(CX33),$D33/CX33,\"\")","v":""},{"$f":"'RBC Reference Table'!BA33","v":"-"},{"$f":"'RBC Reference Table'!BB33","v":"NV"},"--",{"$f":"IF(ISNUMBER(DB33),$E33/DB33,\"\")","v":""},{"$f":"'RBC Reference Table'!BC33","v":"-"},{"$f":"'RBC Reference Table'!BD33","v":"NV"},"--",{"$f":"IF(ISNUMBER(DF33),$E33/DF33,\"\")","v":""},{"$f":"'RBC Reference Table'!BE32","v":"-"},{"$f":"'RBC Reference Table'!BF32","v":">Pv"},"--",{"$f":"IF(ISNUMBER(DJ33),$E33/DJ33,\"\")","v":""},{"$f":"'RBC Reference Table'!BG33","v":1042857142857142.9},null,"--",{"$f":"IF(ISNUMBER(DN33),$F33/DN33,\"\")","v":0},{"$f":"'RBC Reference Table'!BI33","v":1042857142857142.9},null,"--",{"$f":"IF(ISNUMBER(DR33),$F33/DR33,\"\")","v":0},{"$f":"'RBC Reference Table'!BK33","v":4380000000000000},null,"--",{"$f":"IF(ISNUMBER(DV33),$F33/DV33,\"\")","v":0}]
[27,{"$f":"VLOOKUP($A34,'Applicable RBC Table'!$A$43:$F$136,2,FALSE)","v":0},{"$f":"VLOOKUP($A34,'Applicable RBC Table'!$A$43:$F$136,3,FALSE)","v":0},{"$f":"VLOOKUP($A34,'Applicable RBC Table'!$A$43:$F$136,4,FALSE)","v":0},{"$f":"VLOOKUP($A34,'Applicable RBC Table'!$A$43:$F$136,5,FALSE)","v":0},{"$f":"VLOOKUP($A34,'Applicable RBC Table'!$A$43:$F$136,6,FALSE)","v":0},"18540-29-9","Chromium (VI)","c, nv",{"$f":"'RBC Reference Table'!E34","v":0.3},{"$f":"'RBC Reference Table'!F34","v":0},{"$f":"IF(ISNUMBER(J34),($B34/J34)*10^-6,\"\")","v":0},"--",{"$f":"'RBC Reference Table'!G34","v":0.67},{"$f":"'RBC Reference Table'!H34","v":0},{"$f":"IF(ISNUMBER(N34),($B34/N34)*10^-6,\"\")","v":0},"--",{"$f":"'RBC Reference Table'!I34","v":6.3},{"$f":"'RBC Reference Table'!J34","v":0},{"$f":"IF(ISNUMBER(R34),($B34/R34)*10^-6,\"\")","v":0},"--",{"$f":"'RBC Reference Table'!K34","v":49},{"$f":"'RBC Reference Table'!L34","v":0},{"$f":"IF(ISNUMBER(V34),(MAX($B34,$C34)/V34)*10^-6,\"\")","v":0},"--",{"$f":"'RBC Reference Table'!M34","v":1400},{"$f":"'RBC Reference Table'!N34","v":0},{"$f":"IF(ISNUMBER(Z34),(MAX($B34,$C34)/Z34)*10^-6,\"\")","v":0},"--",{"$f":"'RBC Reference Table'!O34","v":"-"},{"$f":"'RBC Reference Table'!P34","v":"NV"},{"$f":"IF(ISNUMBER(AD34),(MAX($B34:$C34)/AD34)*10^-6,\"\")","v":""},"--",{"$f":"'RBC Reference Table'!O34","v":"-"},{"$f":"'RBC Reference Table'!P34","v":"NV"},{"$f":"IF(ISNUMBER(AH34),(MAX($B34:$C34)/AH34)*10^-6,\"\")","v":""},"--",{"$f":"'RBC Reference Table'!S34","v":"-"},{"$f":"'RBC Reference Table'!T34","v":"NV"},{"$f":"IF(ISNUMBER(AL34),(MAX($B34:$C34)/AL34)*10^-6,\"\")","v":""},"--",{"$f":"'RBC Reference Table'!U34","v":"-"},{"$f":"'RBC Reference Table'!V34","v":"NV"},{"$f":"IF(ISNUMBER(AP34),(MAX($B34:$C34)/AP34)*10^-6,\"\")","v":""},"--",{"$f":"'RBC Reference Table'!W34","v":"-"},{"$f":"'RBC Reference Table'!X34","v":"NV"},{"$f":"IF(ISNUMBER(AT34),(MAX($B34:$C34)/AT34)*10^-6,\"\")","v":""},"--",{"$f":"'RBC Reference Table'!Y34","v":"-"},{"$f":"'RBC Reference Table'!Z34","v":"NV"},{"$f":"IF(ISNUMBER(AX34),(MAX($B34:$C34)/AX34)*10^-6,\"\")","v":""},"--",{"$f":"'RBC Reference Table'!AA34","v":"*"},{"$f":"'RBC Reference Table'!AB34","v":0},null,null,{"$f":"'RBC Reference Table'!AC34","v":"*"},{"$f":"'RBC Reference Table'!AD34","v":0},null,null,{"$f":"'RBC Reference Table'!AE34","v":"*"},{"$f":"'RBC Reference Table'!AF34","v":0},null,null,{"$f":"'RBC Reference Table'!AG34","v":0.05},{"$f":"'RBC Reference Table'!AH34","v":0},{"$f":"IF(ISNUMBER(BN34),($D34/BN34)*10^-6,\"\")","v":0},"--",{"$f":"'RBC Reference Table'!AI34","v":0.16},{"$f":"'RBC Reference Table'!AJ34","v":0},{"$f":"IF(ISNUMBER(BR34),($D34/BR34)*10^-6,\"\")","v":0},"--",{"$f":"'RBC Reference Table'!AK34","v":0.9},{"$f":"'RBC Reference Table'!AL34","v":0},{"$f":"IF(ISNUMBER(BV34),($D34/BV34)*10^-6,\"\")","v":0},"--",{"$f":"'RBC Reference Table'!AM34","v":"-"},{"$f":"'RBC Reference Table'!AN34","v":"NV"},{"$f":"IF(ISNUMBER(BZ34),($D34/BZ34)*10^-6,\"\")","v":""},"--",{"$f":"'RBC Reference Table'!AO34","v":"-"},{"$f":"'RBC Reference Table'!AP34","v":"NV"},{"$f":"IF(ISNUMBER(CD34),($D34/CD34)*10^-6,\"\")","v":""},"--",{"$f":"'RBC Reference Table'!AQ34","v":"-"},{"$f":"'RBC Reference Table'!AR34","v":"NV"},{"$f":"IF(ISNUMBER(CH34),($D34/CH34)*10^-6,\"\")","v":""},"--",{"$f":"'RBC Reference Table'!AS34","v":"-"},{"$f":"'RBC Reference Table'!AT34","v":"NV"},{"$f":"IF(ISNUMBER(CL34),($D34/CL34)*10^-6,\"\")","v":""},"--",{"$f":"'RBC Reference Table'!AU34","v":"-"},{"$f":"'RBC Reference Table'!AV34","v":"NV"},{"$f":"IF(ISNUMBER(CP34),($D34/CP34)*10^-6,\"\")","v":""},"--",{"$f":"'RBC Reference Table'!AW34","v":"-"},{"$f":"'RBC Reference Table'!AX34","v":"NV"},{"$f":"IF(ISNUMBER(CT34),($D34/CT34)*10^-6,\"\")","v":""},"--",{"$f":"'RBC Reference Table'!AY34","v":9400},{"$f":"'RBC Reference Table'!AZ34","v":0},{"$f":"IF(ISNUMBER(CX34),($D34/CX34)*10^-6,\"\")","v":0},"--",{"$f":"'RBC Reference Table'!BA34","v":"-"},{"$f":"'RBC Reference Table'!BB34","v":"NV"},{"$f":"IF(ISNUMBER(DB34),($E34/DB34)*10^-6,\"\")","v":""},"--",{"$f":"'RBC Reference Table'!BC34","v":"-"},{"$f":"'RBC Reference Table'!BD34","v":"NV"},{"$f":"IF(ISNUMBER(DF34),($E34/DF34)*10^-6,\"\")","v":""},"--",{"$f":"'RBC Reference Table'!BE33","v":"-"},{"$f":"'RBC Reference Table'!BF33","v":"NV"},{"$f":"IF(ISNUMBER(DJ34),($E34/DJ34)*10^-6,\"\")","v":""},"--",{"$f":"'RBC Reference Table'!BG34","v":1.2E-5},null,{"$f":"IF(ISNUMBER(DN34),($F34/DN34)*10^-6,\"\")","v":0},"--",{"$f":"'RBC Reference Table'!BI34","v":2.3E-5},null,{"$f":"IF(ISNUMBER(DR34),($F34/DR34)*10^-6,\"\")","v":0},"--",{"$f":"'RBC Reference Table'!BK34","v":1.4999999999999999E-4},null,{"$f":"IF(ISNUMBER(DV34),($F34/DV34)*10^-6,\"\")","v":0},"--"]
[28,{"$f":"VLOOKUP($A35,'Applicable RBC Table'!$A$43:$F$136,2,FALSE)","v":0},{"$f":"VLOOKUP($A35,'Applicable RBC Table'!$A$43:$F$136,3,FALSE)","v":0},{"$f":"VLOOKUP($A35,'Applicable RBC Table'!$A$43:$F$136,4,FALSE)","v":0},{"$f":"VLOOKUP($A35,'Applicable RBC Table'!$A$43:$F$136,5,FALSE)","v":0},{"$f":"VLOOKUP($A35,'Applicable RBC Table'!$A$43:$F$136,6,FALSE)","v":0},"218-01-9","Chrysene","c, nv",{"$f":"'RBC Reference Table'!E35","v":110},{"$f":"'RBC Reference Table'!F35","v":">Csat"},{"$f":"IF(ISNUMBER(J35),($B35/J35)*10^-6,\"\")","v":0},"--",{"$f":"'RBC Reference Table'!G35","v":250},{"$f":"'RBC Reference Table'!H35","v":">Csat"},{"$f":"IF(ISNUMBER(N35),($B35/N35)*10^-6,\"\")","v":0},"--",{"$f":"'RBC Reference Table'!I35","v":2100},{"$f":"'RBC Reference Table'!J35","v":">Csat"},{"$f":"IF(ISNUMBER(R35),($B35/R35)*10^-6,\"\")","v":0},"--",{"$f":"'RBC Reference Table'!K35","v":17000},{"$f":"'RBC Reference Table'!L35","v":">Csat"},{"$f":"IF(ISNUMBER(V35),(MAX($B35,$C35)/V35)*10^-6,\"\")","v":0},"--",{"$f":"'RBC Reference Table'!M35","v":490000},{"$f":"'RBC Reference Table'!N35","v":">Csat"},{"$f":"IF(ISNUMBER(Z35),(MAX($B35,$C35)/Z35)*10^-6,\"\")","v":0},"--",{"$f":"'RBC Reference Table'!O35","v":"-"},{"$f":"'RBC Reference Table'!P35","v":"NV"},{"$f":"IF(ISNUMBER(AD35),(MAX($B35:$C35)/AD35)*10^-6,\"\")","v":""},"--",{"$f":"'RBC Reference Table'!O35","v":"-"},{"$f":"'RBC Reference Table'!P35","v":"NV"},{"$f":"IF(ISNUMBER(AH35),(MAX($B35:$C35)/AH35)*10^-6,\"\")","v":""},"--",{"$f":"'RBC Reference Table'!S35","v":"-"},{"$f":"'RBC Reference Table'!T35","v":"NV"},{"$f":"IF(ISNUMBER(AL35),(MAX($B35:$C35)/AL35)*10^-6,\"\")","v":""},"--",{"$f":"'RBC Reference Table'!U35","v":"-"},{"$f":"'RBC Reference Table'!V35","v":"NV"},{"$f":"IF(ISNUMBER(AP35),(MAX($B35:$C35)/AP35)*10^-6,\"\")","v":""},"--",{"$f":"'RBC Reference Table'!W35","v":"-"},{"$f":"'RBC Reference Table'!X35","v":"NV"},{"$f":"IF(ISNUMBER(AT35),(MAX($B35:$C35)/AT35)*10^-6,\"\")","v":""},"--",{"$f":"'RBC Reference Table'!Y35","v":"-"},{"$f":"'RBC Reference Table'!Z35","v":"NV"},{"$f":"IF(ISNUMBER(AX35),(MAX($B35:$C35)/AX35)*10^-6,\"\")","v":""},"--",{"$f":"'RBC Reference Table'!AA35","v":"-"},{"$f":"'RBC Reference Table'!AB35","v":">Csat"},null,null,{"$f":"'RBC Reference Table'!AC35","v":"-"},{"$f":"'RBC Reference Table'!AD35","v":">Csat"},null,null,{"$f":"'RBC Reference Table'!AE35","v":"-"},{"$f":"'RBC Reference Table'!AF35","v":">Csat"},null,null,{"$f":"'RBC Reference Table'!AG35","v":"-"},{"$f":"'RBC Reference Table'!AH35","v":">S"},{"$f":"IF(ISNUMBER(BN35),($D35/BN35)*10^-6,\"\")","v":""},"--",{"$f":"'RBC Reference Table'!AI35","v":"-"},{"$f":"'RBC Reference Table'!AJ35","v":">S"},{"$f":"IF(ISNUMBER(BR35),($D35/BR35)*10^-6,\"\")","v":""},"--",{"$f":"'RBC Reference Table'!AK35","v":"-"},{"$f":"'RBC Reference Table'!AL35","v":">S"},{"$f":"IF(ISNUMBER(BV35),($D35/BV35)*10^-6,\"\")","v":""},"--",{"$f":"'RBC Reference Table'!AM35","v":"-"},{"$f":"'RBC Reference Table'!AN35","v":"NV"},{"$f":"IF(ISNUMBER(BZ35),($D35/BZ35)*10^-6,\"\")","v":""},"--",{"$f":"'RBC Reference Table'!AO35","v":"-"},{"$f":"'RBC Reference Table'!AP35","v":"NV"},{"$f":"IF(ISNUMBER(CD35),($D35/CD35)*10^-6,\"\")","v":""},"--",{"$f":"'RBC Reference Table'!AQ35","v":"-"},{"$f":"'RBC Reference Table'!AR35","v":"NV"},{"$f":"IF(ISNUMBER(CH35),($D35/CH35)*10^-6,\"\")","v":""},"--",{"$f":"'RBC Reference Table'!AS35","v":"-"},{"$f":"'RBC Reference Table'!AT35","v":"NV"},{"$f":"IF(ISNUMBER(CL35),($D35/CL35)*10^-6,\"\")","v":""},"--",{"$f":"'RBC Reference Table'!AU35","v":"-"},{"$f":"'RBC Reference Table'!AV35","v":"NV"},{"$f":"IF(ISNUMBER(CP35),($D35/CP35)*10^-6,\"\")","v":""},"--",{"$f":"'RBC Reference Table'!AW35","v":"-"},{"$f":"'RBC Reference Table'!AX35","v":"NV"},{"$f":"IF(ISNUMBER(CT35),($D35/CT35)*10^-6,\"\")","v":""},"--",{"$f":"'RBC Reference Table'!AY35","v":"-"},{"$f":"'RBC Reference Table'!AZ35","v":">S"},{"$f":"IF(ISNUMBER(CX35),($D35/CX35)*10^-6,\"\")","v":""},"--",{"$f":"'RBC Reference Table'!BA35","v":"-"},{"$f":"'RBC Reference Table'!BB35","v":"NV"},{"$f":"IF(ISNUMBER(DB35),($E35/DB35)*10^-6,\"\")","v":""},"--",{"$f":"'RBC Reference Table'!BC35","v":"-"},{"$f":"'RBC Reference Table'!BD35","v":"NV"},{"$f":"IF(ISNUMBER(DF35),($E35/DF35)*10^-6,\"\")","v":""},"--",{"$f":"'RBC Reference Table'!BE34","v":"-"},{"$f":"'RBC Reference Table'!BF34","v":"NV"},{"$f":"IF(ISNUMBER(DJ35),($E35/DJ35)*10^-6,\"\")","v":""},"--",{"$f":"'RBC Reference Table'!BG35","v":1.7},null,{"$f":"IF(ISNUMBER(DN35),($F35/DN35)*10^-6,\"\")","v":0},"--",{"$f":"'RBC Reference Table'!BI35","v":3.3},null,{"$f":"IF(ISNUMBER(DR35),($F35/DR35)*10^-6,\"\")","v":0},"--",{"$f":"'RBC Reference Table'!BK35","v":"-"},">Pv",{"$f":"IF(ISNUMBER(DV35),($F35/DV35)*10^-6,\"\")","v":""},"--"]
[29,{"$f":"VLOOKUP($A36,'Applicable RBC Table'!$A$43:$F$136,2,FALSE)","v":0},{"$f":"VLOOKUP($A36,'Applicable RBC Table'!$A$43:$F$136,3,FALSE)","v":0},{"$f":"VLOOKUP($A36,'Applicable RBC Table'!$A$43:$F$136,4,FALSE)","v":0},{"$f":"VLOOKUP($A36,'Applicable RBC Table'!$A$43:$F$136,5,FALSE)","v":0},{"$f":"VLOOKUP($A36,'Applicable RBC Table'!$A$43:$F$136,6,FALSE)","v":0},"7440-50-8","Copper","nc, nv",{"$f":"'RBC Reference Table'!E36","v":3100},{"$f":"'RBC Reference Table'!F36","v":0},"--",{"$f":"IF(ISNUMBER(J36),$B36/J36,\"\")","v":0},{"$f":"'RBC Reference Table'!G36","v":6200},{"$f":"'RBC Reference Table'!H36","v":0},"--",{"$f":"IF(ISNUMBER(N36),$B36/N36,\"\")","v":0},{"$f":"'RBC Reference Table'!I36","v":47000},{"$f":"'RBC Reference Table'!J36","v":0},"--",{"$f":"IF(ISNUMBER(R36),$B36/R36,\"\")","v":0},{"$f":"'RBC Reference Table'!K36","v":14000},{"$f":"'RBC Reference Table'!L36","v":0},"--",{"$f":"IF(ISNUMBER(V36),MAX($B36,$C36)/V36,\"\")","v":0},{"$f":"'RBC Reference Table'!M36","v":390000},{"$f":"'RBC Reference Table'!N36","v":0},"--",{"$f":"IF(ISNUMBER(Z36),MAX($B36,$C36)/Z36,\"\")","v":0},{"$f":"'RBC Reference Table'!O36","v":"-"},{"$f":"'RBC Reference Table'!P36","v":"NV"},"--",{"$f":"IF(ISNUMBER(AD36),MAX($B36:$C36)/AD36,\"\")","v":""},{"$f":"'RBC Reference Table'!O36","v":"-"},{"$f":"'RBC Reference Table'!P36","v":"NV"},"--",{"$f":"IF(ISNUMBER(AH36),MAX($B36:$C36)/AH36,\"\")","v":""},{"$f":"'RBC Reference Table'!S36","v":"-"},{"$f":"'RBC Reference Table'!T36","v":"NV"},"--",{"$f":"IF(ISNUMBER(AL36),MAX($B36:$C36)/AL36,\"\")","v":""},{"$f":"'RBC Reference Table'!U36","v":"-"},{"$f":"'RBC Reference Table'!V36","v":"NV"},"--",{"$f":"IF(ISNUMBER(AP36),MAX($B36:$C36)/AP36,\"\")","v":""},{"$f":"'RBC Reference Table'!W36","v":"-"},{"$f":"'RBC Reference Table'!X36","v":"NV"},"--",{"$f":"IF(ISNUMBER(AT36),MAX($B36:$C36)/AT36,\"\")","v":""},{"$f":"'RBC Reference Table'!Y36","v":"-"},{"$f":"'RBC Reference Table'!Z36","v":"NV"},"--",{"$f":"IF(ISNUMBER(AX36),MAX($B36:$C36)/AX36,\"\")","v":""},{"$f":"'RBC Reference Table'!AA36","v":"*"},{"$f":"'RBC Reference Table'!AB36","v":0},null,null,{"$f":"'RBC Reference Table'!AC36","v":"*"},{"$f":"'RBC Reference Table'!AD36","v":0},null,null,{"$f":"'RBC Reference Table'!AE36","v":"*"},{"$f":"'RBC Reference Table'!AF36","v":0},null,null,{"$f":"'RBC Reference Table'!AG36","v":800},{"$f":"'RBC Reference Table'!AH36","v":0},"--",{"$f":"IF(ISNUMBER(BN36),$D36/BN36,\"\")","v":0},{"$f":"'RBC Reference Table'!AI36","v":2900},{"$f":"'RBC Reference Table'!AJ36","v":0},"--",{"$f":"IF(ISNUMBER(BR36),$D36/BR36,\"\")","v":0},{"$f":"'RBC Reference Table'!AK36","v":6500},{"$f":"'RBC Reference Table'!AL36","v":0},"--",{"$f":"IF(ISNUMBER(BV36),$D36/BV36,\"\")","v":0},{"$f":"'RBC Reference Table'!AM36","v":"-"},{"$f":"'RBC Reference Table'!AN36","v":"NV"},"--",{"$f":"IF(ISNUMBER(BZ36),$D36/BZ36,\"\")","v":""},{"$f":"'RBC Reference Table'!AO36","v":"-"},{"$f":"'RBC Reference Table'!AP36","v":"NV"},"--",{"$f":"IF(ISNUMBER(CD36),$D36/CD36,\"\")","v":""},{"$f":"'RBC Reference Table'!AQ36","v":"-"},{"$f":"'RBC Reference Table'!AR36","v":"NV"},"--",{"$f":"IF(ISNUMBER(CH36),$D36/CH36,\"\")","v":""},{"$f":"'RBC Reference Table'!AS36","v":"-"},{"$f":"'RBC Reference Table'!AT36","v":"NV"},"--",{"$f":"IF(ISNUMBER(CL36),$D36/CL36,\"\")","v":""},{"$f":"'RBC Reference Table'!AU36","v":"-"},{"$f":"'RBC Reference Table'!AV36","v":"NV"},"--",{"$f":"IF(ISNUMBER(CP36),$D36/CP36,\"\")","v":""},{"$f":"'RBC Reference Table'!AW36","v":"-"},{"$f":"'RBC Reference Table'!AX36","v":"NV"},"--",{"$f":"IF(ISNUMBER(CT36),$D36/CT36,\"\")","v":""},{"$f":"'RBC Reference Table'!AY36","v":5400000},{"$f":"'RBC Reference Table'!AZ36","v":0},"--",{"$f":"IF(ISNUMBER(CX36),$D36/CX36,\"\")","v":0},{"$f":"'RBC Reference Table'!BA36","v":"-"},{"$f":"'RBC Reference Table'!BB36","v":"NV"},"--",{"$f":"IF(ISNUMBER(DB36),$E36/DB36,\"\")","v":""},{"$f":"'RBC Reference Table'!BC36","v":"-"},{"$f":"'RBC Reference Table'!BD36","v":"NV"},"--",{"$f":"IF(ISNUMBER(DF36),$E36/DF36,\"\")","v":""},{"$f":"'RBC Reference Table'!BE35","v":"-"},{"$f":"'RBC Reference Table'!BF35","v":"NV"},"--",{"$f":"IF(ISNUMBER(DJ36),$E36/DJ36,\"\")","v":""},{"$f":"'RBC Reference Table'!BG36","v":1042857142857142.9},null,"--",{"$f":"IF(ISNUMBER(DN36),$F36/DN36,\"\")","v":0},{"$f":"'RBC Reference Table'!BI36","v":1042857142857142.9},null,"--",{"$f":"IF(ISNUMBER(DR36),$F36/DR36,\"\")","v":0},{"$f":"'RBC Reference Table'!BK36","v":4380000000000000},null,"--",{"$f":"IF(ISNUMBER(DV36),$F36/DV36,\"\")","v":0}]
[30,{"$f":"VLOOKUP($A37,'Applicable RBC Table'!$A$43:$F$136,2,FALSE)","v":0},{"$f":"VLOOKUP($A37,'Applicable RBC Table'!$A$43:$F$136,3,FALSE)","v":0},{"$f":"VLOOKUP($A37,'Applicable RBC Table'!$A$43:$F$136,4,FALSE)","v":0},{"$f":"VLOOKUP($A37,'Applicable RBC Table'!$A$43:$F$136,5,FALSE)","v":0},{"$f":"VLOOKUP($A37,'Applicable RBC Table'!$A$43:$F$136,6,FALSE)","v":0},"74-90-8","Cyanide (hydrogen cyanide) ʌ","nc, nv",{"$f":"'RBC Reference Table'!E37","v":14},{"$f":"'RBC Reference Table'!F37","v":0},"--",{"$f":"IF(ISNUMBER(J37),$B37/J37,\"\")","v":0},{"$f":"'RBC Reference Table'!G37","v":28},{"$f":"'RBC Reference Table'!H37","v":0},"--",{"$f":"IF(ISNUMBER(N37),$B37/N37,\"\")","v":0},{"$f":"'RBC Reference Table'!I37","v":170},{"$f":"'RBC Reference Table'!J37","v":0},"--",{"$f":"IF(ISNUMBER(R37),$B37/R37,\"\")","v":0},{"$f":"'RBC Reference Table'!K37","v":110},{"$f":"'RBC Reference Table'!L37","v":0},"--",{"$f":"IF(ISNUMBER(V37),MAX($B37,$C37)/V37,\"\")","v":0},{"$f":"'RBC Reference Table'!M37","v":3000},{"$f":"'RBC Reference Table'!N37","v":0},"--",{"$f":"IF(ISNUMBER(Z37),MAX($B37,$C37)/Z37,\"\")","v":0},{"$f":"'RBC Reference Table'!O37","v":98},{"$f":"'RBC Reference Table'!P37","v":0},"--",{"$f":"IF(ISNUMBER(AD37),MAX($B37:$C37)/AD37,\"\")","v":0},{"$f":"'RBC Reference Table'!O37","v":98},{"$f":"'RBC Reference Table'!P37","v":0},"--",{"$f":"IF(ISNUMBER(AH37),MAX($B37:$C37)/AH37,\"\")","v":0},{"$f":"'RBC Reference Table'!S37","v":1200},{"$f":"'RBC Reference Table'!T37","v":0},"--",{"$f":"IF(ISNUMBER(AL37),MAX($B37:$C37)/AL37,\"\")","v":0},{"$f":"'RBC Reference Table'!U37","v":98},{"$f":"'RBC Reference Table'!V37","v":0},"--",{"$f":"IF(ISNUMBER(AP37),MAX($B37:$C37)/AP37,\"\")","v":0},{"$f":"'RBC Reference Table'!W37","v":98},{"$f":"'RBC Reference Table'!X37","v":0},"--",{"$f":"IF(ISNUMBER(AT37),MAX($B37:$C37)/AT37,\"\")","v":0},{"$f":"'RBC Reference Table'!Y37","v":1200},{"$f":"'RBC Reference Table'!Z37","v":0},"--",{"$f":"IF(ISNUMBER(AX37),MAX($B37:$C37)/AX37,\"\")","v":0},{"$f":"'RBC Reference Table'!AA37","v":0.88},{"$f":"'RBC Reference Table'!AB37","v":0},null,null,{"$f":"'RBC Reference Table'!AC37","v":3.2},{"$f":"'RBC Reference Table'!AD37","v":0},null,null,{"$f":"'RBC Reference Table'!AE37","v":3.9},{"$f":"'RBC Reference Table'!AF37","v":0},null,null,{"$f":"'RBC Reference Table'!AG37","v":1.5},{"$f":"'RBC Reference Table'!AH37","v":0},"--",{"$f":"IF(ISNUMBER(BN37),$D37/BN37,\"\")","v":0},{"$f":"'RBC Reference Table'!AI37","v":5.4},{"$f":"'RBC Reference Table'!AJ37","v":0},"--",{"$f":"IF(ISNUMBER(BR37),$D37/BR37,\"\")","v":0},{"$f":"'RBC Reference Table'!AK37","v":6.5},{"$f":"'RBC Reference Table'!AL37","v":0},"--",{"$f":"IF(ISNUMBER(BV37),$D37/BV37,\"\")","v":0},{"$f":"'RBC Reference Table'!AM37","v":32000},{"$f":"'RBC Reference Table'!AN37","v":0},"--",{"$f":"IF(ISNUMBER(BZ37),$D37/BZ37,\"\")","v":0},{"$f":"'RBC Reference Table'!AO37","v":32000},{"$f":"'RBC Reference Table'!AP37","v":0},"--",{"$f":"IF(ISNUMBER(CD37),$D37/CD37,\"\")","v":0},{"$f":"'RBC Reference Table'!AQ37","v":140000},{"$f":"'RBC Reference Table'!AR37","v":0},"--",{"$f":"IF(ISNUMBER(CH37),$D37/CH37,\"\")","v":0},{"$f":"'RBC Reference Table'!AS37","v":10000},{"$f":"'RBC Reference Table'!AT37","v":0},"--",{"$f":"IF(ISNUMBER(CL37),$D37/CL37,\"\")","v":0},{"$f":"'RBC Reference Table'!AU37","v":10000},{"$f":"'RBC Reference Table'!AV37","v":0},"--",{"$f":"IF(ISNUMBER(CP37),$D37/CP37,\"\")","v":0},{"$f":"'RBC Reference Table'!AW37","v":130000},{"$f":"'RBC Reference Table'!AX37","v":0},"--",{"$f":"IF(ISNUMBER(CT37),$D37/CT37,\"\")","v":0},{"$f":"'RBC Reference Table'!AY37","v":190},{"$f":"'RBC Reference Table'!AZ37","v":0},"--",{"$f":"IF(ISNUMBER(CX37),$D37/CX37,\"\")","v":0},{"$f":"'RBC Reference Table'!BA37","v":170},{"$f":"'RBC Reference Table'!BB37","v":0},"--",{"$f":"IF(ISNUMBER(DB37),$E37/DB37,\"\")","v":0},{"$f":"'RBC Reference Table'!BC37","v":170},{"$f":"'RBC Reference Table'!BD37","v":0},"--",{"$f":"IF(ISNUMBER(DF37),$E37/DF37,\"\")","v":0},{"$f":"'RBC Reference Table'!BE36","v":"-"},{"$f":"'RBC Reference Table'!BF36","v":"NV"},"--",{"$f":"IF(ISNUMBER(DJ37),$E37/DJ37,\"\")","v":""},{"$f":"'RBC Reference Table'!BG37","v":0.83},null,"--",{"$f":"IF(ISNUMBER(DN37),$F37/DN37,\"\")","v":0},{"$f":"'RBC Reference Table'!BI37","v":0.83},null,"--",{"$f":"IF(ISNUMBER(DR37),$F37/DR37,\"\")","v":0},{"$f":"'RBC Reference Table'!BK37","v":3.5},null,"--",{"$f":"IF(ISNUMBER(DV37),$F37/DV37,\"\")","v":0}]
[31,{"$f":"VLOOKUP($A38,'Applicable RBC Table'!$A$43:$F$136,2,FALSE)","v":0},{"$f":"VLOOKUP($A38,'Applicable RBC Table'!$A$43:$F$136,3,FALSE)","v":0},{"$f":"VLOOKUP($A38,'Applicable RBC Table'!$A$43:$F$136,4,FALSE)","v":0},{"$f":"VLOOKUP($A38,'Applicable RBC Table'!$A$43:$F$136,5,FALSE)","v":0},{"$f":"VLOOKUP($A38,'Applicable RBC Table'!$A$43:$F$136,6,FALSE)","v":0},"72-54-8","DDD (4,4'-Dichlorodiphenyldichloroethane)","c, nv",{"$f":"'RBC Reference Table'!E38","v":2.7},{"$f":"'RBC Reference Table'!F38","v":0},{"$f":"IF(ISNUMBER(J38),($B38/J38)*10^-6,\"\")","v":0},"--",{"$f":"'RBC Reference Table'!G38","v":6.6},{"$f":"'RBC Reference Table'!H38","v":0},{"$f":"IF(ISNUMBER(N38),($B38/N38)*10^-6,\"\")","v":0},"--",{"$f":"'RBC Reference Table'!I38","v":12},{"$f":"'RBC Reference Table'!J38","v":0},{"$f":"IF(ISNUMBER(R38),($B38/R38)*10^-6,\"\")","v":0},"--",{"$f":"'RBC Reference Table'!K38","v":94},{"$f":"'RBC Reference Table'!L38","v":0},{"$f":"IF(ISNUMBER(V38),(MAX($B38,$C38)/V38)*10^-6,\"\")","v":0},"--",{"$f":"'RBC Reference Table'!M38","v":2600},{"$f":"'RBC Reference Table'!N38","v":">Csat"},{"$f":"IF(ISNUMBER(Z38),(MAX($B38,$C38)/Z38)*10^-6,\"\")","v":0},"--",{"$f":"'RBC Reference Table'!O38","v":"-"},{"$f":"'RBC Reference Table'!P38","v":"NV"},{"$f":"IF(ISNUMBER(AD38),(MAX($B38:$C38)/AD38)*10^-6,\"\")","v":""},"--",{"$f":"'RBC Reference Table'!O38","v":"-"},{"$f":"'RBC Reference Table'!P38","v":"NV"},{"$f":"IF(ISNUMBER(AH38),(MAX($B38:$C38)/AH38)*10^-6,\"\")","v":""},"--",{"$f":"'RBC Reference Table'!S38","v":"-"},{"$f":"'RBC Reference Table'!T38","v":"NV"},{"$f":"IF(ISNUMBER(AL38),(MAX($B38:$C38)/AL38)*10^-6,\"\")","v":""},"--",{"$f":"'RBC Reference Table'!U38","v":"-"},{"$f":"'RBC Reference Table'!V38","v":"NV"},{"$f":"IF(ISNUMBER(AP38),(MAX($B38:$C38)/AP38)*10^-6,\"\")","v":""},"--",{"$f":"'RBC Reference Table'!W38","v":"-"},{"$f":"'RBC Reference Table'!X38","v":"NV"},{"$f":"IF(ISNUMBER(AT38),(MAX($B38:$C38)/AT38)*10^-6,\"\")","v":""},"--",{"$f":"'RBC Reference Table'!Y38","v":"-"},{"$f":"'RBC Reference Table'!Z38","v":"NV"},{"$f":"IF(ISNUMBER(AX38),(MAX($B38:$C38)/AX38)*10^-6,\"\")","v":""},"--",{"$f":"'RBC Reference Table'!AA38","v":1.1000000000000001},{"$f":"'RBC Reference Table'!AB38","v":0},null,null,{"$f":"'RBC Reference Table'!AC38","v":3.7},{"$f":"'RBC Reference Table'!AD38","v":0},null,null,{"$f":"'RBC Reference Table'!AE38","v":2.6},{"$f":"'RBC Reference Table'!AF38","v":0},null,null,{"$f":"'RBC Reference Table'!AG38","v":3.1E-2},{"$f":"'RBC Reference Table'!AH38","v":0},{"$f":"IF(ISNUMBER(BN38),($D38/BN38)*10^-6,\"\")","v":0},"--",{"$f":"'RBC Reference Table'!AI38","v":0.1},{"$f":"'RBC Reference Table'!AJ38","v":0},{"$f":"IF(ISNUMBER(BR38),($D38/BR38)*10^-6,\"\")","v":0},"--",{"$f":"'RBC Reference Table'!AK38","v":7.3999999999999996E-2},{"$f":"'RBC Reference Table'!AL38","v":0},{"$f":"IF(ISNUMBER(BV38),($D38/BV38)*10^-6,\"\")","v":0},"--",{"$f":"'RBC Reference Table'!AM38","v":"-"},{"$f":"'RBC Reference Table'!AN38","v":"NV"},{"$f":"IF(ISNUMBER(BZ38),($D38/BZ38)*10^-6,\"\")","v":""},"--",{"$f":"'RBC Reference Table'!AO38","v":"-"},{"$f":"'RBC Reference Table'!AP38","v":"NV"},{"$f":"IF(ISNUMBER(CD38),($D38/CD38)*10^-6,\"\")","v":""},"--",{"$f":"'RBC Reference Table'!AQ38","v":"-"},{"$f":"'RBC Reference Table'!AR38","v":"NV"},{"$f":"IF(ISNUMBER(CH38),($D38/CH38)*10^-6,\"\")","v":""},"--",{"$f":"'RBC Reference Table'!AS38","v":"-"},{"$f":"'RBC Reference Table'!AT38","v":"NV"},{"$f":"IF(ISNUMBER(CL38),($D38/CL38)*10^-6,\"\")","v":""},"--",{"$f":"'RBC Reference Table'!AU38","v":"-"},{"$f":"'RBC Reference Table'!AV38","v":"NV"},{"$f":"IF(ISNUMBER(CP38),($D38/CP38)*10^-6,\"\")","v":""},"--",{"$f":"'RBC Reference Table'!AW38","v":"-"},{"$f":"'RBC Reference Table'!AX38","v":"NV"},{"$f":"IF(ISNUMBER(CT38),($D38/CT38)*10^-6,\"\")","v":""},"--",{"$f":"'RBC Reference Table'!AY38","v":31},{"$f":"'RBC Reference Table'!AZ38","v":0},{"$f":"IF(ISNUMBER(CX38),($D38/CX38)*10^-6,\"\")","v":0},"--",{"$f":"'RBC Reference Table'!BA38","v":"-"},{"$f":"'RBC Reference Table'!BB38","v":"NV"},{"$f":"IF(ISNUMBER(DB38),($E38/DB38)*10^-6,\"\")","v":""},"--",{"$f":"'RBC Reference Table'!BC38","v":"-"},{"$f":"'RBC Reference Table'!BD38","v":"NV"},{"$f":"IF(ISNUMBER(DF38),($E38/DF38)*10^-6,\"\")","v":""},"--",{"$f":"'RBC Reference Table'!BE37","v":3500},{"$f":"'RBC Reference Table'!BF37","v":0},{"$f":"IF(ISNUMBER(DJ38),($E38/DJ38)*10^-6,\"\")","v":0},"--",{"$f":"'RBC Reference Table'!BG38","v":4.1000000000000002E-2},null,{"$f":"IF(ISNUMBER(DN38),($F38/DN38)*10^-6,\"\")","v":0},"--",{"$f":"'RBC Reference Table'!BI38","v":9.6000000000000002E-2},null,{"$f":"IF(ISNUMBER(DR38),($F38/DR38)*10^-6,\"\")","v":0},"--",{"$f":"'RBC Reference Table'!BK38","v":0.18},null,{"$f":"IF(ISNUMBER(DV38),($F38/DV38)*10^-6,\"\")","v":0},"--"]
[32,{"$f":"VLOOKUP($A39,'Applicable RBC Table'!$A$43:$F$136,2,FALSE)","v":0},{"$f":"VLOOKUP($A39,'Applicable RBC Table'!$A$43:$F$136,3,FALSE)","v":0},{"$f":"VLOOKUP($A39,'Applicable RBC Table'!$A$43:$F$136,4,FALSE)","v":0},{"$f":"VLOOKUP($A39,'Applicable RBC Table'!$A$43:$F$136,5,FALSE)","v":0},{"$f":"VLOOKUP($A39,'Applicable RBC Table'!$A$43:$F$136,6,FALSE)","v":0},"72-55-9","DDE (4,4'-Dichlorodiphenyldichloroethene)","c, v",{"$f":"'RBC Reference Table'!E39","v":1.8},{"$f":"'RBC Reference Table'!F39","v":0},{"$f":"IF(ISNUMBER(J39),($B39/J39)*10^-6,\"\")","v":0},"--",{"$f":"'RBC Reference Table'!G39","v":4.5},{"$f":"'RBC Reference Table'!H39","v":0},{"$f":"IF(ISNUMBER(N39),($B39/N39)*10^-6,\"\")","v":0},"--",{"$f":"'RBC Reference Table'!I39","v":8.1999999999999993},{"$f":"'RBC Reference Table'!J39","v":0},{"$f":"IF(ISNUMBER(R39),($B39/R39)*10^-6,\"\")","v":0},"--",{"$f":"'RBC Reference Table'!K39","v":66},{"$f":"'RBC Reference Table'!L39","v":0},{"$f":"IF(ISNUMBER(V39),(MAX($B39,$C39)/V39)*10^-6,\"\")","v":0},"--",{"$f":"'RBC Reference Table'!M39","v":1800},{"$f":"'RBC Reference Table'!N39","v":0},{"$f":"IF(ISNUMBER(Z39),(MAX($B39,$C39)/Z39)*10^-6,\"\")","v":0},"--",{"$f":"'RBC Reference Table'!O39","v":"-"},{"$f":"'RBC Reference Table'!P39","v":">Csat"},{"$f":"IF(ISNUMBER(AD39),(MAX($B39:$C39)/AD39)*10^-6,\"\")","v":""},"--",{"$f":"'RBC Reference Table'!O39","v":"-"},{"$f":"'RBC Reference Table'!P39","v":">Csat"},{"$f":"IF(ISNUMBER(AH39),(MAX($B39:$C39)/AH39)*10^-6,\"\")","v":""},"--",{"$f":"'RBC Reference Table'!S39","v":"-"},{"$f":"'RBC Reference Table'!T39","v":">Csat"},{"$f":"IF(ISNUMBER(AL39),(MAX($B39:$C39)/AL39)*10^-6,\"\")","v":""},"--",{"$f":"'RBC Reference Table'!U39","v":"-"},{"$f":"'RBC Reference Table'!V39","v":">Csat"},{"$f":"IF(ISNUMBER(AP39),(MAX($B39:$C39)/AP39)*10^-6,\"\")","v":""},"--",{"$f":"'RBC Reference Table'!W39","v":"-"},{"$f":"'RBC Reference Table'!X39","v":">Csat"},{"$f":"IF(ISNUMBER(AT39),(MAX($B39:$C39)/AT39)*10^-6,\"\")","v":""},"--",{"$f":"'RBC Reference Table'!Y39","v":"-"},{"$f":"'RBC Reference Table'!Z39","v":">Csat"},{"$f":"IF(ISNUMBER(AX39),(MAX($B39:$C39)/AX39)*10^-6,\"\")","v":""},"--",{"$f":"'RBC Reference Table'!AA39","v":1.6},{"$f":"'RBC Reference Table'!AB39","v":0},null,null,{"$f":"'RBC Reference Table'!AC39","v":7.4},{"$f":"'RBC Reference Table'!AD39","v":0},null,null,{"$f":"'RBC Reference Table'!AE39","v":7.5},{"$f":"'RBC Reference Table'!AF39","v":0},null,null,{"$f":"'RBC Reference Table'!AG39","v":4.5999999999999999E-2},{"$f":"'RBC Reference Table'!AH39","v":0},{"$f":"IF(ISNUMBER(BN39),($D39/BN39)*10^-6,\"\")","v":0},"--",{"$f":"'RBC Reference Table'!AI39","v":0.21},{"$f":"'RBC Reference Table'!AJ39","v":0},{"$f":"IF(ISNUMBER(BR39),($D39/BR39)*10^-6,\"\")","v":0},"--",{"$f":"'RBC Reference Table'!AK39","v":0.21},{"$f":"'RBC Reference Table'!AL39","v":0},{"$f":"IF(ISNUMBER(BV39),($D39/BV39)*10^-6,\"\")","v":0},"--",{"$f":"'RBC Reference Table'!AM39","v":"-"},{"$f":"'RBC Reference Table'!AN39","v":">S"},{"$f":"IF(ISNUMBER(BZ39),($D39/BZ39)*10^-6,\"\")","v":""},"--",{"$f":"'RBC Reference Table'!AO39","v":"-"},{"$f":"'RBC Reference Table'!AP39","v":">S"},{"$f":"IF(ISNUMBER(CD39),($D39/CD39)*10^-6,\"\")","v":""},"--",{"$f":"'RBC Reference Table'!AQ39","v":"-"},{"$f":"'RBC Reference Table'!AR39","v":">S"},{"$f":"IF(ISNUMBER(CH39),($D39/CH39)*10^-6,\"\")","v":""},"--",{"$f":"'RBC Reference Table'!AS39","v":"-"},{"$f":"'RBC Reference Table'!AT39","v":">S"},{"$f":"IF(ISNUMBER(CL39),($D39/CL39)*10^-6,\"\")","v":""},"--",{"$f":"'RBC Reference Table'!AU39","v":"-"},{"$f":"'RBC Reference Table'!AV39","v":">S"},{"$f":"IF(ISNUMBER(CP39),($D39/CP39)*10^-6,\"\")","v":""},"--",{"$f":"'RBC Reference Table'!AW39","v":"-"},{"$f":"'RBC Reference Table'!AX39","v":">S"},{"$f":"IF(ISNUMBER(CT39),($D39/CT39)*10^-6,\"\")","v":""},"--",{"$f":"'RBC Reference Table'!AY39","v":"-"},{"$f":"'RBC Reference Table'!AZ39","v":">S"},{"$f":"IF(ISNUMBER(CX39),($D39/CX39)*10^-6,\"\")","v":""},"--",{"$f":"'RBC Reference Table'!BA39","v":5.8},{"$f":"'RBC Reference Table'!BB39","v":0},{"$f":"IF(ISNUMBER(DB39),($E39/DB39)*10^-6,\"\")","v":0},"--",{"$f":"'RBC Reference Table'!BC39","v":14},{"$f":"'RBC Reference Table'!BD39","v":0},{"$f":"IF(ISNUMBER(DF39),($E39/DF39)*10^-6,\"\")","v":0},"--",{"$f":"'RBC Reference Table'!BE38","v":"-"},{"$f":"'RBC Reference Table'!BF38","v":"NV"},{"$f":"IF(ISNUMBER(DJ39),($E39/DJ39)*10^-6,\"\")","v":""},"--",{"$f":"'RBC Reference Table'!BG39","v":2.9000000000000001E-2},null,{"$f":"IF(ISNUMBER(DN39),($F39/DN39)*10^-6,\"\")","v":0},"--",{"$f":"'RBC Reference Table'!BI39","v":6.8000000000000005E-2},null,{"$f":"IF(ISNUMBER(DR39),($F39/DR39)*10^-6,\"\")","v":0},"--",{"$f":"'RBC Reference Table'!BK39","v":0.13},null,{"$f":"IF(ISNUMBER(DV39),($F39/DV39)*10^-6,\"\")","v":0},"--"]
[33,{"$f":"VLOOKUP($A40,'Applicable RBC Table'!$A$43:$F$136,2,FALSE)","v":0},{"$f":"VLOOKUP($A40,'Applicable RBC Table'!$A$43:$F$136,3,FALSE)","v":0},{"$f":"VLOOKUP($A40,'Applicable RBC Table'!$A$43:$F$136,4,FALSE)","v":0},{"$f":"VLOOKUP($A40,'Applicable RBC Table'!$A$43:$F$136,5,FALSE)","v":0},{"$f":"VLOOKUP($A40,'Applicable RBC Table'!$A$43:$F$136,6,FALSE)","v":0},"50-29-3","DDT (4,4'-Dichlorodiphenyltrichloroethane)","c, nv",{"$f":"'RBC Reference Table'!E40","v":1.9},{"$f":"'RBC Reference Table'!F40","v":0},{"$f":"IF(ISNUMBER(J40),($B40/J40)*10^-6,\"\")","v":0},"--",{"$f":"'RBC Reference Table'!G40","v":4.5999999999999996},{"$f":"'RBC Reference Table'!H40","v":0},{"$f":"IF(ISNUMBER(N40),($B40/N40)*10^-6,\"\")","v":0},"--",{"$f":"'RBC Reference Table'!I40","v":8.5},{"$f":"'RBC Reference Table'!J40","v":0},{"$f":"IF(ISNUMBER(R40),($B40/R40)*10^-6,\"\")","v":0},"--",{"$f":"'RBC Reference Table'!K40","v":66},{"$f":"'RBC Reference Table'!L40","v":0},{"$f":"IF(ISNUMBER(V40),(MAX($B40,$C40)/V40)*10^-6,\"\")","v":0},"--",{"$f":"'RBC Reference Table'!M40","v":1800},{"$f":"'RBC Reference Table'!N40","v":">Csat"},{"$f":"IF(ISNUMBER(Z40),(MAX($B40,$C40)/Z40)*10^-6,\"\")","v":0},"--",{"$f":"'RBC Reference Table'!O40","v":"-"},{"$f":"'RBC Reference Table'!P40","v":"NV"},{"$f":"IF(ISNUMBER(AD40),(MAX($B40:$C40)/AD40)*10^-6,\"\")","v":""},"--",{"$f":"'RBC Reference Table'!O40","v":"-"},{"$f":"'RBC Reference Table'!P40","v":"NV"},{"$f":"IF(ISNUMBER(AH40),(MAX($B40:$C40)/AH40)*10^-6,\"\")","v":""},"--",{"$f":"'RBC Reference Table'!S40","v":"-"},{"$f":"'RBC Reference Table'!T40","v":"NV"},{"$f":"IF(ISNUMBER(AL40),(MAX($B40:$C40)/AL40)*10^-6,\"\")","v":""},"--",{"$f":"'RBC Reference Table'!U40","v":"-"},{"$f":"'RBC Reference Table'!V40","v":"NV"},{"$f":"IF(ISNUMBER(AP40),(MAX($B40:$C40)/AP40)*10^-6,\"\")","v":""},"--",{"$f":"'RBC Reference Table'!W40","v":"-"},{"$f":"'RBC Reference Table'!X40","v":"NV"},{"$f":"IF(ISNUMBER(AT40),(MAX($B40:$C40)/AT40)*10^-6,\"\")","v":""},"--",{"$f":"'RBC Reference Table'!Y40","v":"-"},{"$f":"'RBC Reference Table'!Z40","v":"NV"},{"$f":"IF(ISNUMBER(AX40),(MAX($B40:$C40)/AX40)*10^-6,\"\")","v":""},"--",{"$f":"'RBC Reference Table'!AA40","v":12},{"$f":"'RBC Reference Table'!AB40","v":0},null,null,{"$f":"'RBC Reference Table'!AC40","v":46},{"$f":"'RBC Reference Table'!AD40","v":0},null,null,{"$f":"'RBC Reference Table'!AE40","v":70},{"$f":"'RBC Reference Table'!AF40","v":0},null,null,{"$f":"'RBC Reference Table'!AG40","v":0.23},{"$f":"'RBC Reference Table'!AH40","v":0},{"$f":"IF(ISNUMBER(BN40),($D40/BN40)*10^-6,\"\")","v":0},"--",{"$f":"'RBC Reference Table'!AI40","v":0.92},{"$f":"'RBC Reference Table'!AJ40","v":0},{"$f":"IF(ISNUMBER(BR40),($D40/BR40)*10^-6,\"\")","v":0},"--",{"$f":"'RBC Reference Table'!AK40","v":1.4},{"$f":"'RBC Reference Table'!AL40","v":0},{"$f":"IF(ISNUMBER(BV40),($D40/BV40)*10^-6,\"\")","v":0},"--",{"$f":"'RBC Reference Table'!AM40","v":"-"},{"$f":"'RBC Reference Table'!AN40","v":"NV"},{"$f":"IF(ISNUMBER(BZ40),($D40/BZ40)*10^-6,\"\")","v":""},"--",{"$f":"'RBC Reference Table'!AO40","v":"-"},{"$f":"'RBC Reference Table'!AP40","v":"NV"},{"$f":"IF(ISNUMBER(CD40),($D40/CD40)*10^-6,\"\")","v":""},"--",{"$f":"'RBC Reference Table'!AQ40","v":"-"},{"$f":"'RBC Reference Table'!AR40","v":"NV"},{"$f":"IF(ISNUMBER(CH40),($D40/CH40)*10^-6,\"\")","v":""},"--",{"$f":"'RBC Reference Table'!AS40","v":"-"},{"$f":"'RBC Reference Table'!AT40","v":"NV"},{"$f":"IF(ISNUMBER(CL40),($D40/CL40)*10^-6,\"\")","v":""},"--",{"$f":"'RBC Reference Table'!AU40","v":"-"},{"$f":"'RBC Reference Table'!AV40","v":"NV"},{"$f":"IF(ISNUMBER(CP40),($D40/CP40)*10^-6,\"\")","v":""},"--",{"$f":"'RBC Reference Table'!AW40","v":"-"},{"$f":"'RBC Reference Table'!AX40","v":"NV"},{"$f":"IF(ISNUMBER(CT40),($D40/CT40)*10^-6,\"\")","v":""},"--",{"$f":"'RBC Reference Table'!AY40","v":"-"},{"$f":"'RBC Reference Table'!AZ40","v":">S"},{"$f":"IF(ISNUMBER(CX40),($D40/CX40)*10^-6,\"\")","v":""},"--",{"$f":"'RBC Reference Table'!BA40","v":"-"},{"$f":"'RBC Reference Table'!BB40","v":"NV"},{"$f":"IF(ISNUMBER(DB40),($E40/DB40)*10^-6,\"\")","v":""},"--",{"$f":"'RBC Reference Table'!BC40","v":"-"},{"$f":"'RBC Reference Table'!BD40","v":"NV"},{"$f":"IF(ISNUMBER(DF40),($E40/DF40)*10^-6,\"\")","v":""},"--",{"$f":"'RBC Reference Table'!BE39","v":"-"},{"$f":"'RBC Reference Table'!BF39","v":">Pv"},{"$f":"IF(ISNUMBER(DJ40),($E40/DJ40)*10^-6,\"\")","v":""},"--",{"$f":"'RBC Reference Table'!BG40","v":2.9000000000000001E-2},null,{"$f":"IF(ISNUMBER(DN40),($F40/DN40)*10^-6,\"\")","v":0},"--",{"$f":"'RBC Reference Table'!BI40","v":6.8000000000000005E-2},null,{"$f":"IF(ISNUMBER(DR40),($F40/DR40)*10^-6,\"\")","v":0},"--",{"$f":"'RBC Reference Table'!BK40","v":0.13},null,{"$f":"IF(ISNUMBER(DV40),($F40/DV40)*10^-6,\"\")","v":0},"--"]
[34,{"$f":"VLOOKUP($A41,'Applicable RBC Table'!$A$43:$F$136,2,FALSE)","v":0},{"$f":"VLOOKUP($A41,'Applicable RBC Table'!$A$43:$F$136,3,FALSE)","v":0},{"$f":"VLOOKUP($A41,'Applicable RBC Table'!$A$43:$F$136,4,FALSE)","v":0},{"$f":"VLOOKUP($A41,'Applicable RBC Table'!$A$43:$F$136,5,FALSE)","v":0},{"$f":"VLOOKUP($A41,'Applicable RBC Table'!$A$43:$F$136,6,FALSE)","v":0},"53-70-3","Dibenz[a,h]anthracene","c, nv",{"$f":"'RBC Reference Table'!E41","v":0.11},{"$f":"'RBC Reference Table'!F41","v":0},{"$f":"IF(ISNUMBER(J41),($B41/J41)*10^-6,\"\")","v":0},"--",{"$f":"'RBC Reference Table'!G41","v":0.25},{"$f":"'RBC Reference Table'!H41","v":0},{"$f":"IF(ISNUMBER(N41),($B41/N41)*10^-6,\"\")","v":0},"--",{"$f":"'RBC Reference Table'!I41","v":2.1},{"$f":"'RBC Reference Table'!J41","v":0},{"$f":"IF(ISNUMBER(R41),($B41/R41)*10^-6,\"\")","v":0},"--",{"$f":"'RBC Reference Table'!K41","v":17},{"$f":"'RBC Reference Table'!L41","v":">Csat"},{"$f":"IF(ISNUMBER(V41),(MAX($B41,$C41)/V41)*10^-6,\"\")","v":0},"--",{"$f":"'RBC Reference Table'!M41","v":490},{"$f":"'RBC Reference Table'!N41","v":">Csat"},{"$f":"IF(ISNUMBER(Z41),(MAX($B41,$C41)/Z41)*10^-6,\"\")","v":0},"--",{"$f":"'RBC Reference Table'!O41","v":"-"},{"$f":"'RBC Reference Table'!P41","v":"NV"},{"$f":"IF(ISNUMBER(AD41),(MAX($B41:$C41)/AD41)*10^-6,\"\")","v":""},"--",{"$f":"'RBC Reference Table'!O41","v":"-"},{"$f":"'RBC Reference Table'!P41","v":"NV"},{"$f":"IF(ISNUMBER(AH41),(MAX($B41:$C41)/AH41)*10^-6,\"\")","v":""},"--",{"$f":"'RBC Reference Table'!S41","v":"-"},{"$f":"'RBC Reference Table'!T41","v":"NV"},{"$f":"IF(ISNUMBER(AL41),(MAX($B41:$C41)/AL41)*10^-6,\"\")","v":""},"--",{"$f":"'RBC Reference Table'!U41","v":"-"},{"$f":"'RBC Reference Table'!V41","v":"NV"},{"$f":"IF(ISNUMBER(AP41),(MAX($B41:$C41)/AP41)*10^-6,\"\")","v":""},"--",{"$f":"'RBC Reference Table'!W41","v":"-"},{"$f":"'RBC Reference Table'!X41","v":"NV"},{"$f":"IF(ISNUMBER(AT41),(MAX($B41:$C41)/AT41)*10^-6,\"\")","v":""},"--",{"$f":"'RBC Reference Table'!Y41","v":"-"},{"$f":"'RBC Reference Table'!Z41","v":"NV"},{"$f":"IF(ISNUMBER(AX41),(MAX($B41:$C41)/AX41)*10^-6,\"\")","v":""},"--",{"$f":"'RBC Reference Table'!AA41","v":"-"},{"$f":"'RBC Reference Table'!AB41","v":">Csat"},null,null,{"$f":"'RBC Reference Table'!AC41","v":"-"},{"$f":"'RBC Reference Table'!AD41","v":">Csat"},null,null,{"$f":"'RBC Reference Table'!AE41","v":"-"},{"$f":"'RBC Reference Table'!AF41","v":">Csat"},null,null,{"$f":"'RBC Reference Table'!AG41","v":2.5000000000000001E-2},{"$f":"'RBC Reference Table'!AH41","v":0},{"$f":"IF(ISNUMBER(BN41),($D41/BN41)*10^-6,\"\")","v":0},"--",{"$f":"'RBC Reference Table'!AI41","v":0.08},{"$f":"'RBC Reference Table'!AJ41","v":0},{"$f":"IF(ISNUMBER(BR41),($D41/BR41)*10^-6,\"\")","v":0},"--",{"$f":"'RBC Reference Table'!AK41","v":0.47},{"$f":"'RBC Reference Table'!AL41","v":0},{"$f":"IF(ISNUMBER(BV41),($D41/BV41)*10^-6,\"\")","v":0},"--",{"$f":"'RBC Reference Table'!AM41","v":"-"},{"$f":"'RBC Reference Table'!AN41","v":"NV"},{"$f":"IF(ISNUMBER(BZ41),($D41/BZ41)*10^-6,\"\")","v":""},"--",{"$f":"'RBC Reference Table'!AO41","v":"-"},{"$f":"'RBC Reference Table'!AP41","v":"NV"},{"$f":"IF(ISNUMBER(CD41),($D41/CD41)*10^-6,\"\")","v":""},"--",{"$f":"'RBC Reference Table'!AQ41","v":"-"},{"$f":"'RBC Reference Table'!AR41","v":"NV"},{"$f":"IF(ISNUMBER(CH41),($D41/CH41)*10^-6,\"\")","v":""},"--",{"$f":"'RBC Reference Table'!AS41","v":"-"},{"$f":"'RBC Reference Table'!AT41","v":"NV"},{"$f":"IF(ISNUMBER(CL41),($D41/CL41)*10^-6,\"\")","v":""},"--",{"$f":"'RBC Reference Table'!AU41","v":"-"},{"$f":"'RBC Reference Table'!AV41","v":"NV"},{"$f":"IF(ISNUMBER(CP41),($D41/CP41)*10^-6,\"\")","v":""},"--",{"$f":"'RBC Reference Table'!AW41","v":"-"},{"$f":"'RBC Reference Table'!AX41","v":"NV"},{"$f":"IF(ISNUMBER(CT41),($D41/CT41)*10^-6,\"\")","v":""},"--",{"$f":"'RBC Reference Table'!AY41","v":"-"},{"$f":"'RBC Reference Table'!AZ41","v":">S"},{"$f":"IF(ISNUMBER(CX41),($D41/CX41)*10^-6,\"\")","v":""},"--",{"$f":"'RBC Reference Table'!BA41","v":"-"},{"$f":"'RBC Reference Table'!BB41","v":"NV"},{"$f":"IF(ISNUMBER(DB41),($E41/DB41)*10^-6,\"\")","v":""},"--",{"$f":"'RBC Reference Table'!BC41","v":"-"},{"$f":"'RBC Reference Table'!BD41","v":"NV"},{"$f":"IF(ISNUMBER(DF41),($E41/DF41)*10^-6,\"\")","v":""},"--",{"$f":"'RBC Reference Table'!BE40","v":"-"},{"$f":"'RBC Reference Table'!BF40","v":"NV"},{"$f":"IF(ISNUMBER(DJ41),($E41/DJ41)*10^-6,\"\")","v":""},"--",{"$f":"'RBC Reference Table'!BG41","v":"-"},">Pv",{"$f":"IF(ISNUMBER(DN41),($F41/DN41)*10^-6,\"\")","v":""},"--",{"$f":"'RBC Reference Table'!BI41","v":"-"},">Pv",{"$f":"IF(ISNUMBER(DR41),($F41/DR41)*10^-6,\"\")","v":""},"--",{"$f":"'RBC Reference Table'!BK41","v":"-"},">Pv",{"$f":"IF(ISNUMBER(DV41),($F41/DV41)*10^-6,\"\")","v":""},"--"]
[35,{"$f":"VLOOKUP($A42,'Applicable RBC Table'!$A$43:$F$136,2,FALSE)","v":0},{"$f":"VLOOKUP($A42,'Applicable RBC Table'!$A$43:$F$136,3,FALSE)","v":0},{"$f":"VLOOKUP($A42,'Applicable RBC Table'!$A$43:$F$136,4,FALSE)","v":0},{"$f":"VLOOKUP($A42,'Applicable RBC Table'!$A$43:$F$136,5,FALSE)","v":0},{"$f":"VLOOKUP($A42,'Applicable RBC Table'!$A$43:$F$136,6,FALSE)","v":0},"95-50-1","1,2-Dichlorobenzene","nc, v",{"$f":"'RBC Reference Table'!E42","v":2200},{"$f":"'RBC Reference Table'!F42","v":">Csat"},"--",{"$f":"IF(ISNUMBER(J42),$B42/J42,\"\")","v":0},{"$f":"'RBC Reference Table'!G42","v":4400},{"$f":"'RBC Reference Table'!H42","v":">Csat"},"--",{"$f":"IF(ISNUMBER(N42),$B42/N42,\"\")","v":0},{"$f":"'RBC Reference Table'!I42","v":36000},{"$f":"'RBC Reference Table'!J42","v":">Csat"},"--",{"$f":"IF(ISNUMBER(R42),$B42/R42,\"\")","v":0},{"$f":"'RBC Reference Table'!K42","v":20000},{"$f":"'RBC Reference Table'!L42","v":">Csat"},"--",{"$f":"IF(ISNUMBER(V42),MAX($B42,$C42)/V42,\"\")","v":0},{"$f":"'RBC Reference Table'!M42","v":560000},{"$f":"'RBC Reference Table'!N42","v":">Csat"},"--",{"$f":"IF(ISNUMBER(Z42),MAX($B42,$C42)/Z42,\"\")","v":0},{"$f":"'RBC Reference Table'!O42","v":"-"},{"$f":"'RBC Reference Table'!P42","v":">Csat"},"--",{"$f":"IF(ISNUMBER(AD42),MAX($B42:$C42)/AD42,\"\")","v":""},{"$f":"'RBC Reference Table'!O42","v":"-"},{"$f":"'RBC Reference Table'!P42","v":">Csat"},"--",{"$f":"IF(ISNUMBER(AH42),MAX($B42:$C42)/AH42,\"\")","v":""},{"$f":"'RBC Reference Table'!S42","v":"-"},{"$f":"'RBC Reference Table'!T42","v":">Csat"},"--",{"$f":"IF(ISNUMBER(AL42),MAX($B42:$C42)/AL42,\"\")","v":""},{"$f":"'RBC Reference Table'!U42","v":"-"},{"$f":"'RBC Reference Table'!V42","v":">Csat"},"--",{"$f":"IF(ISNUMBER(AP42),MAX($B42:$C42)/AP42,\"\")","v":""},{"$f":"'RBC Reference Table'!W42","v":"-"},{"$f":"'RBC Reference Table'!X42","v":">Csat"},"--",{"$f":"IF(ISNUMBER(AT42),MAX($B42:$C42)/AT42,\"\")","v":""},{"$f":"'RBC Reference Table'!Y42","v":"-"},{"$f":"'RBC Reference Table'!Z42","v":">Csat"},"--",{"$f":"IF(ISNUMBER(AX42),MAX($B42:$C42)/AX42,\"\")","v":""},{"$f":"'RBC Reference Table'!AA42","v":36},{"$f":"'RBC Reference Table'!AB42","v":0},null,null,{"$f":"'RBC Reference Table'!AC42","v":140},{"$f":"'RBC Reference Table'!AD42","v":0},null,null,{"$f":"'RBC Reference Table'!AE42","v":160},{"$f":"'RBC Reference Table'!AF42","v":0},null,null,{"$f":"'RBC Reference Table'!AG42","v":300},{"$f":"'RBC Reference Table'!AH42","v":0},"--",{"$f":"IF(ISNUMBER(BN42),$D42/BN42,\"\")","v":0},{"$f":"'RBC Reference Table'!AI42","v":1200},{"$f":"'RBC Reference Table'!AJ42","v":0},"--",{"$f":"IF(ISNUMBER(BR42),$D42/BR42,\"\")","v":0},{"$f":"'RBC Reference Table'!AK42","v":1400},{"$f":"'RBC Reference Table'!AL42","v":0},"--",{"$f":"IF(ISNUMBER(BV42),$D42/BV42,\"\")","v":0},{"$f":"'RBC Reference Table'!AM42","v":"-"},{"$f":"'RBC Reference Table'!AN42","v":">S"},"--",{"$f":"IF(ISNUMBER(BZ42),$D42/BZ42,\"\")","v":""},{"$f":"'RBC Reference Table'!AO42","v":"-"},{"$f":"'RBC Reference Table'!AP42","v":">S"},"--",{"$f":"IF(ISNUMBER(CD42),$D42/CD42,\"\")","v":""},{"$f":"'RBC Reference Table'!AQ42","v":"-"},{"$f":"'RBC Reference Table'!AR42","v":">S"},"--",{"$f":"IF(ISNUMBER(CH42),$D42/CH42,\"\")","v":""},{"$f":"'RBC Reference Table'!AS42","v":"-"},{"$f":"'RBC Reference Table'!AT42","v":">S"},"--",{"$f":"IF(ISNUMBER(CL42),$D42/CL42,\"\")","v":""},{"$f":"'RBC Reference Table'!AU42","v":"-"},{"$f":"'RBC Reference Table'!AV42","v":">S"},"--",{"$f":"IF(ISNUMBER(CP42),$D42/CP42,\"\")","v":""},{"$f":"'RBC Reference Table'!AW42","v":"-"},{"$f":"'RBC Reference Table'!AX42","v":">S"},"--",{"$f":"IF(ISNUMBER(CT42),$D42/CT42,\"\")","v":""},{"$f":"'RBC Reference Table'!AY42","v":37000},{"$f":"'RBC Reference Table'!AZ42","v":0},"--",{"$f":"IF(ISNUMBER(CX42),$D42/CX42,\"\")","v":0},{"$f":"'RBC Reference Table'!BA42","v":42000},{"$f":"'RBC Reference Table'!BB42","v":0},"--",{"$f":"IF(ISNUMBER(DB42),$E42/DB42,\"\")","v":0},{"$f":"'RBC Reference Table'!BC42","v":42000},{"$f":"'RBC Reference Table'!BD42","v":0},"--",{"$f":"IF(ISNUMBER(DF42),$E42/DF42,\"\")","v":0},{"$f":"'RBC Reference Table'!BE41","v":"-"},{"$f":"'RBC Reference Table'!BF41","v":"NV"},"--",{"$f":"IF(ISNUMBER(DJ42),$E42/DJ42,\"\")","v":""},{"$f":"'RBC Reference Table'!BG42","v":210},null,"--",{"$f":"IF(ISNUMBER(DN42),$F42/DN42,\"\")","v":0},{"$f":"'RBC Reference Table'!BI42","v":210},null,"--",{"$f":"IF(ISNUMBER(DR42),$F42/DR42,\"\")","v":0},{"$f":"'RBC Reference Table'!BK42","v":880},null,"--",{"$f":"IF(ISNUMBER(DV42),$F42/DV42,\"\")","v":0}]
[36,{"$f":"VLOOKUP($A43,'Applicable RBC Table'!$A$43:$F$136,2,FALSE)","v":0},{"$f":"VLOOKUP($A43,'Applicable RBC Table'!$A$43:$F$136,3,FALSE)","v":0},{"$f":"VLOOKUP($A43,'Applicable RBC Table'!$A$43:$F$136,4,FALSE)","v":0},{"$f":"VLOOKUP($A43,'Applicable RBC Table'!$A$43:$F$136,5,FALSE)","v":0},{"$f":"VLOOKUP($A43,'Applicable RBC Table'!$A$43:$F$136,6,FALSE)","v":0},"106-46-7","1,4-Dichlorobenzene","c, v",{"$f":"'RBC Reference Table'!E43","v":14},{"$f":"'RBC Reference Table'!F43","v":0},{"$f":"IF(ISNUMBER(J43),($B43/J43)*10^-6,\"\")","v":0},"--",{"$f":"'RBC Reference Table'!G43","v":62},{"$f":"'RBC Reference Table'!H43","v":0},{"$f":"IF(ISNUMBER(N43),($B43/N43)*10^-6,\"\")","v":0},"--",{"$f":"'RBC Reference Table'!I43","v":64},{"$f":"'RBC Reference Table'!J43","v":0},{"$f":"IF(ISNUMBER(R43),($B43/R43)*10^-6,\"\")","v":0},"--",{"$f":"'RBC Reference Table'!K43","v":1300},{"$f":"'RBC Reference Table'!L43","v":">Csat"},{"$f":"IF(ISNUMBER(V43),(MAX($B43,$C43)/V43)*10^-6,\"\")","v":0},"--",{"$f":"'RBC Reference Table'!M43","v":36000},{"$f":"'RBC Reference Table'!N43","v":">Csat"},{"$f":"IF(ISNUMBER(Z43),(MAX($B43,$C43)/Z43)*10^-6,\"\")","v":0},"--",{"$f":"'RBC Reference Table'!O43","v":8.1},{"$f":"'RBC Reference Table'!P43","v":0},{"$f":"IF(ISNUMBER(AD43),(MAX($B43:$C43)/AD43)*10^-6,\"\")","v":0},"--",{"$f":"'RBC Reference Table'!O43","v":8.1},{"$f":"'RBC Reference Table'!P43","v":0},{"$f":"IF(ISNUMBER(AH43),(MAX($B43:$C43)/AH43)*10^-6,\"\")","v":0},"--",{"$f":"'RBC Reference Table'!S43","v":36},{"$f":"'RBC Reference Table'!T43","v":0},{"$f":"IF(ISNUMBER(AL43),(MAX($B43:$C43)/AL43)*10^-6,\"\")","v":0},"--",{"$f":"'RBC Reference Table'!U43","v":0.99},{"$f":"'RBC Reference Table'!V43","v":0},{"$f":"IF(ISNUMBER(AP43),(MAX($B43:$C43)/AP43)*10^-6,\"\")","v":0},"--",{"$f":"'RBC Reference Table'!W43","v":2.2999999999999998},{"$f":"'RBC Reference Table'!X43","v":0},{"$f":"IF(ISNUMBER(AT43),(MAX($B43:$C43)/AT43)*10^-6,\"\")","v":0},"--",{"$f":"'RBC Reference Table'!Y43","v":13},{"$f":"'RBC Reference Table'!Z43","v":0},{"$f":"IF(ISNUMBER(AX43),(MAX($B43:$C43)/AX43)*10^-6,\"\")","v":0},"--",{"$f":"'RBC Reference Table'!AA43","v":5.7000000000000002E-2},{"$f":"'RBC Reference Table'!AB43","v":0},null,null,{"$f":"'RBC Reference Table'!AC43","v":0.27},{"$f":"'RBC Reference Table'!AD43","v":0},null,null,{"$f":"'RBC Reference Table'!AE43","v":0.25},{"$f":"'RBC Reference Table'!AF43","v":0},null,null,{"$f":"'RBC Reference Table'!AG43","v":0.48},{"$f":"'RBC Reference Table'!AH43","v":0},{"$f":"IF(ISNUMBER(BN43),($D43/BN43)*10^-6,\"\")","v":0},"--",{"$f":"'RBC Reference Table'!AI43","v":2.2999999999999998},{"$f":"'RBC Reference Table'!AJ43","v":0},{"$f":"IF(ISNUMBER(BR43),($D43/BR43)*10^-6,\"\")","v":0},"--",{"$f":"'RBC Reference Table'!AK43","v":2.1},{"$f":"'RBC Reference Table'!AL43","v":0},{"$f":"IF(ISNUMBER(BV43),($D43/BV43)*10^-6,\"\")","v":0},"--",{"$f":"'RBC Reference Table'!AM43","v":4900},{"$f":"'RBC Reference Table'!AN43","v":0},{"$f":"IF(ISNUMBER(BZ43),($D43/BZ43)*10^-6,\"\")","v":0},"--",{"$f":"'RBC Reference Table'!AO43","v":12000},{"$f":"'RBC Reference Table'!AP43","v":0},{"$f":"IF(ISNUMBER(CD43),($D43/CD43)*10^-6,\"\")","v":0},"--",{"$f":"'RBC Reference Table'!AQ43","v":21000},{"$f":"'RBC Reference Table'!AR43","v":0},{"$f":"IF(ISNUMBER(CH43),($D43/CH43)*10^-6,\"\")","v":0},"--",{"$f":"'RBC Reference Table'!AS43","v":540},{"$f":"'RBC Reference Table'!AT43","v":0},{"$f":"IF(ISNUMBER(CL43),($D43/CL43)*10^-6,\"\")","v":0},"--",{"$f":"'RBC Reference Table'!AU43","v":1300},{"$f":"'RBC Reference Table'!AV43","v":0},{"$f":"IF(ISNUMBER(CP43),($D43/CP43)*10^-6,\"\")","v":0},"--",{"$f":"'RBC Reference Table'!AW43","v":7100},{"$f":"'RBC Reference Table'!AX43","v":0},{"$f":"IF(ISNUMBER(CT43),($D43/CT43)*10^-6,\"\")","v":0},"--",{"$f":"'RBC Reference Table'!AY43","v":1500},{"$f":"'RBC Reference Table'!AZ43","v":0},{"$f":"IF(ISNUMBER(CX43),($D43/CX43)*10^-6,\"\")","v":0},"--",{"$f":"'RBC Reference Table'!BA43","v":51},{"$f":"'RBC Reference Table'!BB43","v":0},{"$f":"IF(ISNUMBER(DB43),($E43/DB43)*10^-6,\"\")","v":0},"--",{"$f":"'RBC Reference Table'!BC43","v":120},{"$f":"'RBC Reference Table'!BD43","v":0},{"$f":"IF(ISNUMBER(DF43),($E43/DF43)*10^-6,\"\")","v":0},"--",{"$f":"'RBC Reference Table'!BE42","v":880000},{"$f":"'RBC Reference Table'!BF42","v":0},{"$f":"IF(ISNUMBER(DJ43),($E43/DJ43)*10^-6,\"\")","v":0},"--",{"$f":"'RBC Reference Table'!BG43","v":0.26},null,{"$f":"IF(ISNUMBER(DN43),($F43/DN43)*10^-6,\"\")","v":0},"--",{"$f":"'RBC Reference Table'!BI43","v":0.6},null,{"$f":"IF(ISNUMBER(DR43),($F43/DR43)*10^-6,\"\")","v":0},"--",{"$f":"'RBC Reference Table'!BK43","v":1.1000000000000001},null,{"$f":"IF(ISNUMBER(DV43),($F43/DV43)*10^-6,\"\")","v":0},"--"]
[37,{"$f":"VLOOKUP($A44,'Applicable RBC Table'!$A$43:$F$136,2,FALSE)","v":0},{"$f":"VLOOKUP($A44,'Applicable RBC Table'!$A$43:$F$136,3,FALSE)","v":0},{"$f":"VLOOKUP($A44,'Applicable RBC Table'!$A$43:$F$136,4,FALSE)","v":0},{"$f":"VLOOKUP($A44,'Applicable RBC Table'!$A$43:$F$136,5,FALSE)","v":0},{"$f":"VLOOKUP($A44,'Applicable RBC Table'!$A$43:$F$136,6,FALSE)","v":0},"91-94-1","3,3-Dichlorobenzidine","c, nv",{"$f":"'RBC Reference Table'!E44","v":1.2},{"$f":"'RBC Reference Table'!F44","v":0},{"$f":"IF(ISNUMBER(J44),($B44/J44)*10^-6,\"\")","v":0},"--",{"$f":"'RBC Reference Table'!G44","v":3},{"$f":"'RBC Reference Table'!H44","v":0},{"$f":"IF(ISNUMBER(N44),($B44/N44)*10^-6,\"\")","v":0},"--",{"$f":"'RBC Reference Table'!I44","v":5.0999999999999996},{"$f":"'RBC Reference Table'!J44","v":0},{"$f":"IF(ISNUMBER(R44),($B44/R44)*10^-6,\"\")","v":0},"--",{"$f":"'RBC Reference Table'!K44","v":42},{"$f":"'RBC Reference Table'!L44","v":">Csat"},{"$f":"IF(ISNUMBER(V44),(MAX($B44,$C44)/V44)*10^-6,\"\")","v":0},"--",{"$f":"'RBC Reference Table'!M44","v":1200},{"$f":"'RBC Reference Table'!N44","v":">Csat"},{"$f":"IF(ISNUMBER(Z44),(MAX($B44,$C44)/Z44)*10^-6,\"\")","v":0},"--",{"$f":"'RBC Reference Table'!O44","v":"-"},{"$f":"'RBC Reference Table'!P44","v":"NV"},{"$f":"IF(ISNUMBER(AD44),(MAX($B44:$C44)/AD44)*10^-6,\"\")","v":""},"--",{"$f":"'RBC Reference Table'!O44","v":"-"},{"$f":"'RBC Reference Table'!P44","v":"NV"},{"$f":"IF(ISNUMBER(AH44),(MAX($B44:$C44)/AH44)*10^-6,\"\")","v":""},"--",{"$f":"'RBC Reference Table'!S44","v":"-"},{"$f":"'RBC Reference Table'!T44","v":"NV"},{"$f":"IF(ISNUMBER(AL44),(MAX($B44:$C44)/AL44)*10^-6,\"\")","v":""},"--",{"$f":"'RBC Reference Table'!U44","v":"-"},{"$f":"'RBC Reference Table'!V44","v":"NV"},{"$f":"IF(ISNUMBER(AP44),(MAX($B44:$C44)/AP44)*10^-6,\"\")","v":""},"--",{"$f":"'RBC Reference Table'!W44","v":"-"},{"$f":"'RBC Reference Table'!X44","v":"NV"},{"$f":"IF(ISNUMBER(AT44),(MAX($B44:$C44)/AT44)*10^-6,\"\")","v":""},"--",{"$f":"'RBC Reference Table'!Y44","v":"-"},{"$f":"'RBC Reference Table'!Z44","v":"NV"},{"$f":"IF(ISNUMBER(AX44),(MAX($B44:$C44)/AX44)*10^-6,\"\")","v":""},"--",{"$f":"'RBC Reference Table'!AA44","v":0.17},{"$f":"'RBC Reference Table'!AB44","v":0},null,null,{"$f":"'RBC Reference Table'!AC44","v":0.67},{"$f":"'RBC Reference Table'!AD44","v":0},null,null,{"$f":"'RBC Reference Table'!AE44","v":1},{"$f":"'RBC Reference Table'!AF44","v":0},null,null,{"$f":"'RBC Reference Table'!AG44","v":0.17},{"$f":"'RBC Reference Table'!AH44","v":0},{"$f":"IF(ISNUMBER(BN44),($D44/BN44)*10^-6,\"\")","v":0},"--",{"$f":"'RBC Reference Table'!AI44","v":0.69},{"$f":"'RBC Reference Table'!AJ44","v":0},{"$f":"IF(ISNUMBER(BR44),($D44/BR44)*10^-6,\"\")","v":0},"--",{"$f":"'RBC Reference Table'!AK44","v":1},{"$f":"'RBC Reference Table'!AL44","v":0},{"$f":"IF(ISNUMBER(BV44),($D44/BV44)*10^-6,\"\")","v":0},"--",{"$f":"'RBC Reference Table'!AM44","v":"-"},{"$f":"'RBC Reference Table'!AN44","v":"NV"},{"$f":"IF(ISNUMBER(BZ44),($D44/BZ44)*10^-6,\"\")","v":""},"--",{"$f":"'RBC Reference Table'!AO44","v":"-"},{"$f":"'RBC Reference Table'!AP44","v":"NV"},{"$f":"IF(ISNUMBER(CD44),($D44/CD44)*10^-6,\"\")","v":""},"--",{"$f":"'RBC Reference Table'!AQ44","v":"-"},{"$f":"'RBC Reference Table'!AR44","v":"NV"},{"$f":"IF(ISNUMBER(CH44),($D44/CH44)*10^-6,\"\")","v":""},"--",{"$f":"'RBC Reference Table'!AS44","v":"-"},{"$f":"'RBC Reference Table'!AT44","v":"NV"},{"$f":"IF(ISNUMBER(CL44),($D44/CL44)*10^-6,\"\")","v":""},"--",{"$f":"'RBC Reference Table'!AU44","v":"-"},{"$f":"'RBC Reference Table'!AV44","v":"NV"},{"$f":"IF(ISNUMBER(CP44),($D44/CP44)*10^-6,\"\")","v":""},"--",{"$f":"'RBC Reference Table'!AW44","v":"-"},{"$f":"'RBC Reference Table'!AX44","v":"NV"},{"$f":"IF(ISNUMBER(CT44),($D44/CT44)*10^-6,\"\")","v":""},"--",{"$f":"'RBC Reference Table'!AY44","v":"-"},{"$f":"'RBC Reference Table'!AZ44","v":">S"},{"$f":"IF(ISNUMBER(CX44),($D44/CX44)*10^-6,\"\")","v":""},"--",{"$f":"'RBC Reference Table'!BA44","v":"-"},{"$f":"'RBC Reference Table'!BB44","v":"NV"},{"$f":"IF(ISNUMBER(DB44),($E44/DB44)*10^-6,\"\")","v":""},"--",{"$f":"'RBC Reference Table'!BC44","v":"-"},{"$f":"'RBC Reference Table'!BD44","v":"NV"},{"$f":"IF(ISNUMBER(DF44),($E44/DF44)*10^-6,\"\")","v":""},"--",{"$f":"'RBC Reference Table'!BE43","v":1100},{"$f":"'RBC Reference Table'!BF43","v":0},{"$f":"IF(ISNUMBER(DJ44),($E44/DJ44)*10^-6,\"\")","v":0},"--",{"$f":"'RBC Reference Table'!BG44","v":8.3000000000000001E-3},null,{"$f":"IF(ISNUMBER(DN44),($F44/DN44)*10^-6,\"\")","v":0},"--",{"$f":"'RBC Reference Table'!BI44","v":0.02},null,{"$f":"IF(ISNUMBER(DR44),($F44/DR44)*10^-6,\"\")","v":0},"--",{"$f":"'RBC Reference Table'!BK44","v":3.5999999999999997E-2},null,{"$f":"IF(ISNUMBER(DV44),($F44/DV44)*10^-6,\"\")","v":0},"--"]
[38,{"$f":"VLOOKUP($A45,'Applicable RBC Table'!$A$43:$F$136,2,FALSE)","v":0},{"$f":"VLOOKUP($A45,'Applicable RBC Table'!$A$43:$F$136,3,FALSE)","v":0},{"$f":"VLOOKUP($A45,'Applicable RBC Table'!$A$43:$F$136,4,FALSE)","v":0},{"$f":"VLOOKUP($A45,'Applicable RBC Table'!$A$43:$F$136,5,FALSE)","v":0},{"$f":"VLOOKUP($A45,'Applicable RBC Table'!$A$43:$F$136,6,FALSE)","v":0},"75-34-3","1,1-Dichloroethane","c, v",{"$f":"'RBC Reference Table'!E45","v":58},{"$f":"'RBC Reference Table'!F45","v":0},{"$f":"IF(ISNUMBER(J45),($B45/J45)*10^-6,\"\")","v":0},"--",{"$f":"'RBC Reference Table'!G45","v":190},{"$f":"'RBC Reference Table'!H45","v":0},{"$f":"IF(ISNUMBER(N45),($B45/N45)*10^-6,\"\")","v":0},"--",{"$f":"'RBC Reference Table'!I45","v":260},{"$f":"'RBC Reference Table'!J45","v":0},{"$f":"IF(ISNUMBER(R45),($B45/R45)*10^-6,\"\")","v":0},"--",{"$f":"'RBC Reference Table'!K45","v":3200},{"$f":"'RBC Reference Table'!L45","v":">Csat"},{"$f":"IF(ISNUMBER(V45),(MAX($B45,$C45)/V45)*10^-6,\"\")","v":0},"--",{"$f":"'RBC Reference Table'!M45","v":89000},{"$f":"'RBC Reference Table'!N45","v":">Csat"},{"$f":"IF(ISNUMBER(Z45),(MAX($B45,$C45)/Z45)*10^-6,\"\")","v":0},"--",{"$f":"'RBC Reference Table'!O45","v":56},{"$f":"'RBC Reference Table'!P45","v":0},{"$f":"IF(ISNUMBER(AD45),(MAX($B45:$C45)/AD45)*10^-6,\"\")","v":0},"--",{"$f":"'RBC Reference Table'!O45","v":56},{"$f":"'RBC Reference Table'!P45","v":0},{"$f":"IF(ISNUMBER(AH45),(MAX($B45:$C45)/AH45)*10^-6,\"\")","v":0},"--",{"$f":"'RBC Reference Table'!S45","v":240},{"$f":"'RBC Reference Table'!T45","v":0},{"$f":"IF(ISNUMBER(AL45),(MAX($B45:$C45)/AL45)*10^-6,\"\")","v":0},"--",{"$f":"'RBC Reference Table'!U45","v":0.45},{"$f":"'RBC Reference Table'!V45","v":0},{"$f":"IF(ISNUMBER(AP45),(MAX($B45:$C45)/AP45)*10^-6,\"\")","v":0},"--",{"$f":"'RBC Reference Table'!W45","v":1.1000000000000001},{"$f":"'RBC Reference Table'!X45","v":0},{"$f":"IF(ISNUMBER(AT45),(MAX($B45:$C45)/AT45)*10^-6,\"\")","v":0},"--",{"$f":"'RBC Reference Table'!Y45","v":5.9},{"$f":"'RBC Reference Table'!Z45","v":0},{"$f":"IF(ISNUMBER(AX45),(MAX($B45:$C45)/AX45)*10^-6,\"\")","v":0},"--",{"$f":"'RBC Reference Table'!AA45","v":4.3999999999999997E-2},{"$f":"'RBC Reference Table'!AB45","v":0},null,null,{"$f":"'RBC Reference Table'!AC45","v":0.2},{"$f":"'RBC Reference Table'!AD45","v":0},null,null,{"$f":"'RBC Reference Table'!AE45","v":0.2},{"$f":"'RBC Reference Table'!AF45","v":0},null,null,{"$f":"'RBC Reference Table'!AG45","v":2.8},{"$f":"'RBC Reference Table'!AH45","v":0},{"$f":"IF(ISNUMBER(BN45),($D45/BN45)*10^-6,\"\")","v":0},"--",{"$f":"'RBC Reference Table'!AI45","v":13},{"$f":"'RBC Reference Table'!AJ45","v":0},{"$f":"IF(ISNUMBER(BR45),($D45/BR45)*10^-6,\"\")","v":0},"--",{"$f":"'RBC Reference Table'!AK45","v":13},{"$f":"'RBC Reference Table'!AL45","v":0},{"$f":"IF(ISNUMBER(BV45),($D45/BV45)*10^-6,\"\")","v":0},"--",{"$f":"'RBC Reference Table'!AM45","v":16000},{"$f":"'RBC Reference Table'!AN45","v":0},{"$f":"IF(ISNUMBER(BZ45),($D45/BZ45)*10^-6,\"\")","v":0},"--",{"$f":"'RBC Reference Table'!AO45","v":37000},{"$f":"'RBC Reference Table'!AP45","v":0},{"$f":"IF(ISNUMBER(CD45),($D45/CD45)*10^-6,\"\")","v":0},"--",{"$f":"'RBC Reference Table'!AQ45","v":68000},{"$f":"'RBC Reference Table'!AR45","v":0},{"$f":"IF(ISNUMBER(CH45),($D45/CH45)*10^-6,\"\")","v":0},"--",{"$f":"'RBC Reference Table'!AS45","v":1100},{"$f":"'RBC Reference Table'!AT45","v":0},{"$f":"IF(ISNUMBER(CL45),($D45/CL45)*10^-6,\"\")","v":0},"--",{"$f":"'RBC Reference Table'!AU45","v":2600},{"$f":"'RBC Reference Table'!AV45","v":0},{"$f":"IF(ISNUMBER(CP45),($D45/CP45)*10^-6,\"\")","v":0},"--",{"$f":"'RBC Reference Table'!AW45","v":14000},{"$f":"'RBC Reference Table'!AX45","v":0},{"$f":"IF(ISNUMBER(CT45),($D45/CT45)*10^-6,\"\")","v":0},"--",{"$f":"'RBC Reference Table'!AY45","v":10000},{"$f":"'RBC Reference Table'!AZ45","v":0},{"$f":"IF(ISNUMBER(CX45),($D45/CX45)*10^-6,\"\")","v":0},"--",{"$f":"'RBC Reference Table'!BA45","v":350},{"$f":"'RBC Reference Table'!BB45","v":0},{"$f":"IF(ISNUMBER(DB45),($E45/DB45)*10^-6,\"\")","v":0},"--",{"$f":"'RBC Reference Table'!BC45","v":830},{"$f":"'RBC Reference Table'!BD45","v":0},{"$f":"IF(ISNUMBER(DF45),($E45/DF45)*10^-6,\"\")","v":0},"--",{"$f":"'RBC Reference Table'!BE44","v":"-"},{"$f":"'RBC Reference Table'!BF44","v":"NV"},{"$f":"IF(ISNUMBER(DJ45),($E45/DJ45)*10^-6,\"\")","v":""},"--",{"$f":"'RBC Reference Table'!BG45","v":1.8},null,{"$f":"IF(ISNUMBER(DN45),($F45/DN45)*10^-6,\"\")","v":0},"--",{"$f":"'RBC Reference Table'!BI45","v":4.0999999999999996},null,{"$f":"IF(ISNUMBER(DR45),($F45/DR45)*10^-6,\"\")","v":0},"--",{"$f":"'RBC Reference Table'!BK45","v":7.7},null,{"$f":"IF(ISNUMBER(DV45),($F45/DV45)*10^-6,\"\")","v":0},"--"]
[39,{"$f":"VLOOKUP($A46,'Applicable RBC Table'!$A$43:$F$136,2,FALSE)","v":0},{"$f":"VLOOKUP($A46,'Applicable RBC Table'!$A$43:$F$136,3,FALSE)","v":0},{"$f":"VLOOKUP($A46,'Applicable RBC Table'!$A$43:$F$136,4,FALSE)","v":0},{"$f":"VLOOKUP($A46,'Applicable RBC Table'!$A$43:$F$136,5,FALSE)","v":0},{"$f":"VLOOKUP($A46,'Applicable RBC Table'!$A$43:$F$136,6,FALSE)","v":0},"75-35-4","1,1-Dichloroethene","nc, v",{"$f":"'RBC Reference Table'!E46","v":1800},{"$f":"'RBC Reference Table'!F46","v":">Csat"},"--",{"$f":"IF(ISNUMBER(J46),$B46/J46,\"\")","v":0},{"$f":"'RBC Reference Table'!G46","v":3500},{"$f":"'RBC Reference Table'!H46","v":">Csat"},"--",{"$f":"IF(ISNUMBER(N46),$B46/N46,\"\")","v":0},{"$f":"'RBC Reference Table'!I46","v":29000},{"$f":"'RBC Reference Table'!J46","v":">Csat"},"--",{"$f":"IF(ISNUMBER(R46),$B46/R46,\"\")","v":0},{"$f":"'RBC Reference Table'!K46","v":13000},{"$f":"'RBC Reference Table'!L46","v":">Csat"},"--",{"$f":"IF(ISNUMBER(V46),MAX($B46,$C46)/V46,\"\")","v":0},{"$f":"'RBC Reference Table'!M46","v":370000},{"$f":"'RBC Reference Table'!N46","v":">Csat"},"--",{"$f":"IF(ISNUMBER(Z46),MAX($B46,$C46)/Z46,\"\")","v":0},{"$f":"'RBC Reference Table'!O46","v":"-"},{"$f":"'RBC Reference Table'!P46","v":">Csat"},"--",{"$f":"IF(ISNUMBER(AD46),MAX($B46:$C46)/AD46,\"\")","v":""},{"$f":"'RBC Reference Table'!O46","v":"-"},{"$f":"'RBC Reference Table'!P46","v":">Csat"},"--",{"$f":"IF(ISNUMBER(AH46),MAX($B46:$C46)/AH46,\"\")","v":""},{"$f":"'RBC Reference Table'!S46","v":"-"},{"$f":"'RBC Reference Table'!T46","v":">Csat"},"--",{"$f":"IF(ISNUMBER(AL46),MAX($B46:$C46)/AL46,\"\")","v":""},{"$f":"'RBC Reference Table'!U46","v":54},{"$f":"'RBC Reference Table'!V46","v":0},"--",{"$f":"IF(ISNUMBER(AP46),MAX($B46:$C46)/AP46,\"\")","v":0},{"$f":"'RBC Reference Table'!W46","v":54},{"$f":"'RBC Reference Table'!X46","v":0},"--",{"$f":"IF(ISNUMBER(AT46),MAX($B46:$C46)/AT46,\"\")","v":0},{"$f":"'RBC Reference Table'!Y46","v":680},{"$f":"'RBC Reference Table'!Z46","v":0},"--",{"$f":"IF(ISNUMBER(AX46),MAX($B46:$C46)/AX46,\"\")","v":0},{"$f":"'RBC Reference Table'!AA46","v":6.7},{"$f":"'RBC Reference Table'!AB46","v":0},null,null,{"$f":"'RBC Reference Table'!AC46","v":25},{"$f":"'RBC Reference Table'!AD46","v":0},null,null,{"$f":"'RBC Reference Table'!AE46","v":32},{"$f":"'RBC Reference Table'!AF46","v":0},null,null,{"$f":"'RBC Reference Table'!AG46","v":280},{"$f":"'RBC Reference Table'!AH46","v":0},"--",{"$f":"IF(ISNUMBER(BN46),$D46/BN46,\"\")","v":0},{"$f":"'RBC Reference Table'!AI46","v":1100},{"$f":"'RBC Reference Table'!AJ46","v":0},"--",{"$f":"IF(ISNUMBER(BR46),$D46/BR46,\"\")","v":0},{"$f":"'RBC Reference Table'!AK46","v":1400},{"$f":"'RBC Reference Table'!AL46","v":0},"--",{"$f":"IF(ISNUMBER(BV46),$D46/BV46,\"\")","v":0},{"$f":"'RBC Reference Table'!AM46","v":570000},{"$f":"'RBC Reference Table'!AN46","v":0},"--",{"$f":"IF(ISNUMBER(BZ46),$D46/BZ46,\"\")","v":0},{"$f":"'RBC Reference Table'!AO46","v":570000},{"$f":"'RBC Reference Table'!AP46","v":0},"--",{"$f":"IF(ISNUMBER(CD46),$D46/CD46,\"\")","v":0},{"$f":"'RBC Reference Table'!AQ46","v":2400000},{"$f":"'RBC Reference Table'!AR46","v":0},"--",{"$f":"IF(ISNUMBER(CH46),$D46/CH46,\"\")","v":0},{"$f":"'RBC Reference Table'!AS46","v":29000},{"$f":"'RBC Reference Table'!AT46","v":0},"--",{"$f":"IF(ISNUMBER(CL46),$D46/CL46,\"\")","v":0},{"$f":"'RBC Reference Table'!AU46","v":29000},{"$f":"'RBC Reference Table'!AV46","v":0},"--",{"$f":"IF(ISNUMBER(CP46),$D46/CP46,\"\")","v":0},{"$f":"'RBC Reference Table'!AW46","v":360000},{"$f":"'RBC Reference Table'!AX46","v":0},"--",{"$f":"IF(ISNUMBER(CT46),$D46/CT46,\"\")","v":0},{"$f":"'RBC Reference Table'!AY46","v":44000},{"$f":"'RBC Reference Table'!AZ46","v":0},"--",{"$f":"IF(ISNUMBER(CX46),$D46/CX46,\"\")","v":0},{"$f":"'RBC Reference Table'!BA46","v":42000},{"$f":"'RBC Reference Table'!BB46","v":0},"--",{"$f":"IF(ISNUMBER(DB46),$E46/DB46,\"\")","v":0},{"$f":"'RBC Reference Table'!BC46","v":42000},{"$f":"'RBC Reference Table'!BD46","v":0},"--",{"$f":"IF(ISNUMBER(DF46),$E46/DF46,\"\")","v":0},{"$f":"'RBC Reference Table'!BE45","v":7700},{"$f":"'RBC Reference Table'!BF45","v":0},"--",{"$f":"IF(ISNUMBER(DJ46),$E46/DJ46,\"\")","v":0},{"$f":"'RBC Reference Table'!BG46","v":210},null,"--",{"$f":"IF(ISNUMBER(DN46),$F46/DN46,\"\")","v":0},{"$f":"'RBC Reference Table'!BI46","v":210},null,"--",{"$f":"IF(ISNUMBER(DR46),$F46/DR46,\"\")","v":0},{"$f":"'RBC Reference Table'!BK46","v":880},null,"--",{"$f":"IF(ISNUMBER(DV46),$F46/DV46,\"\")","v":0}]
[40,{"$f":"VLOOKUP($A47,'Applicable RBC Table'!$A$43:$F$136,2,FALSE)","v":0},{"$f":"VLOOKUP($A47,'Applicable RBC Table'!$A$43:$F$136,3,FALSE)","v":0},{"$f":"VLOOKUP($A47,'Applicable RBC Table'!$A$43:$F$136,4,FALSE)","v":0},{"$f":"VLOOKUP($A47,'Applicable RBC Table'!$A$43:$F$136,5,FALSE)","v":0},{"$f":"VLOOKUP($A47,'Applicable RBC Table'!$A$43:$F$136,6,FALSE)","v":0},"156-59-2","cis-1,2-Dichloroethene","nc, v",{"$f":"'RBC Reference Table'!E47","v":160},{"$f":"'RBC Reference Table'!F47","v":0},"--",{"$f":"IF(ISNUMBER(J47),$B47/J47,\"\")","v":0},{"$f":"'RBC Reference Table'!G47","v":310},{"$f":"'RBC Reference Table'!H47","v":0},"--",{"$f":"IF(ISNUMBER(N47),$B47/N47,\"\")","v":0},{"$f":"'RBC Reference Table'!I47","v":2300},{"$f":"'RBC Reference Table'!J47","v":">Csat"},"--",{"$f":"IF(ISNUMBER(R47),$B47/R47,\"\")","v":0},{"$f":"'RBC Reference Table'!K47","v":710},{"$f":"'RBC Reference Table'!L47","v":0},"--",{"$f":"IF(ISNUMBER(V47),MAX($B47,$C47)/V47,\"\")","v":0},{"$f":"'RBC Reference Table'!M47","v":20000},{"$f":"'RBC Reference Table'!N47","v":">Csat"},"--",{"$f":"IF(ISNUMBER(Z47),MAX($B47,$C47)/Z47,\"\")","v":0},{"$f":"'RBC Reference Table'!O47","v":"-"},{"$f":"'RBC Reference Table'!P47","v":">Max"},"--",{"$f":"IF(ISNUMBER(AD47),MAX($B47:$C47)/AD47,\"\")","v":""},{"$f":"'RBC Reference Table'!O47","v":"-"},{"$f":"'RBC Reference Table'!P47","v":">Max"},"--",{"$f":"IF(ISNUMBER(AH47),MAX($B47:$C47)/AH47,\"\")","v":""},{"$f":"'RBC Reference Table'!S47","v":"-"},{"$f":"'RBC Reference Table'!T47","v":">Max"},"--",{"$f":"IF(ISNUMBER(AL47),MAX($B47:$C47)/AL47,\"\")","v":""},{"$f":"'RBC Reference Table'!U47","v":"-"},{"$f":"'RBC Reference Table'!V47","v":">Max"},"--",{"$f":"IF(ISNUMBER(AP47),MAX($B47:$C47)/AP47,\"\")","v":""},{"$f":"'RBC Reference Table'!W47","v":"-"},{"$f":"'RBC Reference Table'!X47","v":">Max"},"--",{"$f":"IF(ISNUMBER(AT47),MAX($B47:$C47)/AT47,\"\")","v":""},{"$f":"'RBC Reference Table'!Y47","v":"-"},{"$f":"'RBC Reference Table'!Z47","v":">Max"},"--",{"$f":"IF(ISNUMBER(AX47),MAX($B47:$C47)/AX47,\"\")","v":""},{"$f":"'RBC Reference Table'!AA47","v":0.63},{"$f":"'RBC Reference Table'!AB47","v":0},null,null,{"$f":"'RBC Reference Table'!AC47","v":2.4},{"$f":"'RBC Reference Table'!AD47","v":0},null,null,{"$f":"'RBC Reference Table'!AE47","v":4.5},{"$f":"'RBC Reference Table'!AF47","v":0},null,null,{"$f":"'RBC Reference Table'!AG47","v":36},{"$f":"'RBC Reference Table'!AH47","v":0},"--",{"$f":"IF(ISNUMBER(BN47),$D47/BN47,\"\")","v":0},{"$f":"'RBC Reference Table'!AI47","v":140},{"$f":"'RBC Reference Table'!AJ47","v":0},"--",{"$f":"IF(ISNUMBER(BR47),$D47/BR47,\"\")","v":0},{"$f":"'RBC Reference Table'!AK47","v":260},{"$f":"'RBC Reference Table'!AL47","v":0},"--",{"$f":"IF(ISNUMBER(BV47),$D47/BV47,\"\")","v":0},{"$f":"'RBC Reference Table'!AM47","v":"-"},{"$f":"'RBC Reference Table'!AN47","v":">S"},"--",{"$f":"IF(ISNUMBER(BZ47),$D47/BZ47,\"\")","v":""},{"$f":"'RBC Reference Table'!AO47","v":"-"},{"$f":"'RBC Reference Table'!AP47","v":">S"},"--",{"$f":"IF(ISNUMBER(CD47),$D47/CD47,\"\")","v":""},{"$f":"'RBC Reference Table'!AQ47","v":"-"},{"$f":"'RBC Reference Table'!AR47","v":">S"},"--",{"$f":"IF(ISNUMBER(CH47),$D47/CH47,\"\")","v":""},{"$f":"'RBC Reference Table'!AS47","v":"-"},{"$f":"'RBC Reference Table'!AT47","v":">S"},"--",{"$f":"IF(ISNUMBER(CL47),$D47/CL47,\"\")","v":""},{"$f":"'RBC Reference Table'!AU47","v":"-"},{"$f":"'RBC Reference Table'!AV47","v":">S"},"--",{"$f":"IF(ISNUMBER(CP47),$D47/CP47,\"\")","v":""},{"$f":"'RBC Reference Table'!AW47","v":"-"},{"$f":"'RBC Reference Table'!AX47","v":">S"},"--",{"$f":"IF(ISNUMBER(CT47),$D47/CT47,\"\")","v":""},{"$f":"'RBC Reference Table'!AY47","v":18000},{"$f":"'RBC Reference Table'!AZ47","v":0},"--",{"$f":"IF(ISNUMBER(CX47),$D47/CX47,\"\")","v":0},{"$f":"'RBC Reference Table'!BA47","v":"-"},{"$f":"'RBC Reference Table'!BB47","v":">Pv"},"--",{"$f":"IF(ISNUMBER(DB47),$E47/DB47,\"\")","v":""},{"$f":"'RBC Reference Table'!BC47","v":"-"},{"$f":"'RBC Reference Table'!BD47","v":">Pv"},"--",{"$f":"IF(ISNUMBER(DF47),$E47/DF47,\"\")","v":""},{"$f":"'RBC Reference Table'!BE46","v":880000},{"$f":"'RBC Reference Table'!BF46","v":0},"--",{"$f":"IF(ISNUMBER(DJ47),$E47/DJ47,\"\")","v":0},{"$f":"'RBC Reference Table'!BG47","v":"-"},">Pv","--",{"$f":"IF(ISNUMBER(DN47),$F47/DN47,\"\")","v":""},{"$f":"'RBC Reference Table'!BI47","v":"-"},">Pv","--",{"$f":"IF(ISNUMBER(DR47),$F47/DR47,\"\")","v":""},{"$f":"'RBC Reference Table'!BK47","v":"-"},">Pv","--",{"$f":"IF(ISNUMBER(DV47),$F47/DV47,\"\")","v":""}]
[41,{"$f":"VLOOKUP($A48,'Applicable RBC Table'!$A$43:$F$136,2,FALSE)","v":0},{"$f":"VLOOKUP($A48,'Applicable RBC Table'!$A$43:$F$136,3,FALSE)","v":0},{"$f":"VLOOKUP($A48,'Applicable RBC Table'!$A$43:$F$136,4,FALSE)","v":0},{"$f":"VLOOKUP($A48,'Applicable RBC Table'!$A$43:$F$136,5,FALSE)","v":0},{"$f":"VLOOKUP($A48,'Applicable RBC Table'!$A$43:$F$136,6,FALSE)","v":0},"156-60-5","trans-1,2-Dichloroethene","nc, v",{"$f":"'RBC Reference Table'!E48","v":1600},{"$f":"'RBC Reference Table'!F48","v":0},"--",{"$f":"IF(ISNUMBER(J48),$B48/J48,\"\")","v":0},{"$f":"'RBC Reference Table'!G48","v":3100},{"$f":"'RBC Reference Table'!H48","v":">Csat"},"--",{"$f":"IF(ISNUMBER(N48),$B48/N48,\"\")","v":0},{"$f":"'RBC Reference Table'!I48","v":23000},{"$f":"'RBC Reference Table'!J48","v":">Csat"},"--",{"$f":"IF(ISNUMBER(R48),$B48/R48,\"\")","v":0},{"$f":"'RBC Reference Table'!K48","v":7100},{"$f":"'RBC Reference Table'!L48","v":">Csat"},"--",{"$f":"IF(ISNUMBER(V48),MAX($B48,$C48)/V48,\"\")","v":0},{"$f":"'RBC Reference Table'!M48","v":200000},{"$f":"'RBC Reference Table'!N48","v":">Csat"},"--",{"$f":"IF(ISNUMBER(Z48),MAX($B48,$C48)/Z48,\"\")","v":0},{"$f":"'RBC Reference Table'!O48","v":"-"},{"$f":"'RBC Reference Table'!P48","v":">Max"},"--",{"$f":"IF(ISNUMBER(AD48),MAX($B48:$C48)/AD48,\"\")","v":""},{"$f":"'RBC Reference Table'!O48","v":"-"},{"$f":"'RBC Reference Table'!P48","v":">Max"},"--",{"$f":"IF(ISNUMBER(AH48),MAX($B48:$C48)/AH48,\"\")","v":""},{"$f":"'RBC Reference Table'!S48","v":"-"},{"$f":"'RBC Reference Table'!T48","v":">Max"},"--",{"$f":"IF(ISNUMBER(AL48),MAX($B48:$C48)/AL48,\"\")","v":""},{"$f":"'RBC Reference Table'!U48","v":"-"},{"$f":"'RBC Reference Table'!V48","v":">Max"},"--",{"$f":"IF(ISNUMBER(AP48),MAX($B48:$C48)/AP48,\"\")","v":""},{"$f":"'RBC Reference Table'!W48","v":"-"},{"$f":"'RBC Reference Table'!X48","v":">Max"},"--",{"$f":"IF(ISNUMBER(AT48),MAX($B48:$C48)/AT48,\"\")","v":""},{"$f":"'RBC Reference Table'!Y48","v":"-"},{"$f":"'RBC Reference Table'!Z48","v":">Max"},"--",{"$f":"IF(ISNUMBER(AX48),MAX($B48:$C48)/AX48,\"\")","v":""},{"$f":"'RBC Reference Table'!AA48","v":7},{"$f":"'RBC Reference Table'!AB48","v":0},null,null,{"$f":"'RBC Reference Table'!AC48","v":27},{"$f":"'RBC Reference Table'!AD48","v":0},null,null,{"$f":"'RBC Reference Table'!AE48","v":51},{"$f":"'RBC Reference Table'!AF48","v":0},null,null,{"$f":"'RBC Reference Table'!AG48","v":360},{"$f":"'RBC Reference Table'!AH48","v":0},"--",{"$f":"IF(ISNUMBER(BN48),$D48/BN48,\"\")","v":0},{"$f":"'RBC Reference Table'!AI48","v":1400},{"$f":"'RBC Reference Table'!AJ48","v":0},"--",{"$f":"IF(ISNUMBER(BR48),$D48/BR48,\"\")","v":0},{"$f":"'RBC Reference Table'!AK48","v":2600},{"$f":"'RBC Reference Table'!AL48","v":0},"--",{"$f":"IF(ISNUMBER(BV48),$D48/BV48,\"\")","v":0},{"$f":"'RBC Reference Table'!AM48","v":"-"},{"$f":"'RBC Reference Table'!AN48","v":">S"},"--",{"$f":"IF(ISNUMBER(BZ48),$D48/BZ48,\"\")","v":""},{"$f":"'RBC Reference Table'!AO48","v":"-"},{"$f":"'RBC Reference Table'!AP48","v":">S"},"--",{"$f":"IF(ISNUMBER(CD48),$D48/CD48,\"\")","v":""},{"$f":"'RBC Reference Table'!AQ48","v":"-"},{"$f":"'RBC Reference Table'!AR48","v":">S"},"--",{"$f":"IF(ISNUMBER(CH48),$D48/CH48,\"\")","v":""},{"$f":"'RBC Reference Table'!AS48","v":"-"},{"$f":"'RBC Reference Table'!AT48","v":">S"},"--",{"$f":"IF(ISNUMBER(CL48),$D48/CL48,\"\")","v":""},{"$f":"'RBC Reference Table'!AU48","v":"-"},{"$f":"'RBC Reference Table'!AV48","v":">S"},"--",{"$f":"IF(ISNUMBER(CP48),$D48/CP48,\"\")","v":""},{"$f":"'RBC Reference Table'!AW48","v":"-"},{"$f":"'RBC Reference Table'!AX48","v":">S"},"--",{"$f":"IF(ISNUMBER(CT48),$D48/CT48,\"\")","v":""},{"$f":"'RBC Reference Table'!AY48","v":180000},{"$f":"'RBC Reference Table'!AZ48","v":0},"--",{"$f":"IF(ISNUMBER(CX48),$D48/CX48,\"\")","v":0},{"$f":"'RBC Reference Table'!BA48","v":"-"},{"$f":"'RBC Reference Table'!BB48","v":">Pv"},"--",{"$f":"IF(ISNUMBER(DB48),$E48/DB48,\"\")","v":""},{"$f":"'RBC Reference Table'!BC48","v":"-"},{"$f":"'RBC Reference Table'!BD48","v":">Pv"},"--",{"$f":"IF(ISNUMBER(DF48),$E48/DF48,\"\")","v":""},{"$f":"'RBC Reference Table'!BE47","v":"-"},{"$f":"'RBC Reference Table'!BF47","v":">Pv"},"--",{"$f":"IF(ISNUMBER(DJ48),$E48/DJ48,\"\")","v":""},{"$f":"'RBC Reference Table'!BG48","v":"-"},">Pv","--",{"$f":"IF(ISNUMBER(DN48),$F48/DN48,\"\")","v":""},{"$f":"'RBC Reference Table'!BI48","v":"-"},">Pv","--",{"$f":"IF(ISNUMBER(DR48),$F48/DR48,\"\")","v":""},{"$f":"'RBC Reference Table'!BK48","v":"-"},">Pv","--",{"$f":"IF(ISNUMBER(DV48),$F48/DV48,\"\")","v":""}]
[42,{"$f":"VLOOKUP($A49,'Applicable RBC Table'!$A$43:$F$136,2,FALSE)","v":0},{"$f":"VLOOKUP($A49,'Applicable RBC Table'!$A$43:$F$136,3,FALSE)","v":0},{"$f":"VLOOKUP($A49,'Applicable RBC Table'!$A$43:$F$136,4,FALSE)","v":0},{"$f":"VLOOKUP($A49,'Applicable RBC Table'!$A$43:$F$136,5,FALSE)","v":0},{"$f":"VLOOKUP($A49,'Applicable RBC Table'!$A$43:$F$136,6,FALSE)","v":0},"111-44-4","Dichloroethylether","c, v",{"$f":"'RBC Reference Table'!E49","v":0.28999999999999998},{"$f":"'RBC Reference Table'!F49","v":0},{"$f":"IF(ISNUMBER(J49),($B49/J49)*10^-6,\"\")","v":0},"--",{"$f":"'RBC Reference Table'!G49","v":0.96},{"$f":"'RBC Reference Table'!H49","v":0},{"$f":"IF(ISNUMBER(N49),($B49/N49)*10^-6,\"\")","v":0},"--",{"$f":"'RBC Reference Table'!I49","v":1.3},{"$f":"'RBC Reference Table'!J49","v":0},{"$f":"IF(ISNUMBER(R49),($B49/R49)*10^-6,\"\")","v":0},"--",{"$f":"'RBC Reference Table'!K49","v":16},{"$f":"'RBC Reference Table'!L49","v":0},{"$f":"IF(ISNUMBER(V49),(MAX($B49,$C49)/V49)*10^-6,\"\")","v":0},"--",{"$f":"'RBC Reference Table'!M49","v":450},{"$f":"'RBC Reference Table'!N49","v":0},{"$f":"IF(ISNUMBER(Z49),(MAX($B49,$C49)/Z49)*10^-6,\"\")","v":0},"--",{"$f":"'RBC Reference Table'!O49","v":0.53},{"$f":"'RBC Reference Table'!P49","v":0},{"$f":"IF(ISNUMBER(AD49),(MAX($B49:$C49)/AD49)*10^-6,\"\")","v":0},"--",{"$f":"'RBC Reference Table'!O49","v":0.53},{"$f":"'RBC Reference Table'!P49","v":0},{"$f":"IF(ISNUMBER(AH49),(MAX($B49:$C49)/AH49)*10^-6,\"\")","v":0},"--",{"$f":"'RBC Reference Table'!S49","v":6.9},{"$f":"'RBC Reference Table'!T49","v":0},{"$f":"IF(ISNUMBER(AL49),(MAX($B49:$C49)/AL49)*10^-6,\"\")","v":0},"--",{"$f":"'RBC Reference Table'!U49","v":0.53},{"$f":"'RBC Reference Table'!V49","v":0},{"$f":"IF(ISNUMBER(AP49),(MAX($B49:$C49)/AP49)*10^-6,\"\")","v":0},"--",{"$f":"'RBC Reference Table'!W49","v":1.2},{"$f":"'RBC Reference Table'!X49","v":0},{"$f":"IF(ISNUMBER(AT49),(MAX($B49:$C49)/AT49)*10^-6,\"\")","v":0},"--",{"$f":"'RBC Reference Table'!Y49","v":6.9},{"$f":"'RBC Reference Table'!Z49","v":0},{"$f":"IF(ISNUMBER(AX49),(MAX($B49:$C49)/AX49)*10^-6,\"\")","v":0},"--",{"$f":"'RBC Reference Table'!AA49","v":1.9000000000000001E-4},{"$f":"'RBC Reference Table'!AB49","v":0},null,null,{"$f":"'RBC Reference Table'!AC49","v":8.7000000000000001E-4},{"$f":"'RBC Reference Table'!AD49","v":0},null,null,{"$f":"'RBC Reference Table'!AE49","v":8.7000000000000001E-4},{"$f":"'RBC Reference Table'!AF49","v":0},null,null,{"$f":"'RBC Reference Table'!AG49","v":1.4E-2},{"$f":"'RBC Reference Table'!AH49","v":0},{"$f":"IF(ISNUMBER(BN49),($D49/BN49)*10^-6,\"\")","v":0},"--",{"$f":"'RBC Reference Table'!AI49","v":6.2E-2},{"$f":"'RBC Reference Table'!AJ49","v":0},{"$f":"IF(ISNUMBER(BR49),($D49/BR49)*10^-6,\"\")","v":0},"--",{"$f":"'RBC Reference Table'!AK49","v":6.3E-2},{"$f":"'RBC Reference Table'!AL49","v":0},{"$f":"IF(ISNUMBER(BV49),($D49/BV49)*10^-6,\"\")","v":0},"--",{"$f":"'RBC Reference Table'!AM49","v":5700},{"$f":"'RBC Reference Table'!AN49","v":0},{"$f":"IF(ISNUMBER(BZ49),($D49/BZ49)*10^-6,\"\")","v":0},"--",{"$f":"'RBC Reference Table'!AO49","v":13000},{"$f":"'RBC Reference Table'!AP49","v":0},{"$f":"IF(ISNUMBER(CD49),($D49/CD49)*10^-6,\"\")","v":0},"--",{"$f":"'RBC Reference Table'!AQ49","v":30000},{"$f":"'RBC Reference Table'!AR49","v":0},{"$f":"IF(ISNUMBER(CH49),($D49/CH49)*10^-6,\"\")","v":0},"--",{"$f":"'RBC Reference Table'!AS49","v":2300},{"$f":"'RBC Reference Table'!AT49","v":0},{"$f":"IF(ISNUMBER(CL49),($D49/CL49)*10^-6,\"\")","v":0},"--",{"$f":"'RBC Reference Table'!AU49","v":5500},{"$f":"'RBC Reference Table'!AV49","v":0},{"$f":"IF(ISNUMBER(CP49),($D49/CP49)*10^-6,\"\")","v":0},"--",{"$f":"'RBC Reference Table'!AW49","v":30000},{"$f":"'RBC Reference Table'!AX49","v":0},{"$f":"IF(ISNUMBER(CT49),($D49/CT49)*10^-6,\"\")","v":0},"--",{"$f":"'RBC Reference Table'!AY49","v":51},{"$f":"'RBC Reference Table'!AZ49","v":0},{"$f":"IF(ISNUMBER(CX49),($D49/CX49)*10^-6,\"\")","v":0},"--",{"$f":"'RBC Reference Table'!BA49","v":1.7},{"$f":"'RBC Reference Table'!BB49","v":0},{"$f":"IF(ISNUMBER(DB49),($E49/DB49)*10^-6,\"\")","v":0},"--",{"$f":"'RBC Reference Table'!BC49","v":4},{"$f":"'RBC Reference Table'!BD49","v":0},{"$f":"IF(ISNUMBER(DF49),($E49/DF49)*10^-6,\"\")","v":0},"--",{"$f":"'RBC Reference Table'!BE48","v":"-"},{"$f":"'RBC Reference Table'!BF48","v":">Pv"},{"$f":"IF(ISNUMBER(DJ49),($E49/DJ49)*10^-6,\"\")","v":""},"--",{"$f":"'RBC Reference Table'!BG49","v":8.5000000000000006E-3},null,{"$f":"IF(ISNUMBER(DN49),($F49/DN49)*10^-6,\"\")","v":0},"--",{"$f":"'RBC Reference Table'!BI49","v":0.02},null,{"$f":"IF(ISNUMBER(DR49),($F49/DR49)*10^-6,\"\")","v":0},"--",{"$f":"'RBC Reference Table'!BK49","v":3.6999999999999998E-2},null,{"$f":"IF(ISNUMBER(DV49),($F49/DV49)*10^-6,\"\")","v":0},"--"]
[43,{"$f":"VLOOKUP($A50,'Applicable RBC Table'!$A$43:$F$136,2,FALSE)","v":0},{"$f":"VLOOKUP($A50,'Applicable RBC Table'!$A$43:$F$136,3,FALSE)","v":0},{"$f":"VLOOKUP($A50,'Applicable RBC Table'!$A$43:$F$136,4,FALSE)","v":0},{"$f":"VLOOKUP($A50,'Applicable RBC Table'!$A$43:$F$136,5,FALSE)","v":0},{"$f":"VLOOKUP($A50,'Applicable RBC Table'!$A$43:$F$136,6,FALSE)","v":0},"75-09-2","Dichloromethane","c, v",{"$f":"'RBC Reference Table'!E50","v":76},{"$f":"'RBC Reference Table'!F50","v":0},{"$f":"IF(ISNUMBER(J50),($B50/J50)*10^-6,\"\")","v":0},"--",{"$f":"'RBC Reference Table'!G50","v":170},{"$f":"'RBC Reference Table'!H50","v":0},{"$f":"IF(ISNUMBER(N50),($B50/N50)*10^-6,\"\")","v":0},"--",{"$f":"'RBC Reference Table'!I50","v":1600},{"$f":"'RBC Reference Table'!J50","v":0},{"$f":"IF(ISNUMBER(R50),($B50/R50)*10^-6,\"\")","v":0},"--",{"$f":"'RBC Reference Table'!K50","v":12000},{"$f":"'RBC Reference Table'!L50","v":">Csat"},{"$f":"IF(ISNUMBER(V50),(MAX($B50,$C50)/V50)*10^-6,\"\")","v":0},"--",{"$f":"'RBC Reference Table'!M50","v":340000},{"$f":"'RBC Reference Table'!N50","v":">Csat"},{"$f":"IF(ISNUMBER(Z50),(MAX($B50,$C50)/Z50)*10^-6,\"\")","v":0},"--",{"$f":"'RBC Reference Table'!O50","v":"-"},{"$f":"'RBC Reference Table'!P50","v":">Csat"},{"$f":"IF(ISNUMBER(AD50),(MAX($B50:$C50)/AD50)*10^-6,\"\")","v":""},"--",{"$f":"'RBC Reference Table'!O50","v":"-"},{"$f":"'RBC Reference Table'!P50","v":">Csat"},{"$f":"IF(ISNUMBER(AH50),(MAX($B50:$C50)/AH50)*10^-6,\"\")","v":""},"--",{"$f":"'RBC Reference Table'!S50","v":"-"},{"$f":"'RBC Reference Table'!T50","v":">Csat"},{"$f":"IF(ISNUMBER(AL50),(MAX($B50:$C50)/AL50)*10^-6,\"\")","v":""},"--",{"$f":"'RBC Reference Table'!U50","v":26},{"$f":"'RBC Reference Table'!V50","v":0},{"$f":"IF(ISNUMBER(AP50),(MAX($B50:$C50)/AP50)*10^-6,\"\")","v":0},"--",{"$f":"'RBC Reference Table'!W50","v":51},{"$f":"'RBC Reference Table'!X50","v":0},{"$f":"IF(ISNUMBER(AT50),(MAX($B50:$C50)/AT50)*10^-6,\"\")","v":0},"--",{"$f":"'RBC Reference Table'!Y50","v":950},{"$f":"'RBC Reference Table'!Z50","v":0},{"$f":"IF(ISNUMBER(AX50),(MAX($B50:$C50)/AX50)*10^-6,\"\")","v":0},"--",{"$f":"'RBC Reference Table'!AA50","v":0.14000000000000001},{"$f":"'RBC Reference Table'!AB50","v":0},null,null,{"$f":"'RBC Reference Table'!AC50","v":0.44},{"$f":"'RBC Reference Table'!AD50","v":0},null,null,{"$f":"'RBC Reference Table'!AE50","v":2.4},{"$f":"'RBC Reference Table'!AF50","v":0},null,null,{"$f":"'RBC Reference Table'!AG50","v":11},{"$f":"'RBC Reference Table'!AH50","v":0},{"$f":"IF(ISNUMBER(BN50),($D50/BN50)*10^-6,\"\")","v":0},"--",{"$f":"'RBC Reference Table'!AI50","v":37},{"$f":"'RBC Reference Table'!AJ50","v":0},{"$f":"IF(ISNUMBER(BR50),($D50/BR50)*10^-6,\"\")","v":0},"--",{"$f":"'RBC Reference Table'!AK50","v":200},{"$f":"'RBC Reference Table'!AL50","v":0},{"$f":"IF(ISNUMBER(BV50),($D50/BV50)*10^-6,\"\")","v":0},"--",{"$f":"'RBC Reference Table'!AM50","v":1000000},{"$f":"'RBC Reference Table'!AN50","v":0},{"$f":"IF(ISNUMBER(BZ50),($D50/BZ50)*10^-6,\"\")","v":0},"--",{"$f":"'RBC Reference Table'!AO50","v":2000000},{"$f":"'RBC Reference Table'!AP50","v":0},{"$f":"IF(ISNUMBER(CD50),($D50/CD50)*10^-6,\"\")","v":0},"--",{"$f":"'RBC Reference Table'!AQ50","v":12581128.183097944},{"$f":"'RBC Reference Table'!AR50","v":0},{"$f":"IF(ISNUMBER(CH50),($D50/CH50)*10^-6,\"\")","v":0},"--",{"$f":"'RBC Reference Table'!AS50","v":90000},{"$f":"'RBC Reference Table'!AT50","v":0},{"$f":"IF(ISNUMBER(CL50),($D50/CL50)*10^-6,\"\")","v":0},"--",{"$f":"'RBC Reference Table'!AU50","v":170000},{"$f":"'RBC Reference Table'!AV50","v":0},{"$f":"IF(ISNUMBER(CP50),($D50/CP50)*10^-6,\"\")","v":0},"--",{"$f":"'RBC Reference Table'!AW50","v":3300000},{"$f":"'RBC Reference Table'!AX50","v":0},{"$f":"IF(ISNUMBER(CT50),($D50/CT50)*10^-6,\"\")","v":0},"--",{"$f":"'RBC Reference Table'!AY50","v":640000},{"$f":"'RBC Reference Table'!AZ50","v":0},{"$f":"IF(ISNUMBER(CX50),($D50/CX50)*10^-6,\"\")","v":0},"--",{"$f":"'RBC Reference Table'!BA50","v":20000},{"$f":"'RBC Reference Table'!BB50","v":0},{"$f":"IF(ISNUMBER(DB50),($E50/DB50)*10^-6,\"\")","v":0},"--",{"$f":"'RBC Reference Table'!BC50","v":39000},{"$f":"'RBC Reference Table'!BD50","v":0},{"$f":"IF(ISNUMBER(DF50),($E50/DF50)*10^-6,\"\")","v":0},"--",{"$f":"'RBC Reference Table'!BE49","v":37},{"$f":"'RBC Reference Table'!BF49","v":0},{"$f":"IF(ISNUMBER(DJ50),($E50/DJ50)*10^-6,\"\")","v":0},"--",{"$f":"'RBC Reference Table'!BG50","v":100},null,{"$f":"IF(ISNUMBER(DN50),($F50/DN50)*10^-6,\"\")","v":0},"--",{"$f":"'RBC Reference Table'!BI50","v":200},null,{"$f":"IF(ISNUMBER(DR50),($F50/DR50)*10^-6,\"\")","v":0},"--",{"$f":"'RBC Reference Table'!BK50","v":1200},null,{"$f":"IF(ISNUMBER(DV50),($F50/DV50)*10^-6,\"\")","v":0},"--"]
[44,{"$f":"VLOOKUP($A51,'Applicable RBC Table'!$A$43:$F$136,2,FALSE)","v":0},{"$f":"VLOOKUP($A51,'Applicable RBC Table'!$A$43:$F$136,3,FALSE)","v":0},{"$f":"VLOOKUP($A51,'Applicable RBC Table'!$A$43:$F$136,4,FALSE)","v":0},{"$f":"VLOOKUP($A51,'Applicable RBC Table'!$A$43:$F$136,5,FALSE)","v":0},{"$f":"VLOOKUP($A51,'Applicable RBC Table'!$A$43:$F$136,6,FALSE)","v":0},"94-75-7","2,4-Dichlorophenoxyacetic acid (2,4-D)","nc, nv",{"$f":"'RBC Reference Table'!E51","v":630},{"$f":"'RBC Reference Table'!F51","v":">Csat"},"--",{"$f":"IF(ISNUMBER(J51),$B51/J51,\"\")","v":0},{"$f":"'RBC Reference Table'!G51","v":1300},{"$f":"'RBC Reference Table'!H51","v":">Csat"},"--",{"$f":"IF(ISNUMBER(N51),$B51/N51,\"\")","v":0},{"$f":"'RBC Reference Table'!I51","v":8200},{"$f":"'RBC Reference Table'!J51","v":">Csat"},"--",{"$f":"IF(ISNUMBER(R51),$B51/R51,\"\")","v":0},{"$f":"'RBC Reference Table'!K51","v":2700},{"$f":"'RBC Reference Table'!L51","v":">Csat"},"--",{"$f":"IF(ISNUMBER(V51),MAX($B51,$C51)/V51,\"\")","v":0},{"$f":"'RBC Reference Table'!M51","v":74000},{"$f":"'RBC Reference Table'!N51","v":">Csat"},"--",{"$f":"IF(ISNUMBER(Z51),MAX($B51,$C51)/Z51,\"\")","v":0},{"$f":"'RBC Reference Table'!O51","v":"-"},{"$f":"'RBC Reference Table'!P51","v":"NV"},"--",{"$f":"IF(ISNUMBER(AD51),MAX($B51:$C51)/AD51,\"\")","v":""},{"$f":"'RBC Reference Table'!O51","v":"-"},{"$f":"'RBC Reference Table'!P51","v":"NV"},"--",{"$f":"IF(ISNUMBER(AH51),MAX($B51:$C51)/AH51,\"\")","v":""},{"$f":"'RBC Reference Table'!S51","v":"-"},{"$f":"'RBC Reference Table'!T51","v":"NV"},"--",{"$f":"IF(ISNUMBER(AL51),MAX($B51:$C51)/AL51,\"\")","v":""},{"$f":"'RBC Reference Table'!U51","v":"-"},{"$f":"'RBC Reference Table'!V51","v":"NV"},"--",{"$f":"IF(ISNUMBER(AP51),MAX($B51:$C51)/AP51,\"\")","v":""},{"$f":"'RBC Reference Table'!W51","v":"-"},{"$f":"'RBC Reference Table'!X51","v":"NV"},"--",{"$f":"IF(ISNUMBER(AT51),MAX($B51:$C51)/AT51,\"\")","v":""},{"$f":"'RBC Reference Table'!Y51","v":"-"},{"$f":"'RBC Reference Table'!Z51","v":"NV"},"--",{"$f":"IF(ISNUMBER(AX51),MAX($B51:$C51)/AX51,\"\")","v":""},{"$f":"'RBC Reference Table'!AA51","v":2.2999999999999998},{"$f":"'RBC Reference Table'!AB51","v":0},null,null,{"$f":"'RBC Reference Table'!AC51","v":8.8000000000000007},{"$f":"'RBC Reference Table'!AD51","v":0},null,null,{"$f":"'RBC Reference Table'!AE51","v":16},{"$f":"'RBC Reference Table'!AF51","v":0},null,null,{"$f":"'RBC Reference Table'!AG51","v":170},{"$f":"'RBC Reference Table'!AH51","v":0},"--",{"$f":"IF(ISNUMBER(BN51),$D51/BN51,\"\")","v":0},{"$f":"'RBC Reference Table'!AI51","v":670},{"$f":"'RBC Reference Table'!AJ51","v":0},"--",{"$f":"IF(ISNUMBER(BR51),$D51/BR51,\"\")","v":0},{"$f":"'RBC Reference Table'!AK51","v":1200},{"$f":"'RBC Reference Table'!AL51","v":0},"--",{"$f":"IF(ISNUMBER(BV51),$D51/BV51,\"\")","v":0},{"$f":"'RBC Reference Table'!AM51","v":"-"},{"$f":"'RBC Reference Table'!AN51","v":"NV"},"--",{"$f":"IF(ISNUMBER(BZ51),$D51/BZ51,\"\")","v":""},{"$f":"'RBC Reference Table'!AO51","v":"-"},{"$f":"'RBC Reference Table'!AP51","v":"NV"},"--",{"$f":"IF(ISNUMBER(CD51),$D51/CD51,\"\")","v":""},{"$f":"'RBC Reference Table'!AQ51","v":"-"},{"$f":"'RBC Reference Table'!AR51","v":"NV"},"--",{"$f":"IF(ISNUMBER(CH51),$D51/CH51,\"\")","v":""},{"$f":"'RBC Reference Table'!AS51","v":"-"},{"$f":"'RBC Reference Table'!AT51","v":"NV"},"--",{"$f":"IF(ISNUMBER(CL51),$D51/CL51,\"\")","v":""},{"$f":"'RBC Reference Table'!AU51","v":"-"},{"$f":"'RBC Reference Table'!AV51","v":"NV"},"--",{"$f":"IF(ISNUMBER(CP51),$D51/CP51,\"\")","v":""},{"$f":"'RBC Reference Table'!AW51","v":"-"},{"$f":"'RBC Reference Table'!AX51","v":"NV"},"--",{"$f":"IF(ISNUMBER(CT51),$D51/CT51,\"\")","v":""},{"$f":"'RBC Reference Table'!AY51","v":77000},{"$f":"'RBC Reference Table'!AZ51","v":0},"--",{"$f":"IF(ISNUMBER(CX51),$D51/CX51,\"\")","v":0},{"$f":"'RBC Reference Table'!BA51","v":"-"},{"$f":"'RBC Reference Table'!BB51","v":"NV"},"--",{"$f":"IF(ISNUMBER(DB51),$E51/DB51,\"\")","v":""},{"$f":"'RBC Reference Table'!BC51","v":"-"},{"$f":"'RBC Reference Table'!BD51","v":"NV"},"--",{"$f":"IF(ISNUMBER(DF51),$E51/DF51,\"\")","v":""},{"$f":"'RBC Reference Table'!BE50","v":1200000},{"$f":"'RBC Reference Table'!BF50","v":0},"--",{"$f":"IF(ISNUMBER(DJ51),$E51/DJ51,\"\")","v":0},{"$f":"'RBC Reference Table'!BG51","v":"-"},">Pv","--",{"$f":"IF(ISNUMBER(DN51),$F51/DN51,\"\")","v":""},{"$f":"'RBC Reference Table'!BI51","v":"-"},">Pv","--",{"$f":"IF(ISNUMBER(DR51),$F51/DR51,\"\")","v":""},{"$f":"'RBC Reference Table'!BK51","v":"-"},">Pv","--",{"$f":"IF(ISNUMBER(DV51),$F51/DV51,\"\")","v":""}]
[45,{"$f":"VLOOKUP($A52,'Applicable RBC Table'!$A$43:$F$136,2,FALSE)","v":0},{"$f":"VLOOKUP($A52,'Applicable RBC Table'!$A$43:$F$136,3,FALSE)","v":0},{"$f":"VLOOKUP($A52,'Applicable RBC Table'!$A$43:$F$136,4,FALSE)","v":0},{"$f":"VLOOKUP($A52,'Applicable RBC Table'!$A$43:$F$136,5,FALSE)","v":0},{"$f":"VLOOKUP($A52,'Applicable RBC Table'!$A$43:$F$136,6,FALSE)","v":0},"60-57-1","Dieldrin","c, nv",{"$f":"'RBC Reference Table'!E52","v":3.4000000000000002E-2},{"$f":"'RBC Reference Table'!F52","v":0},{"$f":"IF(ISNUMBER(J52),($B52/J52)*10^-6,\"\")","v":0},"--",{"$f":"'RBC Reference Table'!G52","v":8.5000000000000006E-2},{"$f":"'RBC Reference Table'!H52","v":0},{"$f":"IF(ISNUMBER(N52),($B52/N52)*10^-6,\"\")","v":0},"--",{"$f":"'RBC Reference Table'!I52","v":0.14000000000000001},{"$f":"'RBC Reference Table'!J52","v":0},{"$f":"IF(ISNUMBER(R52),($B52/R52)*10^-6,\"\")","v":0},"--",{"$f":"'RBC Reference Table'!K52","v":1.2},{"$f":"'RBC Reference Table'!L52","v":0},{"$f":"IF(ISNUMBER(V52),(MAX($B52,$C52)/V52)*10^-6,\"\")","v":0},"--",{"$f":"'RBC Reference Table'!M52","v":33},{"$f":"'RBC Reference Table'!N52","v":">Csat"},{"$f":"IF(ISNUMBER(Z52),(MAX($B52,$C52)/Z52)*10^-6,\"\")","v":0},"--",{"$f":"'RBC Reference Table'!O52","v":"-"},{"$f":"'RBC Reference Table'!P52","v":"NV"},{"$f":"IF(ISNUMBER(AD52),(MAX($B52:$C52)/AD52)*10^-6,\"\")","v":""},"--",{"$f":"'RBC Reference Table'!O52","v":"-"},{"$f":"'RBC Reference Table'!P52","v":"NV"},{"$f":"IF(ISNUMBER(AH52),(MAX($B52:$C52)/AH52)*10^-6,\"\")","v":""},"--",{"$f":"'RBC Reference Table'!S52","v":"-"},{"$f":"'RBC Reference Table'!T52","v":"NV"},{"$f":"IF(ISNUMBER(AL52),(MAX($B52:$C52)/AL52)*10^-6,\"\")","v":""},"--",{"$f":"'RBC Reference Table'!U52","v":"-"},{"$f":"'RBC Reference Table'!V52","v":"NV"},{"$f":"IF(ISNUMBER(AP52),(MAX($B52:$C52)/AP52)*10^-6,\"\")","v":""},"--",{"$f":"'RBC Reference Table'!W52","v":"-"},{"$f":"'RBC Reference Table'!X52","v":"NV"},{"$f":"IF(ISNUMBER(AT52),(MAX($B52:$C52)/AT52)*10^-6,\"\")","v":""},"--",{"$f":"'RBC Reference Table'!Y52","v":"-"},{"$f":"'RBC Reference Table'!Z52","v":"NV"},{"$f":"IF(ISNUMBER(AX52),(MAX($B52:$C52)/AX52)*10^-6,\"\")","v":""},"--",{"$f":"'RBC Reference Table'!AA52","v":0.01},{"$f":"'RBC Reference Table'!AB52","v":0},null,null,{"$f":"'RBC Reference Table'!AC52","v":3.6999999999999998E-2},{"$f":"'RBC Reference Table'!AD52","v":0},null,null,{"$f":"'RBC Reference Table'!AE52","v":0.03},{"$f":"'RBC Reference Table'!AF52","v":0},null,null,{"$f":"'RBC Reference Table'!AG52","v":1.6999999999999999E-3},{"$f":"'RBC Reference Table'!AH52","v":0},{"$f":"IF(ISNUMBER(BN52),($D52/BN52)*10^-6,\"\")","v":0},"--",{"$f":"'RBC Reference Table'!AI52","v":6.1000000000000004E-3},{"$f":"'RBC Reference Table'!AJ52","v":0},{"$f":"IF(ISNUMBER(BR52),($D52/BR52)*10^-6,\"\")","v":0},"--",{"$f":"'RBC Reference Table'!AK52","v":5.0000000000000001E-3},{"$f":"'RBC Reference Table'!AL52","v":0},{"$f":"IF(ISNUMBER(BV52),($D52/BV52)*10^-6,\"\")","v":0},"--",{"$f":"'RBC Reference Table'!AM52","v":"-"},{"$f":"'RBC Reference Table'!AN52","v":"NV"},{"$f":"IF(ISNUMBER(BZ52),($D52/BZ52)*10^-6,\"\")","v":""},"--",{"$f":"'RBC Reference Table'!AO52","v":"-"},{"$f":"'RBC Reference Table'!AP52","v":"NV"},{"$f":"IF(ISNUMBER(CD52),($D52/CD52)*10^-6,\"\")","v":""},"--",{"$f":"'RBC Reference Table'!AQ52","v":"-"},{"$f":"'RBC Reference Table'!AR52","v":"NV"},{"$f":"IF(ISNUMBER(CH52),($D52/CH52)*10^-6,\"\")","v":""},"--",{"$f":"'RBC Reference Table'!AS52","v":"-"},{"$f":"'RBC Reference Table'!AT52","v":"NV"},{"$f":"IF(ISNUMBER(CL52),($D52/CL52)*10^-6,\"\")","v":""},"--",{"$f":"'RBC Reference Table'!AU52","v":"-"},{"$f":"'RBC Reference Table'!AV52","v":"NV"},{"$f":"IF(ISNUMBER(CP52),($D52/CP52)*10^-6,\"\")","v":""},"--",{"$f":"'RBC Reference Table'!AW52","v":"-"},{"$f":"'RBC Reference Table'!AX52","v":"NV"},{"$f":"IF(ISNUMBER(CT52),($D52/CT52)*10^-6,\"\")","v":""},"--",{"$f":"'RBC Reference Table'!AY52","v":2.4},{"$f":"'RBC Reference Table'!AZ52","v":0},{"$f":"IF(ISNUMBER(CX52),($D52/CX52)*10^-6,\"\")","v":0},"--",{"$f":"'RBC Reference Table'!BA52","v":"-"},{"$f":"'RBC Reference Table'!BB52","v":"NV"},{"$f":"IF(ISNUMBER(DB52),($E52/DB52)*10^-6,\"\")","v":""},"--",{"$f":"'RBC Reference Table'!BC52","v":"-"},{"$f":"'RBC Reference Table'!BD52","v":"NV"},{"$f":"IF(ISNUMBER(DF52),($E52/DF52)*10^-6,\"\")","v":""},"--",{"$f":"'RBC Reference Table'!BE51","v":"-"},{"$f":"'RBC Reference Table'!BF51","v":"NV"},{"$f":"IF(ISNUMBER(DJ52),($E52/DJ52)*10^-6,\"\")","v":""},"--",{"$f":"'RBC Reference Table'!BG52","v":6.0999999999999997E-4},null,{"$f":"IF(ISNUMBER(DN52),($F52/DN52)*10^-6,\"\")","v":0},"--",{"$f":"'RBC Reference Table'!BI52","v":1.4E-3},null,{"$f":"IF(ISNUMBER(DR52),($F52/DR52)*10^-6,\"\")","v":0},"--",{"$f":"'RBC Reference Table'!BK52","v":2.7000000000000001E-3},null,{"$f":"IF(ISNUMBER(DV52),($F52/DV52)*10^-6,\"\")","v":0},"--"]
[46,{"$f":"VLOOKUP($A53,'Applicable RBC Table'!$A$43:$F$136,2,FALSE)","v":0},{"$f":"VLOOKUP($A53,'Applicable RBC Table'!$A$43:$F$136,3,FALSE)","v":0},{"$f":"VLOOKUP($A53,'Applicable RBC Table'!$A$43:$F$136,4,FALSE)","v":0},{"$f":"VLOOKUP($A53,'Applicable RBC Table'!$A$43:$F$136,5,FALSE)","v":0},{"$f":"VLOOKUP($A53,'Applicable RBC Table'!$A$43:$F$136,6,FALSE)","v":0},"606-20-2","2,6-Dinitrotoluene","nc, nv",{"$f":"'RBC Reference Table'!E53","v":0.36},{"$f":"'RBC Reference Table'!F53","v":0},"--",{"$f":"IF(ISNUMBER(J53),$B53/J53,\"\")","v":0},{"$f":"'RBC Reference Table'!G53","v":0.9},{"$f":"'RBC Reference Table'!H53","v":0},"--",{"$f":"IF(ISNUMBER(N53),$B53/N53,\"\")","v":0},{"$f":"'RBC Reference Table'!I53","v":1.5},{"$f":"'RBC Reference Table'!J53","v":0},"--",{"$f":"IF(ISNUMBER(R53),$B53/R53,\"\")","v":0},{"$f":"'RBC Reference Table'!K53","v":13},{"$f":"'RBC Reference Table'!L53","v":0},"--",{"$f":"IF(ISNUMBER(V53),MAX($B53,$C53)/V53,\"\")","v":0},{"$f":"'RBC Reference Table'!M53","v":350},{"$f":"'RBC Reference Table'!N53","v":0},"--",{"$f":"IF(ISNUMBER(Z53),MAX($B53,$C53)/Z53,\"\")","v":0},{"$f":"'RBC Reference Table'!O53","v":"-"},{"$f":"'RBC Reference Table'!P53","v":"NV"},"--",{"$f":"IF(ISNUMBER(AD53),MAX($B53:$C53)/AD53,\"\")","v":""},{"$f":"'RBC Reference Table'!O53","v":"-"},{"$f":"'RBC Reference Table'!P53","v":"NV"},"--",{"$f":"IF(ISNUMBER(AH53),MAX($B53:$C53)/AH53,\"\")","v":""},{"$f":"'RBC Reference Table'!S53","v":"-"},{"$f":"'RBC Reference Table'!T53","v":"NV"},"--",{"$f":"IF(ISNUMBER(AL53),MAX($B53:$C53)/AL53,\"\")","v":""},{"$f":"'RBC Reference Table'!U53","v":"-"},{"$f":"'RBC Reference Table'!V53","v":"NV"},"--",{"$f":"IF(ISNUMBER(AP53),MAX($B53:$C53)/AP53,\"\")","v":""},{"$f":"'RBC Reference Table'!W53","v":"-"},{"$f":"'RBC Reference Table'!X53","v":"NV"},"--",{"$f":"IF(ISNUMBER(AT53),MAX($B53:$C53)/AT53,\"\")","v":""},{"$f":"'RBC Reference Table'!Y53","v":"-"},{"$f":"'RBC Reference Table'!Z53","v":"NV"},"--",{"$f":"IF(ISNUMBER(AX53),MAX($B53:$C53)/AX53,\"\")","v":""},{"$f":"'RBC Reference Table'!AA53","v":8.8999999999999999E-3},{"$f":"'RBC Reference Table'!AB53","v":0},null,null,{"$f":"'RBC Reference Table'!AC53","v":3.5000000000000003E-2},{"$f":"'RBC Reference Table'!AD53","v":0},null,null,{"$f":"'RBC Reference Table'!AE53","v":4.9000000000000002E-2},{"$f":"'RBC Reference Table'!AF53","v":0},null,null,{"$f":"'RBC Reference Table'!AG53","v":4.9000000000000002E-2},{"$f":"'RBC Reference Table'!AH53","v":0},"--",{"$f":"IF(ISNUMBER(BN53),$D53/BN53,\"\")","v":0},{"$f":"'RBC Reference Table'!AI53","v":0.19},{"$f":"'RBC Reference Table'!AJ53","v":0},"--",{"$f":"IF(ISNUMBER(BR53),$D53/BR53,\"\")","v":0},{"$f":"'RBC Reference Table'!AK53","v":0.27},{"$f":"'RBC Reference Table'!AL53","v":0},"--",{"$f":"IF(ISNUMBER(BV53),$D53/BV53,\"\")","v":0},{"$f":"'RBC Reference Table'!AM53","v":"-"},{"$f":"'RBC Reference Table'!AN53","v":"NV"},"--",{"$f":"IF(ISNUMBER(BZ53),$D53/BZ53,\"\")","v":""},{"$f":"'RBC Reference Table'!AO53","v":"-"},{"$f":"'RBC Reference Table'!AP53","v":"NV"},"--",{"$f":"IF(ISNUMBER(CD53),$D53/CD53,\"\")","v":""},{"$f":"'RBC Reference Table'!AQ53","v":"-"},{"$f":"'RBC Reference Table'!AR53","v":"NV"},"--",{"$f":"IF(ISNUMBER(CH53),$D53/CH53,\"\")","v":""},{"$f":"'RBC Reference Table'!AS53","v":"-"},{"$f":"'RBC Reference Table'!AT53","v":"NV"},"--",{"$f":"IF(ISNUMBER(CL53),$D53/CL53,\"\")","v":""},{"$f":"'RBC Reference Table'!AU53","v":"-"},{"$f":"'RBC Reference Table'!AV53","v":"NV"},"--",{"$f":"IF(ISNUMBER(CP53),$D53/CP53,\"\")","v":""},{"$f":"'RBC Reference Table'!AW53","v":"-"},{"$f":"'RBC Reference Table'!AX53","v":"NV"},"--",{"$f":"IF(ISNUMBER(CT53),$D53/CT53,\"\")","v":""},{"$f":"'RBC Reference Table'!AY53","v":830},{"$f":"'RBC Reference Table'!AZ53","v":0},"--",{"$f":"IF(ISNUMBER(CX53),$D53/CX53,\"\")","v":0},{"$f":"'RBC Reference Table'!BA53","v":"-"},{"$f":"'RBC Reference Table'!BB53","v":"NV"},"--",{"$f":"IF(ISNUMBER(DB53),$E53/DB53,\"\")","v":""},{"$f":"'RBC Reference Table'!BC53","v":"-"},{"$f":"'RBC Reference Table'!BD53","v":"NV"},"--",{"$f":"IF(ISNUMBER(DF53),$E53/DF53,\"\")","v":""},{"$f":"'RBC Reference Table'!BE52","v":"-"},{"$f":"'RBC Reference Table'!BF52","v":"NV"},"--",{"$f":"IF(ISNUMBER(DJ53),$E53/DJ53,\"\")","v":""},{"$f":"'RBC Reference Table'!BG53","v":"-"},">Pv","--",{"$f":"IF(ISNUMBER(DN53),$F53/DN53,\"\")","v":""},{"$f":"'RBC Reference Table'!BI53","v":"-"},">Pv","--",{"$f":"IF(ISNUMBER(DR53),$F53/DR53,\"\")","v":""},{"$f":"'RBC Reference Table'!BK53","v":"-"},">Pv","--",{"$f":"IF(ISNUMBER(DV53),$F53/DV53,\"\")","v":""}]
[47,{"$f":"VLOOKUP($A54,'Applicable RBC Table'!$A$43:$F$136,2,FALSE)","v":0},{"$f":"VLOOKUP($A54,'Applicable RBC Table'!$A$43:$F$136,3,FALSE)","v":0},{"$f":"VLOOKUP($A54,'Applicable RBC Table'!$A$43:$F$136,4,FALSE)","v":0},{"$f":"VLOOKUP($A54,'Applicable RBC Table'!$A$43:$F$136,5,FALSE)","v":0},{"$f":"VLOOKUP($A54,'Applicable RBC Table'!$A$43:$F$136,6,FALSE)","v":0},"621-64-7","Di-N-propylnitrosamine (N-nitroso-di-N-propylamine)","c, nv",{"$f":"'RBC Reference Table'!E54","v":7.8E-2},{"$f":"'RBC Reference Table'!F54","v":0},{"$f":"IF(ISNUMBER(J54),($B54/J54)*10^-6,\"\")","v":0},"--",{"$f":"'RBC Reference Table'!G54","v":0.19},{"$f":"'RBC Reference Table'!H54","v":0},{"$f":"IF(ISNUMBER(N54),($B54/N54)*10^-6,\"\")","v":0},"--",{"$f":"'RBC Reference Table'!I54","v":0.33},{"$f":"'RBC Reference Table'!J54","v":0},{"$f":"IF(ISNUMBER(R54),($B54/R54)*10^-6,\"\")","v":0},"--",{"$f":"'RBC Reference Table'!K54","v":2.7},{"$f":"'RBC Reference Table'!L54","v":0},{"$f":"IF(ISNUMBER(V54),(MAX($B54,$C54)/V54)*10^-6,\"\")","v":0},"--",{"$f":"'RBC Reference Table'!M54","v":74},{"$f":"'RBC Reference Table'!N54","v":0},{"$f":"IF(ISNUMBER(Z54),(MAX($B54,$C54)/Z54)*10^-6,\"\")","v":0},"--",{"$f":"'RBC Reference Table'!O54","v":"-"},{"$f":"'RBC Reference Table'!P54","v":"NV"},{"$f":"IF(ISNUMBER(AD54),(MAX($B54:$C54)/AD54)*10^-6,\"\")","v":""},"--",{"$f":"'RBC Reference Table'!O54","v":"-"},{"$f":"'RBC Reference Table'!P54","v":"NV"},{"$f":"IF(ISNUMBER(AH54),(MAX($B54:$C54)/AH54)*10^-6,\"\")","v":""},"--",{"$f":"'RBC Reference Table'!S54","v":"-"},{"$f":"'RBC Reference Table'!T54","v":"NV"},{"$f":"IF(ISNUMBER(AL54),(MAX($B54:$C54)/AL54)*10^-6,\"\")","v":""},"--",{"$f":"'RBC Reference Table'!U54","v":"-"},{"$f":"'RBC Reference Table'!V54","v":"NV"},{"$f":"IF(ISNUMBER(AP54),(MAX($B54:$C54)/AP54)*10^-6,\"\")","v":""},"--",{"$f":"'RBC Reference Table'!W54","v":"-"},{"$f":"'RBC Reference Table'!X54","v":"NV"},{"$f":"IF(ISNUMBER(AT54),(MAX($B54:$C54)/AT54)*10^-6,\"\")","v":""},"--",{"$f":"'RBC Reference Table'!Y54","v":"-"},{"$f":"'RBC Reference Table'!Z54","v":"NV"},{"$f":"IF(ISNUMBER(AX54),(MAX($B54:$C54)/AX54)*10^-6,\"\")","v":""},"--",{"$f":"'RBC Reference Table'!AA54","v":9.3999999999999997E-4},{"$f":"'RBC Reference Table'!AB54","v":0},null,null,{"$f":"'RBC Reference Table'!AC54","v":3.8E-3},{"$f":"'RBC Reference Table'!AD54","v":0},null,null,{"$f":"'RBC Reference Table'!AE54","v":5.4000000000000003E-3},{"$f":"'RBC Reference Table'!AF54","v":0},null,null,{"$f":"'RBC Reference Table'!AG54","v":1.0999999999999999E-2},{"$f":"'RBC Reference Table'!AH54","v":0},{"$f":"IF(ISNUMBER(BN54),($D54/BN54)*10^-6,\"\")","v":0},"--",{"$f":"'RBC Reference Table'!AI54","v":4.2999999999999997E-2},{"$f":"'RBC Reference Table'!AJ54","v":0},{"$f":"IF(ISNUMBER(BR54),($D54/BR54)*10^-6,\"\")","v":0},"--",{"$f":"'RBC Reference Table'!AK54","v":6.2E-2},{"$f":"'RBC Reference Table'!AL54","v":0},{"$f":"IF(ISNUMBER(BV54),($D54/BV54)*10^-6,\"\")","v":0},"--",{"$f":"'RBC Reference Table'!AM54","v":"-"},{"$f":"'RBC Reference Table'!AN54","v":"NV"},{"$f":"IF(ISNUMBER(BZ54),($D54/BZ54)*10^-6,\"\")","v":""},"--",{"$f":"'RBC Reference Table'!AO54","v":"-"},{"$f":"'RBC Reference Table'!AP54","v":"NV"},{"$f":"IF(ISNUMBER(CD54),($D54/CD54)*10^-6,\"\")","v":""},"--",{"$f":"'RBC Reference Table'!AQ54","v":"-"},{"$f":"'RBC Reference Table'!AR54","v":"NV"},{"$f":"IF(ISNUMBER(CH54),($D54/CH54)*10^-6,\"\")","v":""},"--",{"$f":"'RBC Reference Table'!AS54","v":"-"},{"$f":"'RBC Reference Table'!AT54","v":"NV"},{"$f":"IF(ISNUMBER(CL54),($D54/CL54)*10^-6,\"\")","v":""},"--",{"$f":"'RBC Reference Table'!AU54","v":"-"},{"$f":"'RBC Reference Table'!AV54","v":"NV"},{"$f":"IF(ISNUMBER(CP54),($D54/CP54)*10^-6,\"\")","v":""},"--",{"$f":"'RBC Reference Table'!AW54","v":"-"},{"$f":"'RBC Reference Table'!AX54","v":"NV"},{"$f":"IF(ISNUMBER(CT54),($D54/CT54)*10^-6,\"\")","v":""},"--",{"$f":"'RBC Reference Table'!AY54","v":370},{"$f":"'RBC Reference Table'!AZ54","v":0},{"$f":"IF(ISNUMBER(CX54),($D54/CX54)*10^-6,\"\")","v":0},"--",{"$f":"'RBC Reference Table'!BA54","v":"-"},{"$f":"'RBC Reference Table'!BB54","v":"NV"},{"$f":"IF(ISNUMBER(DB54),($E54/DB54)*10^-6,\"\")","v":""},"--",{"$f":"'RBC Reference Table'!BC54","v":"-"},{"$f":"'RBC Reference Table'!BD54","v":"NV"},{"$f":"IF(ISNUMBER(DF54),($E54/DF54)*10^-6,\"\")","v":""},"--",{"$f":"'RBC Reference Table'!BE53","v":"-"},{"$f":"'RBC Reference Table'!BF53","v":"NV"},{"$f":"IF(ISNUMBER(DJ54),($E54/DJ54)*10^-6,\"\")","v":""},"--",{"$f":"'RBC Reference Table'!BG54","v":1.4E-3},null,{"$f":"IF(ISNUMBER(DN54),($F54/DN54)*10^-6,\"\")","v":0},"--",{"$f":"'RBC Reference Table'!BI54","v":3.3E-3},null,{"$f":"IF(ISNUMBER(DR54),($F54/DR54)*10^-6,\"\")","v":0},"--",{"$f":"'RBC Reference Table'!BK54","v":6.1000000000000004E-3},null,{"$f":"IF(ISNUMBER(DV54),($F54/DV54)*10^-6,\"\")","v":0},"--"]
[48,{"$f":"VLOOKUP($A55,'Applicable RBC Table'!$A$43:$F$136,2,FALSE)","v":0},{"$f":"VLOOKUP($A55,'Applicable RBC Table'!$A$43:$F$136,3,FALSE)","v":0},{"$f":"VLOOKUP($A55,'Applicable RBC Table'!$A$43:$F$136,4,FALSE)","v":0},{"$f":"VLOOKUP($A55,'Applicable RBC Table'!$A$43:$F$136,5,FALSE)","v":0},{"$f":"VLOOKUP($A55,'Applicable RBC Table'!$A$43:$F$136,6,FALSE)","v":0},"123-91-1","1,4-Dioxane","c, v",{"$f":"'RBC Reference Table'!E55","v":5.4},{"$f":"'RBC Reference Table'!F55","v":0},{"$f":"IF(ISNUMBER(J55),($B55/J55)*10^-6,\"\")","v":0},"--",{"$f":"'RBC Reference Table'!G55","v":14},{"$f":"'RBC Reference Table'!H55","v":0},{"$f":"IF(ISNUMBER(N55),($B55/N55)*10^-6,\"\")","v":0},"--",{"$f":"'RBC Reference Table'!I55","v":24},{"$f":"'RBC Reference Table'!J55","v":0},{"$f":"IF(ISNUMBER(R55),($B55/R55)*10^-6,\"\")","v":0},"--",{"$f":"'RBC Reference Table'!K55","v":210},{"$f":"'RBC Reference Table'!L55","v":0},{"$f":"IF(ISNUMBER(V55),(MAX($B55,$C55)/V55)*10^-6,\"\")","v":0},"--",{"$f":"'RBC Reference Table'!M55","v":5900},{"$f":"'RBC Reference Table'!N55","v":0},{"$f":"IF(ISNUMBER(Z55),(MAX($B55,$C55)/Z55)*10^-6,\"\")","v":0},"--",{"$f":"'RBC Reference Table'!O55","v":28},{"$f":"'RBC Reference Table'!P55","v":0},{"$f":"IF(ISNUMBER(AD55),(MAX($B55:$C55)/AD55)*10^-6,\"\")","v":0},"--",{"$f":"'RBC Reference Table'!O55","v":28},{"$f":"'RBC Reference Table'!P55","v":0},{"$f":"IF(ISNUMBER(AH55),(MAX($B55:$C55)/AH55)*10^-6,\"\")","v":0},"--",{"$f":"'RBC Reference Table'!S55","v":370},{"$f":"'RBC Reference Table'!T55","v":0},{"$f":"IF(ISNUMBER(AL55),(MAX($B55:$C55)/AL55)*10^-6,\"\")","v":0},"--",{"$f":"'RBC Reference Table'!U55","v":28},{"$f":"'RBC Reference Table'!V55","v":0},{"$f":"IF(ISNUMBER(AP55),(MAX($B55:$C55)/AP55)*10^-6,\"\")","v":0},"--",{"$f":"'RBC Reference Table'!W55","v":67},{"$f":"'RBC Reference Table'!X55","v":0},{"$f":"IF(ISNUMBER(AT55),(MAX($B55:$C55)/AT55)*10^-6,\"\")","v":0},"--",{"$f":"'RBC Reference Table'!Y55","v":370},{"$f":"'RBC Reference Table'!Z55","v":0},{"$f":"IF(ISNUMBER(AX55),(MAX($B55:$C55)/AX55)*10^-6,\"\")","v":0},"--",{"$f":"'RBC Reference Table'!AA55","v":2.3E-3},{"$f":"'RBC Reference Table'!AB55","v":0},null,null,{"$f":"'RBC Reference Table'!AC55","v":9.9000000000000008E-3},{"$f":"'RBC Reference Table'!AD55","v":0},null,null,{"$f":"'RBC Reference Table'!AE55","v":1.2E-2},{"$f":"'RBC Reference Table'!AF55","v":0},null,null,{"$f":"'RBC Reference Table'!AG55","v":0.46},{"$f":"'RBC Reference Table'!AH55","v":0},{"$f":"IF(ISNUMBER(BN55),($D55/BN55)*10^-6,\"\")","v":0},"--",{"$f":"'RBC Reference Table'!AI55","v":2},{"$f":"'RBC Reference Table'!AJ55","v":0},{"$f":"IF(ISNUMBER(BR55),($D55/BR55)*10^-6,\"\")","v":0},"--",{"$f":"'RBC Reference Table'!AK55","v":2.4},{"$f":"'RBC Reference Table'!AL55","v":0},{"$f":"IF(ISNUMBER(BV55),($D55/BV55)*10^-6,\"\")","v":0},"--",{"$f":"'RBC Reference Table'!AM55","v":820000},{"$f":"'RBC Reference Table'!AN55","v":0},{"$f":"IF(ISNUMBER(BZ55),($D55/BZ55)*10^-6,\"\")","v":0},"--",{"$f":"'RBC Reference Table'!AO55","v":1900000},{"$f":"'RBC Reference Table'!AP55","v":0},{"$f":"IF(ISNUMBER(CD55),($D55/CD55)*10^-6,\"\")","v":0},"--",{"$f":"'RBC Reference Table'!AQ55","v":4500000},{"$f":"'RBC Reference Table'!AR55","v":0},{"$f":"IF(ISNUMBER(CH55),($D55/CH55)*10^-6,\"\")","v":0},"--",{"$f":"'RBC Reference Table'!AS55","v":340000},{"$f":"'RBC Reference Table'!AT55","v":0},{"$f":"IF(ISNUMBER(CL55),($D55/CL55)*10^-6,\"\")","v":0},"--",{"$f":"'RBC Reference Table'!AU55","v":810000},{"$f":"'RBC Reference Table'!AV55","v":0},{"$f":"IF(ISNUMBER(CP55),($D55/CP55)*10^-6,\"\")","v":0},"--",{"$f":"'RBC Reference Table'!AW55","v":4500000},{"$f":"'RBC Reference Table'!AX55","v":0},{"$f":"IF(ISNUMBER(CT55),($D55/CT55)*10^-6,\"\")","v":0},"--",{"$f":"'RBC Reference Table'!AY55","v":3400},{"$f":"'RBC Reference Table'!AZ55","v":0},{"$f":"IF(ISNUMBER(CX55),($D55/CX55)*10^-6,\"\")","v":0},"--",{"$f":"'RBC Reference Table'!BA55","v":110},{"$f":"'RBC Reference Table'!BB55","v":0},{"$f":"IF(ISNUMBER(DB55),($E55/DB55)*10^-6,\"\")","v":0},"--",{"$f":"'RBC Reference Table'!BC55","v":270},{"$f":"'RBC Reference Table'!BD55","v":0},{"$f":"IF(ISNUMBER(DF55),($E55/DF55)*10^-6,\"\")","v":0},"--",{"$f":"'RBC Reference Table'!BE54","v":"-"},{"$f":"'RBC Reference Table'!BF54","v":"NV"},{"$f":"IF(ISNUMBER(DJ55),($E55/DJ55)*10^-6,\"\")","v":""},"--",{"$f":"'RBC Reference Table'!BG55","v":0.56000000000000005},null,{"$f":"IF(ISNUMBER(DN55),($F55/DN55)*10^-6,\"\")","v":0},"--",{"$f":"'RBC Reference Table'!BI55","v":1.3},null,{"$f":"IF(ISNUMBER(DR55),($F55/DR55)*10^-6,\"\")","v":0},"--",{"$f":"'RBC Reference Table'!BK55","v":2.5},null,{"$f":"IF(ISNUMBER(DV55),($F55/DV55)*10^-6,\"\")","v":0},"--"]
[49,{"$f":"VLOOKUP($A56,'Applicable RBC Table'!$A$43:$F$136,2,FALSE)","v":0},{"$f":"VLOOKUP($A56,'Applicable RBC Table'!$A$43:$F$136,3,FALSE)","v":0},{"$f":"VLOOKUP($A56,'Applicable RBC Table'!$A$43:$F$136,4,FALSE)","v":0},{"$f":"VLOOKUP($A56,'Applicable RBC Table'!$A$43:$F$136,5,FALSE)","v":0},{"$f":"VLOOKUP($A56,'Applicable RBC Table'!$A$43:$F$136,6,FALSE)","v":0},"86-30-6","Diphenylnitrosamine","c, nv",{"$f":"'RBC Reference Table'!E56","v":110},{"$f":"'RBC Reference Table'!F56","v":0},{"$f":"IF(ISNUMBER(J56),($B56/J56)*10^-6,\"\")","v":0},"--",{"$f":"'RBC Reference Table'!G56","v":280},{"$f":"'RBC Reference Table'!H56","v":">Csat"},{"$f":"IF(ISNUMBER(N56),($B56/N56)*10^-6,\"\")","v":0},"--",{"$f":"'RBC Reference Table'!I56","v":470},{"$f":"'RBC Reference Table'!J56","v":">Csat"},{"$f":"IF(ISNUMBER(R56),($B56/R56)*10^-6,\"\")","v":0},"--",{"$f":"'RBC Reference Table'!K56","v":3800},{"$f":"'RBC Reference Table'!L56","v":">Csat"},{"$f":"IF(ISNUMBER(V56),(MAX($B56,$C56)/V56)*10^-6,\"\")","v":0},"--",{"$f":"'RBC Reference Table'!M56","v":110000},{"$f":"'RBC Reference Table'!N56","v":">Csat"},{"$f":"IF(ISNUMBER(Z56),(MAX($B56,$C56)/Z56)*10^-6,\"\")","v":0},"--",{"$f":"'RBC Reference Table'!O56","v":"-"},{"$f":"'RBC Reference Table'!P56","v":"NV"},{"$f":"IF(ISNUMBER(AD56),(MAX($B56:$C56)/AD56)*10^-6,\"\")","v":""},"--",{"$f":"'RBC Reference Table'!O56","v":"-"},{"$f":"'RBC Reference Table'!P56","v":"NV"},{"$f":"IF(ISNUMBER(AH56),(MAX($B56:$C56)/AH56)*10^-6,\"\")","v":""},"--",{"$f":"'RBC Reference Table'!S56","v":"-"},{"$f":"'RBC Reference Table'!T56","v":"NV"},{"$f":"IF(ISNUMBER(AL56),(MAX($B56:$C56)/AL56)*10^-6,\"\")","v":""},"--",{"$f":"'RBC Reference Table'!U56","v":"-"},{"$f":"'RBC Reference Table'!V56","v":"NV"},{"$f":"IF(ISNUMBER(AP56),(MAX($B56:$C56)/AP56)*10^-6,\"\")","v":""},"--",{"$f":"'RBC Reference Table'!W56","v":"-"},{"$f":"'RBC Reference Table'!X56","v":"NV"},{"$f":"IF(ISNUMBER(AT56),(MAX($B56:$C56)/AT56)*10^-6,\"\")","v":""},"--",{"$f":"'RBC Reference Table'!Y56","v":"-"},{"$f":"'RBC Reference Table'!Z56","v":"NV"},{"$f":"IF(ISNUMBER(AX56),(MAX($B56:$C56)/AX56)*10^-6,\"\")","v":""},"--",{"$f":"'RBC Reference Table'!AA56","v":10},{"$f":"'RBC Reference Table'!AB56","v":0},null,null,{"$f":"'RBC Reference Table'!AC56","v":39},{"$f":"'RBC Reference Table'!AD56","v":0},null,null,{"$f":"'RBC Reference Table'!AE56","v":45},{"$f":"'RBC Reference Table'!AF56","v":0},null,null,{"$f":"'RBC Reference Table'!AG56","v":13},{"$f":"'RBC Reference Table'!AH56","v":0},{"$f":"IF(ISNUMBER(BN56),($D56/BN56)*10^-6,\"\")","v":0},"--",{"$f":"'RBC Reference Table'!AI56","v":49},{"$f":"'RBC Reference Table'!AJ56","v":0},{"$f":"IF(ISNUMBER(BR56),($D56/BR56)*10^-6,\"\")","v":0},"--",{"$f":"'RBC Reference Table'!AK56","v":57},{"$f":"'RBC Reference Table'!AL56","v":0},{"$f":"IF(ISNUMBER(BV56),($D56/BV56)*10^-6,\"\")","v":0},"--",{"$f":"'RBC Reference Table'!AM56","v":"-"},{"$f":"'RBC Reference Table'!AN56","v":"NV"},{"$f":"IF(ISNUMBER(BZ56),($D56/BZ56)*10^-6,\"\")","v":""},"--",{"$f":"'RBC Reference Table'!AO56","v":"-"},{"$f":"'RBC Reference Table'!AP56","v":"NV"},{"$f":"IF(ISNUMBER(CD56),($D56/CD56)*10^-6,\"\")","v":""},"--",{"$f":"'RBC Reference Table'!AQ56","v":"-"},{"$f":"'RBC Reference Table'!AR56","v":"NV"},{"$f":"IF(ISNUMBER(CH56),($D56/CH56)*10^-6,\"\")","v":""},"--",{"$f":"'RBC Reference Table'!AS56","v":"-"},{"$f":"'RBC Reference Table'!AT56","v":"NV"},{"$f":"IF(ISNUMBER(CL56),($D56/CL56)*10^-6,\"\")","v":""},"--",{"$f":"'RBC Reference Table'!AU56","v":"-"},{"$f":"'RBC Reference Table'!AV56","v":"NV"},{"$f":"IF(ISNUMBER(CP56),($D56/CP56)*10^-6,\"\")","v":""},"--",{"$f":"'RBC Reference Table'!AW56","v":"-"},{"$f":"'RBC Reference Table'!AX56","v":"NV"},{"$f":"IF(ISNUMBER(CT56),($D56/CT56)*10^-6,\"\")","v":""},"--",{"$f":"'RBC Reference Table'!AY56","v":"-"},{"$f":"'RBC Reference Table'!AZ56","v":">S"},{"$f":"IF(ISNUMBER(CX56),($D56/CX56)*10^-6,\"\")","v":""},"--",{"$f":"'RBC Reference Table'!BA56","v":"-"},{"$f":"'RBC Reference Table'!BB56","v":"NV"},{"$f":"IF(ISNUMBER(DB56),($E56/DB56)*10^-6,\"\")","v":""},"--",{"$f":"'RBC Reference Table'!BC56","v":"-"},{"$f":"'RBC Reference Table'!BD56","v":"NV"},{"$f":"IF(ISNUMBER(DF56),($E56/DF56)*10^-6,\"\")","v":""},"--",{"$f":"'RBC Reference Table'!BE55","v":2500},{"$f":"'RBC Reference Table'!BF55","v":0},{"$f":"IF(ISNUMBER(DJ56),($E56/DJ56)*10^-6,\"\")","v":0},"--",{"$f":"'RBC Reference Table'!BG56","v":1.1000000000000001},null,{"$f":"IF(ISNUMBER(DN56),($F56/DN56)*10^-6,\"\")","v":0},"--",{"$f":"'RBC Reference Table'!BI56","v":2.6},null,{"$f":"IF(ISNUMBER(DR56),($F56/DR56)*10^-6,\"\")","v":0},"--",{"$f":"'RBC Reference Table'!BK56","v":4.7},null,{"$f":"IF(ISNUMBER(DV56),($F56/DV56)*10^-6,\"\")","v":0},"--"]
[50,{"$f":"VLOOKUP($A57,'Applicable RBC Table'!$A$43:$F$136,2,FALSE)","v":0},{"$f":"VLOOKUP($A57,'Applicable RBC Table'!$A$43:$F$136,3,FALSE)","v":0},{"$f":"VLOOKUP($A57,'Applicable RBC Table'!$A$43:$F$136,4,FALSE)","v":0},{"$f":"VLOOKUP($A57,'Applicable RBC Table'!$A$43:$F$136,5,FALSE)","v":0},{"$f":"VLOOKUP($A57,'Applicable RBC Table'!$A$43:$F$136,6,FALSE)","v":0},"106-93-4","EDB (1,2-dibromoethane)","c, v",{"$f":"'RBC Reference Table'!E57","v":0.16},{"$f":"'RBC Reference Table'!F57","v":0},{"$f":"IF(ISNUMBER(J57),($B57/J57)*10^-6,\"\")","v":0},"--",{"$f":"'RBC Reference Table'!G57","v":0.53},{"$f":"'RBC Reference Table'!H57","v":0},{"$f":"IF(ISNUMBER(N57),($B57/N57)*10^-6,\"\")","v":0},"--",{"$f":"'RBC Reference Table'!I57","v":0.73},{"$f":"'RBC Reference Table'!J57","v":0},{"$f":"IF(ISNUMBER(R57),($B57/R57)*10^-6,\"\")","v":0},"--",{"$f":"'RBC Reference Table'!K57","v":9},{"$f":"'RBC Reference Table'!L57","v":0},{"$f":"IF(ISNUMBER(V57),(MAX($B57,$C57)/V57)*10^-6,\"\")","v":0},"--",{"$f":"'RBC Reference Table'!M57","v":250},{"$f":"'RBC Reference Table'!N57","v":0},{"$f":"IF(ISNUMBER(Z57),(MAX($B57,$C57)/Z57)*10^-6,\"\")","v":0},"--",{"$f":"'RBC Reference Table'!O57","v":0.15},{"$f":"'RBC Reference Table'!P57","v":0},{"$f":"IF(ISNUMBER(AD57),(MAX($B57:$C57)/AD57)*10^-6,\"\")","v":0},"--",{"$f":"'RBC Reference Table'!O57","v":0.15},{"$f":"'RBC Reference Table'!P57","v":0},{"$f":"IF(ISNUMBER(AH57),(MAX($B57:$C57)/AH57)*10^-6,\"\")","v":0},"--",{"$f":"'RBC Reference Table'!S57","v":0.65},{"$f":"'RBC Reference Table'!T57","v":0},{"$f":"IF(ISNUMBER(AL57),(MAX($B57:$C57)/AL57)*10^-6,\"\")","v":0},"--",{"$f":"'RBC Reference Table'!U57","v":1.2E-2},{"$f":"'RBC Reference Table'!V57","v":0},{"$f":"IF(ISNUMBER(AP57),(MAX($B57:$C57)/AP57)*10^-6,\"\")","v":0},"--",{"$f":"'RBC Reference Table'!W57","v":2.8000000000000001E-2},{"$f":"'RBC Reference Table'!X57","v":0},{"$f":"IF(ISNUMBER(AT57),(MAX($B57:$C57)/AT57)*10^-6,\"\")","v":0},"--",{"$f":"'RBC Reference Table'!Y57","v":0.16},{"$f":"'RBC Reference Table'!Z57","v":0},{"$f":"IF(ISNUMBER(AX57),(MAX($B57:$C57)/AX57)*10^-6,\"\")","v":0},"--",{"$f":"'RBC Reference Table'!AA57","v":1.2E-4},{"$f":"'RBC Reference Table'!AB57","v":0},null,null,{"$f":"'RBC Reference Table'!AC57","v":5.5999999999999995E-4},{"$f":"'RBC Reference Table'!AD57","v":0},null,null,{"$f":"'RBC Reference Table'!AE57","v":5.5999999999999995E-4},{"$f":"'RBC Reference Table'!AF57","v":0},null,null,{"$f":"'RBC Reference Table'!AG57","v":7.4999999999999997E-3},{"$f":"'RBC Reference Table'!AH57","v":0},{"$f":"IF(ISNUMBER(BN57),($D57/BN57)*10^-6,\"\")","v":0},"--",{"$f":"'RBC Reference Table'!AI57","v":3.4000000000000002E-2},{"$f":"'RBC Reference Table'!AJ57","v":0},{"$f":"IF(ISNUMBER(BR57),($D57/BR57)*10^-6,\"\")","v":0},"--",{"$f":"'RBC Reference Table'!AK57","v":3.4000000000000002E-2},{"$f":"'RBC Reference Table'!AL57","v":0},{"$f":"IF(ISNUMBER(BV57),($D57/BV57)*10^-6,\"\")","v":0},"--",{"$f":"'RBC Reference Table'!AM57","v":180},{"$f":"'RBC Reference Table'!AN57","v":0},{"$f":"IF(ISNUMBER(BZ57),($D57/BZ57)*10^-6,\"\")","v":0},"--",{"$f":"'RBC Reference Table'!AO57","v":430},{"$f":"'RBC Reference Table'!AP57","v":0},{"$f":"IF(ISNUMBER(CD57),($D57/CD57)*10^-6,\"\")","v":0},"--",{"$f":"'RBC Reference Table'!AQ57","v":790},{"$f":"'RBC Reference Table'!AR57","v":0},{"$f":"IF(ISNUMBER(CH57),($D57/CH57)*10^-6,\"\")","v":0},"--",{"$f":"'RBC Reference Table'!AS57","v":45},{"$f":"'RBC Reference Table'!AT57","v":0},{"$f":"IF(ISNUMBER(CL57),($D57/CL57)*10^-6,\"\")","v":0},"--",{"$f":"'RBC Reference Table'!AU57","v":110},{"$f":"'RBC Reference Table'!AV57","v":0},{"$f":"IF(ISNUMBER(CP57),($D57/CP57)*10^-6,\"\")","v":0},"--",{"$f":"'RBC Reference Table'!AW57","v":590},{"$f":"'RBC Reference Table'!AX57","v":0},{"$f":"IF(ISNUMBER(CT57),($D57/CT57)*10^-6,\"\")","v":0},"--",{"$f":"'RBC Reference Table'!AY57","v":27},{"$f":"'RBC Reference Table'!AZ57","v":0},{"$f":"IF(ISNUMBER(CX57),($D57/CX57)*10^-6,\"\")","v":0},"--",{"$f":"'RBC Reference Table'!BA57","v":0.94},{"$f":"'RBC Reference Table'!BB57","v":0},{"$f":"IF(ISNUMBER(DB57),($E57/DB57)*10^-6,\"\")","v":0},"--",{"$f":"'RBC Reference Table'!BC57","v":2.2000000000000002},{"$f":"'RBC Reference Table'!BD57","v":0},{"$f":"IF(ISNUMBER(DF57),($E57/DF57)*10^-6,\"\")","v":0},"--",{"$f":"'RBC Reference Table'!BE56","v":"-"},{"$f":"'RBC Reference Table'!BF56","v":"NV"},{"$f":"IF(ISNUMBER(DJ57),($E57/DJ57)*10^-6,\"\")","v":""},"--",{"$f":"'RBC Reference Table'!BG57","v":4.7000000000000002E-3},null,{"$f":"IF(ISNUMBER(DN57),($F57/DN57)*10^-6,\"\")","v":0},"--",{"$f":"'RBC Reference Table'!BI57","v":1.0999999999999999E-2},null,{"$f":"IF(ISNUMBER(DR57),($F57/DR57)*10^-6,\"\")","v":0},"--",{"$f":"'RBC Reference Table'!BK57","v":0.02},null,{"$f":"IF(ISNUMBER(DV57),($F57/DV57)*10^-6,\"\")","v":0},"--"]
[51,{"$f":"VLOOKUP($A58,'Applicable RBC Table'!$A$43:$F$136,2,FALSE)","v":0},{"$f":"VLOOKUP($A58,'Applicable RBC Table'!$A$43:$F$136,3,FALSE)","v":0},{"$f":"VLOOKUP($A58,'Applicable RBC Table'!$A$43:$F$136,4,FALSE)","v":0},{"$f":"VLOOKUP($A58,'Applicable RBC Table'!$A$43:$F$136,5,FALSE)","v":0},{"$f":"VLOOKUP($A58,'Applicable RBC Table'!$A$43:$F$136,6,FALSE)","v":0},"107-06-2","EDC (1,2-dichloroethane)","c, v",{"$f":"'RBC Reference Table'!E58","v":3.6},{"$f":"'RBC Reference Table'!F58","v":0},{"$f":"IF(ISNUMBER(J58),($B58/J58)*10^-6,\"\")","v":0},"--",{"$f":"'RBC Reference Table'!G58","v":12},{"$f":"'RBC Reference Table'!H58","v":0},{"$f":"IF(ISNUMBER(N58),($B58/N58)*10^-6,\"\")","v":0},"--",{"$f":"'RBC Reference Table'!I58","v":16},{"$f":"'RBC Reference Table'!J58","v":0},{"$f":"IF(ISNUMBER(R58),($B58/R58)*10^-6,\"\")","v":0},"--",{"$f":"'RBC Reference Table'!K58","v":200},{"$f":"'RBC Reference Table'!L58","v":0},{"$f":"IF(ISNUMBER(V58),(MAX($B58,$C58)/V58)*10^-6,\"\")","v":0},"--",{"$f":"'RBC Reference Table'!M58","v":5600},{"$f":"'RBC Reference Table'!N58","v":">Csat"},{"$f":"IF(ISNUMBER(Z58),(MAX($B58,$C58)/Z58)*10^-6,\"\")","v":0},"--",{"$f":"'RBC Reference Table'!O58","v":3.4},{"$f":"'RBC Reference Table'!P58","v":0},{"$f":"IF(ISNUMBER(AD58),(MAX($B58:$C58)/AD58)*10^-6,\"\")","v":0},"--",{"$f":"'RBC Reference Table'!O58","v":3.4},{"$f":"'RBC Reference Table'!P58","v":0},{"$f":"IF(ISNUMBER(AH58),(MAX($B58:$C58)/AH58)*10^-6,\"\")","v":0},"--",{"$f":"'RBC Reference Table'!S58","v":15},{"$f":"'RBC Reference Table'!T58","v":0},{"$f":"IF(ISNUMBER(AL58),(MAX($B58:$C58)/AL58)*10^-6,\"\")","v":0},"--",{"$f":"'RBC Reference Table'!U58","v":7.6999999999999999E-2},{"$f":"'RBC Reference Table'!V58","v":0},{"$f":"IF(ISNUMBER(AP58),(MAX($B58:$C58)/AP58)*10^-6,\"\")","v":0},"--",{"$f":"'RBC Reference Table'!W58","v":0.18},{"$f":"'RBC Reference Table'!X58","v":0},{"$f":"IF(ISNUMBER(AT58),(MAX($B58:$C58)/AT58)*10^-6,\"\")","v":0},"--",{"$f":"'RBC Reference Table'!Y58","v":1},{"$f":"'RBC Reference Table'!Z58","v":0},{"$f":"IF(ISNUMBER(AX58),(MAX($B58:$C58)/AX58)*10^-6,\"\")","v":0},"--",{"$f":"'RBC Reference Table'!AA58","v":2.8E-3},{"$f":"'RBC Reference Table'!AB58","v":0},null,null,{"$f":"'RBC Reference Table'!AC58","v":1.2999999999999999E-2},{"$f":"'RBC Reference Table'!AD58","v":0},null,null,{"$f":"'RBC Reference Table'!AE58","v":1.2999999999999999E-2},{"$f":"'RBC Reference Table'!AF58","v":0},null,null,{"$f":"'RBC Reference Table'!AG58","v":0.17},{"$f":"'RBC Reference Table'!AH58","v":0},{"$f":"IF(ISNUMBER(BN58),($D58/BN58)*10^-6,\"\")","v":0},"--",{"$f":"'RBC Reference Table'!AI58","v":0.78},{"$f":"'RBC Reference Table'!AJ58","v":0},{"$f":"IF(ISNUMBER(BR58),($D58/BR58)*10^-6,\"\")","v":0},"--",{"$f":"'RBC Reference Table'!AK58","v":0.78},{"$f":"'RBC Reference Table'!AL58","v":0},{"$f":"IF(ISNUMBER(BV58),($D58/BV58)*10^-6,\"\")","v":0},"--",{"$f":"'RBC Reference Table'!AM58","v":2100},{"$f":"'RBC Reference Table'!AN58","v":0},{"$f":"IF(ISNUMBER(BZ58),($D58/BZ58)*10^-6,\"\")","v":0},"--",{"$f":"'RBC Reference Table'!AO58","v":4900},{"$f":"'RBC Reference Table'!AP58","v":0},{"$f":"IF(ISNUMBER(CD58),($D58/CD58)*10^-6,\"\")","v":0},"--",{"$f":"'RBC Reference Table'!AQ58","v":9000},{"$f":"'RBC Reference Table'!AR58","v":0},{"$f":"IF(ISNUMBER(CH58),($D58/CH58)*10^-6,\"\")","v":0},"--",{"$f":"'RBC Reference Table'!AS58","v":300},{"$f":"'RBC Reference Table'!AT58","v":0},{"$f":"IF(ISNUMBER(CL58),($D58/CL58)*10^-6,\"\")","v":0},"--",{"$f":"'RBC Reference Table'!AU58","v":700},{"$f":"'RBC Reference Table'!AV58","v":0},{"$f":"IF(ISNUMBER(CP58),($D58/CP58)*10^-6,\"\")","v":0},"--",{"$f":"'RBC Reference Table'!AW58","v":3900},{"$f":"'RBC Reference Table'!AX58","v":0},{"$f":"IF(ISNUMBER(CT58),($D58/CT58)*10^-6,\"\")","v":0},"--",{"$f":"'RBC Reference Table'!AY58","v":630},{"$f":"'RBC Reference Table'!AZ58","v":0},{"$f":"IF(ISNUMBER(CX58),($D58/CX58)*10^-6,\"\")","v":0},"--",{"$f":"'RBC Reference Table'!BA58","v":22},{"$f":"'RBC Reference Table'!BB58","v":0},{"$f":"IF(ISNUMBER(DB58),($E58/DB58)*10^-6,\"\")","v":0},"--",{"$f":"'RBC Reference Table'!BC58","v":51},{"$f":"'RBC Reference Table'!BD58","v":0},{"$f":"IF(ISNUMBER(DF58),($E58/DF58)*10^-6,\"\")","v":0},"--",{"$f":"'RBC Reference Table'!BE57","v":20},{"$f":"'RBC Reference Table'!BF57","v":0},{"$f":"IF(ISNUMBER(DJ58),($E58/DJ58)*10^-6,\"\")","v":0},"--",{"$f":"'RBC Reference Table'!BG58","v":0.11},null,{"$f":"IF(ISNUMBER(DN58),($F58/DN58)*10^-6,\"\")","v":0},"--",{"$f":"'RBC Reference Table'!BI58","v":0.26},null,{"$f":"IF(ISNUMBER(DR58),($F58/DR58)*10^-6,\"\")","v":0},"--",{"$f":"'RBC Reference Table'!BK58","v":0.47},null,{"$f":"IF(ISNUMBER(DV58),($F58/DV58)*10^-6,\"\")","v":0},"--"]
[52,{"$f":"VLOOKUP($A59,'Applicable RBC Table'!$A$43:$F$136,2,FALSE)","v":0},{"$f":"VLOOKUP($A59,'Applicable RBC Table'!$A$43:$F$136,3,FALSE)","v":0},{"$f":"VLOOKUP($A59,'Applicable RBC Table'!$A$43:$F$136,4,FALSE)","v":0},{"$f":"VLOOKUP($A59,'Applicable RBC Table'!$A$43:$F$136,5,FALSE)","v":0},{"$f":"VLOOKUP($A59,'Applicable RBC Table'!$A$43:$F$136,6,FALSE)","v":0},"115-29-7","Endosulfan (alpha-beta) ","nc, v",{"$f":"'RBC Reference Table'!E59","v":380},{"$f":"'RBC Reference Table'!F59","v":">Csat"},"--",{"$f":"IF(ISNUMBER(J59),$B59/J59,\"\")","v":0},{"$f":"'RBC Reference Table'!G59","v":760},{"$f":"'RBC Reference Table'!H59","v":">Csat"},"--",{"$f":"IF(ISNUMBER(N59),$B59/N59,\"\")","v":0},{"$f":"'RBC Reference Table'!I59","v":4900},{"$f":"'RBC Reference Table'!J59","v":">Csat"},"--",{"$f":"IF(ISNUMBER(R59),$B59/R59,\"\")","v":0},{"$f":"'RBC Reference Table'!K59","v":1600},{"$f":"'RBC Reference Table'!L59","v":">Csat"},"--",{"$f":"IF(ISNUMBER(V59),MAX($B59,$C59)/V59,\"\")","v":0},{"$f":"'RBC Reference Table'!M59","v":45000},{"$f":"'RBC Reference Table'!N59","v":">Csat"},"--",{"$f":"IF(ISNUMBER(Z59),MAX($B59,$C59)/Z59,\"\")","v":0},{"$f":"'RBC Reference Table'!O59","v":"-"},{"$f":"'RBC Reference Table'!P59","v":">Max"},"--",{"$f":"IF(ISNUMBER(AD59),MAX($B59:$C59)/AD59,\"\")","v":""},{"$f":"'RBC Reference Table'!O59","v":"-"},{"$f":"'RBC Reference Table'!P59","v":">Max"},"--",{"$f":"IF(ISNUMBER(AH59),MAX($B59:$C59)/AH59,\"\")","v":""},{"$f":"'RBC Reference Table'!S59","v":"-"},{"$f":"'RBC Reference Table'!T59","v":">Max"},"--",{"$f":"IF(ISNUMBER(AL59),MAX($B59:$C59)/AL59,\"\")","v":""},{"$f":"'RBC Reference Table'!U59","v":"-"},{"$f":"'RBC Reference Table'!V59","v":">Max"},"--",{"$f":"IF(ISNUMBER(AP59),MAX($B59:$C59)/AP59,\"\")","v":""},{"$f":"'RBC Reference Table'!W59","v":"-"},{"$f":"'RBC Reference Table'!X59","v":">Max"},"--",{"$f":"IF(ISNUMBER(AT59),MAX($B59:$C59)/AT59,\"\")","v":""},{"$f":"'RBC Reference Table'!Y59","v":"-"},{"$f":"'RBC Reference Table'!Z59","v":">Max"},"--",{"$f":"IF(ISNUMBER(AX59),MAX($B59:$C59)/AX59,\"\")","v":""},{"$f":"'RBC Reference Table'!AA59","v":"-"},{"$f":"'RBC Reference Table'!AB59","v":">Csat"},null,null,{"$f":"'RBC Reference Table'!AC59","v":"-"},{"$f":"'RBC Reference Table'!AD59","v":">Csat"},null,null,{"$f":"'RBC Reference Table'!AE59","v":"-"},{"$f":"'RBC Reference Table'!AF59","v":">Csat"},null,null,{"$f":"'RBC Reference Table'!AG59","v":98},{"$f":"'RBC Reference Table'!AH59","v":0},"--",{"$f":"IF(ISNUMBER(BN59),$D59/BN59,\"\")","v":0},{"$f":"'RBC Reference Table'!AI59","v":"-"},{"$f":"'RBC Reference Table'!AJ59","v":">S"},"--",{"$f":"IF(ISNUMBER(BR59),$D59/BR59,\"\")","v":""},{"$f":"'RBC Reference Table'!AK59","v":"-"},{"$f":"'RBC Reference Table'!AL59","v":">S"},"--",{"$f":"IF(ISNUMBER(BV59),$D59/BV59,\"\")","v":""},{"$f":"'RBC Reference Table'!AM59","v":"-"},{"$f":"'RBC Reference Table'!AN59","v":">S"},"--",{"$f":"IF(ISNUMBER(BZ59),$D59/BZ59,\"\")","v":""},{"$f":"'RBC Reference Table'!AO59","v":"-"},{"$f":"'RBC Reference Table'!AP59","v":">S"},"--",{"$f":"IF(ISNUMBER(CD59),$D59/CD59,\"\")","v":""},{"$f":"'RBC Reference Table'!AQ59","v":"-"},{"$f":"'RBC Reference Table'!AR59","v":">S"},"--",{"$f":"IF(ISNUMBER(CH59),$D59/CH59,\"\")","v":""},{"$f":"'RBC Reference Table'!AS59","v":"-"},{"$f":"'RBC Reference Table'!AT59","v":">S"},"--",{"$f":"IF(ISNUMBER(CL59),$D59/CL59,\"\")","v":""},{"$f":"'RBC Reference Table'!AU59","v":"-"},{"$f":"'RBC Reference Table'!AV59","v":">S"},"--",{"$f":"IF(ISNUMBER(CP59),$D59/CP59,\"\")","v":""},{"$f":"'RBC Reference Table'!AW59","v":"-"},{"$f":"'RBC Reference Table'!AX59","v":">S"},"--",{"$f":"IF(ISNUMBER(CT59),$D59/CT59,\"\")","v":""},{"$f":"'RBC Reference Table'!AY59","v":"-"},{"$f":"'RBC Reference Table'!AZ59","v":">S"},"--",{"$f":"IF(ISNUMBER(CX59),$D59/CX59,\"\")","v":""},{"$f":"'RBC Reference Table'!BA59","v":"-"},{"$f":"'RBC Reference Table'!BB59","v":">Pv"},"--",{"$f":"IF(ISNUMBER(DB59),$E59/DB59,\"\")","v":""},{"$f":"'RBC Reference Table'!BC59","v":"-"},{"$f":"'RBC Reference Table'!BD59","v":">Pv"},"--",{"$f":"IF(ISNUMBER(DF59),$E59/DF59,\"\")","v":""},{"$f":"'RBC Reference Table'!BE58","v":470},{"$f":"'RBC Reference Table'!BF58","v":0},"--",{"$f":"IF(ISNUMBER(DJ59),$E59/DJ59,\"\")","v":0},{"$f":"'RBC Reference Table'!BG59","v":"-"},">Pv","--",{"$f":"IF(ISNUMBER(DN59),$F59/DN59,\"\")","v":""},{"$f":"'RBC Reference Table'!BI59","v":"-"},">Pv","--",{"$f":"IF(ISNUMBER(DR59),$F59/DR59,\"\")","v":""},{"$f":"'RBC Reference Table'!BK59","v":"-"},">Pv","--",{"$f":"IF(ISNUMBER(DV59),$F59/DV59,\"\")","v":""}]
[53,{"$f":"VLOOKUP($A60,'Applicable RBC Table'!$A$43:$F$136,2,FALSE)","v":0},{"$f":"VLOOKUP($A60,'Applicable RBC Table'!$A$43:$F$136,3,FALSE)","v":0},{"$f":"VLOOKUP($A60,'Applicable RBC Table'!$A$43:$F$136,4,FALSE)","v":0},{"$f":"VLOOKUP($A60,'Applicable RBC Table'!$A$43:$F$136,5,FALSE)","v":0},{"$f":"VLOOKUP($A60,'Applicable RBC Table'!$A$43:$F$136,6,FALSE)","v":0},"72-20-8","Endrin","nc, nv",{"$f":"'RBC Reference Table'!E60","v":19},{"$f":"'RBC Reference Table'!F60","v":">Csat"},"--",{"$f":"IF(ISNUMBER(J60),$B60/J60,\"\")","v":0},{"$f":"'RBC Reference Table'!G60","v":38},{"$f":"'RBC Reference Table'!H60","v":">Csat"},"--",{"$f":"IF(ISNUMBER(N60),$B60/N60,\"\")","v":0},{"$f":"'RBC Reference Table'!I60","v":250},{"$f":"'RBC Reference Table'!J60","v":">Csat"},"--",{"$f":"IF(ISNUMBER(R60),$B60/R60,\"\")","v":0},{"$f":"'RBC Reference Table'!K60","v":80},{"$f":"'RBC Reference Table'!L60","v":">Csat"},"--",{"$f":"IF(ISNUMBER(V60),MAX($B60,$C60)/V60,\"\")","v":0},{"$f":"'RBC Reference Table'!M60","v":2200},{"$f":"'RBC Reference Table'!N60","v":">Csat"},"--",{"$f":"IF(ISNUMBER(Z60),MAX($B60,$C60)/Z60,\"\")","v":0},{"$f":"'RBC Reference Table'!O60","v":"-"},{"$f":"'RBC Reference Table'!P60","v":"NV"},"--",{"$f":"IF(ISNUMBER(AD60),MAX($B60:$C60)/AD60,\"\")","v":""},{"$f":"'RBC Reference Table'!O60","v":"-"},{"$f":"'RBC Reference Table'!P60","v":"NV"},"--",{"$f":"IF(ISNUMBER(AH60),MAX($B60:$C60)/AH60,\"\")","v":""},{"$f":"'RBC Reference Table'!S60","v":"-"},{"$f":"'RBC Reference Table'!T60","v":"NV"},"--",{"$f":"IF(ISNUMBER(AL60),MAX($B60:$C60)/AL60,\"\")","v":""},{"$f":"'RBC Reference Table'!U60","v":"-"},{"$f":"'RBC Reference Table'!V60","v":"NV"},"--",{"$f":"IF(ISNUMBER(AP60),MAX($B60:$C60)/AP60,\"\")","v":""},{"$f":"'RBC Reference Table'!W60","v":"-"},{"$f":"'RBC Reference Table'!X60","v":"NV"},"--",{"$f":"IF(ISNUMBER(AT60),MAX($B60:$C60)/AT60,\"\")","v":""},{"$f":"'RBC Reference Table'!Y60","v":"-"},{"$f":"'RBC Reference Table'!Z60","v":"NV"},"--",{"$f":"IF(ISNUMBER(AX60),MAX($B60:$C60)/AX60,\"\")","v":""},{"$f":"'RBC Reference Table'!AA60","v":11},{"$f":"'RBC Reference Table'!AB60","v":0},null,null,{"$f":"'RBC Reference Table'!AC60","v":"-"},{"$f":"'RBC Reference Table'!AD60","v":">Csat"},null,null,{"$f":"'RBC Reference Table'!AE60","v":"-"},{"$f":"'RBC Reference Table'!AF60","v":">Csat"},null,null,{"$f":"'RBC Reference Table'!AG60","v":1.9},{"$f":"'RBC Reference Table'!AH60","v":0},"--",{"$f":"IF(ISNUMBER(BN60),$D60/BN60,\"\")","v":0},{"$f":"'RBC Reference Table'!AI60","v":9.5},{"$f":"'RBC Reference Table'!AJ60","v":0},"--",{"$f":"IF(ISNUMBER(BR60),$D60/BR60,\"\")","v":0},{"$f":"'RBC Reference Table'!AK60","v":8.6},{"$f":"'RBC Reference Table'!AL60","v":0},"--",{"$f":"IF(ISNUMBER(BV60),$D60/BV60,\"\")","v":0},{"$f":"'RBC Reference Table'!AM60","v":"-"},{"$f":"'RBC Reference Table'!AN60","v":"NV"},"--",{"$f":"IF(ISNUMBER(BZ60),$D60/BZ60,\"\")","v":""},{"$f":"'RBC Reference Table'!AO60","v":"-"},{"$f":"'RBC Reference Table'!AP60","v":"NV"},"--",{"$f":"IF(ISNUMBER(CD60),$D60/CD60,\"\")","v":""},{"$f":"'RBC Reference Table'!AQ60","v":"-"},{"$f":"'RBC Reference Table'!AR60","v":"NV"},"--",{"$f":"IF(ISNUMBER(CH60),$D60/CH60,\"\")","v":""},{"$f":"'RBC Reference Table'!AS60","v":"-"},{"$f":"'RBC Reference Table'!AT60","v":"NV"},"--",{"$f":"IF(ISNUMBER(CL60),$D60/CL60,\"\")","v":""},{"$f":"'RBC Reference Table'!AU60","v":"-"},{"$f":"'RBC Reference Table'!AV60","v":"NV"},"--",{"$f":"IF(ISNUMBER(CP60),$D60/CP60,\"\")","v":""},{"$f":"'RBC Reference Table'!AW60","v":"-"},{"$f":"'RBC Reference Table'!AX60","v":"NV"},"--",{"$f":"IF(ISNUMBER(CT60),$D60/CT60,\"\")","v":""},{"$f":"'RBC Reference Table'!AY60","v":170},{"$f":"'RBC Reference Table'!AZ60","v":0},"--",{"$f":"IF(ISNUMBER(CX60),$D60/CX60,\"\")","v":0},{"$f":"'RBC Reference Table'!BA60","v":"-"},{"$f":"'RBC Reference Table'!BB60","v":"NV"},"--",{"$f":"IF(ISNUMBER(DB60),$E60/DB60,\"\")","v":""},{"$f":"'RBC Reference Table'!BC60","v":"-"},{"$f":"'RBC Reference Table'!BD60","v":"NV"},"--",{"$f":"IF(ISNUMBER(DF60),$E60/DF60,\"\")","v":""},{"$f":"'RBC Reference Table'!BE59","v":"-"},{"$f":"'RBC Reference Table'!BF59","v":">Pv"},"--",{"$f":"IF(ISNUMBER(DJ60),$E60/DJ60,\"\")","v":""},{"$f":"'RBC Reference Table'!BG60","v":"-"},">Pv","--",{"$f":"IF(ISNUMBER(DN60),$F60/DN60,\"\")","v":""},{"$f":"'RBC Reference Table'!BI60","v":"-"},">Pv","--",{"$f":"IF(ISNUMBER(DR60),$F60/DR60,\"\")","v":""},{"$f":"'RBC Reference Table'!BK60","v":"-"},">Pv","--",{"$f":"IF(ISNUMBER(DV60),$F60/DV60,\"\")","v":""}]
[54,{"$f":"VLOOKUP($A61,'Applicable RBC Table'!$A$43:$F$136,2,FALSE)","v":0},{"$f":"VLOOKUP($A61,'Applicable RBC Table'!$A$43:$F$136,3,FALSE)","v":0},{"$f":"VLOOKUP($A61,'Applicable RBC Table'!$A$43:$F$136,4,FALSE)","v":42.9},{"$f":"VLOOKUP($A61,'Applicable RBC Table'!$A$43:$F$136,5,FALSE)","v":0},{"$f":"VLOOKUP($A61,'Applicable RBC Table'!$A$43:$F$136,6,FALSE)","v":0},"100-41-4","Ethylbenzene","c, v",{"$f":"'RBC Reference Table'!E61","v":34},{"$f":"'RBC Reference Table'!F61","v":0},{"$f":"IF(ISNUMBER(J61),($B61/J61)*10^-6,\"\")","v":0},"--",{"$f":"'RBC Reference Table'!G61","v":110},{"$f":"'RBC Reference Table'!H61","v":0},{"$f":"IF(ISNUMBER(N61),($B61/N61)*10^-6,\"\")","v":0},"--",{"$f":"'RBC Reference Table'!I61","v":150},{"$f":"'RBC Reference Table'!J61","v":0},{"$f":"IF(ISNUMBER(R61),($B61/R61)*10^-6,\"\")","v":0},"--",{"$f":"'RBC Reference Table'!K61","v":1700},{"$f":"'RBC Reference Table'!L61","v":">Csat"},{"$f":"IF(ISNUMBER(V61),(MAX($B61,$C61)/V61)*10^-6,\"\")","v":0},"--",{"$f":"'RBC Reference Table'!M61","v":49000},{"$f":"'RBC Reference Table'!N61","v":">Csat"},{"$f":"IF(ISNUMBER(Z61),(MAX($B61,$C61)/Z61)*10^-6,\"\")","v":0},"--",{"$f":"'RBC Reference Table'!O61","v":36},{"$f":"'RBC Reference Table'!P61","v":0},{"$f":"IF(ISNUMBER(AD61),(MAX($B61:$C61)/AD61)*10^-6,\"\")","v":0},"--",{"$f":"'RBC Reference Table'!O61","v":36},{"$f":"'RBC Reference Table'!P61","v":0},{"$f":"IF(ISNUMBER(AH61),(MAX($B61:$C61)/AH61)*10^-6,\"\")","v":0},"--",{"$f":"'RBC Reference Table'!S61","v":160},{"$f":"'RBC Reference Table'!T61","v":0},{"$f":"IF(ISNUMBER(AL61),(MAX($B61:$C61)/AL61)*10^-6,\"\")","v":0},"--",{"$f":"'RBC Reference Table'!U61","v":1.3},{"$f":"'RBC Reference Table'!V61","v":0},{"$f":"IF(ISNUMBER(AP61),(MAX($B61:$C61)/AP61)*10^-6,\"\")","v":0},"--",{"$f":"'RBC Reference Table'!W61","v":3},{"$f":"'RBC Reference Table'!X61","v":0},{"$f":"IF(ISNUMBER(AT61),(MAX($B61:$C61)/AT61)*10^-6,\"\")","v":0},"--",{"$f":"'RBC Reference Table'!Y61","v":17},{"$f":"'RBC Reference Table'!Z61","v":0},{"$f":"IF(ISNUMBER(AX61),(MAX($B61:$C61)/AX61)*10^-6,\"\")","v":0},"--",{"$f":"'RBC Reference Table'!AA61","v":0.22},{"$f":"'RBC Reference Table'!AB61","v":0},null,null,{"$f":"'RBC Reference Table'!AC61","v":0.94},{"$f":"'RBC Reference Table'!AD61","v":0},null,null,{"$f":"'RBC Reference Table'!AE61","v":0.9},{"$f":"'RBC Reference Table'!AF61","v":0},null,null,{"$f":"'RBC Reference Table'!AG61","v":1.5},{"$f":"'RBC Reference Table'!AH61","v":0},{"$f":"IF(ISNUMBER(BN61),($D61/BN61)*10^-6,\"\")","v":2.8599999999999997E-5},"--",{"$f":"'RBC Reference Table'!AI61","v":6.7},{"$f":"'RBC Reference Table'!AJ61","v":0},{"$f":"IF(ISNUMBER(BR61),($D61/BR61)*10^-6,\"\")","v":6.4029850746268656E-6},"--",{"$f":"'RBC Reference Table'!AK61","v":6.4},{"$f":"'RBC Reference Table'!AL61","v":0},{"$f":"IF(ISNUMBER(BV61),($D61/BV61)*10^-6,\"\")","v":6.7031249999999986E-6},"--",{"$f":"'RBC Reference Table'!AM61","v":9900},{"$f":"'RBC Reference Table'!AN61","v":0},{"$f":"IF(ISNUMBER(BZ61),($D61/BZ61)*10^-6,\"\")","v":4.3333333333333333E-9},"--",{"$f":"'RBC Reference Table'!AO61","v":23000},{"$f":"'RBC Reference Table'!AP61","v":0},{"$f":"IF(ISNUMBER(CD61),($D61/CD61)*10^-6,\"\")","v":1.8652173913043477E-9},"--",{"$f":"'RBC Reference Table'!AQ61","v":43000},{"$f":"'RBC Reference Table'!AR61","v":0},{"$f":"IF(ISNUMBER(CH61),($D61/CH61)*10^-6,\"\")","v":9.9767441860465112E-10},"--",{"$f":"'RBC Reference Table'!AS61","v":620},{"$f":"'RBC Reference Table'!AT61","v":0},{"$f":"IF(ISNUMBER(CL61),($D61/CL61)*10^-6,\"\")","v":6.9193548387096776E-8},"--",{"$f":"'RBC Reference Table'!AU61","v":1500},{"$f":"'RBC Reference Table'!AV61","v":0},{"$f":"IF(ISNUMBER(CP61),($D61/CP61)*10^-6,\"\")","v":2.8599999999999998E-8},"--",{"$f":"'RBC Reference Table'!AW61","v":8200},{"$f":"'RBC Reference Table'!AX61","v":0},{"$f":"IF(ISNUMBER(CT61),($D61/CT61)*10^-6,\"\")","v":5.2317073170731703E-9},"--",{"$f":"'RBC Reference Table'!AY61","v":4500},{"$f":"'RBC Reference Table'!AZ61","v":0},{"$f":"IF(ISNUMBER(CX61),($D61/CX61)*10^-6,\"\")","v":9.5333333333333327E-9},"--",{"$f":"'RBC Reference Table'!BA61","v":220},{"$f":"'RBC Reference Table'!BB61","v":0},{"$f":"IF(ISNUMBER(DB61),($E61/DB61)*10^-6,\"\")","v":0},"--",{"$f":"'RBC Reference Table'!BC61","v":530},{"$f":"'RBC Reference Table'!BD61","v":0},{"$f":"IF(ISNUMBER(DF61),($E61/DF61)*10^-6,\"\")","v":0},"--",{"$f":"'RBC Reference Table'!BE60","v":"-"},{"$f":"'RBC Reference Table'!BF60","v":"NV"},{"$f":"IF(ISNUMBER(DJ61),($E61/DJ61)*10^-6,\"\")","v":""},"--",{"$f":"'RBC Reference Table'!BG61","v":1.1000000000000001},null,{"$f":"IF(ISNUMBER(DN61),($F61/DN61)*10^-6,\"\")","v":0},"--",{"$f":"'RBC Reference Table'!BI61","v":2.7},null,{"$f":"IF(ISNUMBER(DR61),($F61/DR61)*10^-6,\"\")","v":0},"--",{"$f":"'RBC Reference Table'!BK61","v":4.9000000000000004},null,{"$f":"IF(ISNUMBER(DV61),($F61/DV61)*10^-6,\"\")","v":0},"--"]
[55,{"$f":"VLOOKUP($A62,'Applicable RBC Table'!$A$43:$F$136,2,FALSE)","v":0},{"$f":"VLOOKUP($A62,'Applicable RBC Table'!$A$43:$F$136,3,FALSE)","v":0},{"$f":"VLOOKUP($A62,'Applicable RBC Table'!$A$43:$F$136,4,FALSE)","v":0},{"$f":"VLOOKUP($A62,'Applicable RBC Table'!$A$43:$F$136,5,FALSE)","v":0},{"$f":"VLOOKUP($A62,'Applicable RBC Table'!$A$43:$F$136,6,FALSE)","v":0},"206-44-0","Fluoranthene","nc, nv",{"$f":"'RBC Reference Table'!E62","v":2400},{"$f":"'RBC Reference Table'!F62","v":">Csat"},"--",{"$f":"IF(ISNUMBER(J62),$B62/J62,\"\")","v":0},{"$f":"'RBC Reference Table'!G62","v":4800},{"$f":"'RBC Reference Table'!H62","v":">Csat"},"--",{"$f":"IF(ISNUMBER(N62),$B62/N62,\"\")","v":0},{"$f":"'RBC Reference Table'!I62","v":30000},{"$f":"'RBC Reference Table'!J62","v":">Csat"},"--",{"$f":"IF(ISNUMBER(R62),$B62/R62,\"\")","v":0},{"$f":"'RBC Reference Table'!K62","v":10000},{"$f":"'RBC Reference Table'!L62","v":">Csat"},"--",{"$f":"IF(ISNUMBER(V62),MAX($B62,$C62)/V62,\"\")","v":0},{"$f":"'RBC Reference Table'!M62","v":280000},{"$f":"'RBC Reference Table'!N62","v":">Csat"},"--",{"$f":"IF(ISNUMBER(Z62),MAX($B62,$C62)/Z62,\"\")","v":0},{"$f":"'RBC Reference Table'!O62","v":"-"},{"$f":"'RBC Reference Table'!P62","v":"NV"},"--",{"$f":"IF(ISNUMBER(AD62),MAX($B62:$C62)/AD62,\"\")","v":""},{"$f":"'RBC Reference Table'!O62","v":"-"},{"$f":"'RBC Reference Table'!P62","v":"NV"},"--",{"$f":"IF(ISNUMBER(AH62),MAX($B62:$C62)/AH62,\"\")","v":""},{"$f":"'RBC Reference Table'!S62","v":"-"},{"$f":"'RBC Reference Table'!T62","v":"NV"},"--",{"$f":"IF(ISNUMBER(AL62),MAX($B62:$C62)/AL62,\"\")","v":""},{"$f":"'RBC Reference Table'!U62","v":"-"},{"$f":"'RBC Reference Table'!V62","v":"NV"},"--",{"$f":"IF(ISNUMBER(AP62),MAX($B62:$C62)/AP62,\"\")","v":""},{"$f":"'RBC Reference Table'!W62","v":"-"},{"$f":"'RBC Reference Table'!X62","v":"NV"},"--",{"$f":"IF(ISNUMBER(AT62),MAX($B62:$C62)/AT62,\"\")","v":""},{"$f":"'RBC Reference Table'!Y62","v":"-"},{"$f":"'RBC Reference Table'!Z62","v":"NV"},"--",{"$f":"IF(ISNUMBER(AX62),MAX($B62:$C62)/AX62,\"\")","v":""},{"$f":"'RBC Reference Table'!AA62","v":"-"},{"$f":"'RBC Reference Table'!AB62","v":">Csat"},null,null,{"$f":"'RBC Reference Table'!AC62","v":"-"},{"$f":"'RBC Reference Table'!AD62","v":">Csat"},null,null,{"$f":"'RBC Reference Table'!AE62","v":"-"},{"$f":"'RBC Reference Table'!AF62","v":">Csat"},null,null,{"$f":"'RBC Reference Table'!AG62","v":"-"},{"$f":"'RBC Reference Table'!AH62","v":">S"},"--",{"$f":"IF(ISNUMBER(BN62),$D62/BN62,\"\")","v":""},{"$f":"'RBC Reference Table'!AI62","v":"-"},{"$f":"'RBC Reference Table'!AJ62","v":">S"},"--",{"$f":"IF(ISNUMBER(BR62),$D62/BR62,\"\")","v":""},{"$f":"'RBC Reference Table'!AK62","v":"-"},{"$f":"'RBC Reference Table'!AL62","v":">S"},"--",{"$f":"IF(ISNUMBER(BV62),$D62/BV62,\"\")","v":""},{"$f":"'RBC Reference Table'!AM62","v":"-"},{"$f":"'RBC Reference Table'!AN62","v":"NV"},"--",{"$f":"IF(ISNUMBER(BZ62),$D62/BZ62,\"\")","v":""},{"$f":"'RBC Reference Table'!AO62","v":"-"},{"$f":"'RBC Reference Table'!AP62","v":"NV"},"--",{"$f":"IF(ISNUMBER(CD62),$D62/CD62,\"\")","v":""},{"$f":"'RBC Reference Table'!AQ62","v":"-"},{"$f":"'RBC Reference Table'!AR62","v":"NV"},"--",{"$f":"IF(ISNUMBER(CH62),$D62/CH62,\"\")","v":""},{"$f":"'RBC Reference Table'!AS62","v":"-"},{"$f":"'RBC Reference Table'!AT62","v":"NV"},"--",{"$f":"IF(ISNUMBER(CL62),$D62/CL62,\"\")","v":""},{"$f":"'RBC Reference Table'!AU62","v":"-"},{"$f":"'RBC Reference Table'!AV62","v":"NV"},"--",{"$f":"IF(ISNUMBER(CP62),$D62/CP62,\"\")","v":""},{"$f":"'RBC Reference Table'!AW62","v":"-"},{"$f":"'RBC Reference Table'!AX62","v":"NV"},"--",{"$f":"IF(ISNUMBER(CT62),$D62/CT62,\"\")","v":""},{"$f":"'RBC Reference Table'!AY62","v":"-"},{"$f":"'RBC Reference Table'!AZ62","v":">S"},"--",{"$f":"IF(ISNUMBER(CX62),$D62/CX62,\"\")","v":""},{"$f":"'RBC Reference Table'!BA62","v":"-"},{"$f":"'RBC Reference Table'!BB62","v":"NV"},"--",{"$f":"IF(ISNUMBER(DB62),$E62/DB62,\"\")","v":""},{"$f":"'RBC Reference Table'!BC62","v":"-"},{"$f":"'RBC Reference Table'!BD62","v":"NV"},"--",{"$f":"IF(ISNUMBER(DF62),$E62/DF62,\"\")","v":""},{"$f":"'RBC Reference Table'!BE61","v":4900},{"$f":"'RBC Reference Table'!BF61","v":0},"--",{"$f":"IF(ISNUMBER(DJ62),$E62/DJ62,\"\")","v":0},{"$f":"'RBC Reference Table'!BG62","v":"-"},">Pv","--",{"$f":"IF(ISNUMBER(DN62),$F62/DN62,\"\")","v":""},{"$f":"'RBC Reference Table'!BI62","v":"-"},">Pv","--",{"$f":"IF(ISNUMBER(DR62),$F62/DR62,\"\")","v":""},{"$f":"'RBC Reference Table'!BK62","v":"-"},">Pv","--",{"$f":"IF(ISNUMBER(DV62),$F62/DV62,\"\")","v":""}]
[56,{"$f":"VLOOKUP($A63,'Applicable RBC Table'!$A$43:$F$136,2,FALSE)","v":0},{"$f":"VLOOKUP($A63,'Applicable RBC Table'!$A$43:$F$136,3,FALSE)","v":0},{"$f":"VLOOKUP($A63,'Applicable RBC Table'!$A$43:$F$136,4,FALSE)","v":0},{"$f":"VLOOKUP($A63,'Applicable RBC Table'!$A$43:$F$136,5,FALSE)","v":0},{"$f":"VLOOKUP($A63,'Applicable RBC Table'!$A$43:$F$136,6,FALSE)","v":0},"86-73-7","Fluorene","nc, v",{"$f":"'RBC Reference Table'!E63","v":3100},{"$f":"'RBC Reference Table'!F63","v":">Csat"},"--",{"$f":"IF(ISNUMBER(J63),$B63/J63,\"\")","v":0},{"$f":"'RBC Reference Table'!G63","v":6300},{"$f":"'RBC Reference Table'!H63","v":">Csat"},"--",{"$f":"IF(ISNUMBER(N63),$B63/N63,\"\")","v":0},{"$f":"'RBC Reference Table'!I63","v":47000},{"$f":"'RBC Reference Table'!J63","v":">Csat"},"--",{"$f":"IF(ISNUMBER(R63),$B63/R63,\"\")","v":0},{"$f":"'RBC Reference Table'!K63","v":14000},{"$f":"'RBC Reference Table'!L63","v":">Csat"},"--",{"$f":"IF(ISNUMBER(V63),MAX($B63,$C63)/V63,\"\")","v":0},{"$f":"'RBC Reference Table'!M63","v":390000},{"$f":"'RBC Reference Table'!N63","v":">Csat"},"--",{"$f":"IF(ISNUMBER(Z63),MAX($B63,$C63)/Z63,\"\")","v":0},{"$f":"'RBC Reference Table'!O63","v":"-"},{"$f":"'RBC Reference Table'!P63","v":">Max"},"--",{"$f":"IF(ISNUMBER(AD63),MAX($B63:$C63)/AD63,\"\")","v":""},{"$f":"'RBC Reference Table'!O63","v":"-"},{"$f":"'RBC Reference Table'!P63","v":">Max"},"--",{"$f":"IF(ISNUMBER(AH63),MAX($B63:$C63)/AH63,\"\")","v":""},{"$f":"'RBC Reference Table'!S63","v":"-"},{"$f":"'RBC Reference Table'!T63","v":">Max"},"--",{"$f":"IF(ISNUMBER(AL63),MAX($B63:$C63)/AL63,\"\")","v":""},{"$f":"'RBC Reference Table'!U63","v":"-"},{"$f":"'RBC Reference Table'!V63","v":">Max"},"--",{"$f":"IF(ISNUMBER(AP63),MAX($B63:$C63)/AP63,\"\")","v":""},{"$f":"'RBC Reference Table'!W63","v":"-"},{"$f":"'RBC Reference Table'!X63","v":">Max"},"--",{"$f":"IF(ISNUMBER(AT63),MAX($B63:$C63)/AT63,\"\")","v":""},{"$f":"'RBC Reference Table'!Y63","v":"-"},{"$f":"'RBC Reference Table'!Z63","v":">Max"},"--",{"$f":"IF(ISNUMBER(AX63),MAX($B63:$C63)/AX63,\"\")","v":""},{"$f":"'RBC Reference Table'!AA63","v":"-"},{"$f":"'RBC Reference Table'!AB63","v":">Csat"},null,null,{"$f":"'RBC Reference Table'!AC63","v":"-"},{"$f":"'RBC Reference Table'!AD63","v":">Csat"},null,null,{"$f":"'RBC Reference Table'!AE63","v":"-"},{"$f":"'RBC Reference Table'!AF63","v":">Csat"},null,null,{"$f":"'RBC Reference Table'!AG63","v":280},{"$f":"'RBC Reference Table'!AH63","v":0},"--",{"$f":"IF(ISNUMBER(BN63),$D63/BN63,\"\")","v":0},{"$f":"'RBC Reference Table'!AI63","v":1400},{"$f":"'RBC Reference Table'!AJ63","v":0},"--",{"$f":"IF(ISNUMBER(BR63),$D63/BR63,\"\")","v":0},{"$f":"'RBC Reference Table'!AK63","v":1300},{"$f":"'RBC Reference Table'!AL63","v":0},"--",{"$f":"IF(ISNUMBER(BV63),$D63/BV63,\"\")","v":0},{"$f":"'RBC Reference Table'!AM63","v":"-"},{"$f":"'RBC Reference Table'!AN63","v":">S"},"--",{"$f":"IF(ISNUMBER(BZ63),$D63/BZ63,\"\")","v":""},{"$f":"'RBC Reference Table'!AO63","v":"-"},{"$f":"'RBC Reference Table'!AP63","v":">S"},"--",{"$f":"IF(ISNUMBER(CD63),$D63/CD63,\"\")","v":""},{"$f":"'RBC Reference Table'!AQ63","v":"-"},{"$f":"'RBC Reference Table'!AR63","v":">S"},"--",{"$f":"IF(ISNUMBER(CH63),$D63/CH63,\"\")","v":""},{"$f":"'RBC Reference Table'!AS63","v":"-"},{"$f":"'RBC Reference Table'!AT63","v":">S"},"--",{"$f":"IF(ISNUMBER(CL63),$D63/CL63,\"\")","v":""},{"$f":"'RBC Reference Table'!AU63","v":"-"},{"$f":"'RBC Reference Table'!AV63","v":">S"},"--",{"$f":"IF(ISNUMBER(CP63),$D63/CP63,\"\")","v":""},{"$f":"'RBC Reference Table'!AW63","v":"-"},{"$f":"'RBC Reference Table'!AX63","v":">S"},"--",{"$f":"IF(ISNUMBER(CT63),$D63/CT63,\"\")","v":""},{"$f":"'RBC Reference Table'!AY63","v":"-"},{"$f":"'RBC Reference Table'!AZ63","v":">S"},"--",{"$f":"IF(ISNUMBER(CX63),$D63/CX63,\"\")","v":""},{"$f":"'RBC Reference Table'!BA63","v":"-"},{"$f":"'RBC Reference Table'!BB63","v":">Pv"},"--",{"$f":"IF(ISNUMBER(DB63),$E63/DB63,\"\")","v":""},{"$f":"'RBC Reference Table'!BC63","v":"-"},{"$f":"'RBC Reference Table'!BD63","v":">Pv"},"--",{"$f":"IF(ISNUMBER(DF63),$E63/DF63,\"\")","v":""},{"$f":"'RBC Reference Table'!BE62","v":"-"},{"$f":"'RBC Reference Table'!BF62","v":"NV"},"--",{"$f":"IF(ISNUMBER(DJ63),$E63/DJ63,\"\")","v":""},{"$f":"'RBC Reference Table'!BG63","v":"-"},">Pv","--",{"$f":"IF(ISNUMBER(DN63),$F63/DN63,\"\")","v":""},{"$f":"'RBC Reference Table'!BI63","v":"-"},">Pv","--",{"$f":"IF(ISNUMBER(DR63),$F63/DR63,\"\")","v":""},{"$f":"'RBC Reference Table'!BK63","v":"-"},">Pv","--",{"$f":"IF(ISNUMBER(DV63),$F63/DV63,\"\")","v":""}]
[57,{"$f":"VLOOKUP($A64,'Applicable RBC Table'!$A$43:$F$136,2,FALSE)","v":0},{"$f":"VLOOKUP($A64,'Applicable RBC Table'!$A$43:$F$136,3,FALSE)","v":0},{"$f":"VLOOKUP($A64,'Applicable RBC Table'!$A$43:$F$136,4,FALSE)","v":0},{"$f":"VLOOKUP($A64,'Applicable RBC Table'!$A$43:$F$136,5,FALSE)","v":0},{"$f":"VLOOKUP($A64,'Applicable RBC Table'!$A$43:$F$136,6,FALSE)","v":0},"50-00-0","Formaldehyde","c, v",{"$f":"'RBC Reference Table'!E64","v":15},{"$f":"'RBC Reference Table'!F64","v":0},{"$f":"IF(ISNUMBER(J64),($B64/J64)*10^-6,\"\")","v":0},"--",{"$f":"'RBC Reference Table'!G64","v":69},{"$f":"'RBC Reference Table'!H64","v":0},{"$f":"IF(ISNUMBER(N64),($B64/N64)*10^-6,\"\")","v":0},"--",{"$f":"'RBC Reference Table'!I64","v":64},{"$f":"'RBC Reference Table'!J64","v":0},{"$f":"IF(ISNUMBER(R64),($B64/R64)*10^-6,\"\")","v":0},"--",{"$f":"'RBC Reference Table'!K64","v":1600},{"$f":"'RBC Reference Table'!L64","v":0},{"$f":"IF(ISNUMBER(V64),(MAX($B64,$C64)/V64)*10^-6,\"\")","v":0},"--",{"$f":"'RBC Reference Table'!M64","v":44000},{"$f":"'RBC Reference Table'!N64","v":">Csat"},{"$f":"IF(ISNUMBER(Z64),(MAX($B64,$C64)/Z64)*10^-6,\"\")","v":0},"--",{"$f":"'RBC Reference Table'!O64","v":48},{"$f":"'RBC Reference Table'!P64","v":0},{"$f":"IF(ISNUMBER(AD64),(MAX($B64:$C64)/AD64)*10^-6,\"\")","v":0},"--",{"$f":"'RBC Reference Table'!O64","v":48},{"$f":"'RBC Reference Table'!P64","v":0},{"$f":"IF(ISNUMBER(AH64),(MAX($B64:$C64)/AH64)*10^-6,\"\")","v":0},"--",{"$f":"'RBC Reference Table'!S64","v":630},{"$f":"'RBC Reference Table'!T64","v":0},{"$f":"IF(ISNUMBER(AL64),(MAX($B64:$C64)/AL64)*10^-6,\"\")","v":0},"--",{"$f":"'RBC Reference Table'!U64","v":48},{"$f":"'RBC Reference Table'!V64","v":0},{"$f":"IF(ISNUMBER(AP64),(MAX($B64:$C64)/AP64)*10^-6,\"\")","v":0},"--",{"$f":"'RBC Reference Table'!W64","v":110},{"$f":"'RBC Reference Table'!X64","v":0},{"$f":"IF(ISNUMBER(AT64),(MAX($B64:$C64)/AT64)*10^-6,\"\")","v":0},"--",{"$f":"'RBC Reference Table'!Y64","v":630},{"$f":"'RBC Reference Table'!Z64","v":0},{"$f":"IF(ISNUMBER(AX64),(MAX($B64:$C64)/AX64)*10^-6,\"\")","v":0},"--",{"$f":"'RBC Reference Table'!AA64","v":2E-3},{"$f":"'RBC Reference Table'!AB64","v":0},null,null,{"$f":"'RBC Reference Table'!AC64","v":9.2999999999999992E-3},{"$f":"'RBC Reference Table'!AD64","v":0},null,null,{"$f":"'RBC Reference Table'!AE64","v":8.6E-3},{"$f":"'RBC Reference Table'!AF64","v":0},null,null,{"$f":"'RBC Reference Table'!AG64","v":0.43},{"$f":"'RBC Reference Table'!AH64","v":0},{"$f":"IF(ISNUMBER(BN64),($D64/BN64)*10^-6,\"\")","v":0},"--",{"$f":"'RBC Reference Table'!AI64","v":2},{"$f":"'RBC Reference Table'!AJ64","v":0},{"$f":"IF(ISNUMBER(BR64),($D64/BR64)*10^-6,\"\")","v":0},"--",{"$f":"'RBC Reference Table'!AK64","v":1.9},{"$f":"'RBC Reference Table'!AL64","v":0},{"$f":"IF(ISNUMBER(BV64),($D64/BV64)*10^-6,\"\")","v":0},"--",{"$f":"'RBC Reference Table'!AM64","v":1500000},{"$f":"'RBC Reference Table'!AN64","v":0},{"$f":"IF(ISNUMBER(BZ64),($D64/BZ64)*10^-6,\"\")","v":0},"--",{"$f":"'RBC Reference Table'!AO64","v":3700000},{"$f":"'RBC Reference Table'!AP64","v":0},{"$f":"IF(ISNUMBER(CD64),($D64/CD64)*10^-6,\"\")","v":0},"--",{"$f":"'RBC Reference Table'!AQ64","v":8500000},{"$f":"'RBC Reference Table'!AR64","v":0},{"$f":"IF(ISNUMBER(CH64),($D64/CH64)*10^-6,\"\")","v":0},"--",{"$f":"'RBC Reference Table'!AS64","v":650000},{"$f":"'RBC Reference Table'!AT64","v":0},{"$f":"IF(ISNUMBER(CL64),($D64/CL64)*10^-6,\"\")","v":0},"--",{"$f":"'RBC Reference Table'!AU64","v":1500000},{"$f":"'RBC Reference Table'!AV64","v":0},{"$f":"IF(ISNUMBER(CP64),($D64/CP64)*10^-6,\"\")","v":0},"--",{"$f":"'RBC Reference Table'!AW64","v":8500000},{"$f":"'RBC Reference Table'!AX64","v":0},{"$f":"IF(ISNUMBER(CT64),($D64/CT64)*10^-6,\"\")","v":0},"--",{"$f":"'RBC Reference Table'!AY64","v":1300},{"$f":"'RBC Reference Table'!AZ64","v":0},{"$f":"IF(ISNUMBER(CX64),($D64/CX64)*10^-6,\"\")","v":0},"--",{"$f":"'RBC Reference Table'!BA64","v":43},{"$f":"'RBC Reference Table'!BB64","v":0},{"$f":"IF(ISNUMBER(DB64),($E64/DB64)*10^-6,\"\")","v":0},"--",{"$f":"'RBC Reference Table'!BC64","v":100},{"$f":"'RBC Reference Table'!BD64","v":0},{"$f":"IF(ISNUMBER(DF64),($E64/DF64)*10^-6,\"\")","v":0},"--",{"$f":"'RBC Reference Table'!BE63","v":"-"},{"$f":"'RBC Reference Table'!BF63","v":">Pv"},{"$f":"IF(ISNUMBER(DJ64),($E64/DJ64)*10^-6,\"\")","v":""},"--",{"$f":"'RBC Reference Table'!BG64","v":0.22},null,{"$f":"IF(ISNUMBER(DN64),($F64/DN64)*10^-6,\"\")","v":0},"--",{"$f":"'RBC Reference Table'!BI64","v":0.51},null,{"$f":"IF(ISNUMBER(DR64),($F64/DR64)*10^-6,\"\")","v":0},"--",{"$f":"'RBC Reference Table'!BK64","v":0.94},null,{"$f":"IF(ISNUMBER(DV64),($F64/DV64)*10^-6,\"\")","v":0},"--"]
[58,{"$f":"VLOOKUP($A65,'Applicable RBC Table'!$A$43:$F$136,2,FALSE)","v":0},{"$f":"VLOOKUP($A65,'Applicable RBC Table'!$A$43:$F$136,3,FALSE)","v":0},{"$f":"VLOOKUP($A65,'Applicable RBC Table'!$A$43:$F$136,4,FALSE)","v":0},{"$f":"VLOOKUP($A65,'Applicable RBC Table'!$A$43:$F$136,5,FALSE)","v":0},{"$f":"VLOOKUP($A65,'Applicable RBC Table'!$A$43:$F$136,6,FALSE)","v":0},"76-44-8","Heptachlor","c, v",{"$f":"'RBC Reference Table'!E65","v":0.11},{"$f":"'RBC Reference Table'!F65","v":0},0,"--",{"$f":"'RBC Reference Table'!G65","v":0.28000000000000003},{"$f":"'RBC Reference Table'!H65","v":0},0,"--",{"$f":"'RBC Reference Table'!I65","v":0.45},{"$f":"'RBC Reference Table'!J65","v":0},0,"--",{"$f":"'RBC Reference Table'!K65","v":4},{"$f":"'RBC Reference Table'!L65","v":0},0,"--",{"$f":"'RBC Reference Table'!M65","v":110},{"$f":"'RBC Reference Table'!N65","v":0},0,"--",{"$f":"'RBC Reference Table'!O65","v":18},{"$f":"'RBC Reference Table'!P65","v":0},0,"--",{"$f":"'RBC Reference Table'!O65","v":18},{"$f":"'RBC Reference Table'!P65","v":0},0,"--",{"$f":"'RBC Reference Table'!S65","v":230},{"$f":"'RBC Reference Table'!T65","v":0},0,"--",{"$f":"'RBC Reference Table'!U65","v":18},{"$f":"'RBC Reference Table'!V65","v":0},0,"--",{"$f":"'RBC Reference Table'!W65","v":42},{"$f":"'RBC Reference Table'!X65","v":0},0,"--",{"$f":"'RBC Reference Table'!Y65","v":230},{"$f":"'RBC Reference Table'!Z65","v":0},0,"--",{"$f":"'RBC Reference Table'!AA65","v":1.7000000000000001E-2},{"$f":"'RBC Reference Table'!AB65","v":0},null,null,{"$f":"'RBC Reference Table'!AC65","v":6.3E-2},{"$f":"'RBC Reference Table'!AD65","v":0},null,null,{"$f":"'RBC Reference Table'!AE65","v":4.8000000000000001E-2},{"$f":"'RBC Reference Table'!AF65","v":0},null,null,{"$f":"'RBC Reference Table'!AG65","v":1.4E-3},{"$f":"'RBC Reference Table'!AH65","v":0},0,"--",{"$f":"'RBC Reference Table'!AI65","v":5.1000000000000004E-3},{"$f":"'RBC Reference Table'!AJ65","v":0},0,"--",{"$f":"'RBC Reference Table'!AK65","v":3.8999999999999998E-3},{"$f":"'RBC Reference Table'!AL65","v":0},0,"--",{"$f":"'RBC Reference Table'!AM65","v":"-"},{"$f":"'RBC Reference Table'!AN65","v":">S"},"","--",{"$f":"'RBC Reference Table'!AO65","v":"-"},{"$f":"'RBC Reference Table'!AP65","v":">S"},"","--",{"$f":"'RBC Reference Table'!AQ65","v":"-"},{"$f":"'RBC Reference Table'!AR65","v":">S"},"","--",{"$f":"'RBC Reference Table'!AS65","v":88},{"$f":"'RBC Reference Table'!AT65","v":0},0,"--",{"$f":"'RBC Reference Table'!AU65","v":"-"},{"$f":"'RBC Reference Table'!AV65","v":">S"},"","--",{"$f":"'RBC Reference Table'!AW65","v":"-"},{"$f":"'RBC Reference Table'!AX65","v":">S"},"","--",{"$f":"'RBC Reference Table'!AY65","v":1.8},{"$f":"'RBC Reference Table'!AZ65","v":0},0,"--",{"$f":"'RBC Reference Table'!BA65","v":0.43},{"$f":"'RBC Reference Table'!BB65","v":0},0,"--",{"$f":"'RBC Reference Table'!BC65","v":1},{"$f":"'RBC Reference Table'!BD65","v":0},0,"--",{"$f":"'RBC Reference Table'!BE64","v":940},{"$f":"'RBC Reference Table'!BF64","v":0},0,"--",{"$f":"'RBC Reference Table'!BG65","v":2.2000000000000001E-3},null,0,"--",{"$f":"'RBC Reference Table'!BI65","v":5.1000000000000004E-3},null,0,"--",{"$f":"'RBC Reference Table'!BK65","v":9.4000000000000004E-3},null,0,"--"]
[59,{"$f":"VLOOKUP($A66,'Applicable RBC Table'!$A$43:$F$136,2,FALSE)","v":0},{"$f":"VLOOKUP($A66,'Applicable RBC Table'!$A$43:$F$136,3,FALSE)","v":0},{"$f":"VLOOKUP($A66,'Applicable RBC Table'!$A$43:$F$136,4,FALSE)","v":0},{"$f":"VLOOKUP($A66,'Applicable RBC Table'!$A$43:$F$136,5,FALSE)","v":0},{"$f":"VLOOKUP($A66,'Applicable RBC Table'!$A$43:$F$136,6,FALSE)","v":0},"1024-57-3","Heptachlor Epoxide","c, v",{"$f":"'RBC Reference Table'!E66","v":5.5E-2},{"$f":"'RBC Reference Table'!F66","v":0},0,"--",{"$f":"'RBC Reference Table'!G66","v":0.14000000000000001},{"$f":"'RBC Reference Table'!H66","v":0},0,"--",{"$f":"'RBC Reference Table'!I66","v":0.24},{"$f":"'RBC Reference Table'!J66","v":0},0,"--",{"$f":"'RBC Reference Table'!K66","v":2},{"$f":"'RBC Reference Table'!L66","v":0},0,"--",{"$f":"'RBC Reference Table'!M66","v":56},{"$f":"'RBC Reference Table'!N66","v":0},0,"--",{"$f":"'RBC Reference Table'!O66","v":28},{"$f":"'RBC Reference Table'!P66","v":0},0,"--",{"$f":"'RBC Reference Table'!O66","v":28},{"$f":"'RBC Reference Table'!P66","v":0},0,"--",{"$f":"'RBC Reference Table'!S66","v":"-"},{"$f":"'RBC Reference Table'!T66","v":">Csat"},"","--",{"$f":"'RBC Reference Table'!U66","v":28},{"$f":"'RBC Reference Table'!V66","v":0},0,"--",{"$f":"'RBC Reference Table'!W66","v":66},{"$f":"'RBC Reference Table'!X66","v":0},0,"--",{"$f":"'RBC Reference Table'!Y66","v":"-"},{"$f":"'RBC Reference Table'!Z66","v":">Csat"},"","--",{"$f":"'RBC Reference Table'!AA66","v":4.1999999999999997E-3},{"$f":"'RBC Reference Table'!AB66","v":0},null,null,{"$f":"'RBC Reference Table'!AC66","v":1.7999999999999999E-2},{"$f":"'RBC Reference Table'!AD66","v":0},null,null,{"$f":"'RBC Reference Table'!AE66","v":1.6E-2},{"$f":"'RBC Reference Table'!AF66","v":0},null,null,{"$f":"'RBC Reference Table'!AG66","v":1.4E-3},{"$f":"'RBC Reference Table'!AH66","v":0},0,"--",{"$f":"'RBC Reference Table'!AI66","v":5.8999999999999999E-3},{"$f":"'RBC Reference Table'!AJ66","v":0},0,"--",{"$f":"'RBC Reference Table'!AK66","v":5.3E-3},{"$f":"'RBC Reference Table'!AL66","v":0},0,"--",{"$f":"'RBC Reference Table'!AM66","v":"-"},{"$f":"'RBC Reference Table'!AN66","v":">S"},"","--",{"$f":"'RBC Reference Table'!AO66","v":"-"},{"$f":"'RBC Reference Table'!AP66","v":">S"},"","--",{"$f":"'RBC Reference Table'!AQ66","v":"-"},{"$f":"'RBC Reference Table'!AR66","v":">S"},"","--",{"$f":"'RBC Reference Table'!AS66","v":"-"},{"$f":"'RBC Reference Table'!AT66","v":">S"},"","--",{"$f":"'RBC Reference Table'!AU66","v":"-"},{"$f":"'RBC Reference Table'!AV66","v":">S"},"","--",{"$f":"'RBC Reference Table'!AW66","v":"-"},{"$f":"'RBC Reference Table'!AX66","v":">S"},"","--",{"$f":"'RBC Reference Table'!AY66","v":3.2},{"$f":"'RBC Reference Table'!AZ66","v":0},0,"--",{"$f":"'RBC Reference Table'!BA66","v":0.22},{"$f":"'RBC Reference Table'!BB66","v":0},0,"--",{"$f":"'RBC Reference Table'!BC66","v":0.51},{"$f":"'RBC Reference Table'!BD66","v":0},0,"--",{"$f":"'RBC Reference Table'!BE65","v":9.4},{"$f":"'RBC Reference Table'!BF65","v":0},0,"--",{"$f":"'RBC Reference Table'!BG66","v":1.1000000000000001E-3},null,0,"--",{"$f":"'RBC Reference Table'!BI66","v":2.5999999999999999E-3},null,0,"--",{"$f":"'RBC Reference Table'!BK66","v":4.7000000000000002E-3},null,0,"--"]
[60,{"$f":"VLOOKUP($A67,'Applicable RBC Table'!$A$43:$F$136,2,FALSE)","v":0},{"$f":"VLOOKUP($A67,'Applicable RBC Table'!$A$43:$F$136,3,FALSE)","v":0},{"$f":"VLOOKUP($A67,'Applicable RBC Table'!$A$43:$F$136,4,FALSE)","v":0},{"$f":"VLOOKUP($A67,'Applicable RBC Table'!$A$43:$F$136,5,FALSE)","v":0},{"$f":"VLOOKUP($A67,'Applicable RBC Table'!$A$43:$F$136,6,FALSE)","v":0},"118-74-1","Hexachlorobenzene","c, v",{"$f":"'RBC Reference Table'!E67","v":0.21},{"$f":"'RBC Reference Table'!F67","v":0},0,"--",{"$f":"'RBC Reference Table'!G67","v":0.67},{"$f":"'RBC Reference Table'!H67","v":0},0,"--",{"$f":"'RBC Reference Table'!I67","v":0.93},{"$f":"'RBC Reference Table'!J67","v":0},0,"--",{"$f":"'RBC Reference Table'!K67","v":11},{"$f":"'RBC Reference Table'!L67","v":0},0,"--",{"$f":"'RBC Reference Table'!M67","v":320},{"$f":"'RBC Reference Table'!N67","v":0},0,"--",{"$f":"'RBC Reference Table'!O67","v":1},{"$f":"'RBC Reference Table'!P67","v":0},0,"--",{"$f":"'RBC Reference Table'!O67","v":1},{"$f":"'RBC Reference Table'!P67","v":0},0,"--",{"$f":"'RBC Reference Table'!S67","v":13},{"$f":"'RBC Reference Table'!T67","v":0},0,"--",{"$f":"'RBC Reference Table'!U67","v":1},{"$f":"'RBC Reference Table'!V67","v":0},0,"--",{"$f":"'RBC Reference Table'!W67","v":2.4},{"$f":"'RBC Reference Table'!X67","v":0},0,"--",{"$f":"'RBC Reference Table'!Y67","v":13},{"$f":"'RBC Reference Table'!Z67","v":0},0,"--",{"$f":"'RBC Reference Table'!AA67","v":1.7999999999999999E-2},{"$f":"'RBC Reference Table'!AB67","v":0},null,null,{"$f":"'RBC Reference Table'!AC67","v":8.3000000000000004E-2},{"$f":"'RBC Reference Table'!AD67","v":0},null,null,{"$f":"'RBC Reference Table'!AE67","v":8.4000000000000005E-2},{"$f":"'RBC Reference Table'!AF67","v":0},null,null,{"$f":"'RBC Reference Table'!AG67","v":9.7999999999999997E-3},{"$f":"'RBC Reference Table'!AH67","v":0},0,"--",{"$f":"'RBC Reference Table'!AI67","v":4.4999999999999998E-2},{"$f":"'RBC Reference Table'!AJ67","v":0},0,"--",{"$f":"'RBC Reference Table'!AK67","v":4.4999999999999998E-2},{"$f":"'RBC Reference Table'!AL67","v":0},0,"--",{"$f":"'RBC Reference Table'!AM67","v":"-"},{"$f":"'RBC Reference Table'!AN67","v":">S"},"","--",{"$f":"'RBC Reference Table'!AO67","v":"-"},{"$f":"'RBC Reference Table'!AP67","v":">S"},"","--",{"$f":"'RBC Reference Table'!AQ67","v":"-"},{"$f":"'RBC Reference Table'!AR67","v":">S"},"","--",{"$f":"'RBC Reference Table'!AS67","v":"-"},{"$f":"'RBC Reference Table'!AT67","v":">S"},"","--",{"$f":"'RBC Reference Table'!AU67","v":"-"},{"$f":"'RBC Reference Table'!AV67","v":">S"},"","--",{"$f":"'RBC Reference Table'!AW67","v":"-"},{"$f":"'RBC Reference Table'!AX67","v":">S"},"","--",{"$f":"'RBC Reference Table'!AY67","v":"-"},{"$f":"'RBC Reference Table'!AZ67","v":">S"},"","--",{"$f":"'RBC Reference Table'!BA67","v":1.2},{"$f":"'RBC Reference Table'!BB67","v":0},0,"--",{"$f":"'RBC Reference Table'!BC67","v":2.9},{"$f":"'RBC Reference Table'!BD67","v":0},0,"--",{"$f":"'RBC Reference Table'!BE66","v":4.7},{"$f":"'RBC Reference Table'!BF66","v":0},0,"--",{"$f":"'RBC Reference Table'!BG67","v":6.1000000000000004E-3},null,0,"--",{"$f":"'RBC Reference Table'!BI67","v":1.4E-2},null,0,"--",{"$f":"'RBC Reference Table'!BK67","v":2.7E-2},null,0,"--"]
[61,{"$f":"VLOOKUP($A68,'Applicable RBC Table'!$A$43:$F$136,2,FALSE)","v":0},{"$f":"VLOOKUP($A68,'Applicable RBC Table'!$A$43:$F$136,3,FALSE)","v":0},{"$f":"VLOOKUP($A68,'Applicable RBC Table'!$A$43:$F$136,4,FALSE)","v":0},{"$f":"VLOOKUP($A68,'Applicable RBC Table'!$A$43:$F$136,5,FALSE)","v":0},{"$f":"VLOOKUP($A68,'Applicable RBC Table'!$A$43:$F$136,6,FALSE)","v":0},"319-84-6","alpha-Hexachlorocyclohexane (alpha-HCH)","c, nv",{"$f":"'RBC Reference Table'!E68","v":8.5999999999999993E-2},{"$f":"'RBC Reference Table'!F68","v":0},0,"--",{"$f":"'RBC Reference Table'!G68","v":0.21},{"$f":"'RBC Reference Table'!H68","v":0},0,"--",{"$f":"'RBC Reference Table'!I68","v":0.36},{"$f":"'RBC Reference Table'!J68","v":0},0,"--",{"$f":"'RBC Reference Table'!K68","v":3},{"$f":"'RBC Reference Table'!L68","v":0},0,"--",{"$f":"'RBC Reference Table'!M68","v":83},{"$f":"'RBC Reference Table'!N68","v":">Csat"},0,"--",{"$f":"'RBC Reference Table'!O68","v":"-"},{"$f":"'RBC Reference Table'!P68","v":"NV"},"","--",{"$f":"'RBC Reference Table'!O68","v":"-"},{"$f":"'RBC Reference Table'!P68","v":"NV"},"","--",{"$f":"'RBC Reference Table'!S68","v":"-"},{"$f":"'RBC Reference Table'!T68","v":"NV"},"","--",{"$f":"'RBC Reference Table'!U68","v":"-"},{"$f":"'RBC Reference Table'!V68","v":"NV"},"","--",{"$f":"'RBC Reference Table'!W68","v":"-"},{"$f":"'RBC Reference Table'!X68","v":"NV"},"","--",{"$f":"'RBC Reference Table'!Y68","v":"-"},{"$f":"'RBC Reference Table'!Z68","v":"NV"},"","--",{"$f":"'RBC Reference Table'!AA68","v":6.3E-3},{"$f":"'RBC Reference Table'!AB68","v":0},null,null,{"$f":"'RBC Reference Table'!AC68","v":2.4E-2},{"$f":"'RBC Reference Table'!AD68","v":0},null,null,{"$f":"'RBC Reference Table'!AE68","v":2.3E-2},{"$f":"'RBC Reference Table'!AF68","v":0},null,null,{"$f":"'RBC Reference Table'!AG68","v":7.4999999999999997E-3},{"$f":"'RBC Reference Table'!AH68","v":0},0,"--",{"$f":"'RBC Reference Table'!AI68","v":2.8000000000000001E-2},{"$f":"'RBC Reference Table'!AJ68","v":0},0,"--",{"$f":"'RBC Reference Table'!AK68","v":2.7E-2},{"$f":"'RBC Reference Table'!AL68","v":0},0,"--",{"$f":"'RBC Reference Table'!AM68","v":"-"},{"$f":"'RBC Reference Table'!AN68","v":"NV"},"","--",{"$f":"'RBC Reference Table'!AO68","v":"-"},{"$f":"'RBC Reference Table'!AP68","v":"NV"},"","--",{"$f":"'RBC Reference Table'!AQ68","v":"-"},{"$f":"'RBC Reference Table'!AR68","v":"NV"},"","--",{"$f":"'RBC Reference Table'!AS68","v":"-"},{"$f":"'RBC Reference Table'!AT68","v":"NV"},"","--",{"$f":"'RBC Reference Table'!AU68","v":"-"},{"$f":"'RBC Reference Table'!AV68","v":"NV"},"","--",{"$f":"'RBC Reference Table'!AW68","v":"-"},{"$f":"'RBC Reference Table'!AX68","v":"NV"},"","--",{"$f":"'RBC Reference Table'!AY68","v":18},{"$f":"'RBC Reference Table'!AZ68","v":0},0,"--",{"$f":"'RBC Reference Table'!BA68","v":"-"},{"$f":"'RBC Reference Table'!BB68","v":"NV"},"","--",{"$f":"'RBC Reference Table'!BC68","v":"-"},{"$f":"'RBC Reference Table'!BD68","v":"NV"},"","--",{"$f":"'RBC Reference Table'!BE67","v":27},{"$f":"'RBC Reference Table'!BF67","v":0},0,"--",{"$f":"'RBC Reference Table'!BG68","v":1.6000000000000001E-3},null,0,"--",{"$f":"'RBC Reference Table'!BI68","v":3.7000000000000002E-3},null,0,"--",{"$f":"'RBC Reference Table'!BK68","v":6.7999999999999996E-3},null,0,"--"]
[62,{"$f":"VLOOKUP($A69,'Applicable RBC Table'!$A$43:$F$136,2,FALSE)","v":0},{"$f":"VLOOKUP($A69,'Applicable RBC Table'!$A$43:$F$136,3,FALSE)","v":0},{"$f":"VLOOKUP($A69,'Applicable RBC Table'!$A$43:$F$136,4,FALSE)","v":0},{"$f":"VLOOKUP($A69,'Applicable RBC Table'!$A$43:$F$136,5,FALSE)","v":0},{"$f":"VLOOKUP($A69,'Applicable RBC Table'!$A$43:$F$136,6,FALSE)","v":0},"58-89-9","gamma-Hexachlorocyclohexane (Lindane)","c, nv",{"$f":"'RBC Reference Table'!E69","v":0.49},{"$f":"'RBC Reference Table'!F69","v":0},0,"--",{"$f":"'RBC Reference Table'!G69","v":1.2},{"$f":"'RBC Reference Table'!H69","v":0},0,"--",{"$f":"'RBC Reference Table'!I69","v":2.1},{"$f":"'RBC Reference Table'!J69","v":0},0,"--",{"$f":"'RBC Reference Table'!K69","v":17},{"$f":"'RBC Reference Table'!L69","v":0},0,"--",{"$f":"'RBC Reference Table'!M69","v":470},{"$f":"'RBC Reference Table'!N69","v":">Csat"},0,"--",{"$f":"'RBC Reference Table'!O69","v":"-"},{"$f":"'RBC Reference Table'!P69","v":"NV"},"","--",{"$f":"'RBC Reference Table'!O69","v":"-"},{"$f":"'RBC Reference Table'!P69","v":"NV"},"","--",{"$f":"'RBC Reference Table'!S69","v":"-"},{"$f":"'RBC Reference Table'!T69","v":"NV"},"","--",{"$f":"'RBC Reference Table'!U69","v":"-"},{"$f":"'RBC Reference Table'!V69","v":"NV"},"","--",{"$f":"'RBC Reference Table'!W69","v":"-"},{"$f":"'RBC Reference Table'!X69","v":"NV"},"","--",{"$f":"'RBC Reference Table'!Y69","v":"-"},{"$f":"'RBC Reference Table'!Z69","v":"NV"},"","--",{"$f":"'RBC Reference Table'!AA69","v":3.5999999999999997E-2},{"$f":"'RBC Reference Table'!AB69","v":0},null,null,{"$f":"'RBC Reference Table'!AC69","v":0.13},{"$f":"'RBC Reference Table'!AD69","v":0},null,null,{"$f":"'RBC Reference Table'!AE69","v":0.13},{"$f":"'RBC Reference Table'!AF69","v":0},null,null,{"$f":"'RBC Reference Table'!AG69","v":4.2999999999999997E-2},{"$f":"'RBC Reference Table'!AH69","v":0},0,"--",{"$f":"'RBC Reference Table'!AI69","v":0.16},{"$f":"'RBC Reference Table'!AJ69","v":0},0,"--",{"$f":"'RBC Reference Table'!AK69","v":0.16},{"$f":"'RBC Reference Table'!AL69","v":0},0,"--",{"$f":"'RBC Reference Table'!AM69","v":"-"},{"$f":"'RBC Reference Table'!AN69","v":"NV"},"","--",{"$f":"'RBC Reference Table'!AO69","v":"-"},{"$f":"'RBC Reference Table'!AP69","v":"NV"},"","--",{"$f":"'RBC Reference Table'!AQ69","v":"-"},{"$f":"'RBC Reference Table'!AR69","v":"NV"},"","--",{"$f":"'RBC Reference Table'!AS69","v":"-"},{"$f":"'RBC Reference Table'!AT69","v":"NV"},"","--",{"$f":"'RBC Reference Table'!AU69","v":"-"},{"$f":"'RBC Reference Table'!AV69","v":"NV"},"","--",{"$f":"'RBC Reference Table'!AW69","v":"-"},{"$f":"'RBC Reference Table'!AX69","v":"NV"},"","--",{"$f":"'RBC Reference Table'!AY69","v":100},{"$f":"'RBC Reference Table'!AZ69","v":0},0,"--",{"$f":"'RBC Reference Table'!BA69","v":"-"},{"$f":"'RBC Reference Table'!BB69","v":"NV"},"","--",{"$f":"'RBC Reference Table'!BC69","v":"-"},{"$f":"'RBC Reference Table'!BD69","v":"NV"},"","--",{"$f":"'RBC Reference Table'!BE68","v":"-"},{"$f":"'RBC Reference Table'!BF68","v":"NV"},"","--",{"$f":"'RBC Reference Table'!BG69","v":9.1000000000000004E-3},null,0,"--",{"$f":"'RBC Reference Table'!BI69","v":2.1000000000000001E-2},null,0,"--",{"$f":"'RBC Reference Table'!BK69","v":0.04},null,0,"--"]
[63,{"$f":"VLOOKUP($A70,'Applicable RBC Table'!$A$43:$F$136,2,FALSE)","v":0},{"$f":"VLOOKUP($A70,'Applicable RBC Table'!$A$43:$F$136,3,FALSE)","v":0},{"$f":"VLOOKUP($A70,'Applicable RBC Table'!$A$43:$F$136,4,FALSE)","v":0},{"$f":"VLOOKUP($A70,'Applicable RBC Table'!$A$43:$F$136,5,FALSE)","v":0},{"$f":"VLOOKUP($A70,'Applicable RBC Table'!$A$43:$F$136,6,FALSE)","v":0},"67-72-1","Hexachloroethane","c, v",{"$f":"'RBC Reference Table'!E70","v":7.4},{"$f":"'RBC Reference Table'!F70","v":0},0,"--",{"$f":"'RBC Reference Table'!G70","v":24},{"$f":"'RBC Reference Table'!H70","v":0},0,"--",{"$f":"'RBC Reference Table'!I70","v":32},{"$f":"'RBC Reference Table'!J70","v":0},0,"--",{"$f":"'RBC Reference Table'!K70","v":370},{"$f":"'RBC Reference Table'!L70","v":0},0,"--",{"$f":"'RBC Reference Table'!M70","v":10000},{"$f":"'RBC Reference Table'!N70","v":">Csat"},0,"--",{"$f":"'RBC Reference Table'!O70","v":8.1},{"$f":"'RBC Reference Table'!P70","v":0},0,"--",{"$f":"'RBC Reference Table'!O70","v":8.1},{"$f":"'RBC Reference Table'!P70","v":0},0,"--",{"$f":"'RBC Reference Table'!S70","v":36},{"$f":"'RBC Reference Table'!T70","v":0},0,"--",{"$f":"'RBC Reference Table'!U70","v":0.57999999999999996},{"$f":"'RBC Reference Table'!V70","v":0},0,"--",{"$f":"'RBC Reference Table'!W70","v":1.4},{"$f":"'RBC Reference Table'!X70","v":0},0,"--",{"$f":"'RBC Reference Table'!Y70","v":7.6},{"$f":"'RBC Reference Table'!Z70","v":0},0,"--",{"$f":"'RBC Reference Table'!AA70","v":2.1999999999999999E-2},{"$f":"'RBC Reference Table'!AB70","v":0},null,null,{"$f":"'RBC Reference Table'!AC70","v":9.5000000000000001E-2},{"$f":"'RBC Reference Table'!AD70","v":0},null,null,{"$f":"'RBC Reference Table'!AE70","v":8.6999999999999994E-2},{"$f":"'RBC Reference Table'!AF70","v":0},null,null,{"$f":"'RBC Reference Table'!AG70","v":0.34},{"$f":"'RBC Reference Table'!AH70","v":0},0,"--",{"$f":"'RBC Reference Table'!AI70","v":1.5},{"$f":"'RBC Reference Table'!AJ70","v":0},0,"--",{"$f":"'RBC Reference Table'!AK70","v":1.3},{"$f":"'RBC Reference Table'!AL70","v":0},0,"--",{"$f":"'RBC Reference Table'!AM70","v":5000},{"$f":"'RBC Reference Table'!AN70","v":0},0,"--",{"$f":"'RBC Reference Table'!AO70","v":12000},{"$f":"'RBC Reference Table'!AP70","v":0},0,"--",{"$f":"'RBC Reference Table'!AQ70","v":22000},{"$f":"'RBC Reference Table'!AR70","v":0},0,"--",{"$f":"'RBC Reference Table'!AS70","v":570},{"$f":"'RBC Reference Table'!AT70","v":0},0,"--",{"$f":"'RBC Reference Table'!AU70","v":1400},{"$f":"'RBC Reference Table'!AV70","v":0},0,"--",{"$f":"'RBC Reference Table'!AW70","v":7500},{"$f":"'RBC Reference Table'!AX70","v":0},0,"--",{"$f":"'RBC Reference Table'!AY70","v":860},{"$f":"'RBC Reference Table'!AZ70","v":0},0,"--",{"$f":"'RBC Reference Table'!BA70","v":51},{"$f":"'RBC Reference Table'!BB70","v":0},0,"--",{"$f":"'RBC Reference Table'!BC70","v":120},{"$f":"'RBC Reference Table'!BD70","v":0},0,"--",{"$f":"'RBC Reference Table'!BE69","v":"-"},{"$f":"'RBC Reference Table'!BF69","v":"NV"},"","--",{"$f":"'RBC Reference Table'!BG70","v":0.26},null,0,"--",{"$f":"'RBC Reference Table'!BI70","v":0.6},null,0,"--",{"$f":"'RBC Reference Table'!BK70","v":1.1000000000000001},null,0,"--"]
[64,{"$f":"VLOOKUP($A71,'Applicable RBC Table'!$A$43:$F$136,2,FALSE)","v":0},{"$f":"VLOOKUP($A71,'Applicable RBC Table'!$A$43:$F$136,3,FALSE)","v":0},{"$f":"VLOOKUP($A71,'Applicable RBC Table'!$A$43:$F$136,4,FALSE)","v":0},{"$f":"VLOOKUP($A71,'Applicable RBC Table'!$A$43:$F$136,5,FALSE)","v":0},{"$f":"VLOOKUP($A71,'Applicable RBC Table'!$A$43:$F$136,6,FALSE)","v":0},"193-39-5","Indeno[1,2,3-cd]pyrene","c, nv",{"$f":"'RBC Reference Table'!E71","v":1.1000000000000001},{"$f":"'RBC Reference Table'!F71","v":">Csat"},0,"--",{"$f":"'RBC Reference Table'!G71","v":2.5},{"$f":"'RBC Reference Table'!H71","v":">Csat"},0,"--",{"$f":"'RBC Reference Table'!I71","v":21},{"$f":"'RBC Reference Table'!J71","v":">Csat"},0,"--",{"$f":"'RBC Reference Table'!K71","v":170},{"$f":"'RBC Reference Table'!L71","v":">Csat"},0,"--",{"$f":"'RBC Reference Table'!M71","v":4900},{"$f":"'RBC Reference Table'!N71","v":">Csat"},0,"--",{"$f":"'RBC Reference Table'!O71","v":"-"},{"$f":"'RBC Reference Table'!P71","v":"NV"},"","--",{"$f":"'RBC Reference Table'!O71","v":"-"},{"$f":"'RBC Reference Table'!P71","v":"NV"},"","--",{"$f":"'RBC Reference Table'!S71","v":"-"},{"$f":"'RBC Reference Table'!T71","v":"NV"},"","--",{"$f":"'RBC Reference Table'!U71","v":"-"},{"$f":"'RBC Reference Table'!V71","v":"NV"},"","--",{"$f":"'RBC Reference Table'!W71","v":"-"},{"$f":"'RBC Reference Table'!X71","v":"NV"},"","--",{"$f":"'RBC Reference Table'!Y71","v":"-"},{"$f":"'RBC Reference Table'!Z71","v":"NV"},"","--",{"$f":"'RBC Reference Table'!AA71","v":"-"},{"$f":"'RBC Reference Table'!AB71","v":">Csat"},null,null,{"$f":"'RBC Reference Table'!AC71","v":"-"},{"$f":"'RBC Reference Table'!AD71","v":">Csat"},null,null,{"$f":"'RBC Reference Table'!AE71","v":"-"},{"$f":"'RBC Reference Table'!AF71","v":">Csat"},null,null,{"$f":"'RBC Reference Table'!AG71","v":"-"},{"$f":"'RBC Reference Table'!AH71","v":">S"},"","--",{"$f":"'RBC Reference Table'!AI71","v":"-"},{"$f":"'RBC Reference Table'!AJ71","v":">S"},"","--",{"$f":"'RBC Reference Table'!AK71","v":"-"},{"$f":"'RBC Reference Table'!AL71","v":">S"},"","--",{"$f":"'RBC Reference Table'!AM71","v":"-"},{"$f":"'RBC Reference Table'!AN71","v":"NV"},"","--",{"$f":"'RBC Reference Table'!AO71","v":"-"},{"$f":"'RBC Reference Table'!AP71","v":"NV"},"","--",{"$f":"'RBC Reference Table'!AQ71","v":"-"},{"$f":"'RBC Reference Table'!AR71","v":"NV"},"","--",{"$f":"'RBC Reference Table'!AS71","v":"-"},{"$f":"'RBC Reference Table'!AT71","v":"NV"},"","--",{"$f":"'RBC Reference Table'!AU71","v":"-"},{"$f":"'RBC Reference Table'!AV71","v":"NV"},"","--",{"$f":"'RBC Reference Table'!AW71","v":"-"},{"$f":"'RBC Reference Table'!AX71","v":"NV"},"","--",{"$f":"'RBC Reference Table'!AY71","v":"-"},{"$f":"'RBC Reference Table'!AZ71","v":">S"},"","--",{"$f":"'RBC Reference Table'!BA71","v":"-"},{"$f":"'RBC Reference Table'!BB71","v":"NV"},"","--",{"$f":"'RBC Reference Table'!BC71","v":"-"},{"$f":"'RBC Reference Table'!BD71","v":"NV"},"","--",{"$f":"'RBC Reference Table'!BE70","v":1100},{"$f":"'RBC Reference Table'!BF70","v":0},0,"--",{"$f":"'RBC Reference Table'!BG71","v":"-"},">Pv","","--",{"$f":"'RBC Reference Table'!BI71","v":"-"},">Pv","","--",{"$f":"'RBC Reference Table'!BK71","v":"-"},">Pv","","--"]
[65,{"$f":"VLOOKUP($A72,'Applicable RBC Table'!$A$43:$F$136,2,FALSE)","v":0},{"$f":"VLOOKUP($A72,'Applicable RBC Table'!$A$43:$F$136,3,FALSE)","v":0},{"$f":"VLOOKUP($A72,'Applicable RBC Table'!$A$43:$F$136,4,FALSE)","v":0},{"$f":"VLOOKUP($A72,'Applicable RBC Table'!$A$43:$F$136,5,FALSE)","v":0},{"$f":"VLOOKUP($A72,'Applicable RBC Table'!$A$43:$F$136,6,FALSE)","v":0},"7439-92-1","Lead","NA, nv",{"$f":"'RBC Reference Table'!E72","v":400},{"$f":"'RBC Reference Table'!F72","v":"L"},0,{"$f":"IF(ISNUMBER(J72),$B72/J72,\"\")","v":0},{"$f":"'RBC Reference Table'!G72","v":400},{"$f":"'RBC Reference Table'!H72","v":"L"},0,{"$f":"IF(ISNUMBER(N72),$B72/N72,\"\")","v":0},{"$f":"'RBC Reference Table'!I72","v":800},{"$f":"'RBC Reference Table'!J72","v":"L"},0,{"$f":"IF(ISNUMBER(R72),$B72/R72,\"\")","v":0},{"$f":"'RBC Reference Table'!K72","v":800},{"$f":"'RBC Reference Table'!L72","v":"L"},0,{"$f":"IF(ISNUMBER(V72),MAX($B72,$C72)/V72,\"\")","v":0},{"$f":"'RBC Reference Table'!M72","v":800},{"$f":"'RBC Reference Table'!N72","v":0},0,{"$f":"IF(ISNUMBER(Z72),MAX($B72,$C72)/Z72,\"\")","v":0},{"$f":"'RBC Reference Table'!O72","v":"L"},{"$f":"'RBC Reference Table'!P72","v":"NV"},"",{"$f":"IF(ISNUMBER(AD72),MAX($B72:$C72)/AD72,\"\")","v":""},{"$f":"'RBC Reference Table'!O72","v":"L"},{"$f":"'RBC Reference Table'!P72","v":"NV"},"",{"$f":"IF(ISNUMBER(AH72),MAX($B72:$C72)/AH72,\"\")","v":""},{"$f":"'RBC Reference Table'!S72","v":"-"},{"$f":"'RBC Reference Table'!T72","v":"NV"},"",{"$f":"IF(ISNUMBER(AL72),MAX($B72:$C72)/AL72,\"\")","v":""},{"$f":"'RBC Reference Table'!U72","v":"-"},{"$f":"'RBC Reference Table'!V72","v":"NV"},"",{"$f":"IF(ISNUMBER(AP72),MAX($B72:$C72)/AP72,\"\")","v":""},{"$f":"'RBC Reference Table'!W72","v":"-"},{"$f":"'RBC Reference Table'!X72","v":"NV"},"",{"$f":"IF(ISNUMBER(AT72),MAX($B72:$C72)/AT72,\"\")","v":""},{"$f":"'RBC Reference Table'!Y72","v":"-"},{"$f":"'RBC Reference Table'!Z72","v":"NV"},"",{"$f":"IF(ISNUMBER(AX72),MAX($B72:$C72)/AX72,\"\")","v":""},{"$f":"'RBC Reference Table'!AA72","v":30},{"$f":"'RBC Reference Table'!AB72","v":"L"},null,null,{"$f":"'RBC Reference Table'!AC72","v":30},{"$f":"'RBC Reference Table'!AD72","v":"L"},null,null,{"$f":"'RBC Reference Table'!AE72","v":30},{"$f":"'RBC Reference Table'!AF72","v":"L"},null,null,{"$f":"'RBC Reference Table'!AG72","v":15},{"$f":"'RBC Reference Table'!AH72","v":"L"},0,{"$f":"IF(ISNUMBER(BN72),$D72/BN72,\"\")","v":0},{"$f":"'RBC Reference Table'!AI72","v":15},{"$f":"'RBC Reference Table'!AJ72","v":"L"},0,{"$f":"IF(ISNUMBER(BR72),$D72/BR72,\"\")","v":0},{"$f":"'RBC Reference Table'!AK72","v":15},{"$f":"'RBC Reference Table'!AL72","v":"L"},"--",{"$f":"IF(ISNUMBER(BV72),$D72/BV72,\"\")","v":0},{"$f":"'RBC Reference Table'!AM72","v":"-"},{"$f":"'RBC Reference Table'!AN72","v":"NV"},"",{"$f":"IF(ISNUMBER(BZ72),$D72/BZ72,\"\")","v":""},{"$f":"'RBC Reference Table'!AO72","v":"-"},{"$f":"'RBC Reference Table'!AP72","v":"NV"},"",{"$f":"IF(ISNUMBER(CD72),$D72/CD72,\"\")","v":""},{"$f":"'RBC Reference Table'!AQ72","v":"-"},{"$f":"'RBC Reference Table'!AR72","v":"NV"},"",{"$f":"IF(ISNUMBER(CH72),$D72/CH72,\"\")","v":""},{"$f":"'RBC Reference Table'!AS72","v":"-"},{"$f":"'RBC Reference Table'!AT72","v":"NV"},"",{"$f":"IF(ISNUMBER(CL72),$D72/CL72,\"\")","v":""},{"$f":"'RBC Reference Table'!AU72","v":"-"},{"$f":"'RBC Reference Table'!AV72","v":"NV"},"",{"$f":"IF(ISNUMBER(CP72),$D72/CP72,\"\")","v":""},{"$f":"'RBC Reference Table'!AW72","v":"-"},{"$f":"'RBC Reference Table'!AX72","v":"NV"},"",{"$f":"IF(ISNUMBER(CT72),$D72/CT72,\"\")","v":""},{"$f":"'RBC Reference Table'!AY72","v":"-"},{"$f":"'RBC Reference Table'!AZ72","v":">S"},"",{"$f":"IF(ISNUMBER(CX72),$D72/CX72,\"\")","v":""},{"$f":"'RBC Reference Table'!BA72","v":"-"},{"$f":"'RBC Reference Table'!BB72","v":"NV"},"",{"$f":"IF(ISNUMBER(DB72),$E72/DB72,\"\")","v":""},{"$f":"'RBC Reference Table'!BC72","v":"-"},{"$f":"'RBC Reference Table'!BD72","v":"NV"},"",{"$f":"IF(ISNUMBER(DF72),$E72/DF72,\"\")","v":""},{"$f":"'RBC Reference Table'!BE71","v":"-"},{"$f":"'RBC Reference Table'!BF71","v":"NV"},"",{"$f":"IF(ISNUMBER(DJ72),$E72/DJ72,\"\")","v":""},{"$f":"'RBC Reference Table'!BG72","v":"-"},">Pv","",{"$f":"IF(ISNUMBER(DN72),$F72/DN72,\"\")","v":""},{"$f":"'RBC Reference Table'!BI72","v":"-"},">Pv","",{"$f":"IF(ISNUMBER(DR72),$F72/DR72,\"\")","v":""},{"$f":"'RBC Reference Table'!BK72","v":"-"},">Pv","",{"$f":"IF(ISNUMBER(DV72),$F72/DV72,\"\")","v":""}]
[66,{"$f":"VLOOKUP($A73,'Applicable RBC Table'!$A$43:$F$136,2,FALSE)","v":0},{"$f":"VLOOKUP($A73,'Applicable RBC Table'!$A$43:$F$136,3,FALSE)","v":0},{"$f":"VLOOKUP($A73,'Applicable RBC Table'!$A$43:$F$136,4,FALSE)","v":0},{"$f":"VLOOKUP($A73,'Applicable RBC Table'!$A$43:$F$136,5,FALSE)","v":0},{"$f":"VLOOKUP($A73,'Applicable RBC Table'!$A$43:$F$136,6,FALSE)","v":0},"7439-96-5","Manganese","nc, nv",{"$f":"'RBC Reference Table'!BM73","v":1800},{"$f":"'RBC Reference Table'!F73","v":0},"--",{"$f":"IF(ISNUMBER(J73),$B73/J73,\"\")","v":0},{"$f":"'RBC Reference Table'!BO73","v":3600},{"$f":"'RBC Reference Table'!H73","v":0},"--",{"$f":"IF(ISNUMBER(N73),$B73/N73,\"\")","v":0},{"$f":"'RBC Reference Table'!BQ73","v":25000},{"$f":"'RBC Reference Table'!J73","v":0},"--",{"$f":"IF(ISNUMBER(R73),$B73/R73,\"\")","v":0},{"$f":"'RBC Reference Table'!BS73","v":8200},{"$f":"'RBC Reference Table'!L73","v":0},"--",{"$f":"IF(ISNUMBER(V73),MAX($B73,$C73)/V73,\"\")","v":0},{"$f":"'RBC Reference Table'!BU73","v":230000},{"$f":"'RBC Reference Table'!N73","v":0},"--",{"$f":"IF(ISNUMBER(Z73),MAX($B73,$C73)/Z73,\"\")","v":0},{"$f":"'RBC Reference Table'!O73","v":"-"},{"$f":"'RBC Reference Table'!P73","v":"NV"},"--",{"$f":"IF(ISNUMBER(AD73),MAX($B73:$C73)/AD73,\"\")","v":""},{"$f":"'RBC Reference Table'!O73","v":"-"},{"$f":"'RBC Reference Table'!P73","v":"NV"},"--",{"$f":"IF(ISNUMBER(AH73),MAX($B73:$C73)/AH73,\"\")","v":""},{"$f":"'RBC Reference Table'!S73","v":"-"},{"$f":"'RBC Reference Table'!T73","v":"NV"},"--",{"$f":"IF(ISNUMBER(AL73),MAX($B73:$C73)/AL73,\"\")","v":""},{"$f":"'RBC Reference Table'!U73","v":"-"},{"$f":"'RBC Reference Table'!V73","v":"NV"},"--",{"$f":"IF(ISNUMBER(AP73),MAX($B73:$C73)/AP73,\"\")","v":""},{"$f":"'RBC Reference Table'!W73","v":"-"},{"$f":"'RBC Reference Table'!X73","v":"NV"},"--",{"$f":"IF(ISNUMBER(AT73),MAX($B73:$C73)/AT73,\"\")","v":""},{"$f":"'RBC Reference Table'!Y73","v":"-"},{"$f":"'RBC Reference Table'!Z73","v":"NV"},"--",{"$f":"IF(ISNUMBER(AX73),MAX($B73:$C73)/AX73,\"\")","v":""},{"$f":"'RBC Reference Table'!AA73","v":"*"},{"$f":"'RBC Reference Table'!AB73","v":0},null,null,{"$f":"'RBC Reference Table'!AC73","v":"*"},{"$f":"'RBC Reference Table'!AD73","v":0},null,null,{"$f":"'RBC Reference Table'!AE73","v":"*"},{"$f":"'RBC Reference Table'!AF73","v":0},null,null,{"$f":"'RBC Reference Table'!AG73","v":480},{"$f":"'RBC Reference Table'!AH73","v":0},"--",{"$f":"IF(ISNUMBER(BN73),$D73/BN73,\"\")","v":0},{"$f":"'RBC Reference Table'!AI73","v":1800},{"$f":"'RBC Reference Table'!AJ73","v":0},"--",{"$f":"IF(ISNUMBER(BR73),$D73/BR73,\"\")","v":0},{"$f":"'RBC Reference Table'!AK73","v":3900},{"$f":"'RBC Reference Table'!AL73","v":0},"--",{"$f":"IF(ISNUMBER(BV73),$D73/BV73,\"\")","v":0},{"$f":"'RBC Reference Table'!AM73","v":"-"},{"$f":"'RBC Reference Table'!AN73","v":"NV"},"--",{"$f":"IF(ISNUMBER(BZ73),$D73/BZ73,\"\")","v":""},{"$f":"'RBC Reference Table'!AO73","v":"-"},{"$f":"'RBC Reference Table'!AP73","v":"NV"},"--",{"$f":"IF(ISNUMBER(CD73),$D73/CD73,\"\")","v":""},{"$f":"'RBC Reference Table'!AQ73","v":"-"},{"$f":"'RBC Reference Table'!AR73","v":"NV"},"--",{"$f":"IF(ISNUMBER(CH73),$D73/CH73,\"\")","v":""},{"$f":"'RBC Reference Table'!AS73","v":"-"},{"$f":"'RBC Reference Table'!AT73","v":"NV"},"--",{"$f":"IF(ISNUMBER(CL73),$D73/CL73,\"\")","v":""},{"$f":"'RBC Reference Table'!AU73","v":"-"},{"$f":"'RBC Reference Table'!AV73","v":"NV"},"--",{"$f":"IF(ISNUMBER(CP73),$D73/CP73,\"\")","v":""},{"$f":"'RBC Reference Table'!AW73","v":"-"},{"$f":"'RBC Reference Table'!AX73","v":"NV"},"--",{"$f":"IF(ISNUMBER(CT73),$D73/CT73,\"\")","v":""},{"$f":"'RBC Reference Table'!AY73","v":3200000},{"$f":"'RBC Reference Table'!AZ73","v":0},"--",{"$f":"IF(ISNUMBER(CX73),$D73/CX73,\"\")","v":0},{"$f":"'RBC Reference Table'!BA73","v":"-"},{"$f":"'RBC Reference Table'!BB73","v":"NV"},"--",{"$f":"IF(ISNUMBER(DB73),$E73/DB73,\"\")","v":""},{"$f":"'RBC Reference Table'!BC73","v":"-"},{"$f":"'RBC Reference Table'!BD73","v":"NV"},"--",{"$f":"IF(ISNUMBER(DF73),$E73/DF73,\"\")","v":""},{"$f":"'RBC Reference Table'!BE72","v":"-"},{"$f":"'RBC Reference Table'!BF72","v":"NV"},"--",{"$f":"IF(ISNUMBER(DJ73),$E73/DJ73,\"\")","v":""},{"$f":"'RBC Reference Table'!BG73","v":5.1999999999999998E-2},null,"--",{"$f":"IF(ISNUMBER(DN73),$F73/DN73,\"\")","v":0},{"$f":"'RBC Reference Table'!BI73","v":5.1999999999999998E-2},null,"--",{"$f":"IF(ISNUMBER(DR73),$F73/DR73,\"\")","v":0},{"$f":"'RBC Reference Table'!BK73","v":0.22},null,"--",{"$f":"IF(ISNUMBER(DV73),$F73/DV73,\"\")","v":0}]
[67,{"$f":"VLOOKUP($A74,'Applicable RBC Table'!$A$43:$F$136,2,FALSE)","v":0},{"$f":"VLOOKUP($A74,'Applicable RBC Table'!$A$43:$F$136,3,FALSE)","v":0},{"$f":"VLOOKUP($A74,'Applicable RBC Table'!$A$43:$F$136,4,FALSE)","v":0},{"$f":"VLOOKUP($A74,'Applicable RBC Table'!$A$43:$F$136,5,FALSE)","v":0},{"$f":"VLOOKUP($A74,'Applicable RBC Table'!$A$43:$F$136,6,FALSE)","v":0},"94-74-6","MCPA ((4-chloro-2-methylphenoxy)acetic acid)","nc, nv",{"$f":"'RBC Reference Table'!E74","v":32},{"$f":"'RBC Reference Table'!F74","v":0},"--",{"$f":"IF(ISNUMBER(J74),$B74/J74,\"\")","v":0},{"$f":"'RBC Reference Table'!G74","v":63},{"$f":"'RBC Reference Table'!H74","v":0},"--",{"$f":"IF(ISNUMBER(N74),$B74/N74,\"\")","v":0},{"$f":"'RBC Reference Table'!I74","v":410},{"$f":"'RBC Reference Table'!J74","v":">Csat"},"--",{"$f":"IF(ISNUMBER(R74),$B74/R74,\"\")","v":0},{"$f":"'RBC Reference Table'!K74","v":130},{"$f":"'RBC Reference Table'!L74","v":0},"--",{"$f":"IF(ISNUMBER(V74),MAX($B74,$C74)/V74,\"\")","v":0},{"$f":"'RBC Reference Table'!M74","v":3700},{"$f":"'RBC Reference Table'!N74","v":">Csat"},"--",{"$f":"IF(ISNUMBER(Z74),MAX($B74,$C74)/Z74,\"\")","v":0},{"$f":"'RBC Reference Table'!O74","v":"-"},{"$f":"'RBC Reference Table'!P74","v":"NV"},"--",{"$f":"IF(ISNUMBER(AD74),MAX($B74:$C74)/AD74,\"\")","v":""},{"$f":"'RBC Reference Table'!O74","v":"-"},{"$f":"'RBC Reference Table'!P74","v":"NV"},"--",{"$f":"IF(ISNUMBER(AH74),MAX($B74:$C74)/AH74,\"\")","v":""},{"$f":"'RBC Reference Table'!S74","v":"-"},{"$f":"'RBC Reference Table'!T74","v":"NV"},"--",{"$f":"IF(ISNUMBER(AL74),MAX($B74:$C74)/AL74,\"\")","v":""},{"$f":"'RBC Reference Table'!U74","v":"-"},{"$f":"'RBC Reference Table'!V74","v":"NV"},"--",{"$f":"IF(ISNUMBER(AP74),MAX($B74:$C74)/AP74,\"\")","v":""},{"$f":"'RBC Reference Table'!W74","v":"-"},{"$f":"'RBC Reference Table'!X74","v":"NV"},"--",{"$f":"IF(ISNUMBER(AT74),MAX($B74:$C74)/AT74,\"\")","v":""},{"$f":"'RBC Reference Table'!Y74","v":"-"},{"$f":"'RBC Reference Table'!Z74","v":"NV"},"--",{"$f":"IF(ISNUMBER(AX74),MAX($B74:$C74)/AX74,\"\")","v":""},{"$f":"'RBC Reference Table'!AA74","v":9.7000000000000003E-2},{"$f":"'RBC Reference Table'!AB74","v":0},null,null,{"$f":"'RBC Reference Table'!AC74","v":0.4},{"$f":"'RBC Reference Table'!AD74","v":0},null,null,{"$f":"'RBC Reference Table'!AE74","v":0.61},{"$f":"'RBC Reference Table'!AF74","v":0},null,null,{"$f":"'RBC Reference Table'!AG74","v":7.4},{"$f":"'RBC Reference Table'!AH74","v":0},"--",{"$f":"IF(ISNUMBER(BN74),$D74/BN74,\"\")","v":0},{"$f":"'RBC Reference Table'!AI74","v":30},{"$f":"'RBC Reference Table'!AJ74","v":0},"--",{"$f":"IF(ISNUMBER(BR74),$D74/BR74,\"\")","v":0},{"$f":"'RBC Reference Table'!AK74","v":47},{"$f":"'RBC Reference Table'!AL74","v":0},"--",{"$f":"IF(ISNUMBER(BV74),$D74/BV74,\"\")","v":0},{"$f":"'RBC Reference Table'!AM74","v":"-"},{"$f":"'RBC Reference Table'!AN74","v":"NV"},"--",{"$f":"IF(ISNUMBER(BZ74),$D74/BZ74,\"\")","v":""},{"$f":"'RBC Reference Table'!AO74","v":"-"},{"$f":"'RBC Reference Table'!AP74","v":"NV"},"--",{"$f":"IF(ISNUMBER(CD74),$D74/CD74,\"\")","v":""},{"$f":"'RBC Reference Table'!AQ74","v":"-"},{"$f":"'RBC Reference Table'!AR74","v":"NV"},"--",{"$f":"IF(ISNUMBER(CH74),$D74/CH74,\"\")","v":""},{"$f":"'RBC Reference Table'!AS74","v":"-"},{"$f":"'RBC Reference Table'!AT74","v":"NV"},"--",{"$f":"IF(ISNUMBER(CL74),$D74/CL74,\"\")","v":""},{"$f":"'RBC Reference Table'!AU74","v":"-"},{"$f":"'RBC Reference Table'!AV74","v":"NV"},"--",{"$f":"IF(ISNUMBER(CP74),$D74/CP74,\"\")","v":""},{"$f":"'RBC Reference Table'!AW74","v":"-"},{"$f":"'RBC Reference Table'!AX74","v":"NV"},"--",{"$f":"IF(ISNUMBER(CT74),$D74/CT74,\"\")","v":""},{"$f":"'RBC Reference Table'!AY74","v":1700},{"$f":"'RBC Reference Table'!AZ74","v":0},"--",{"$f":"IF(ISNUMBER(CX74),$D74/CX74,\"\")","v":0},{"$f":"'RBC Reference Table'!BA74","v":"-"},{"$f":"'RBC Reference Table'!BB74","v":"NV"},"--",{"$f":"IF(ISNUMBER(DB74),$E74/DB74,\"\")","v":""},{"$f":"'RBC Reference Table'!BC74","v":"-"},{"$f":"'RBC Reference Table'!BD74","v":"NV"},"--",{"$f":"IF(ISNUMBER(DF74),$E74/DF74,\"\")","v":""},{"$f":"'RBC Reference Table'!BE73","v":"-"},{"$f":"'RBC Reference Table'!BF73","v":"NV"},"--",{"$f":"IF(ISNUMBER(DJ74),$E74/DJ74,\"\")","v":""},{"$f":"'RBC Reference Table'!BG74","v":"-"},">Pv","--",{"$f":"IF(ISNUMBER(DN74),$F74/DN74,\"\")","v":""},{"$f":"'RBC Reference Table'!BI74","v":"-"},">Pv","--",{"$f":"IF(ISNUMBER(DR74),$F74/DR74,\"\")","v":""},{"$f":"'RBC Reference Table'!BK74","v":"-"},">Pv","--",{"$f":"IF(ISNUMBER(DV74),$F74/DV74,\"\")","v":""}]
[68,{"$f":"VLOOKUP($A75,'Applicable RBC Table'!$A$43:$F$136,2,FALSE)","v":0},{"$f":"VLOOKUP($A75,'Applicable RBC Table'!$A$43:$F$136,3,FALSE)","v":0},{"$f":"VLOOKUP($A75,'Applicable RBC Table'!$A$43:$F$136,4,FALSE)","v":0},{"$f":"VLOOKUP($A75,'Applicable RBC Table'!$A$43:$F$136,5,FALSE)","v":0},{"$f":"VLOOKUP($A75,'Applicable RBC Table'!$A$43:$F$136,6,FALSE)","v":0},"7439-97-6","Mercury","nc, nv",{"$f":"'RBC Reference Table'!E75","v":23},{"$f":"'RBC Reference Table'!F75","v":0},"--",{"$f":"IF(ISNUMBER(J75),$B75/J75,\"\")","v":0},{"$f":"'RBC Reference Table'!G75","v":47},{"$f":"'RBC Reference Table'!H75","v":0},"--",{"$f":"IF(ISNUMBER(N75),$B75/N75,\"\")","v":0},{"$f":"'RBC Reference Table'!I75","v":350},{"$f":"'RBC Reference Table'!J75","v":0},"--",{"$f":"IF(ISNUMBER(R75),$B75/R75,\"\")","v":0},{"$f":"'RBC Reference Table'!K75","v":110},{"$f":"'RBC Reference Table'!L75","v":0},"--",{"$f":"IF(ISNUMBER(V75),MAX($B75,$C75)/V75,\"\")","v":0},{"$f":"'RBC Reference Table'!M75","v":2900},{"$f":"'RBC Reference Table'!N75","v":0},"--",{"$f":"IF(ISNUMBER(Z75),MAX($B75,$C75)/Z75,\"\")","v":0},{"$f":"'RBC Reference Table'!O75","v":"-"},{"$f":"'RBC Reference Table'!P75","v":"NV"},"--",{"$f":"IF(ISNUMBER(AD75),MAX($B75:$C75)/AD75,\"\")","v":""},{"$f":"'RBC Reference Table'!O75","v":"-"},{"$f":"'RBC Reference Table'!P75","v":"NV"},"--",{"$f":"IF(ISNUMBER(AH75),MAX($B75:$C75)/AH75,\"\")","v":""},{"$f":"'RBC Reference Table'!S75","v":"-"},{"$f":"'RBC Reference Table'!T75","v":"NV"},"--",{"$f":"IF(ISNUMBER(AL75),MAX($B75:$C75)/AL75,\"\")","v":""},{"$f":"'RBC Reference Table'!U75","v":"-"},{"$f":"'RBC Reference Table'!V75","v":"NV"},"--",{"$f":"IF(ISNUMBER(AP75),MAX($B75:$C75)/AP75,\"\")","v":""},{"$f":"'RBC Reference Table'!W75","v":"-"},{"$f":"'RBC Reference Table'!X75","v":"NV"},"--",{"$f":"IF(ISNUMBER(AT75),MAX($B75:$C75)/AT75,\"\")","v":""},{"$f":"'RBC Reference Table'!Y75","v":"-"},{"$f":"'RBC Reference Table'!Z75","v":"NV"},"--",{"$f":"IF(ISNUMBER(AX75),MAX($B75:$C75)/AX75,\"\")","v":""},{"$f":"'RBC Reference Table'!AA75","v":"*"},{"$f":"'RBC Reference Table'!AB75","v":0},null,null,{"$f":"'RBC Reference Table'!AC75","v":"*"},{"$f":"'RBC Reference Table'!AD75","v":0},null,null,{"$f":"'RBC Reference Table'!AE75","v":"*"},{"$f":"'RBC Reference Table'!AF75","v":0},null,null,{"$f":"'RBC Reference Table'!AG75","v":6},{"$f":"'RBC Reference Table'!AH75","v":0},"--",{"$f":"IF(ISNUMBER(BN75),$D75/BN75,\"\")","v":0},{"$f":"'RBC Reference Table'!AI75","v":22},{"$f":"'RBC Reference Table'!AJ75","v":0},"--",{"$f":"IF(ISNUMBER(BR75),$D75/BR75,\"\")","v":0},{"$f":"'RBC Reference Table'!AK75","v":49},{"$f":"'RBC Reference Table'!AL75","v":0},"--",{"$f":"IF(ISNUMBER(BV75),$D75/BV75,\"\")","v":0},{"$f":"'RBC Reference Table'!AM75","v":"-"},{"$f":"'RBC Reference Table'!AN75","v":"NV"},"--",{"$f":"IF(ISNUMBER(BZ75),$D75/BZ75,\"\")","v":""},{"$f":"'RBC Reference Table'!AO75","v":"-"},{"$f":"'RBC Reference Table'!AP75","v":"NV"},"--",{"$f":"IF(ISNUMBER(CD75),$D75/CD75,\"\")","v":""},{"$f":"'RBC Reference Table'!AQ75","v":"-"},{"$f":"'RBC Reference Table'!AR75","v":"NV"},"--",{"$f":"IF(ISNUMBER(CH75),$D75/CH75,\"\")","v":""},{"$f":"'RBC Reference Table'!AS75","v":"-"},{"$f":"'RBC Reference Table'!AT75","v":"NV"},"--",{"$f":"IF(ISNUMBER(CL75),$D75/CL75,\"\")","v":""},{"$f":"'RBC Reference Table'!AU75","v":"-"},{"$f":"'RBC Reference Table'!AV75","v":"NV"},"--",{"$f":"IF(ISNUMBER(CP75),$D75/CP75,\"\")","v":""},{"$f":"'RBC Reference Table'!AW75","v":"-"},{"$f":"'RBC Reference Table'!AX75","v":"NV"},"--",{"$f":"IF(ISNUMBER(CT75),$D75/CT75,\"\")","v":""},{"$f":"'RBC Reference Table'!AY75","v":"-"},{"$f":"'RBC Reference Table'!AZ75","v":">S"},"--",{"$f":"IF(ISNUMBER(CX75),$D75/CX75,\"\")","v":""},{"$f":"'RBC Reference Table'!BA75","v":"-"},{"$f":"'RBC Reference Table'!BB75","v":"NV"},"--",{"$f":"IF(ISNUMBER(DB75),$E75/DB75,\"\")","v":""},{"$f":"'RBC Reference Table'!BC75","v":"-"},{"$f":"'RBC Reference Table'!BD75","v":"NV"},"--",{"$f":"IF(ISNUMBER(DF75),$E75/DF75,\"\")","v":""},{"$f":"'RBC Reference Table'!BE74","v":"-"},{"$f":"'RBC Reference Table'!BF74","v":"NV"},"--",{"$f":"IF(ISNUMBER(DJ75),$E75/DJ75,\"\")","v":""},{"$f":"'RBC Reference Table'!BG75","v":0.31},null,"--",{"$f":"IF(ISNUMBER(DN75),$F75/DN75,\"\")","v":0},{"$f":"'RBC Reference Table'!BI75","v":0.31},null,"--",{"$f":"IF(ISNUMBER(DR75),$F75/DR75,\"\")","v":0},{"$f":"'RBC Reference Table'!BK75","v":1.3},null,"--",{"$f":"IF(ISNUMBER(DV75),$F75/DV75,\"\")","v":0}]
[69,{"$f":"VLOOKUP($A76,'Applicable RBC Table'!$A$43:$F$136,2,FALSE)","v":0},{"$f":"VLOOKUP($A76,'Applicable RBC Table'!$A$43:$F$136,3,FALSE)","v":0},{"$f":"VLOOKUP($A76,'Applicable RBC Table'!$A$43:$F$136,4,FALSE)","v":0},{"$f":"VLOOKUP($A76,'Applicable RBC Table'!$A$43:$F$136,5,FALSE)","v":0},{"$f":"VLOOKUP($A76,'Applicable RBC Table'!$A$43:$F$136,6,FALSE)","v":0},"1634-04-4","MTBE (methyl t-butyl ether)","c, v",{"$f":"'RBC Reference Table'!E76","v":250},{"$f":"'RBC Reference Table'!F76","v":0},{"$f":"IF(ISNUMBER(J76),($B76/J76)*10^-6,\"\")","v":0},"--",{"$f":"'RBC Reference Table'!G76","v":730},{"$f":"'RBC Reference Table'!H76","v":0},{"$f":"IF(ISNUMBER(N76),($B76/N76)*10^-6,\"\")","v":0},"--",{"$f":"'RBC Reference Table'!I76","v":1100},{"$f":"'RBC Reference Table'!J76","v":0},{"$f":"IF(ISNUMBER(R76),($B76/R76)*10^-6,\"\")","v":0},"--",{"$f":"'RBC Reference Table'!K76","v":12000},{"$f":"'RBC Reference Table'!L76","v":">Csat"},{"$f":"IF(ISNUMBER(V76),(MAX($B76,$C76)/V76)*10^-6,\"\")","v":0},"--",{"$f":"'RBC Reference Table'!M76","v":320000},{"$f":"'RBC Reference Table'!N76","v":">Csat"},{"$f":"IF(ISNUMBER(Z76),(MAX($B76,$C76)/Z76)*10^-6,\"\")","v":0},"--",{"$f":"'RBC Reference Table'!O76","v":340},{"$f":"'RBC Reference Table'!P76","v":0},{"$f":"IF(ISNUMBER(AD76),(MAX($B76:$C76)/AD76)*10^-6,\"\")","v":0},"--",{"$f":"'RBC Reference Table'!O76","v":340},{"$f":"'RBC Reference Table'!P76","v":0},{"$f":"IF(ISNUMBER(AH76),(MAX($B76:$C76)/AH76)*10^-6,\"\")","v":0},"--",{"$f":"'RBC Reference Table'!S76","v":1500},{"$f":"'RBC Reference Table'!T76","v":0},{"$f":"IF(ISNUMBER(AL76),(MAX($B76:$C76)/AL76)*10^-6,\"\")","v":0},"--",{"$f":"'RBC Reference Table'!U76","v":8.5},{"$f":"'RBC Reference Table'!V76","v":0},{"$f":"IF(ISNUMBER(AP76),(MAX($B76:$C76)/AP76)*10^-6,\"\")","v":0},"--",{"$f":"'RBC Reference Table'!W76","v":20},{"$f":"'RBC Reference Table'!X76","v":0},{"$f":"IF(ISNUMBER(AT76),(MAX($B76:$C76)/AT76)*10^-6,\"\")","v":0},"--",{"$f":"'RBC Reference Table'!Y76","v":110},{"$f":"'RBC Reference Table'!Z76","v":0},{"$f":"IF(ISNUMBER(AX76),(MAX($B76:$C76)/AX76)*10^-6,\"\")","v":0},"--",{"$f":"'RBC Reference Table'!AA76","v":0.11},{"$f":"'RBC Reference Table'!AB76","v":0},null,null,{"$f":"'RBC Reference Table'!AC76","v":0.5},{"$f":"'RBC Reference Table'!AD76","v":0},null,null,{"$f":"'RBC Reference Table'!AE76","v":0.54},{"$f":"'RBC Reference Table'!AF76","v":0},null,null,{"$f":"'RBC Reference Table'!AG76","v":14},{"$f":"'RBC Reference Table'!AH76","v":0},{"$f":"IF(ISNUMBER(BN76),($D76/BN76)*10^-6,\"\")","v":0},"--",{"$f":"'RBC Reference Table'!AI76","v":64},{"$f":"'RBC Reference Table'!AJ76","v":0},{"$f":"IF(ISNUMBER(BR76),($D76/BR76)*10^-6,\"\")","v":0},"--",{"$f":"'RBC Reference Table'!AK76","v":68},{"$f":"'RBC Reference Table'!AL76","v":0},{"$f":"IF(ISNUMBER(BV76),($D76/BV76)*10^-6,\"\")","v":0},"--",{"$f":"'RBC Reference Table'!AM76","v":350000},{"$f":"'RBC Reference Table'!AN76","v":0},{"$f":"IF(ISNUMBER(BZ76),($D76/BZ76)*10^-6,\"\")","v":0},"--",{"$f":"'RBC Reference Table'!AO76","v":830000},{"$f":"'RBC Reference Table'!AP76","v":0},{"$f":"IF(ISNUMBER(CD76),($D76/CD76)*10^-6,\"\")","v":0},"--",{"$f":"'RBC Reference Table'!AQ76","v":1500000},{"$f":"'RBC Reference Table'!AR76","v":0},{"$f":"IF(ISNUMBER(CH76),($D76/CH76)*10^-6,\"\")","v":0},"--",{"$f":"'RBC Reference Table'!AS76","v":67000},{"$f":"'RBC Reference Table'!AT76","v":0},{"$f":"IF(ISNUMBER(CL76),($D76/CL76)*10^-6,\"\")","v":0},"--",{"$f":"'RBC Reference Table'!AU76","v":160000},{"$f":"'RBC Reference Table'!AV76","v":0},{"$f":"IF(ISNUMBER(CP76),($D76/CP76)*10^-6,\"\")","v":0},"--",{"$f":"'RBC Reference Table'!AW76","v":870000},{"$f":"'RBC Reference Table'!AX76","v":0},{"$f":"IF(ISNUMBER(CT76),($D76/CT76)*10^-6,\"\")","v":0},"--",{"$f":"'RBC Reference Table'!AY76","v":63000},{"$f":"'RBC Reference Table'!AZ76","v":0},{"$f":"IF(ISNUMBER(CX76),($D76/CX76)*10^-6,\"\")","v":0},"--",{"$f":"'RBC Reference Table'!BA76","v":2200},{"$f":"'RBC Reference Table'!BB76","v":0},{"$f":"IF(ISNUMBER(DB76),($E76/DB76)*10^-6,\"\")","v":0},"--",{"$f":"'RBC Reference Table'!BC76","v":5100},{"$f":"'RBC Reference Table'!BD76","v":0},{"$f":"IF(ISNUMBER(DF76),($E76/DF76)*10^-6,\"\")","v":0},"--",{"$f":"'RBC Reference Table'!BE75","v":"-"},{"$f":"'RBC Reference Table'!BF75","v":"NV"},{"$f":"IF(ISNUMBER(DJ76),($E76/DJ76)*10^-6,\"\")","v":""},"--",{"$f":"'RBC Reference Table'!BG76","v":11},null,{"$f":"IF(ISNUMBER(DN76),($F76/DN76)*10^-6,\"\")","v":0},"--",{"$f":"'RBC Reference Table'!BI76","v":26},null,{"$f":"IF(ISNUMBER(DR76),($F76/DR76)*10^-6,\"\")","v":0},"--",{"$f":"'RBC Reference Table'!BK76","v":47},null,{"$f":"IF(ISNUMBER(DV76),($F76/DV76)*10^-6,\"\")","v":0},"--"]
[70,{"$f":"VLOOKUP($A77,'Applicable RBC Table'!$A$43:$F$136,2,FALSE)","v":0},{"$f":"VLOOKUP($A77,'Applicable RBC Table'!$A$43:$F$136,3,FALSE)","v":0.161},{"$f":"VLOOKUP($A77,'Applicable RBC Table'!$A$43:$F$136,4,FALSE)","v":0},{"$f":"VLOOKUP($A77,'Applicable RBC Table'!$A$43:$F$136,5,FALSE)","v":0},{"$f":"VLOOKUP($A77,'Applicable RBC Table'!$A$43:$F$136,6,FALSE)","v":0},"91-20-3","Naphthalene","c, v",{"$f":"'RBC Reference Table'!E77","v":5.3},{"$f":"'RBC Reference Table'!F77","v":0},{"$f":"IF(ISNUMBER(J77),($B77/J77)*10^-6,\"\")","v":0},"--",{"$f":"'RBC Reference Table'!G77","v":25},{"$f":"'RBC Reference Table'!H77","v":0},{"$f":"IF(ISNUMBER(N77),($B77/N77)*10^-6,\"\")","v":0},"--",{"$f":"'RBC Reference Table'!I77","v":23},{"$f":"'RBC Reference Table'!J77","v":0},{"$f":"IF(ISNUMBER(R77),($B77/R77)*10^-6,\"\")","v":0},"--",{"$f":"'RBC Reference Table'!K77","v":580},{"$f":"'RBC Reference Table'!L77","v":">Csat"},{"$f":"IF(ISNUMBER(V77),(MAX($B77,$C77)/V77)*10^-6,\"\")","v":2.7758620689655172E-10},"--",{"$f":"'RBC Reference Table'!M77","v":16000},{"$f":"'RBC Reference Table'!N77","v":">Csat"},{"$f":"IF(ISNUMBER(Z77),(MAX($B77,$C77)/Z77)*10^-6,\"\")","v":1.0062500000000001E-11},"--",{"$f":"'RBC Reference Table'!O77","v":6.4},{"$f":"'RBC Reference Table'!P77","v":0},{"$f":"IF(ISNUMBER(AD77),(MAX($B77:$C77)/AD77)*10^-6,\"\")","v":2.5156249999999997E-8},"--",{"$f":"'RBC Reference Table'!O77","v":6.4},{"$f":"'RBC Reference Table'!P77","v":0},{"$f":"IF(ISNUMBER(AH77),(MAX($B77:$C77)/AH77)*10^-6,\"\")","v":2.5156249999999997E-8},"--",{"$f":"'RBC Reference Table'!S77","v":83},{"$f":"'RBC Reference Table'!T77","v":0},{"$f":"IF(ISNUMBER(AL77),(MAX($B77:$C77)/AL77)*10^-6,\"\")","v":1.9397590361445784E-9},"--",{"$f":"'RBC Reference Table'!U77","v":6.4},{"$f":"'RBC Reference Table'!V77","v":0},{"$f":"IF(ISNUMBER(AP77),(MAX($B77:$C77)/AP77)*10^-6,\"\")","v":2.5156249999999997E-8},"--",{"$f":"'RBC Reference Table'!W77","v":15},{"$f":"'RBC Reference Table'!X77","v":0},{"$f":"IF(ISNUMBER(AT77),(MAX($B77:$C77)/AT77)*10^-6,\"\")","v":1.0733333333333333E-8},"--",{"$f":"'RBC Reference Table'!Y77","v":83},{"$f":"'RBC Reference Table'!Z77","v":0},{"$f":"IF(ISNUMBER(AX77),(MAX($B77:$C77)/AX77)*10^-6,\"\")","v":1.9397590361445784E-9},"--",{"$f":"'RBC Reference Table'!AA77","v":7.6999999999999999E-2},{"$f":"'RBC Reference Table'!AB77","v":0},null,null,{"$f":"'RBC Reference Table'!AC77","v":0.37},{"$f":"'RBC Reference Table'!AD77","v":0},null,null,{"$f":"'RBC Reference Table'!AE77","v":0.34},{"$f":"'RBC Reference Table'!AF77","v":0},null,null,{"$f":"'RBC Reference Table'!AG77","v":0.17},{"$f":"'RBC Reference Table'!AH77","v":0},{"$f":"IF(ISNUMBER(BN77),($D77/BN77)*10^-6,\"\")","v":0},"--",{"$f":"'RBC Reference Table'!AI77","v":0.78},{"$f":"'RBC Reference Table'!AJ77","v":0},{"$f":"IF(ISNUMBER(BR77),($D77/BR77)*10^-6,\"\")","v":0},"--",{"$f":"'RBC Reference Table'!AK77","v":0.72},{"$f":"'RBC Reference Table'!AL77","v":0},{"$f":"IF(ISNUMBER(BV77),($D77/BV77)*10^-6,\"\")","v":0},"--",{"$f":"'RBC Reference Table'!AM77","v":3600},{"$f":"'RBC Reference Table'!AN77","v":0},{"$f":"IF(ISNUMBER(BZ77),($D77/BZ77)*10^-6,\"\")","v":0},"--",{"$f":"'RBC Reference Table'!AO77","v":8500},{"$f":"'RBC Reference Table'!AP77","v":0},{"$f":"IF(ISNUMBER(CD77),($D77/CD77)*10^-6,\"\")","v":0},"--",{"$f":"'RBC Reference Table'!AQ77","v":16000},{"$f":"'RBC Reference Table'!AR77","v":0},{"$f":"IF(ISNUMBER(CH77),($D77/CH77)*10^-6,\"\")","v":0},"--",{"$f":"'RBC Reference Table'!AS77","v":840},{"$f":"'RBC Reference Table'!AT77","v":0},{"$f":"IF(ISNUMBER(CL77),($D77/CL77)*10^-6,\"\")","v":0},"--",{"$f":"'RBC Reference Table'!AU77","v":2000},{"$f":"'RBC Reference Table'!AV77","v":0},{"$f":"IF(ISNUMBER(CP77),($D77/CP77)*10^-6,\"\")","v":0},"--",{"$f":"'RBC Reference Table'!AW77","v":11000},{"$f":"'RBC Reference Table'!AX77","v":0},{"$f":"IF(ISNUMBER(CT77),($D77/CT77)*10^-6,\"\")","v":0},"--",{"$f":"'RBC Reference Table'!AY77","v":500},{"$f":"'RBC Reference Table'!AZ77","v":0},{"$f":"IF(ISNUMBER(CX77),($D77/CX77)*10^-6,\"\")","v":0},"--",{"$f":"'RBC Reference Table'!BA77","v":17},{"$f":"'RBC Reference Table'!BB77","v":0},{"$f":"IF(ISNUMBER(DB77),($E77/DB77)*10^-6,\"\")","v":0},"--",{"$f":"'RBC Reference Table'!BC77","v":39},{"$f":"'RBC Reference Table'!BD77","v":0},{"$f":"IF(ISNUMBER(DF77),($E77/DF77)*10^-6,\"\")","v":0},"--",{"$f":"'RBC Reference Table'!BE76","v":47000},{"$f":"'RBC Reference Table'!BF76","v":0},{"$f":"IF(ISNUMBER(DJ77),($E77/DJ77)*10^-6,\"\")","v":0},"--",{"$f":"'RBC Reference Table'!BG77","v":8.3000000000000004E-2},null,{"$f":"IF(ISNUMBER(DN77),($F77/DN77)*10^-6,\"\")","v":0},"--",{"$f":"'RBC Reference Table'!BI77","v":0.2},null,{"$f":"IF(ISNUMBER(DR77),($F77/DR77)*10^-6,\"\")","v":0},"--",{"$f":"'RBC Reference Table'!BK77","v":0.36},null,{"$f":"IF(ISNUMBER(DV77),($F77/DV77)*10^-6,\"\")","v":0},"--"]
[71,{"$f":"VLOOKUP($A78,'Applicable RBC Table'!$A$43:$F$136,2,FALSE)","v":0},{"$f":"VLOOKUP($A78,'Applicable RBC Table'!$A$43:$F$136,3,FALSE)","v":0},{"$f":"VLOOKUP($A78,'Applicable RBC Table'!$A$43:$F$136,4,FALSE)","v":0},{"$f":"VLOOKUP($A78,'Applicable RBC Table'!$A$43:$F$136,5,FALSE)","v":0},{"$f":"VLOOKUP($A78,'Applicable RBC Table'!$A$43:$F$136,6,FALSE)","v":0},"7440-02-0","Nickel","c, nv",{"$f":"'RBC Reference Table'!E78","v":14000},{"$f":"'RBC Reference Table'!F78","v":0},{"$f":"IF(ISNUMBER(J78),($B78/J78)*10^-6,\"\")","v":0},"--",{"$f":"'RBC Reference Table'!G78","v":67000},{"$f":"'RBC Reference Table'!H78","v":0},{"$f":"IF(ISNUMBER(N78),($B78/N78)*10^-6,\"\")","v":0},"--",{"$f":"'RBC Reference Table'!I78","v":62000},{"$f":"'RBC Reference Table'!J78","v":0},{"$f":"IF(ISNUMBER(R78),($B78/R78)*10^-6,\"\")","v":0},"--",{"$f":"'RBC Reference Table'!K78","v":"-"},{"$f":"'RBC Reference Table'!L78","v":">Max"},{"$f":"IF(ISNUMBER(V78),(MAX($B78,$C78)/V78)*10^-6,\"\")","v":""},"--",{"$f":"'RBC Reference Table'!M78","v":"-"},{"$f":"'RBC Reference Table'!N78","v":">Max"},{"$f":"IF(ISNUMBER(Z78),(MAX($B78,$C78)/Z78)*10^-6,\"\")","v":""},"--",{"$f":"'RBC Reference Table'!O78","v":"-"},{"$f":"'RBC Reference Table'!P78","v":"NV"},{"$f":"IF(ISNUMBER(AD78),(MAX($B78:$C78)/AD78)*10^-6,\"\")","v":""},"--",{"$f":"'RBC Reference Table'!O78","v":"-"},{"$f":"'RBC Reference Table'!P78","v":"NV"},{"$f":"IF(ISNUMBER(AH78),(MAX($B78:$C78)/AH78)*10^-6,\"\")","v":""},"--",{"$f":"'RBC Reference Table'!S78","v":"-"},{"$f":"'RBC Reference Table'!T78","v":"NV"},{"$f":"IF(ISNUMBER(AL78),(MAX($B78:$C78)/AL78)*10^-6,\"\")","v":""},"--",{"$f":"'RBC Reference Table'!U78","v":"-"},{"$f":"'RBC Reference Table'!V78","v":"NV"},{"$f":"IF(ISNUMBER(AP78),(MAX($B78:$C78)/AP78)*10^-6,\"\")","v":""},"--",{"$f":"'RBC Reference Table'!W78","v":"-"},{"$f":"'RBC Reference Table'!X78","v":"NV"},{"$f":"IF(ISNUMBER(AT78),(MAX($B78:$C78)/AT78)*10^-6,\"\")","v":""},"--",{"$f":"'RBC Reference Table'!Y78","v":"-"},{"$f":"'RBC Reference Table'!Z78","v":"NV"},{"$f":"IF(ISNUMBER(AX78),(MAX($B78:$C78)/AX78)*10^-6,\"\")","v":""},"--",{"$f":"'RBC Reference Table'!AA78","v":"*"},{"$f":"'RBC Reference Table'!AB78","v":0},null,null,{"$f":"'RBC Reference Table'!AC78","v":"*"},{"$f":"'RBC Reference Table'!AD78","v":0},null,null,{"$f":"'RBC Reference Table'!AE78","v":"*"},{"$f":"'RBC Reference Table'!AF78","v":0},null,null,{"$f":"'RBC Reference Table'!AG78","v":"-"},{"$f":"'RBC Reference Table'!AH78","v":">S"},{"$f":"IF(ISNUMBER(BN78),($D78/BN78)*10^-6,\"\")","v":""},"--",{"$f":"'RBC Reference Table'!AI78","v":"-"},{"$f":"'RBC Reference Table'!AJ78","v":">S"},{"$f":"IF(ISNUMBER(BR78),($D78/BR78)*10^-6,\"\")","v":""},"--",{"$f":"'RBC Reference Table'!AK78","v":"-"},{"$f":"'RBC Reference Table'!AL78","v":">S"},{"$f":"IF(ISNUMBER(BV78),($D78/BV78)*10^-6,\"\")","v":""},"--",{"$f":"'RBC Reference Table'!AM78","v":"-"},{"$f":"'RBC Reference Table'!AN78","v":"NV"},{"$f":"IF(ISNUMBER(BZ78),($D78/BZ78)*10^-6,\"\")","v":""},"--",{"$f":"'RBC Reference Table'!AO78","v":"-"},{"$f":"'RBC Reference Table'!AP78","v":"NV"},{"$f":"IF(ISNUMBER(CD78),($D78/CD78)*10^-6,\"\")","v":""},"--",{"$f":"'RBC Reference Table'!AQ78","v":"-"},{"$f":"'RBC Reference Table'!AR78","v":"NV"},{"$f":"IF(ISNUMBER(CH78),($D78/CH78)*10^-6,\"\")","v":""},"--",{"$f":"'RBC Reference Table'!AS78","v":"-"},{"$f":"'RBC Reference Table'!AT78","v":"NV"},{"$f":"IF(ISNUMBER(CL78),($D78/CL78)*10^-6,\"\")","v":""},"--",{"$f":"'RBC Reference Table'!AU78","v":"-"},{"$f":"'RBC Reference Table'!AV78","v":"NV"},{"$f":"IF(ISNUMBER(CP78),($D78/CP78)*10^-6,\"\")","v":""},"--",{"$f":"'RBC Reference Table'!AW78","v":"-"},{"$f":"'RBC Reference Table'!AX78","v":"NV"},{"$f":"IF(ISNUMBER(CT78),($D78/CT78)*10^-6,\"\")","v":""},"--",{"$f":"'RBC Reference Table'!AY78","v":"-"},{"$f":"'RBC Reference Table'!AZ78","v":">S"},{"$f":"IF(ISNUMBER(CX78),($D78/CX78)*10^-6,\"\")","v":""},"--",{"$f":"'RBC Reference Table'!BA78","v":"-"},{"$f":"'RBC Reference Table'!BB78","v":"NV"},{"$f":"IF(ISNUMBER(DB78),($E78/DB78)*10^-6,\"\")","v":""},"--",{"$f":"'RBC Reference Table'!BC78","v":"-"},{"$f":"'RBC Reference Table'!BD78","v":"NV"},{"$f":"IF(ISNUMBER(DF78),($E78/DF78)*10^-6,\"\")","v":""},"--",{"$f":"'RBC Reference Table'!BE77","v":360},{"$f":"'RBC Reference Table'!BF77","v":0},{"$f":"IF(ISNUMBER(DJ78),($E78/DJ78)*10^-6,\"\")","v":0},"--",{"$f":"'RBC Reference Table'!BG78","v":1.0999999999999999E-2},null,{"$f":"IF(ISNUMBER(DN78),($F78/DN78)*10^-6,\"\")","v":0},"--",{"$f":"'RBC Reference Table'!BI78","v":2.5999999999999999E-2},null,{"$f":"IF(ISNUMBER(DR78),($F78/DR78)*10^-6,\"\")","v":0},"--",{"$f":"'RBC Reference Table'!BK78","v":4.7E-2},null,{"$f":"IF(ISNUMBER(DV78),($F78/DV78)*10^-6,\"\")","v":0},"--"]
[72,{"$f":"VLOOKUP($A79,'Applicable RBC Table'!$A$43:$F$136,2,FALSE)","v":0},{"$f":"VLOOKUP($A79,'Applicable RBC Table'!$A$43:$F$136,3,FALSE)","v":0},{"$f":"VLOOKUP($A79,'Applicable RBC Table'!$A$43:$F$136,4,FALSE)","v":0},{"$f":"VLOOKUP($A79,'Applicable RBC Table'!$A$43:$F$136,5,FALSE)","v":0},{"$f":"VLOOKUP($A79,'Applicable RBC Table'!$A$43:$F$136,6,FALSE)","v":0},"87-86-5","Pentachlorophenol","c, nv",{"$f":"'RBC Reference Table'!E79","v":1},{"$f":"'RBC Reference Table'!F79","v":0},{"$f":"IF(ISNUMBER(J79),($B79/J79)*10^-6,\"\")","v":0},"--",{"$f":"'RBC Reference Table'!G79","v":2.6},{"$f":"'RBC Reference Table'!H79","v":0},{"$f":"IF(ISNUMBER(N79),($B79/N79)*10^-6,\"\")","v":0},"--",{"$f":"'RBC Reference Table'!I79","v":4},{"$f":"'RBC Reference Table'!J79","v":0},{"$f":"IF(ISNUMBER(R79),($B79/R79)*10^-6,\"\")","v":0},"--",{"$f":"'RBC Reference Table'!K79","v":34},{"$f":"'RBC Reference Table'!L79","v":0},{"$f":"IF(ISNUMBER(V79),(MAX($B79,$C79)/V79)*10^-6,\"\")","v":0},"--",{"$f":"'RBC Reference Table'!M79","v":960},{"$f":"'RBC Reference Table'!N79","v":0},{"$f":"IF(ISNUMBER(Z79),(MAX($B79,$C79)/Z79)*10^-6,\"\")","v":0},"--",{"$f":"'RBC Reference Table'!O79","v":"-"},{"$f":"'RBC Reference Table'!P79","v":"NV"},{"$f":"IF(ISNUMBER(AD79),(MAX($B79:$C79)/AD79)*10^-6,\"\")","v":""},"--",{"$f":"'RBC Reference Table'!O79","v":"-"},{"$f":"'RBC Reference Table'!P79","v":"NV"},{"$f":"IF(ISNUMBER(AH79),(MAX($B79:$C79)/AH79)*10^-6,\"\")","v":""},"--",{"$f":"'RBC Reference Table'!S79","v":"-"},{"$f":"'RBC Reference Table'!T79","v":"NV"},{"$f":"IF(ISNUMBER(AL79),(MAX($B79:$C79)/AL79)*10^-6,\"\")","v":""},"--",{"$f":"'RBC Reference Table'!U79","v":"-"},{"$f":"'RBC Reference Table'!V79","v":"NV"},{"$f":"IF(ISNUMBER(AP79),(MAX($B79:$C79)/AP79)*10^-6,\"\")","v":""},"--",{"$f":"'RBC Reference Table'!W79","v":"-"},{"$f":"'RBC Reference Table'!X79","v":"NV"},{"$f":"IF(ISNUMBER(AT79),(MAX($B79:$C79)/AT79)*10^-6,\"\")","v":""},"--",{"$f":"'RBC Reference Table'!Y79","v":"-"},{"$f":"'RBC Reference Table'!Z79","v":"NV"},{"$f":"IF(ISNUMBER(AX79),(MAX($B79:$C79)/AX79)*10^-6,\"\")","v":""},"--",{"$f":"'RBC Reference Table'!AA79","v":6.6000000000000003E-2},{"$f":"'RBC Reference Table'!AB79","v":0},null,null,{"$f":"'RBC Reference Table'!AC79","v":0.23},{"$f":"'RBC Reference Table'!AD79","v":0},null,null,{"$f":"'RBC Reference Table'!AE79","v":0.17},{"$f":"'RBC Reference Table'!AF79","v":0},null,null,{"$f":"'RBC Reference Table'!AG79","v":4.3999999999999997E-2},{"$f":"'RBC Reference Table'!AH79","v":0},{"$f":"IF(ISNUMBER(BN79),($D79/BN79)*10^-6,\"\")","v":0},"--",{"$f":"'RBC Reference Table'!AI79","v":0.15},{"$f":"'RBC Reference Table'!AJ79","v":0},{"$f":"IF(ISNUMBER(BR79),($D79/BR79)*10^-6,\"\")","v":0},"--",{"$f":"'RBC Reference Table'!AK79","v":0.12},{"$f":"'RBC Reference Table'!AL79","v":0},{"$f":"IF(ISNUMBER(BV79),($D79/BV79)*10^-6,\"\")","v":0},"--",{"$f":"'RBC Reference Table'!AM79","v":"-"},{"$f":"'RBC Reference Table'!AN79","v":"NV"},{"$f":"IF(ISNUMBER(BZ79),($D79/BZ79)*10^-6,\"\")","v":""},"--",{"$f":"'RBC Reference Table'!AO79","v":"-"},{"$f":"'RBC Reference Table'!AP79","v":"NV"},{"$f":"IF(ISNUMBER(CD79),($D79/CD79)*10^-6,\"\")","v":""},"--",{"$f":"'RBC Reference Table'!AQ79","v":"-"},{"$f":"'RBC Reference Table'!AR79","v":"NV"},{"$f":"IF(ISNUMBER(CH79),($D79/CH79)*10^-6,\"\")","v":""},"--",{"$f":"'RBC Reference Table'!AS79","v":"-"},{"$f":"'RBC Reference Table'!AT79","v":"NV"},{"$f":"IF(ISNUMBER(CL79),($D79/CL79)*10^-6,\"\")","v":""},"--",{"$f":"'RBC Reference Table'!AU79","v":"-"},{"$f":"'RBC Reference Table'!AV79","v":"NV"},{"$f":"IF(ISNUMBER(CP79),($D79/CP79)*10^-6,\"\")","v":""},"--",{"$f":"'RBC Reference Table'!AW79","v":"-"},{"$f":"'RBC Reference Table'!AX79","v":"NV"},{"$f":"IF(ISNUMBER(CT79),($D79/CT79)*10^-6,\"\")","v":""},"--",{"$f":"'RBC Reference Table'!AY79","v":53},{"$f":"'RBC Reference Table'!AZ79","v":0},{"$f":"IF(ISNUMBER(CX79),($D79/CX79)*10^-6,\"\")","v":0},"--",{"$f":"'RBC Reference Table'!BA79","v":"-"},{"$f":"'RBC Reference Table'!BB79","v":"NV"},{"$f":"IF(ISNUMBER(DB79),($E79/DB79)*10^-6,\"\")","v":""},"--",{"$f":"'RBC Reference Table'!BC79","v":"-"},{"$f":"'RBC Reference Table'!BD79","v":"NV"},{"$f":"IF(ISNUMBER(DF79),($E79/DF79)*10^-6,\"\")","v":""},"--",{"$f":"'RBC Reference Table'!BE78","v":"-"},{"$f":"'RBC Reference Table'!BF78","v":"NV"},{"$f":"IF(ISNUMBER(DJ79),($E79/DJ79)*10^-6,\"\")","v":""},"--",{"$f":"'RBC Reference Table'!BG79","v":0.55000000000000004},null,{"$f":"IF(ISNUMBER(DN79),($F79/DN79)*10^-6,\"\")","v":0},"--",{"$f":"'RBC Reference Table'!BI79","v":1.3},null,{"$f":"IF(ISNUMBER(DR79),($F79/DR79)*10^-6,\"\")","v":0},"--",{"$f":"'RBC Reference Table'!BK79","v":2.4},null,{"$f":"IF(ISNUMBER(DV79),($F79/DV79)*10^-6,\"\")","v":0},"--"]
[73,{"$f":"VLOOKUP($A80,'Applicable RBC Table'!$A$43:$F$136,2,FALSE)","v":0},{"$f":"VLOOKUP($A80,'Applicable RBC Table'!$A$43:$F$136,3,FALSE)","v":0},{"$f":"VLOOKUP($A80,'Applicable RBC Table'!$A$43:$F$136,4,FALSE)","v":0},{"$f":"VLOOKUP($A80,'Applicable RBC Table'!$A$43:$F$136,5,FALSE)","v":0},{"$f":"VLOOKUP($A80,'Applicable RBC Table'!$A$43:$F$136,6,FALSE)","v":0},"11097-69-1","Polychlorinated biphenyls (Total PCBs)","c, v",{"$f":"'RBC Reference Table'!E80","v":0.23},{"$f":"'RBC Reference Table'!F80","v":0},{"$f":"IF(ISNUMBER(J80),($B80/J80)*10^-6,\"\")","v":0},"--",{"$f":"'RBC Reference Table'!G80","v":0.6},{"$f":"'RBC Reference Table'!H80","v":0},{"$f":"IF(ISNUMBER(N80),($B80/N80)*10^-6,\"\")","v":0},"--",{"$f":"'RBC Reference Table'!I80","v":0.74},{"$f":"'RBC Reference Table'!J80","v":0},{"$f":"IF(ISNUMBER(R80),($B80/R80)*10^-6,\"\")","v":0},"--",{"$f":"'RBC Reference Table'!K80","v":8.4},{"$f":"'RBC Reference Table'!L80","v":">Csat"},{"$f":"IF(ISNUMBER(V80),(MAX($B80,$C80)/V80)*10^-6,\"\")","v":0},"--",{"$f":"'RBC Reference Table'!M80","v":230},{"$f":"'RBC Reference Table'!N80","v":">Csat"},{"$f":"IF(ISNUMBER(Z80),(MAX($B80,$C80)/Z80)*10^-6,\"\")","v":0},"--",{"$f":"'RBC Reference Table'!O80","v":"-"},{"$f":"'RBC Reference Table'!P80","v":">Csat"},{"$f":"IF(ISNUMBER(AD80),(MAX($B80:$C80)/AD80)*10^-6,\"\")","v":""},"--",{"$f":"'RBC Reference Table'!O80","v":"-"},{"$f":"'RBC Reference Table'!P80","v":">Csat"},{"$f":"IF(ISNUMBER(AH80),(MAX($B80:$C80)/AH80)*10^-6,\"\")","v":""},"--",{"$f":"'RBC Reference Table'!S80","v":"-"},{"$f":"'RBC Reference Table'!T80","v":">Csat"},{"$f":"IF(ISNUMBER(AL80),(MAX($B80:$C80)/AL80)*10^-6,\"\")","v":""},"--",{"$f":"'RBC Reference Table'!U80","v":"-"},{"$f":"'RBC Reference Table'!V80","v":">Csat"},{"$f":"IF(ISNUMBER(AP80),(MAX($B80:$C80)/AP80)*10^-6,\"\")","v":""},"--",{"$f":"'RBC Reference Table'!W80","v":"-"},{"$f":"'RBC Reference Table'!X80","v":">Csat"},{"$f":"IF(ISNUMBER(AT80),(MAX($B80:$C80)/AT80)*10^-6,\"\")","v":""},"--",{"$f":"'RBC Reference Table'!Y80","v":"-"},{"$f":"'RBC Reference Table'!Z80","v":">Csat"},{"$f":"IF(ISNUMBER(AX80),(MAX($B80:$C80)/AX80)*10^-6,\"\")","v":""},"--",{"$f":"'RBC Reference Table'!AA80","v":0.24},{"$f":"'RBC Reference Table'!AB80","v":0},null,null,{"$f":"'RBC Reference Table'!AC80","v":1.1000000000000001},{"$f":"'RBC Reference Table'!AD80","v":0},null,null,{"$f":"'RBC Reference Table'!AE80","v":1.1000000000000001},{"$f":"'RBC Reference Table'!AF80","v":0},null,null,{"$f":"'RBC Reference Table'!AG80","v":6.0000000000000001E-3},{"$f":"'RBC Reference Table'!AH80","v":0},{"$f":"IF(ISNUMBER(BN80),($D80/BN80)*10^-6,\"\")","v":0},"--",{"$f":"'RBC Reference Table'!AI80","v":2.8000000000000001E-2},{"$f":"'RBC Reference Table'!AJ80","v":0},{"$f":"IF(ISNUMBER(BR80),($D80/BR80)*10^-6,\"\")","v":0},"--",{"$f":"'RBC Reference Table'!AK80","v":2.8000000000000001E-2},{"$f":"'RBC Reference Table'!AL80","v":0},{"$f":"IF(ISNUMBER(BV80),($D80/BV80)*10^-6,\"\")","v":0},"--",{"$f":"'RBC Reference Table'!AM80","v":"-"},{"$f":"'RBC Reference Table'!AN80","v":">S"},{"$f":"IF(ISNUMBER(BZ80),($D80/BZ80)*10^-6,\"\")","v":""},"--",{"$f":"'RBC Reference Table'!AO80","v":"-"},{"$f":"'RBC Reference Table'!AP80","v":">S"},{"$f":"IF(ISNUMBER(CD80),($D80/CD80)*10^-6,\"\")","v":""},"--",{"$f":"'RBC Reference Table'!AQ80","v":"-"},{"$f":"'RBC Reference Table'!AR80","v":">S"},{"$f":"IF(ISNUMBER(CH80),($D80/CH80)*10^-6,\"\")","v":""},"--",{"$f":"'RBC Reference Table'!AS80","v":"-"},{"$f":"'RBC Reference Table'!AT80","v":">S"},{"$f":"IF(ISNUMBER(CL80),($D80/CL80)*10^-6,\"\")","v":""},"--",{"$f":"'RBC Reference Table'!AU80","v":"-"},{"$f":"'RBC Reference Table'!AV80","v":">S"},{"$f":"IF(ISNUMBER(CP80),($D80/CP80)*10^-6,\"\")","v":""},"--",{"$f":"'RBC Reference Table'!AW80","v":"-"},{"$f":"'RBC Reference Table'!AX80","v":">S"},{"$f":"IF(ISNUMBER(CT80),($D80/CT80)*10^-6,\"\")","v":""},"--",{"$f":"'RBC Reference Table'!AY80","v":30},{"$f":"'RBC Reference Table'!AZ80","v":0},{"$f":"IF(ISNUMBER(CX80),($D80/CX80)*10^-6,\"\")","v":0},"--",{"$f":"'RBC Reference Table'!BA80","v":0.99},{"$f":"'RBC Reference Table'!BB80","v":0},{"$f":"IF(ISNUMBER(DB80),($E80/DB80)*10^-6,\"\")","v":0},"--",{"$f":"'RBC Reference Table'!BC80","v":2.2999999999999998},{"$f":"'RBC Reference Table'!BD80","v":0},{"$f":"IF(ISNUMBER(DF80),($E80/DF80)*10^-6,\"\")","v":0},"--",{"$f":"'RBC Reference Table'!BE79","v":"-"},{"$f":"'RBC Reference Table'!BF79","v":"NV"},{"$f":"IF(ISNUMBER(DJ80),($E80/DJ80)*10^-6,\"\")","v":""},"--",{"$f":"'RBC Reference Table'!BG80","v":3.8E-3},null,{"$f":"IF(ISNUMBER(DN80),($F80/DN80)*10^-6,\"\")","v":0},"--",{"$f":"'RBC Reference Table'!BI80","v":8.9999999999999993E-3},null,{"$f":"IF(ISNUMBER(DR80),($F80/DR80)*10^-6,\"\")","v":0},"--",{"$f":"'RBC Reference Table'!BK80","v":1.7000000000000001E-2},null,{"$f":"IF(ISNUMBER(DV80),($F80/DV80)*10^-6,\"\")","v":0},"--"]
[74,{"$f":"VLOOKUP($A81,'Applicable RBC Table'!$A$43:$F$136,2,FALSE)","v":0},{"$f":"VLOOKUP($A81,'Applicable RBC Table'!$A$43:$F$136,3,FALSE)","v":0},{"$f":"VLOOKUP($A81,'Applicable RBC Table'!$A$43:$F$136,4,FALSE)","v":0},{"$f":"VLOOKUP($A81,'Applicable RBC Table'!$A$43:$F$136,5,FALSE)","v":0},{"$f":"VLOOKUP($A81,'Applicable RBC Table'!$A$43:$F$136,6,FALSE)","v":0},"98-82-8","iso-Propylbenzene (cumene)","nc, v",{"$f":"'RBC Reference Table'!E81","v":3500},{"$f":"'RBC Reference Table'!F81","v":">Csat"},"--",{"$f":"IF(ISNUMBER(J81),$B81/J81,\"\")","v":0},{"$f":"'RBC Reference Table'!G81","v":7000},{"$f":"'RBC Reference Table'!H81","v":">Csat"},"--",{"$f":"IF(ISNUMBER(N81),$B81/N81,\"\")","v":0},{"$f":"'RBC Reference Table'!I81","v":57000},{"$f":"'RBC Reference Table'!J81","v":">Csat"},"--",{"$f":"IF(ISNUMBER(R81),$B81/R81,\"\")","v":0},{"$f":"'RBC Reference Table'!K81","v":27000},{"$f":"'RBC Reference Table'!L81","v":">Csat"},"--",{"$f":"IF(ISNUMBER(V81),MAX($B81,$C81)/V81,\"\")","v":0},{"$f":"'RBC Reference Table'!M81","v":750000},{"$f":"'RBC Reference Table'!N81","v":">Csat"},"--",{"$f":"IF(ISNUMBER(Z81),MAX($B81,$C81)/Z81,\"\")","v":0},{"$f":"'RBC Reference Table'!O81","v":"-"},{"$f":"'RBC Reference Table'!P81","v":">Csat"},"--",{"$f":"IF(ISNUMBER(AD81),MAX($B81:$C81)/AD81,\"\")","v":""},{"$f":"'RBC Reference Table'!O81","v":"-"},{"$f":"'RBC Reference Table'!P81","v":">Csat"},"--",{"$f":"IF(ISNUMBER(AH81),MAX($B81:$C81)/AH81,\"\")","v":""},{"$f":"'RBC Reference Table'!S81","v":"-"},{"$f":"'RBC Reference Table'!T81","v":">Csat"},"--",{"$f":"IF(ISNUMBER(AL81),MAX($B81:$C81)/AL81,\"\")","v":""},{"$f":"'RBC Reference Table'!U81","v":"-"},{"$f":"'RBC Reference Table'!V81","v":">Csat"},"--",{"$f":"IF(ISNUMBER(AP81),MAX($B81:$C81)/AP81,\"\")","v":""},{"$f":"'RBC Reference Table'!W81","v":"-"},{"$f":"'RBC Reference Table'!X81","v":">Csat"},"--",{"$f":"IF(ISNUMBER(AT81),MAX($B81:$C81)/AT81,\"\")","v":""},{"$f":"'RBC Reference Table'!Y81","v":"-"},{"$f":"'RBC Reference Table'!Z81","v":">Csat"},"--",{"$f":"IF(ISNUMBER(AX81),MAX($B81:$C81)/AX81,\"\")","v":""},{"$f":"'RBC Reference Table'!AA81","v":96},{"$f":"'RBC Reference Table'!AB81","v":0},null,null,{"$f":"'RBC Reference Table'!AC81","v":"-"},{"$f":"'RBC Reference Table'!AD81","v":">Csat"},null,null,{"$f":"'RBC Reference Table'!AE81","v":"-"},{"$f":"'RBC Reference Table'!AF81","v":">Csat"},null,null,{"$f":"'RBC Reference Table'!AG81","v":440},{"$f":"'RBC Reference Table'!AH81","v":0},"--",{"$f":"IF(ISNUMBER(BN81),$D81/BN81,\"\")","v":0},{"$f":"'RBC Reference Table'!AI81","v":1800},{"$f":"'RBC Reference Table'!AJ81","v":0},"--",{"$f":"IF(ISNUMBER(BR81),$D81/BR81,\"\")","v":0},{"$f":"'RBC Reference Table'!AK81","v":2000},{"$f":"'RBC Reference Table'!AL81","v":0},"--",{"$f":"IF(ISNUMBER(BV81),$D81/BV81,\"\")","v":0},{"$f":"'RBC Reference Table'!AM81","v":"-"},{"$f":"'RBC Reference Table'!AN81","v":">S"},"--",{"$f":"IF(ISNUMBER(BZ81),$D81/BZ81,\"\")","v":""},{"$f":"'RBC Reference Table'!AO81","v":"-"},{"$f":"'RBC Reference Table'!AP81","v":">S"},"--",{"$f":"IF(ISNUMBER(CD81),$D81/CD81,\"\")","v":""},{"$f":"'RBC Reference Table'!AQ81","v":"-"},{"$f":"'RBC Reference Table'!AR81","v":">S"},"--",{"$f":"IF(ISNUMBER(CH81),$D81/CH81,\"\")","v":""},{"$f":"'RBC Reference Table'!AS81","v":"-"},{"$f":"'RBC Reference Table'!AT81","v":">S"},"--",{"$f":"IF(ISNUMBER(CL81),$D81/CL81,\"\")","v":""},{"$f":"'RBC Reference Table'!AU81","v":"-"},{"$f":"'RBC Reference Table'!AV81","v":">S"},"--",{"$f":"IF(ISNUMBER(CP81),$D81/CP81,\"\")","v":""},{"$f":"'RBC Reference Table'!AW81","v":"-"},{"$f":"'RBC Reference Table'!AX81","v":">S"},"--",{"$f":"IF(ISNUMBER(CT81),$D81/CT81,\"\")","v":""},{"$f":"'RBC Reference Table'!AY81","v":51000},{"$f":"'RBC Reference Table'!AZ81","v":0},"--",{"$f":"IF(ISNUMBER(CX81),$D81/CX81,\"\")","v":0},{"$f":"'RBC Reference Table'!BA81","v":83000},{"$f":"'RBC Reference Table'!BB81","v":0},"--",{"$f":"IF(ISNUMBER(DB81),$E81/DB81,\"\")","v":0},{"$f":"'RBC Reference Table'!BC81","v":83000},{"$f":"'RBC Reference Table'!BD81","v":0},"--",{"$f":"IF(ISNUMBER(DF81),$E81/DF81,\"\")","v":0},{"$f":"'RBC Reference Table'!BE80","v":22},{"$f":"'RBC Reference Table'!BF80","v":0},"--",{"$f":"IF(ISNUMBER(DJ81),$E81/DJ81,\"\")","v":0},{"$f":"'RBC Reference Table'!BG81","v":420},null,"--",{"$f":"IF(ISNUMBER(DN81),$F81/DN81,\"\")","v":0},{"$f":"'RBC Reference Table'!BI81","v":420},null,"--",{"$f":"IF(ISNUMBER(DR81),$F81/DR81,\"\")","v":0},{"$f":"'RBC Reference Table'!BK81","v":1800},null,"--",{"$f":"IF(ISNUMBER(DV81),$F81/DV81,\"\")","v":0}]
[75,{"$f":"VLOOKUP($A82,'Applicable RBC Table'!$A$43:$F$136,2,FALSE)","v":0},{"$f":"VLOOKUP($A82,'Applicable RBC Table'!$A$43:$F$136,3,FALSE)","v":0},{"$f":"VLOOKUP($A82,'Applicable RBC Table'!$A$43:$F$136,4,FALSE)","v":0},{"$f":"VLOOKUP($A82,'Applicable RBC Table'!$A$43:$F$136,5,FALSE)","v":0},{"$f":"VLOOKUP($A82,'Applicable RBC Table'!$A$43:$F$136,6,FALSE)","v":0},"129-00-0","Pyrene","nc, v",{"$f":"'RBC Reference Table'!E82","v":1800},{"$f":"'RBC Reference Table'!F82","v":">Csat"},"--",{"$f":"IF(ISNUMBER(J82),$B82/J82,\"\")","v":0},{"$f":"'RBC Reference Table'!G82","v":3600},{"$f":"'RBC Reference Table'!H82","v":">Csat"},"--",{"$f":"IF(ISNUMBER(N82),$B82/N82,\"\")","v":0},{"$f":"'RBC Reference Table'!I82","v":23000},{"$f":"'RBC Reference Table'!J82","v":">Csat"},"--",{"$f":"IF(ISNUMBER(R82),$B82/R82,\"\")","v":0},{"$f":"'RBC Reference Table'!K82","v":7500},{"$f":"'RBC Reference Table'!L82","v":">Csat"},"--",{"$f":"IF(ISNUMBER(V82),MAX($B82,$C82)/V82,\"\")","v":0},{"$f":"'RBC Reference Table'!M82","v":210000},{"$f":"'RBC Reference Table'!N82","v":">Csat"},"--",{"$f":"IF(ISNUMBER(Z82),MAX($B82,$C82)/Z82,\"\")","v":0},{"$f":"'RBC Reference Table'!O82","v":"-"},{"$f":"'RBC Reference Table'!P82","v":">Max"},"--",{"$f":"IF(ISNUMBER(AD82),MAX($B82:$C82)/AD82,\"\")","v":""},{"$f":"'RBC Reference Table'!O82","v":"-"},{"$f":"'RBC Reference Table'!P82","v":">Max"},"--",{"$f":"IF(ISNUMBER(AH82),MAX($B82:$C82)/AH82,\"\")","v":""},{"$f":"'RBC Reference Table'!S82","v":"-"},{"$f":"'RBC Reference Table'!T82","v":">Max"},"--",{"$f":"IF(ISNUMBER(AL82),MAX($B82:$C82)/AL82,\"\")","v":""},{"$f":"'RBC Reference Table'!U82","v":"-"},{"$f":"'RBC Reference Table'!V82","v":">Max"},"--",{"$f":"IF(ISNUMBER(AP82),MAX($B82:$C82)/AP82,\"\")","v":""},{"$f":"'RBC Reference Table'!W82","v":"-"},{"$f":"'RBC Reference Table'!X82","v":">Max"},"--",{"$f":"IF(ISNUMBER(AT82),MAX($B82:$C82)/AT82,\"\")","v":""},{"$f":"'RBC Reference Table'!Y82","v":"-"},{"$f":"'RBC Reference Table'!Z82","v":">Max"},"--",{"$f":"IF(ISNUMBER(AX82),MAX($B82:$C82)/AX82,\"\")","v":""},{"$f":"'RBC Reference Table'!AA82","v":"-"},{"$f":"'RBC Reference Table'!AB82","v":">Csat"},null,null,{"$f":"'RBC Reference Table'!AC82","v":"-"},{"$f":"'RBC Reference Table'!AD82","v":">Csat"},null,null,{"$f":"'RBC Reference Table'!AE82","v":"-"},{"$f":"'RBC Reference Table'!AF82","v":">Csat"},null,null,{"$f":"'RBC Reference Table'!AG82","v":110},{"$f":"'RBC Reference Table'!AH82","v":0},"--",{"$f":"IF(ISNUMBER(BN82),$D82/BN82,\"\")","v":0},{"$f":"'RBC Reference Table'!AI82","v":"-"},{"$f":"'RBC Reference Table'!AJ82","v":">S"},"--",{"$f":"IF(ISNUMBER(BR82),$D82/BR82,\"\")","v":""},{"$f":"'RBC Reference Table'!AK82","v":"-"},{"$f":"'RBC Reference Table'!AL82","v":">S"},"--",{"$f":"IF(ISNUMBER(BV82),$D82/BV82,\"\")","v":""},{"$f":"'RBC Reference Table'!AM82","v":"-"},{"$f":"'RBC Reference Table'!AN82","v":">S"},"--",{"$f":"IF(ISNUMBER(BZ82),$D82/BZ82,\"\")","v":""},{"$f":"'RBC Reference Table'!AO82","v":"-"},{"$f":"'RBC Reference Table'!AP82","v":">S"},"--",{"$f":"IF(ISNUMBER(CD82),$D82/CD82,\"\")","v":""},{"$f":"'RBC Reference Table'!AQ82","v":"-"},{"$f":"'RBC Reference Table'!AR82","v":">S"},"--",{"$f":"IF(ISNUMBER(CH82),$D82/CH82,\"\")","v":""},{"$f":"'RBC Reference Table'!AS82","v":"-"},{"$f":"'RBC Reference Table'!AT82","v":">S"},"--",{"$f":"IF(ISNUMBER(CL82),$D82/CL82,\"\")","v":""},{"$f":"'RBC Reference Table'!AU82","v":"-"},{"$f":"'RBC Reference Table'!AV82","v":">S"},"--",{"$f":"IF(ISNUMBER(CP82),$D82/CP82,\"\")","v":""},{"$f":"'RBC Reference Table'!AW82","v":"-"},{"$f":"'RBC Reference Table'!AX82","v":">S"},"--",{"$f":"IF(ISNUMBER(CT82),$D82/CT82,\"\")","v":""},{"$f":"'RBC Reference Table'!AY82","v":"-"},{"$f":"'RBC Reference Table'!AZ82","v":">S"},"--",{"$f":"IF(ISNUMBER(CX82),$D82/CX82,\"\")","v":""},{"$f":"'RBC Reference Table'!BA82","v":"-"},{"$f":"'RBC Reference Table'!BB82","v":">Pv"},"--",{"$f":"IF(ISNUMBER(DB82),$E82/DB82,\"\")","v":""},{"$f":"'RBC Reference Table'!BC82","v":"-"},{"$f":"'RBC Reference Table'!BD82","v":">Pv"},"--",{"$f":"IF(ISNUMBER(DF82),$E82/DF82,\"\")","v":""},{"$f":"'RBC Reference Table'!BE81","v":1800000},{"$f":"'RBC Reference Table'!BF81","v":0},"--",{"$f":"IF(ISNUMBER(DJ82),$E82/DJ82,\"\")","v":0},{"$f":"'RBC Reference Table'!BG82","v":"-"},">Pv","--",{"$f":"IF(ISNUMBER(DN82),$F82/DN82,\"\")","v":""},{"$f":"'RBC Reference Table'!BI82","v":"-"},">Pv","--",{"$f":"IF(ISNUMBER(DR82),$F82/DR82,\"\")","v":""},{"$f":"'RBC Reference Table'!BK82","v":"-"},">Pv","--",{"$f":"IF(ISNUMBER(DV82),$F82/DV82,\"\")","v":""}]
[76,{"$f":"VLOOKUP($A83,'Applicable RBC Table'!$A$43:$F$136,2,FALSE)","v":0},{"$f":"VLOOKUP($A83,'Applicable RBC Table'!$A$43:$F$136,3,FALSE)","v":0},{"$f":"VLOOKUP($A83,'Applicable RBC Table'!$A$43:$F$136,4,FALSE)","v":0},{"$f":"VLOOKUP($A83,'Applicable RBC Table'!$A$43:$F$136,5,FALSE)","v":0},{"$f":"VLOOKUP($A83,'Applicable RBC Table'!$A$43:$F$136,6,FALSE)","v":0},"7440-22-4","Silver","nc, nv",{"$f":"'RBC Reference Table'!E83","v":390},{"$f":"'RBC Reference Table'!F83","v":0},"--",{"$f":"IF(ISNUMBER(J83),$B83/J83,\"\")","v":0},{"$f":"'RBC Reference Table'!G83","v":780},{"$f":"'RBC Reference Table'!H83","v":0},"--",{"$f":"IF(ISNUMBER(N83),$B83/N83,\"\")","v":0},{"$f":"'RBC Reference Table'!I83","v":5800},{"$f":"'RBC Reference Table'!J83","v":0},"--",{"$f":"IF(ISNUMBER(R83),$B83/R83,\"\")","v":0},{"$f":"'RBC Reference Table'!K83","v":1800},{"$f":"'RBC Reference Table'!L83","v":0},"--",{"$f":"IF(ISNUMBER(V83),MAX($B83,$C83)/V83,\"\")","v":0},{"$f":"'RBC Reference Table'!M83","v":49000},{"$f":"'RBC Reference Table'!N83","v":0},"--",{"$f":"IF(ISNUMBER(Z83),MAX($B83,$C83)/Z83,\"\")","v":0},{"$f":"'RBC Reference Table'!O83","v":"-"},{"$f":"'RBC Reference Table'!P83","v":"NV"},"--",{"$f":"IF(ISNUMBER(AD83),MAX($B83:$C83)/AD83,\"\")","v":""},{"$f":"'RBC Reference Table'!O83","v":"-"},{"$f":"'RBC Reference Table'!P83","v":"NV"},"--",{"$f":"IF(ISNUMBER(AH83),MAX($B83:$C83)/AH83,\"\")","v":""},{"$f":"'RBC Reference Table'!S83","v":"-"},{"$f":"'RBC Reference Table'!T83","v":"NV"},"--",{"$f":"IF(ISNUMBER(AL83),MAX($B83:$C83)/AL83,\"\")","v":""},{"$f":"'RBC Reference Table'!U83","v":"-"},{"$f":"'RBC Reference Table'!V83","v":"NV"},"--",{"$f":"IF(ISNUMBER(AP83),MAX($B83:$C83)/AP83,\"\")","v":""},{"$f":"'RBC Reference Table'!W83","v":"-"},{"$f":"'RBC Reference Table'!X83","v":"NV"},"--",{"$f":"IF(ISNUMBER(AT83),MAX($B83:$C83)/AT83,\"\")","v":""},{"$f":"'RBC Reference Table'!Y83","v":"-"},{"$f":"'RBC Reference Table'!Z83","v":"NV"},"--",{"$f":"IF(ISNUMBER(AX83),MAX($B83:$C83)/AX83,\"\")","v":""},{"$f":"'RBC Reference Table'!AA83","v":"*"},{"$f":"'RBC Reference Table'!AB83","v":0},null,null,{"$f":"'RBC Reference Table'!AC83","v":"*"},{"$f":"'RBC Reference Table'!AD83","v":0},null,null,{"$f":"'RBC Reference Table'!AE83","v":"*"},{"$f":"'RBC Reference Table'!AF83","v":0},null,null,{"$f":"'RBC Reference Table'!AG83","v":100},{"$f":"'RBC Reference Table'!AH83","v":0},"--",{"$f":"IF(ISNUMBER(BN83),$D83/BN83,\"\")","v":0},{"$f":"'RBC Reference Table'!AI83","v":370},{"$f":"'RBC Reference Table'!AJ83","v":0},"--",{"$f":"IF(ISNUMBER(BR83),$D83/BR83,\"\")","v":0},{"$f":"'RBC Reference Table'!AK83","v":820},{"$f":"'RBC Reference Table'!AL83","v":0},"--",{"$f":"IF(ISNUMBER(BV83),$D83/BV83,\"\")","v":0},{"$f":"'RBC Reference Table'!AM83","v":"-"},{"$f":"'RBC Reference Table'!AN83","v":"NV"},"--",{"$f":"IF(ISNUMBER(BZ83),$D83/BZ83,\"\")","v":""},{"$f":"'RBC Reference Table'!AO83","v":"-"},{"$f":"'RBC Reference Table'!AP83","v":"NV"},"--",{"$f":"IF(ISNUMBER(CD83),$D83/CD83,\"\")","v":""},{"$f":"'RBC Reference Table'!AQ83","v":"-"},{"$f":"'RBC Reference Table'!AR83","v":"NV"},"--",{"$f":"IF(ISNUMBER(CH83),$D83/CH83,\"\")","v":""},{"$f":"'RBC Reference Table'!AS83","v":"-"},{"$f":"'RBC Reference Table'!AT83","v":"NV"},"--",{"$f":"IF(ISNUMBER(CL83),$D83/CL83,\"\")","v":""},{"$f":"'RBC Reference Table'!AU83","v":"-"},{"$f":"'RBC Reference Table'!AV83","v":"NV"},"--",{"$f":"IF(ISNUMBER(CP83),$D83/CP83,\"\")","v":""},{"$f":"'RBC Reference Table'!AW83","v":"-"},{"$f":"'RBC Reference Table'!AX83","v":"NV"},"--",{"$f":"IF(ISNUMBER(CT83),$D83/CT83,\"\")","v":""},{"$f":"'RBC Reference Table'!AY83","v":1100000},{"$f":"'RBC Reference Table'!AZ83","v":0},"--",{"$f":"IF(ISNUMBER(CX83),$D83/CX83,\"\")","v":0},{"$f":"'RBC Reference Table'!BA83","v":"-"},{"$f":"'RBC Reference Table'!BB83","v":"NV"},"--",{"$f":"IF(ISNUMBER(DB83),$E83/DB83,\"\")","v":""},{"$f":"'RBC Reference Table'!BC83","v":"-"},{"$f":"'RBC Reference Table'!BD83","v":"NV"},"--",{"$f":"IF(ISNUMBER(DF83),$E83/DF83,\"\")","v":""},{"$f":"'RBC Reference Table'!BE82","v":"-"},{"$f":"'RBC Reference Table'!BF82","v":">Pv"},"--",{"$f":"IF(ISNUMBER(DJ83),$E83/DJ83,\"\")","v":""},{"$f":"'RBC Reference Table'!BG83","v":1042857142857142.9},null,"--",{"$f":"IF(ISNUMBER(DN83),$F83/DN83,\"\")","v":0},{"$f":"'RBC Reference Table'!BI83","v":1042857142857142.9},null,"--",{"$f":"IF(ISNUMBER(DR83),$F83/DR83,\"\")","v":0},{"$f":"'RBC Reference Table'!BK83","v":4380000000000000},null,"--",{"$f":"IF(ISNUMBER(DV83),$F83/DV83,\"\")","v":0}]
[77,{"$f":"VLOOKUP($A84,'Applicable RBC Table'!$A$43:$F$136,2,FALSE)","v":0},{"$f":"VLOOKUP($A84,'Applicable RBC Table'!$A$43:$F$136,3,FALSE)","v":0},{"$f":"VLOOKUP($A84,'Applicable RBC Table'!$A$43:$F$136,4,FALSE)","v":0},{"$f":"VLOOKUP($A84,'Applicable RBC Table'!$A$43:$F$136,5,FALSE)","v":0},{"$f":"VLOOKUP($A84,'Applicable RBC Table'!$A$43:$F$136,6,FALSE)","v":0},"100-42-5","Styrene","nc, v",{"$f":"'RBC Reference Table'!E84","v":7900},{"$f":"'RBC Reference Table'!F84","v":">Csat"},"--",{"$f":"IF(ISNUMBER(J84),$B84/J84,\"\")","v":0},{"$f":"'RBC Reference Table'!G84","v":16000},{"$f":"'RBC Reference Table'!H84","v":">Csat"},"--",{"$f":"IF(ISNUMBER(N84),$B84/N84,\"\")","v":0},{"$f":"'RBC Reference Table'!I84","v":130000},{"$f":"'RBC Reference Table'!J84","v":">Csat"},"--",{"$f":"IF(ISNUMBER(R84),$B84/R84,\"\")","v":0},{"$f":"'RBC Reference Table'!K84","v":56000},{"$f":"'RBC Reference Table'!L84","v":">Csat"},"--",{"$f":"IF(ISNUMBER(V84),MAX($B84,$C84)/V84,\"\")","v":0},{"$f":"'RBC Reference Table'!M84","v":"-"},{"$f":"'RBC Reference Table'!N84","v":">Max"},"--",{"$f":"IF(ISNUMBER(Z84),MAX($B84,$C84)/Z84,\"\")","v":""},{"$f":"'RBC Reference Table'!O84","v":"-"},{"$f":"'RBC Reference Table'!P84","v":">Csat"},"--",{"$f":"IF(ISNUMBER(AD84),MAX($B84:$C84)/AD84,\"\")","v":""},{"$f":"'RBC Reference Table'!O84","v":"-"},{"$f":"'RBC Reference Table'!P84","v":">Csat"},"--",{"$f":"IF(ISNUMBER(AH84),MAX($B84:$C84)/AH84,\"\")","v":""},{"$f":"'RBC Reference Table'!S84","v":"-"},{"$f":"'RBC Reference Table'!T84","v":">Csat"},"--",{"$f":"IF(ISNUMBER(AL84),MAX($B84:$C84)/AL84,\"\")","v":""},{"$f":"'RBC Reference Table'!U84","v":"-"},{"$f":"'RBC Reference Table'!V84","v":">Csat"},"--",{"$f":"IF(ISNUMBER(AP84),MAX($B84:$C84)/AP84,\"\")","v":""},{"$f":"'RBC Reference Table'!W84","v":"-"},{"$f":"'RBC Reference Table'!X84","v":">Csat"},"--",{"$f":"IF(ISNUMBER(AT84),MAX($B84:$C84)/AT84,\"\")","v":""},{"$f":"'RBC Reference Table'!Y84","v":"-"},{"$f":"'RBC Reference Table'!Z84","v":">Csat"},"--",{"$f":"IF(ISNUMBER(AX84),MAX($B84:$C84)/AX84,\"\")","v":""},{"$f":"'RBC Reference Table'!AA84","v":170},{"$f":"'RBC Reference Table'!AB84","v":0},null,null,{"$f":"'RBC Reference Table'!AC84","v":640},{"$f":"'RBC Reference Table'!AD84","v":0},null,null,{"$f":"'RBC Reference Table'!AE84","v":800},{"$f":"'RBC Reference Table'!AF84","v":0},null,null,{"$f":"'RBC Reference Table'!AG84","v":1200},{"$f":"'RBC Reference Table'!AH84","v":0},"--",{"$f":"IF(ISNUMBER(BN84),$D84/BN84,\"\")","v":0},{"$f":"'RBC Reference Table'!AI84","v":4600},{"$f":"'RBC Reference Table'!AJ84","v":0},"--",{"$f":"IF(ISNUMBER(BR84),$D84/BR84,\"\")","v":0},{"$f":"'RBC Reference Table'!AK84","v":5700},{"$f":"'RBC Reference Table'!AL84","v":0},"--",{"$f":"IF(ISNUMBER(BV84),$D84/BV84,\"\")","v":0},{"$f":"'RBC Reference Table'!AM84","v":"-"},{"$f":"'RBC Reference Table'!AN84","v":">S"},"--",{"$f":"IF(ISNUMBER(BZ84),$D84/BZ84,\"\")","v":""},{"$f":"'RBC Reference Table'!AO84","v":"-"},{"$f":"'RBC Reference Table'!AP84","v":">S"},"--",{"$f":"IF(ISNUMBER(CD84),$D84/CD84,\"\")","v":""},{"$f":"'RBC Reference Table'!AQ84","v":"-"},{"$f":"'RBC Reference Table'!AR84","v":">S"},"--",{"$f":"IF(ISNUMBER(CH84),$D84/CH84,\"\")","v":""},{"$f":"'RBC Reference Table'!AS84","v":"-"},{"$f":"'RBC Reference Table'!AT84","v":">S"},"--",{"$f":"IF(ISNUMBER(CL84),$D84/CL84,\"\")","v":""},{"$f":"'RBC Reference Table'!AU84","v":"-"},{"$f":"'RBC Reference Table'!AV84","v":">S"},"--",{"$f":"IF(ISNUMBER(CP84),$D84/CP84,\"\")","v":""},{"$f":"'RBC Reference Table'!AW84","v":"-"},{"$f":"'RBC Reference Table'!AX84","v":">S"},"--",{"$f":"IF(ISNUMBER(CT84),$D84/CT84,\"\")","v":""},{"$f":"'RBC Reference Table'!AY84","v":170000},{"$f":"'RBC Reference Table'!AZ84","v":0},"--",{"$f":"IF(ISNUMBER(CX84),$D84/CX84,\"\")","v":0},{"$f":"'RBC Reference Table'!BA84","v":210000},{"$f":"'RBC Reference Table'!BB84","v":0},"--",{"$f":"IF(ISNUMBER(DB84),$E84/DB84,\"\")","v":0},{"$f":"'RBC Reference Table'!BC84","v":210000},{"$f":"'RBC Reference Table'!BD84","v":0},"--",{"$f":"IF(ISNUMBER(DF84),$E84/DF84,\"\")","v":0},{"$f":"'RBC Reference Table'!BE83","v":"-"},{"$f":"'RBC Reference Table'!BF83","v":"NV"},"--",{"$f":"IF(ISNUMBER(DJ84),$E84/DJ84,\"\")","v":""},{"$f":"'RBC Reference Table'!BG84","v":1000},null,"--",{"$f":"IF(ISNUMBER(DN84),$F84/DN84,\"\")","v":0},{"$f":"'RBC Reference Table'!BI84","v":1000},null,"--",{"$f":"IF(ISNUMBER(DR84),$F84/DR84,\"\")","v":0},{"$f":"'RBC Reference Table'!BK84","v":4400},null,"--",{"$f":"IF(ISNUMBER(DV84),$F84/DV84,\"\")","v":0}]
[78,{"$f":"VLOOKUP($A85,'Applicable RBC Table'!$A$43:$F$136,2,FALSE)","v":0},{"$f":"VLOOKUP($A85,'Applicable RBC Table'!$A$43:$F$136,3,FALSE)","v":0},{"$f":"VLOOKUP($A85,'Applicable RBC Table'!$A$43:$F$136,4,FALSE)","v":0},{"$f":"VLOOKUP($A85,'Applicable RBC Table'!$A$43:$F$136,5,FALSE)","v":0},{"$f":"VLOOKUP($A85,'Applicable RBC Table'!$A$43:$F$136,6,FALSE)","v":0},"1746-01-6","2,3,7,8-TCDD (dioxin) equivalents","c, v",{"$f":"'RBC Reference Table'!E85","v":4.7441143396812132E-6},{"$f":"'RBC Reference Table'!F85","v":0},{"$f":"IF(ISNUMBER(J85),($B85/J85)*10^-6,\"\")","v":0},"--",{"$f":"'RBC Reference Table'!G85","v":1.2E-5},{"$f":"'RBC Reference Table'!H85","v":0},{"$f":"IF(ISNUMBER(N85),($B85/N85)*10^-6,\"\")","v":0},"--",{"$f":"'RBC Reference Table'!I85","v":1.5999999999999999E-5},{"$f":"'RBC Reference Table'!J85","v":0},{"$f":"IF(ISNUMBER(R85),($B85/R85)*10^-6,\"\")","v":0},"--",{"$f":"'RBC Reference Table'!K85","v":1.7000000000000001E-4},{"$f":"'RBC Reference Table'!L85","v":0},{"$f":"IF(ISNUMBER(V85),(MAX($B85,$C85)/V85)*10^-6,\"\")","v":0},"--",{"$f":"'RBC Reference Table'!M85","v":4.7999999999999996E-3},{"$f":"'RBC Reference Table'!N85","v":0},{"$f":"IF(ISNUMBER(Z85),(MAX($B85,$C85)/Z85)*10^-6,\"\")","v":0},"--",{"$f":"'RBC Reference Table'!O85","v":0.01},{"$f":"'RBC Reference Table'!P85","v":0},{"$f":"IF(ISNUMBER(AD85),(MAX($B85:$C85)/AD85)*10^-6,\"\")","v":0},"--",{"$f":"'RBC Reference Table'!O85","v":0.01},{"$f":"'RBC Reference Table'!P85","v":0},{"$f":"IF(ISNUMBER(AH85),(MAX($B85:$C85)/AH85)*10^-6,\"\")","v":0},"--",{"$f":"'RBC Reference Table'!S85","v":0.13},{"$f":"'RBC Reference Table'!T85","v":0},{"$f":"IF(ISNUMBER(AL85),(MAX($B85:$C85)/AL85)*10^-6,\"\")","v":0},"--",{"$f":"'RBC Reference Table'!U85","v":0.01},{"$f":"'RBC Reference Table'!V85","v":0},{"$f":"IF(ISNUMBER(AP85),(MAX($B85:$C85)/AP85)*10^-6,\"\")","v":0},"--",{"$f":"'RBC Reference Table'!W85","v":2.4E-2},{"$f":"'RBC Reference Table'!X85","v":0},{"$f":"IF(ISNUMBER(AT85),(MAX($B85:$C85)/AT85)*10^-6,\"\")","v":0},"--",{"$f":"'RBC Reference Table'!Y85","v":0.13},{"$f":"'RBC Reference Table'!Z85","v":0},{"$f":"IF(ISNUMBER(AX85),(MAX($B85:$C85)/AX85)*10^-6,\"\")","v":0},"--",{"$f":"'RBC Reference Table'!AA85","v":6.8147899587461333E-6},{"$f":"'RBC Reference Table'!AB85","v":0},null,null,{"$f":"'RBC Reference Table'!AC85","v":3.1000000000000001E-5},{"$f":"'RBC Reference Table'!AD85","v":0},null,null,{"$f":"'RBC Reference Table'!AE85","v":3.1000000000000001E-5},{"$f":"'RBC Reference Table'!AF85","v":0},null,null,{"$f":"'RBC Reference Table'!AG85","v":9.1186967009054988E-8},{"$f":"'RBC Reference Table'!AH85","v":0},{"$f":"IF(ISNUMBER(BN85),($D85/BN85)*10^-6,\"\")","v":0},"--",{"$f":"'RBC Reference Table'!AI85","v":4.1615093167214994E-7},{"$f":"'RBC Reference Table'!AJ85","v":0},{"$f":"IF(ISNUMBER(BR85),($D85/BR85)*10^-6,\"\")","v":0},"--",{"$f":"'RBC Reference Table'!AK85","v":4.2091895834227105E-7},{"$f":"'RBC Reference Table'!AL85","v":0},{"$f":"IF(ISNUMBER(BV85),($D85/BV85)*10^-6,\"\")","v":0},"--",{"$f":"'RBC Reference Table'!AM85","v":2.1999999999999999E-2},{"$f":"'RBC Reference Table'!AN85","v":0},{"$f":"IF(ISNUMBER(BZ85),($D85/BZ85)*10^-6,\"\")","v":0},"--",{"$f":"'RBC Reference Table'!AO85","v":5.1999999999999998E-2},{"$f":"'RBC Reference Table'!AP85","v":0},{"$f":"IF(ISNUMBER(CD85),($D85/CD85)*10^-6,\"\")","v":0},"--",{"$f":"'RBC Reference Table'!AQ85","v":0.11},{"$f":"'RBC Reference Table'!AR85","v":0},{"$f":"IF(ISNUMBER(CH85),($D85/CH85)*10^-6,\"\")","v":0},"--",{"$f":"'RBC Reference Table'!AS85","v":8.3000000000000001E-3},{"$f":"'RBC Reference Table'!AT85","v":0},{"$f":"IF(ISNUMBER(CL85),($D85/CL85)*10^-6,\"\")","v":0},"--",{"$f":"'RBC Reference Table'!AU85","v":0.02},{"$f":"'RBC Reference Table'!AV85","v":0},{"$f":"IF(ISNUMBER(CP85),($D85/CP85)*10^-6,\"\")","v":0},"--",{"$f":"'RBC Reference Table'!AW85","v":0.11},{"$f":"'RBC Reference Table'!AX85","v":0},{"$f":"IF(ISNUMBER(CT85),($D85/CT85)*10^-6,\"\")","v":0},"--",{"$f":"'RBC Reference Table'!AY85","v":4.4999999999999999E-4},{"$f":"'RBC Reference Table'!AZ85","v":0},{"$f":"IF(ISNUMBER(CX85),($D85/CX85)*10^-6,\"\")","v":0},"--",{"$f":"'RBC Reference Table'!BA85","v":1.5E-5},{"$f":"'RBC Reference Table'!BB85","v":0},{"$f":"IF(ISNUMBER(DB85),($E85/DB85)*10^-6,\"\")","v":0},"--",{"$f":"'RBC Reference Table'!BC85","v":3.4999999999999997E-5},{"$f":"'RBC Reference Table'!BD85","v":0},{"$f":"IF(ISNUMBER(DF85),($E85/DF85)*10^-6,\"\")","v":0},"--",{"$f":"'RBC Reference Table'!BE84","v":4400000},{"$f":"'RBC Reference Table'!BF84","v":0},{"$f":"IF(ISNUMBER(DJ85),($E85/DJ85)*10^-6,\"\")","v":0},"--",{"$f":"'RBC Reference Table'!BG85","v":5.6835876673933347E-8},null,{"$f":"IF(ISNUMBER(DN85),($F85/DN85)*10^-6,\"\")","v":0},"--",{"$f":"'RBC Reference Table'!BI85","v":1.3433934486566066E-7},null,{"$f":"IF(ISNUMBER(DR85),($F85/DR85)*10^-6,\"\")","v":0},"--",{"$f":"'RBC Reference Table'!BK85","v":2.4825910931174087E-7},null,{"$f":"IF(ISNUMBER(DV85),($F85/DV85)*10^-6,\"\")","v":0},"--"]
[79,{"$f":"VLOOKUP($A86,'Applicable RBC Table'!$A$43:$F$136,2,FALSE)","v":0},{"$f":"VLOOKUP($A86,'Applicable RBC Table'!$A$43:$F$136,3,FALSE)","v":0},{"$f":"VLOOKUP($A86,'Applicable RBC Table'!$A$43:$F$136,4,FALSE)","v":0},{"$f":"VLOOKUP($A86,'Applicable RBC Table'!$A$43:$F$136,5,FALSE)","v":0},{"$f":"VLOOKUP($A86,'Applicable RBC Table'!$A$43:$F$136,6,FALSE)","v":0},"127-18-4","Tetrachloroethene (PCE)","c, v",{"$f":"'RBC Reference Table'!E86","v":220},{"$f":"'RBC Reference Table'!F86","v":">Csat"},{"$f":"IF(ISNUMBER(J86),($B86/J86)*10^-6,\"\")","v":0},"--",{"$f":"'RBC Reference Table'!G86","v":650},{"$f":"'RBC Reference Table'!H86","v":">Csat"},{"$f":"IF(ISNUMBER(N86),($B86/N86)*10^-6,\"\")","v":0},"--",{"$f":"'RBC Reference Table'!I86","v":1000},{"$f":"'RBC Reference Table'!J86","v":">Csat"},{"$f":"IF(ISNUMBER(R86),($B86/R86)*10^-6,\"\")","v":0},"--",{"$f":"'RBC Reference Table'!K86","v":10000},{"$f":"'RBC Reference Table'!L86","v":">Csat"},{"$f":"IF(ISNUMBER(V86),(MAX($B86,$C86)/V86)*10^-6,\"\")","v":0},"--",{"$f":"'RBC Reference Table'!M86","v":280000},{"$f":"'RBC Reference Table'!N86","v":">Csat"},{"$f":"IF(ISNUMBER(Z86),(MAX($B86,$C86)/Z86)*10^-6,\"\")","v":0},"--",{"$f":"'RBC Reference Table'!O86","v":"-"},{"$f":"'RBC Reference Table'!P86","v":">Csat"},{"$f":"IF(ISNUMBER(AD86),(MAX($B86:$C86)/AD86)*10^-6,\"\")","v":""},"--",{"$f":"'RBC Reference Table'!O86","v":"-"},{"$f":"'RBC Reference Table'!P86","v":">Csat"},{"$f":"IF(ISNUMBER(AH86),(MAX($B86:$C86)/AH86)*10^-6,\"\")","v":""},"--",{"$f":"'RBC Reference Table'!S86","v":"-"},{"$f":"'RBC Reference Table'!T86","v":">Csat"},{"$f":"IF(ISNUMBER(AL86),(MAX($B86:$C86)/AL86)*10^-6,\"\")","v":""},"--",{"$f":"'RBC Reference Table'!U86","v":2.8},{"$f":"'RBC Reference Table'!V86","v":0},{"$f":"IF(ISNUMBER(AP86),(MAX($B86:$C86)/AP86)*10^-6,\"\")","v":0},"--",{"$f":"'RBC Reference Table'!W86","v":6.6},{"$f":"'RBC Reference Table'!X86","v":0},{"$f":"IF(ISNUMBER(AT86),(MAX($B86:$C86)/AT86)*10^-6,\"\")","v":0},"--",{"$f":"'RBC Reference Table'!Y86","v":36},{"$f":"'RBC Reference Table'!Z86","v":0},{"$f":"IF(ISNUMBER(AX86),(MAX($B86:$C86)/AX86)*10^-6,\"\")","v":0},"--",{"$f":"'RBC Reference Table'!AA86","v":0.46},{"$f":"'RBC Reference Table'!AB86","v":0},null,null,{"$f":"'RBC Reference Table'!AC86","v":1.9},{"$f":"'RBC Reference Table'!AD86","v":0},null,null,{"$f":"'RBC Reference Table'!AE86","v":1.9},{"$f":"'RBC Reference Table'!AF86","v":0},null,null,{"$f":"'RBC Reference Table'!AG86","v":12},{"$f":"'RBC Reference Table'!AH86","v":0},{"$f":"IF(ISNUMBER(BN86),($D86/BN86)*10^-6,\"\")","v":0},"--",{"$f":"'RBC Reference Table'!AI86","v":49},{"$f":"'RBC Reference Table'!AJ86","v":0},{"$f":"IF(ISNUMBER(BR86),($D86/BR86)*10^-6,\"\")","v":0},"--",{"$f":"'RBC Reference Table'!AK86","v":48},{"$f":"'RBC Reference Table'!AL86","v":0},{"$f":"IF(ISNUMBER(BV86),($D86/BV86)*10^-6,\"\")","v":0},"--",{"$f":"'RBC Reference Table'!AM86","v":64000},{"$f":"'RBC Reference Table'!AN86","v":0},{"$f":"IF(ISNUMBER(BZ86),($D86/BZ86)*10^-6,\"\")","v":0},"--",{"$f":"'RBC Reference Table'!AO86","v":150000},{"$f":"'RBC Reference Table'!AP86","v":0},{"$f":"IF(ISNUMBER(CD86),($D86/CD86)*10^-6,\"\")","v":0},"--",{"$f":"'RBC Reference Table'!AQ86","v":"-"},{"$f":"'RBC Reference Table'!AR86","v":">S"},{"$f":"IF(ISNUMBER(CH86),($D86/CH86)*10^-6,\"\")","v":""},"--",{"$f":"'RBC Reference Table'!AS86","v":3700},{"$f":"'RBC Reference Table'!AT86","v":0},{"$f":"IF(ISNUMBER(CL86),($D86/CL86)*10^-6,\"\")","v":0},"--",{"$f":"'RBC Reference Table'!AU86","v":8700},{"$f":"'RBC Reference Table'!AV86","v":0},{"$f":"IF(ISNUMBER(CP86),($D86/CP86)*10^-6,\"\")","v":0},"--",{"$f":"'RBC Reference Table'!AW86","v":48000},{"$f":"'RBC Reference Table'!AX86","v":0},{"$f":"IF(ISNUMBER(CT86),($D86/CT86)*10^-6,\"\")","v":0},"--",{"$f":"'RBC Reference Table'!AY86","v":34000},{"$f":"'RBC Reference Table'!AZ86","v":0},{"$f":"IF(ISNUMBER(CX86),($D86/CX86)*10^-6,\"\")","v":0},"--",{"$f":"'RBC Reference Table'!BA86","v":2200},{"$f":"'RBC Reference Table'!BB86","v":0},{"$f":"IF(ISNUMBER(DB86),($E86/DB86)*10^-6,\"\")","v":0},"--",{"$f":"'RBC Reference Table'!BC86","v":5100},{"$f":"'RBC Reference Table'!BD86","v":0},{"$f":"IF(ISNUMBER(DF86),($E86/DF86)*10^-6,\"\")","v":0},"--",{"$f":"'RBC Reference Table'!BE85","v":3.2000000000000003E-4},{"$f":"'RBC Reference Table'!BF85","v":0},{"$f":"IF(ISNUMBER(DJ86),($E86/DJ86)*10^-6,\"\")","v":0},"--",{"$f":"'RBC Reference Table'!BG86","v":11},null,{"$f":"IF(ISNUMBER(DN86),($F86/DN86)*10^-6,\"\")","v":0},"--",{"$f":"'RBC Reference Table'!BI86","v":26},null,{"$f":"IF(ISNUMBER(DR86),($F86/DR86)*10^-6,\"\")","v":0},"--",{"$f":"'RBC Reference Table'!BK86","v":47},null,{"$f":"IF(ISNUMBER(DV86),($F86/DV86)*10^-6,\"\")","v":0},"--"]
[80,{"$f":"VLOOKUP($A87,'Applicable RBC Table'!$A$43:$F$136,2,FALSE)","v":0},{"$f":"VLOOKUP($A87,'Applicable RBC Table'!$A$43:$F$136,3,FALSE)","v":2},{"$f":"VLOOKUP($A87,'Applicable RBC Table'!$A$43:$F$136,4,FALSE)","v":36.6},{"$f":"VLOOKUP($A87,'Applicable RBC Table'!$A$43:$F$136,5,FALSE)","v":0},{"$f":"VLOOKUP($A87,'Applicable RBC Table'!$A$43:$F$136,6,FALSE)","v":0},"108-88-3","Toluene","nc, v",{"$f":"'RBC Reference Table'!E87","v":5800},{"$f":"'RBC Reference Table'!F87","v":">Csat"},"--",{"$f":"IF(ISNUMBER(J87),$B87/J87,\"\")","v":0},{"$f":"'RBC Reference Table'!G87","v":12000},{"$f":"'RBC Reference Table'!H87","v":">Csat"},"--",{"$f":"IF(ISNUMBER(N87),$B87/N87,\"\")","v":0},{"$f":"'RBC Reference Table'!I87","v":88000},{"$f":"'RBC Reference Table'!J87","v":">Csat"},"--",{"$f":"IF(ISNUMBER(R87),$B87/R87,\"\")","v":0},{"$f":"'RBC Reference Table'!K87","v":28000},{"$f":"'RBC Reference Table'!L87","v":">Csat"},"--",{"$f":"IF(ISNUMBER(V87),MAX($B87,$C87)/V87,\"\")","v":7.1428571428571434E-5},{"$f":"'RBC Reference Table'!M87","v":770000},{"$f":"'RBC Reference Table'!N87","v":">Csat"},"--",{"$f":"IF(ISNUMBER(Z87),MAX($B87,$C87)/Z87,\"\")","v":2.5974025974025972E-6},{"$f":"'RBC Reference Table'!O87","v":"-"},{"$f":"'RBC Reference Table'!P87","v":">Csat"},"--",{"$f":"IF(ISNUMBER(AD87),MAX($B87:$C87)/AD87,\"\")","v":""},{"$f":"'RBC Reference Table'!O87","v":"-"},{"$f":"'RBC Reference Table'!P87","v":">Csat"},"--",{"$f":"IF(ISNUMBER(AH87),MAX($B87:$C87)/AH87,\"\")","v":""},{"$f":"'RBC Reference Table'!S87","v":"-"},{"$f":"'RBC Reference Table'!T87","v":">Csat"},"--",{"$f":"IF(ISNUMBER(AL87),MAX($B87:$C87)/AL87,\"\")","v":""},{"$f":"'RBC Reference Table'!U87","v":"-"},{"$f":"'RBC Reference Table'!V87","v":">Csat"},"--",{"$f":"IF(ISNUMBER(AP87),MAX($B87:$C87)/AP87,\"\")","v":""},{"$f":"'RBC Reference Table'!W87","v":"-"},{"$f":"'RBC Reference Table'!X87","v":">Csat"},"--",{"$f":"IF(ISNUMBER(AT87),MAX($B87:$C87)/AT87,\"\")","v":""},{"$f":"'RBC Reference Table'!Y87","v":"-"},{"$f":"'RBC Reference Table'!Z87","v":">Csat"},"--",{"$f":"IF(ISNUMBER(AX87),MAX($B87:$C87)/AX87,\"\")","v":""},{"$f":"'RBC Reference Table'!AA87","v":83},{"$f":"'RBC Reference Table'!AB87","v":0},null,null,{"$f":"'RBC Reference Table'!AC87","v":340},{"$f":"'RBC Reference Table'!AD87","v":0},null,null,{"$f":"'RBC Reference Table'!AE87","v":490},{"$f":"'RBC Reference Table'!AF87","v":0},null,null,{"$f":"'RBC Reference Table'!AG87","v":1100},{"$f":"'RBC Reference Table'!AH87","v":0},"--",{"$f":"IF(ISNUMBER(BN87),$D87/BN87,\"\")","v":3.3272727272727273E-2},{"$f":"'RBC Reference Table'!AI87","v":4400},{"$f":"'RBC Reference Table'!AJ87","v":0},"--",{"$f":"IF(ISNUMBER(BR87),$D87/BR87,\"\")","v":8.3181818181818183E-3},{"$f":"'RBC Reference Table'!AK87","v":6300},{"$f":"'RBC Reference Table'!AL87","v":0},"--",{"$f":"IF(ISNUMBER(BV87),$D87/BV87,\"\")","v":5.8095238095238096E-3},{"$f":"'RBC Reference Table'!AM87","v":"-"},{"$f":"'RBC Reference Table'!AN87","v":">S"},"--",{"$f":"IF(ISNUMBER(BZ87),$D87/BZ87,\"\")","v":""},{"$f":"'RBC Reference Table'!AO87","v":"-"},{"$f":"'RBC Reference Table'!AP87","v":">S"},"--",{"$f":"IF(ISNUMBER(CD87),$D87/CD87,\"\")","v":""},{"$f":"'RBC Reference Table'!AQ87","v":"-"},{"$f":"'RBC Reference Table'!AR87","v":">S"},"--",{"$f":"IF(ISNUMBER(CH87),$D87/CH87,\"\")","v":""},{"$f":"'RBC Reference Table'!AS87","v":"-"},{"$f":"'RBC Reference Table'!AT87","v":">S"},"--",{"$f":"IF(ISNUMBER(CL87),$D87/CL87,\"\")","v":""},{"$f":"'RBC Reference Table'!AU87","v":"-"},{"$f":"'RBC Reference Table'!AV87","v":">S"},"--",{"$f":"IF(ISNUMBER(CP87),$D87/CP87,\"\")","v":""},{"$f":"'RBC Reference Table'!AW87","v":"-"},{"$f":"'RBC Reference Table'!AX87","v":">S"},"--",{"$f":"IF(ISNUMBER(CT87),$D87/CT87,\"\")","v":""},{"$f":"'RBC Reference Table'!AY87","v":220000},{"$f":"'RBC Reference Table'!AZ87","v":0},"--",{"$f":"IF(ISNUMBER(CX87),$D87/CX87,\"\")","v":1.6636363636363637E-4},{"$f":"'RBC Reference Table'!BA87","v":1000000},{"$f":"'RBC Reference Table'!BB87","v":0},"--",{"$f":"IF(ISNUMBER(DB87),$E87/DB87,\"\")","v":0},{"$f":"'RBC Reference Table'!BC87","v":1000000},{"$f":"'RBC Reference Table'!BD87","v":0},"--",{"$f":"IF(ISNUMBER(DF87),$E87/DF87,\"\")","v":0},{"$f":"'RBC Reference Table'!BE86","v":47000},{"$f":"'RBC Reference Table'!BF86","v":0},"--",{"$f":"IF(ISNUMBER(DJ87),$E87/DJ87,\"\")","v":0},{"$f":"'RBC Reference Table'!BG87","v":5200},null,"--",{"$f":"IF(ISNUMBER(DN87),$F87/DN87,\"\")","v":0},{"$f":"'RBC Reference Table'!BI87","v":5200},null,"--",{"$f":"IF(ISNUMBER(DR87),$F87/DR87,\"\")","v":0},{"$f":"'RBC Reference Table'!BK87","v":22000},null,"--",{"$f":"IF(ISNUMBER(DV87),$F87/DV87,\"\")","v":0}]
[81,{"$f":"VLOOKUP($A88,'Applicable RBC Table'!$A$43:$F$136,2,FALSE)","v":0},{"$f":"VLOOKUP($A88,'Applicable RBC Table'!$A$43:$F$136,3,FALSE)","v":0},{"$f":"VLOOKUP($A88,'Applicable RBC Table'!$A$43:$F$136,4,FALSE)","v":0},{"$f":"VLOOKUP($A88,'Applicable RBC Table'!$A$43:$F$136,5,FALSE)","v":0},{"$f":"VLOOKUP($A88,'Applicable RBC Table'!$A$43:$F$136,6,FALSE)","v":0},"8001-35-2","Toxaphene","c, nv",{"$f":"'RBC Reference Table'!E88","v":0.49},{"$f":"'RBC Reference Table'!F88","v":0},{"$f":"IF(ISNUMBER(J88),($B88/J88)*10^-6,\"\")","v":0},"--",{"$f":"'RBC Reference Table'!G88","v":1.2},{"$f":"'RBC Reference Table'!H88","v":0},{"$f":"IF(ISNUMBER(N88),($B88/N88)*10^-6,\"\")","v":0},"--",{"$f":"'RBC Reference Table'!I88","v":2.1},{"$f":"'RBC Reference Table'!J88","v":0},{"$f":"IF(ISNUMBER(R88),($B88/R88)*10^-6,\"\")","v":0},"--",{"$f":"'RBC Reference Table'!K88","v":17},{"$f":"'RBC Reference Table'!L88","v":0},{"$f":"IF(ISNUMBER(V88),(MAX($B88,$C88)/V88)*10^-6,\"\")","v":0},"--",{"$f":"'RBC Reference Table'!M88","v":470},{"$f":"'RBC Reference Table'!N88","v":0},{"$f":"IF(ISNUMBER(Z88),(MAX($B88,$C88)/Z88)*10^-6,\"\")","v":0},"--",{"$f":"'RBC Reference Table'!O88","v":"-"},{"$f":"'RBC Reference Table'!P88","v":"NV"},{"$f":"IF(ISNUMBER(AD88),(MAX($B88:$C88)/AD88)*10^-6,\"\")","v":""},"--",{"$f":"'RBC Reference Table'!O88","v":"-"},{"$f":"'RBC Reference Table'!P88","v":"NV"},{"$f":"IF(ISNUMBER(AH88),(MAX($B88:$C88)/AH88)*10^-6,\"\")","v":""},"--",{"$f":"'RBC Reference Table'!S88","v":"-"},{"$f":"'RBC Reference Table'!T88","v":"NV"},{"$f":"IF(ISNUMBER(AL88),(MAX($B88:$C88)/AL88)*10^-6,\"\")","v":""},"--",{"$f":"'RBC Reference Table'!U88","v":"-"},{"$f":"'RBC Reference Table'!V88","v":"NV"},{"$f":"IF(ISNUMBER(AP88),(MAX($B88:$C88)/AP88)*10^-6,\"\")","v":""},"--",{"$f":"'RBC Reference Table'!W88","v":"-"},{"$f":"'RBC Reference Table'!X88","v":"NV"},{"$f":"IF(ISNUMBER(AT88),(MAX($B88:$C88)/AT88)*10^-6,\"\")","v":""},"--",{"$f":"'RBC Reference Table'!Y88","v":"-"},{"$f":"'RBC Reference Table'!Z88","v":"NV"},{"$f":"IF(ISNUMBER(AX88),(MAX($B88:$C88)/AX88)*10^-6,\"\")","v":""},"--",{"$f":"'RBC Reference Table'!AA88","v":0.36},{"$f":"'RBC Reference Table'!AB88","v":0},null,null,{"$f":"'RBC Reference Table'!AC88","v":1.2},{"$f":"'RBC Reference Table'!AD88","v":0},null,null,{"$f":"'RBC Reference Table'!AE88","v":0.93},{"$f":"'RBC Reference Table'!AF88","v":0},null,null,{"$f":"'RBC Reference Table'!AG88","v":1.4999999999999999E-2},{"$f":"'RBC Reference Table'!AH88","v":0},{"$f":"IF(ISNUMBER(BN88),($D88/BN88)*10^-6,\"\")","v":0},"--",{"$f":"'RBC Reference Table'!AI88","v":5.2999999999999999E-2},{"$f":"'RBC Reference Table'!AJ88","v":0},{"$f":"IF(ISNUMBER(BR88),($D88/BR88)*10^-6,\"\")","v":0},"--",{"$f":"'RBC Reference Table'!AK88","v":0.04},{"$f":"'RBC Reference Table'!AL88","v":0},{"$f":"IF(ISNUMBER(BV88),($D88/BV88)*10^-6,\"\")","v":0},"--",{"$f":"'RBC Reference Table'!AM88","v":"-"},{"$f":"'RBC Reference Table'!AN88","v":"NV"},{"$f":"IF(ISNUMBER(BZ88),($D88/BZ88)*10^-6,\"\")","v":""},"--",{"$f":"'RBC Reference Table'!AO88","v":"-"},{"$f":"'RBC Reference Table'!AP88","v":"NV"},{"$f":"IF(ISNUMBER(CD88),($D88/CD88)*10^-6,\"\")","v":""},"--",{"$f":"'RBC Reference Table'!AQ88","v":"-"},{"$f":"'RBC Reference Table'!AR88","v":"NV"},{"$f":"IF(ISNUMBER(CH88),($D88/CH88)*10^-6,\"\")","v":""},"--",{"$f":"'RBC Reference Table'!AS88","v":"-"},{"$f":"'RBC Reference Table'!AT88","v":"NV"},{"$f":"IF(ISNUMBER(CL88),($D88/CL88)*10^-6,\"\")","v":""},"--",{"$f":"'RBC Reference Table'!AU88","v":"-"},{"$f":"'RBC Reference Table'!AV88","v":"NV"},{"$f":"IF(ISNUMBER(CP88),($D88/CP88)*10^-6,\"\")","v":""},"--",{"$f":"'RBC Reference Table'!AW88","v":"-"},{"$f":"'RBC Reference Table'!AX88","v":"NV"},{"$f":"IF(ISNUMBER(CT88),($D88/CT88)*10^-6,\"\")","v":""},"--",{"$f":"'RBC Reference Table'!AY88","v":18},{"$f":"'RBC Reference Table'!AZ88","v":0},{"$f":"IF(ISNUMBER(CX88),($D88/CX88)*10^-6,\"\")","v":0},"--",{"$f":"'RBC Reference Table'!BA88","v":"-"},{"$f":"'RBC Reference Table'!BB88","v":"NV"},{"$f":"IF(ISNUMBER(DB88),($E88/DB88)*10^-6,\"\")","v":""},"--",{"$f":"'RBC Reference Table'!BC88","v":"-"},{"$f":"'RBC Reference Table'!BD88","v":"NV"},{"$f":"IF(ISNUMBER(DF88),($E88/DF88)*10^-6,\"\")","v":""},"--",{"$f":"'RBC Reference Table'!BE87","v":21900000},{"$f":"'RBC Reference Table'!BF87","v":0},{"$f":"IF(ISNUMBER(DJ88),($E88/DJ88)*10^-6,\"\")","v":0},"--",{"$f":"'RBC Reference Table'!BG88","v":8.8000000000000005E-3},null,{"$f":"IF(ISNUMBER(DN88),($F88/DN88)*10^-6,\"\")","v":0},"--",{"$f":"'RBC Reference Table'!BI88","v":2.1000000000000001E-2},null,{"$f":"IF(ISNUMBER(DR88),($F88/DR88)*10^-6,\"\")","v":0},"--",{"$f":"'RBC Reference Table'!BK88","v":3.7999999999999999E-2},null,{"$f":"IF(ISNUMBER(DV88),($F88/DV88)*10^-6,\"\")","v":0},"--"]
[82,{"$f":"VLOOKUP($A89,'Applicable RBC Table'!$A$43:$F$136,2,FALSE)","v":0},{"$f":"VLOOKUP($A89,'Applicable RBC Table'!$A$43:$F$136,3,FALSE)","v":0},{"$f":"VLOOKUP($A89,'Applicable RBC Table'!$A$43:$F$136,4,FALSE)","v":0},{"$f":"VLOOKUP($A89,'Applicable RBC Table'!$A$43:$F$136,5,FALSE)","v":0},{"$f":"VLOOKUP($A89,'Applicable RBC Table'!$A$43:$F$136,6,FALSE)","v":0},"76-13-1","1,1,2-Trichloro-1,2,2-trifluoroethane (Freon 113)","nc, v",{"$f":"'RBC Reference Table'!E89","v":400000},{"$f":"'RBC Reference Table'!F89","v":">Csat"},"--",{"$f":"IF(ISNUMBER(J89),$B89/J89,\"\")","v":0},{"$f":"'RBC Reference Table'!G89","v":800000},{"$f":"'RBC Reference Table'!H89","v":">Csat"},"--",{"$f":"IF(ISNUMBER(N89),$B89/N89,\"\")","v":0},{"$f":"'RBC Reference Table'!I89","v":"-"},{"$f":"'RBC Reference Table'!J89","v":">Max"},"--",{"$f":"IF(ISNUMBER(R89),$B89/R89,\"\")","v":""},{"$f":"'RBC Reference Table'!K89","v":"-"},{"$f":"'RBC Reference Table'!L89","v":">Max"},"--",{"$f":"IF(ISNUMBER(V89),MAX($B89,$C89)/V89,\"\")","v":""},{"$f":"'RBC Reference Table'!M89","v":"-"},{"$f":"'RBC Reference Table'!N89","v":">Max"},"--",{"$f":"IF(ISNUMBER(Z89),MAX($B89,$C89)/Z89,\"\")","v":""},{"$f":"'RBC Reference Table'!O89","v":"-"},{"$f":"'RBC Reference Table'!P89","v":">Csat"},"--",{"$f":"IF(ISNUMBER(AD89),MAX($B89:$C89)/AD89,\"\")","v":""},{"$f":"'RBC Reference Table'!O89","v":"-"},{"$f":"'RBC Reference Table'!P89","v":">Csat"},"--",{"$f":"IF(ISNUMBER(AH89),MAX($B89:$C89)/AH89,\"\")","v":""},{"$f":"'RBC Reference Table'!S89","v":"-"},{"$f":"'RBC Reference Table'!T89","v":">Max"},"--",{"$f":"IF(ISNUMBER(AL89),MAX($B89:$C89)/AL89,\"\")","v":""},{"$f":"'RBC Reference Table'!U89","v":"-"},{"$f":"'RBC Reference Table'!V89","v":">Csat"},"--",{"$f":"IF(ISNUMBER(AP89),MAX($B89:$C89)/AP89,\"\")","v":""},{"$f":"'RBC Reference Table'!W89","v":"-"},{"$f":"'RBC Reference Table'!X89","v":">Csat"},"--",{"$f":"IF(ISNUMBER(AT89),MAX($B89:$C89)/AT89,\"\")","v":""},{"$f":"'RBC Reference Table'!Y89","v":"-"},{"$f":"'RBC Reference Table'!Z89","v":">Csat"},"--",{"$f":"IF(ISNUMBER(AX89),MAX($B89:$C89)/AX89,\"\")","v":""},{"$f":"'RBC Reference Table'!AA89","v":"-"},{"$f":"'RBC Reference Table'!AB89","v":">Csat"},null,null,{"$f":"'RBC Reference Table'!AC89","v":"-"},{"$f":"'RBC Reference Table'!AD89","v":">Csat"},null,null,{"$f":"'RBC Reference Table'!AE89","v":"-"},{"$f":"'RBC Reference Table'!AF89","v":">Csat"},null,null,{"$f":"'RBC Reference Table'!AG89","v":55000},{"$f":"'RBC Reference Table'!AH89","v":0},"--",{"$f":"IF(ISNUMBER(BN89),$D89/BN89,\"\")","v":0},{"$f":"'RBC Reference Table'!AI89","v":"-"},{"$f":"'RBC Reference Table'!AJ89","v":">S"},"--",{"$f":"IF(ISNUMBER(BR89),$D89/BR89,\"\")","v":""},{"$f":"'RBC Reference Table'!AK89","v":"-"},{"$f":"'RBC Reference Table'!AL89","v":">S"},"--",{"$f":"IF(ISNUMBER(BV89),$D89/BV89,\"\")","v":""},{"$f":"'RBC Reference Table'!AM89","v":"-"},{"$f":"'RBC Reference Table'!AN89","v":">S"},"--",{"$f":"IF(ISNUMBER(BZ89),$D89/BZ89,\"\")","v":""},{"$f":"'RBC Reference Table'!AO89","v":"-"},{"$f":"'RBC Reference Table'!AP89","v":">S"},"--",{"$f":"IF(ISNUMBER(CD89),$D89/CD89,\"\")","v":""},{"$f":"'RBC Reference Table'!AQ89","v":"-"},{"$f":"'RBC Reference Table'!AR89","v":">S"},"--",{"$f":"IF(ISNUMBER(CH89),$D89/CH89,\"\")","v":""},{"$f":"'RBC Reference Table'!AS89","v":"-"},{"$f":"'RBC Reference Table'!AT89","v":">S"},"--",{"$f":"IF(ISNUMBER(CL89),$D89/CL89,\"\")","v":""},{"$f":"'RBC Reference Table'!AU89","v":"-"},{"$f":"'RBC Reference Table'!AV89","v":">S"},"--",{"$f":"IF(ISNUMBER(CP89),$D89/CP89,\"\")","v":""},{"$f":"'RBC Reference Table'!AW89","v":"-"},{"$f":"'RBC Reference Table'!AX89","v":">S"},"--",{"$f":"IF(ISNUMBER(CT89),$D89/CT89,\"\")","v":""},{"$f":"'RBC Reference Table'!AY89","v":"-"},{"$f":"'RBC Reference Table'!AZ89","v":">S"},"--",{"$f":"IF(ISNUMBER(CX89),$D89/CX89,\"\")","v":""},{"$f":"'RBC Reference Table'!BA89","v":6300000},{"$f":"'RBC Reference Table'!BB89","v":0},"--",{"$f":"IF(ISNUMBER(DB89),$E89/DB89,\"\")","v":0},{"$f":"'RBC Reference Table'!BC89","v":6300000},{"$f":"'RBC Reference Table'!BD89","v":0},"--",{"$f":"IF(ISNUMBER(DF89),$E89/DF89,\"\")","v":0},{"$f":"'RBC Reference Table'!BE88","v":"-"},{"$f":"'RBC Reference Table'!BF88","v":"NV"},"--",{"$f":"IF(ISNUMBER(DJ89),$E89/DJ89,\"\")","v":""},{"$f":"'RBC Reference Table'!BG89","v":31000},null,"--",{"$f":"IF(ISNUMBER(DN89),$F89/DN89,\"\")","v":0},{"$f":"'RBC Reference Table'!BI89","v":31000},null,"--",{"$f":"IF(ISNUMBER(DR89),$F89/DR89,\"\")","v":0},{"$f":"'RBC Reference Table'!BK89","v":130000},null,"--",{"$f":"IF(ISNUMBER(DV89),$F89/DV89,\"\")","v":0}]
[83,{"$f":"VLOOKUP($A90,'Applicable RBC Table'!$A$43:$F$136,2,FALSE)","v":0},{"$f":"VLOOKUP($A90,'Applicable RBC Table'!$A$43:$F$136,3,FALSE)","v":0},{"$f":"VLOOKUP($A90,'Applicable RBC Table'!$A$43:$F$136,4,FALSE)","v":0},{"$f":"VLOOKUP($A90,'Applicable RBC Table'!$A$43:$F$136,5,FALSE)","v":0},{"$f":"VLOOKUP($A90,'Applicable RBC Table'!$A$43:$F$136,6,FALSE)","v":0},"71-55-6","1,1,1-Trichloroethane","nc, v",{"$f":"'RBC Reference Table'!E90","v":53000},{"$f":"'RBC Reference Table'!F90","v":">Csat"},"--",{"$f":"IF(ISNUMBER(J90),$B90/J90,\"\")","v":0},{"$f":"'RBC Reference Table'!G90","v":110000},{"$f":"'RBC Reference Table'!H90","v":">Csat"},"--",{"$f":"IF(ISNUMBER(N90),$B90/N90,\"\")","v":0},{"$f":"'RBC Reference Table'!I90","v":870000},{"$f":"'RBC Reference Table'!J90","v":">Csat"},"--",{"$f":"IF(ISNUMBER(R90),$B90/R90,\"\")","v":0},{"$f":"'RBC Reference Table'!K90","v":470000},{"$f":"'RBC Reference Table'!L90","v":">Csat"},"--",{"$f":"IF(ISNUMBER(V90),MAX($B90,$C90)/V90,\"\")","v":0},{"$f":"'RBC Reference Table'!M90","v":"-"},{"$f":"'RBC Reference Table'!N90","v":">Max"},"--",{"$f":"IF(ISNUMBER(Z90),MAX($B90,$C90)/Z90,\"\")","v":""},{"$f":"'RBC Reference Table'!O90","v":"-"},{"$f":"'RBC Reference Table'!P90","v":">Csat"},"--",{"$f":"IF(ISNUMBER(AD90),MAX($B90:$C90)/AD90,\"\")","v":""},{"$f":"'RBC Reference Table'!O90","v":"-"},{"$f":"'RBC Reference Table'!P90","v":">Csat"},"--",{"$f":"IF(ISNUMBER(AH90),MAX($B90:$C90)/AH90,\"\")","v":""},{"$f":"'RBC Reference Table'!S90","v":"-"},{"$f":"'RBC Reference Table'!T90","v":">Csat"},"--",{"$f":"IF(ISNUMBER(AL90),MAX($B90:$C90)/AL90,\"\")","v":""},{"$f":"'RBC Reference Table'!U90","v":"-"},{"$f":"'RBC Reference Table'!V90","v":">Csat"},"--",{"$f":"IF(ISNUMBER(AP90),MAX($B90:$C90)/AP90,\"\")","v":""},{"$f":"'RBC Reference Table'!W90","v":"-"},{"$f":"'RBC Reference Table'!X90","v":">Csat"},"--",{"$f":"IF(ISNUMBER(AT90),MAX($B90:$C90)/AT90,\"\")","v":""},{"$f":"'RBC Reference Table'!Y90","v":"-"},{"$f":"'RBC Reference Table'!Z90","v":">Csat"},"--",{"$f":"IF(ISNUMBER(AX90),MAX($B90:$C90)/AX90,\"\")","v":""},{"$f":"'RBC Reference Table'!AA90","v":190},{"$f":"'RBC Reference Table'!AB90","v":0},null,null,{"$f":"'RBC Reference Table'!AC90","v":710},{"$f":"'RBC Reference Table'!AD90","v":0},null,null,{"$f":"'RBC Reference Table'!AE90","v":880},{"$f":"'RBC Reference Table'!AF90","v":0},null,null,{"$f":"'RBC Reference Table'!AG90","v":8000},{"$f":"'RBC Reference Table'!AH90","v":0},"--",{"$f":"IF(ISNUMBER(BN90),$D90/BN90,\"\")","v":0},{"$f":"'RBC Reference Table'!AI90","v":30000},{"$f":"'RBC Reference Table'!AJ90","v":0},"--",{"$f":"IF(ISNUMBER(BR90),$D90/BR90,\"\")","v":0},{"$f":"'RBC Reference Table'!AK90","v":37000},{"$f":"'RBC Reference Table'!AL90","v":0},"--",{"$f":"IF(ISNUMBER(BV90),$D90/BV90,\"\")","v":0},{"$f":"'RBC Reference Table'!AM90","v":"-"},{"$f":"'RBC Reference Table'!AN90","v":">S"},"--",{"$f":"IF(ISNUMBER(BZ90),$D90/BZ90,\"\")","v":""},{"$f":"'RBC Reference Table'!AO90","v":"-"},{"$f":"'RBC Reference Table'!AP90","v":">S"},"--",{"$f":"IF(ISNUMBER(CD90),$D90/CD90,\"\")","v":""},{"$f":"'RBC Reference Table'!AQ90","v":"-"},{"$f":"'RBC Reference Table'!AR90","v":">S"},"--",{"$f":"IF(ISNUMBER(CH90),$D90/CH90,\"\")","v":""},{"$f":"'RBC Reference Table'!AS90","v":"-"},{"$f":"'RBC Reference Table'!AT90","v":">S"},"--",{"$f":"IF(ISNUMBER(CL90),$D90/CL90,\"\")","v":""},{"$f":"'RBC Reference Table'!AU90","v":"-"},{"$f":"'RBC Reference Table'!AV90","v":">S"},"--",{"$f":"IF(ISNUMBER(CP90),$D90/CP90,\"\")","v":""},{"$f":"'RBC Reference Table'!AW90","v":"-"},{"$f":"'RBC Reference Table'!AX90","v":">S"},"--",{"$f":"IF(ISNUMBER(CT90),$D90/CT90,\"\")","v":""},{"$f":"'RBC Reference Table'!AY90","v":1100000},{"$f":"'RBC Reference Table'!AZ90","v":0},"--",{"$f":"IF(ISNUMBER(CX90),$D90/CX90,\"\")","v":0},{"$f":"'RBC Reference Table'!BA90","v":1000000},{"$f":"'RBC Reference Table'!BB90","v":0},"--",{"$f":"IF(ISNUMBER(DB90),$E90/DB90,\"\")","v":0},{"$f":"'RBC Reference Table'!BC90","v":1000000},{"$f":"'RBC Reference Table'!BD90","v":0},"--",{"$f":"IF(ISNUMBER(DF90),$E90/DF90,\"\")","v":0},{"$f":"'RBC Reference Table'!BE89","v":131400000},{"$f":"'RBC Reference Table'!BF89","v":0},"--",{"$f":"IF(ISNUMBER(DJ90),$E90/DJ90,\"\")","v":0},{"$f":"'RBC Reference Table'!BG90","v":5200},null,"--",{"$f":"IF(ISNUMBER(DN90),$F90/DN90,\"\")","v":0},{"$f":"'RBC Reference Table'!BI90","v":5200},null,"--",{"$f":"IF(ISNUMBER(DR90),$F90/DR90,\"\")","v":0},{"$f":"'RBC Reference Table'!BK90","v":22000},null,"--",{"$f":"IF(ISNUMBER(DV90),$F90/DV90,\"\")","v":0}]
[84,{"$f":"VLOOKUP($A91,'Applicable RBC Table'!$A$43:$F$136,2,FALSE)","v":0},{"$f":"VLOOKUP($A91,'Applicable RBC Table'!$A$43:$F$136,3,FALSE)","v":0},{"$f":"VLOOKUP($A91,'Applicable RBC Table'!$A$43:$F$136,4,FALSE)","v":0},{"$f":"VLOOKUP($A91,'Applicable RBC Table'!$A$43:$F$136,5,FALSE)","v":0},{"$f":"VLOOKUP($A91,'Applicable RBC Table'!$A$43:$F$136,6,FALSE)","v":0},"79-00-5","1,1,2-Trichloroethane","c, v",{"$f":"'RBC Reference Table'!E91","v":5.8},{"$f":"'RBC Reference Table'!F91","v":0},{"$f":"IF(ISNUMBER(J91),($B91/J91)*10^-6,\"\")","v":0},"--",{"$f":"'RBC Reference Table'!G91","v":19},{"$f":"'RBC Reference Table'!H91","v":0},{"$f":"IF(ISNUMBER(N91),($B91/N91)*10^-6,\"\")","v":0},"--",{"$f":"'RBC Reference Table'!I91","v":26},{"$f":"'RBC Reference Table'!J91","v":0},{"$f":"IF(ISNUMBER(R91),($B91/R91)*10^-6,\"\")","v":0},"--",{"$f":"'RBC Reference Table'!K91","v":320},{"$f":"'RBC Reference Table'!L91","v":0},{"$f":"IF(ISNUMBER(V91),(MAX($B91,$C91)/V91)*10^-6,\"\")","v":0},"--",{"$f":"'RBC Reference Table'!M91","v":8900},{"$f":"'RBC Reference Table'!N91","v":">Csat"},{"$f":"IF(ISNUMBER(Z91),(MAX($B91,$C91)/Z91)*10^-6,\"\")","v":0},"--",{"$f":"'RBC Reference Table'!O91","v":5.6},{"$f":"'RBC Reference Table'!P91","v":0},{"$f":"IF(ISNUMBER(AD91),(MAX($B91:$C91)/AD91)*10^-6,\"\")","v":0},"--",{"$f":"'RBC Reference Table'!O91","v":5.6},{"$f":"'RBC Reference Table'!P91","v":0},{"$f":"IF(ISNUMBER(AH91),(MAX($B91:$C91)/AH91)*10^-6,\"\")","v":0},"--",{"$f":"'RBC Reference Table'!S91","v":24},{"$f":"'RBC Reference Table'!T91","v":0},{"$f":"IF(ISNUMBER(AL91),(MAX($B91:$C91)/AL91)*10^-6,\"\")","v":0},"--",{"$f":"'RBC Reference Table'!U91","v":0.32},{"$f":"'RBC Reference Table'!V91","v":0},{"$f":"IF(ISNUMBER(AP91),(MAX($B91:$C91)/AP91)*10^-6,\"\")","v":0},"--",{"$f":"'RBC Reference Table'!W91","v":0.75},{"$f":"'RBC Reference Table'!X91","v":0},{"$f":"IF(ISNUMBER(AT91),(MAX($B91:$C91)/AT91)*10^-6,\"\")","v":0},"--",{"$f":"'RBC Reference Table'!Y91","v":4.2},{"$f":"'RBC Reference Table'!Z91","v":0},{"$f":"IF(ISNUMBER(AX91),(MAX($B91:$C91)/AX91)*10^-6,\"\")","v":0},"--",{"$f":"'RBC Reference Table'!AA91","v":6.3E-3},{"$f":"'RBC Reference Table'!AB91","v":0},null,null,{"$f":"'RBC Reference Table'!AC91","v":2.9000000000000001E-2},{"$f":"'RBC Reference Table'!AD91","v":0},null,null,{"$f":"'RBC Reference Table'!AE91","v":2.9000000000000001E-2},{"$f":"'RBC Reference Table'!AF91","v":0},null,null,{"$f":"'RBC Reference Table'!AG91","v":0.28000000000000003},{"$f":"'RBC Reference Table'!AH91","v":0},{"$f":"IF(ISNUMBER(BN91),($D91/BN91)*10^-6,\"\")","v":0},"--",{"$f":"'RBC Reference Table'!AI91","v":1.3},{"$f":"'RBC Reference Table'!AJ91","v":0},{"$f":"IF(ISNUMBER(BR91),($D91/BR91)*10^-6,\"\")","v":0},"--",{"$f":"'RBC Reference Table'!AK91","v":1.3},{"$f":"'RBC Reference Table'!AL91","v":0},{"$f":"IF(ISNUMBER(BV91),($D91/BV91)*10^-6,\"\")","v":0},"--",{"$f":"'RBC Reference Table'!AM91","v":4700},{"$f":"'RBC Reference Table'!AN91","v":0},{"$f":"IF(ISNUMBER(BZ91),($D91/BZ91)*10^-6,\"\")","v":0},"--",{"$f":"'RBC Reference Table'!AO91","v":11000},{"$f":"'RBC Reference Table'!AP91","v":0},{"$f":"IF(ISNUMBER(CD91),($D91/CD91)*10^-6,\"\")","v":0},"--",{"$f":"'RBC Reference Table'!AQ91","v":21000},{"$f":"'RBC Reference Table'!AR91","v":0},{"$f":"IF(ISNUMBER(CH91),($D91/CH91)*10^-6,\"\")","v":0},"--",{"$f":"'RBC Reference Table'!AS91","v":870},{"$f":"'RBC Reference Table'!AT91","v":0},{"$f":"IF(ISNUMBER(CL91),($D91/CL91)*10^-6,\"\")","v":0},"--",{"$f":"'RBC Reference Table'!AU91","v":2100},{"$f":"'RBC Reference Table'!AV91","v":0},{"$f":"IF(ISNUMBER(CP91),($D91/CP91)*10^-6,\"\")","v":0},"--",{"$f":"'RBC Reference Table'!AW91","v":11000},{"$f":"'RBC Reference Table'!AX91","v":0},{"$f":"IF(ISNUMBER(CT91),($D91/CT91)*10^-6,\"\")","v":0},"--",{"$f":"'RBC Reference Table'!AY91","v":1000},{"$f":"'RBC Reference Table'!AZ91","v":0},{"$f":"IF(ISNUMBER(CX91),($D91/CX91)*10^-6,\"\")","v":0},"--",{"$f":"'RBC Reference Table'!BA91","v":35},{"$f":"'RBC Reference Table'!BB91","v":0},{"$f":"IF(ISNUMBER(DB91),($E91/DB91)*10^-6,\"\")","v":0},"--",{"$f":"'RBC Reference Table'!BC91","v":83},{"$f":"'RBC Reference Table'!BD91","v":0},{"$f":"IF(ISNUMBER(DF91),($E91/DF91)*10^-6,\"\")","v":0},"--",{"$f":"'RBC Reference Table'!BE90","v":21900000},{"$f":"'RBC Reference Table'!BF90","v":0},{"$f":"IF(ISNUMBER(DJ91),($E91/DJ91)*10^-6,\"\")","v":0},"--",{"$f":"'RBC Reference Table'!BG91","v":0.18},null,{"$f":"IF(ISNUMBER(DN91),($F91/DN91)*10^-6,\"\")","v":0},"--",{"$f":"'RBC Reference Table'!BI91","v":0.41},null,{"$f":"IF(ISNUMBER(DR91),($F91/DR91)*10^-6,\"\")","v":0},"--",{"$f":"'RBC Reference Table'!BK91","v":0.77},null,{"$f":"IF(ISNUMBER(DV91),($F91/DV91)*10^-6,\"\")","v":0},"--"]
[85,{"$f":"VLOOKUP($A92,'Applicable RBC Table'!$A$43:$F$136,2,FALSE)","v":0},{"$f":"VLOOKUP($A92,'Applicable RBC Table'!$A$43:$F$136,3,FALSE)","v":0},{"$f":"VLOOKUP($A92,'Applicable RBC Table'!$A$43:$F$136,4,FALSE)","v":0},{"$f":"VLOOKUP($A92,'Applicable RBC Table'!$A$43:$F$136,5,FALSE)","v":0},{"$f":"VLOOKUP($A92,'Applicable RBC Table'!$A$43:$F$136,6,FALSE)","v":0},"79-01-6","Trichloroethene","NA, v",{"$f":"'RBC Reference Table'!E92","v":6.7},{"$f":"'RBC Reference Table'!F92","v":0},{"$f":"IF(ISNUMBER(J92),($B92/J92)*10^-6,\"\")","v":0},{"$f":"IF(ISNUMBER(J92),$B92/J92,\"\")","v":0},{"$f":"'RBC Reference Table'!G92","v":17},{"$f":"'RBC Reference Table'!H92","v":0},{"$f":"IF(ISNUMBER(N92),($B92/N92)*10^-6,\"\")","v":0},{"$f":"IF(ISNUMBER(N92),$B92/N92,\"\")","v":0},{"$f":"'RBC Reference Table'!I92","v":51},{"$f":"'RBC Reference Table'!J92","v":0},{"$f":"IF(ISNUMBER(R92),($B92/R92)*10^-6,\"\")","v":0},{"$f":"IF(ISNUMBER(R92),$B92/R92,\"\")","v":0},{"$f":"'RBC Reference Table'!K92","v":130},{"$f":"'RBC Reference Table'!L92","v":0},{"$f":"IF(ISNUMBER(V92),(MAX($B92,$C92)/V92)*10^-6,\"\")","v":0},{"$f":"IF(ISNUMBER(V92),MAX($B92,$C92)/V92,\"\")","v":0},{"$f":"'RBC Reference Table'!M92","v":3700},{"$f":"'RBC Reference Table'!N92","v":">Csat"},{"$f":"IF(ISNUMBER(Z92),(MAX($B92,$C92)/Z92)*10^-6,\"\")","v":0},{"$f":"IF(ISNUMBER(Z92),MAX($B92,$C92)/Z92,\"\")","v":0},{"$f":"'RBC Reference Table'!O92","v":15},{"$f":"'RBC Reference Table'!P92","v":0},{"$f":"IF(ISNUMBER(AD92),(MAX($B92:$C92)/AD92)*10^-6,\"\")","v":0},{"$f":"IF(ISNUMBER(AD92),MAX($B92:$C92)/AD92,\"\")","v":0},{"$f":"'RBC Reference Table'!O92","v":15},{"$f":"'RBC Reference Table'!P92","v":0},{"$f":"IF(ISNUMBER(AH92),(MAX($B92:$C92)/AH92)*10^-6,\"\")","v":0},{"$f":"IF(ISNUMBER(AH92),MAX($B92:$C92)/AH92,\"\")","v":0},{"$f":"'RBC Reference Table'!S92","v":96},{"$f":"'RBC Reference Table'!T92","v":0},{"$f":"IF(ISNUMBER(AL92),(MAX($B92:$C92)/AL92)*10^-6,\"\")","v":0},{"$f":"IF(ISNUMBER(AL92),MAX($B92:$C92)/AL92,\"\")","v":0},{"$f":"'RBC Reference Table'!U92","v":0.12},{"$f":"'RBC Reference Table'!V92","v":0},{"$f":"IF(ISNUMBER(AP92),(MAX($B92:$C92)/AP92)*10^-6,\"\")","v":0},{"$f":"IF(ISNUMBER(AP92),MAX($B92:$C92)/AP92,\"\")","v":0},{"$f":"'RBC Reference Table'!W92","v":0.26},{"$f":"'RBC Reference Table'!X92","v":0},{"$f":"IF(ISNUMBER(AT92),(MAX($B92:$C92)/AT92)*10^-6,\"\")","v":0},{"$f":"IF(ISNUMBER(AT92),MAX($B92:$C92)/AT92,\"\")","v":0},{"$f":"'RBC Reference Table'!Y92","v":2.2999999999999998},{"$f":"'RBC Reference Table'!Z92","v":0},{"$f":"IF(ISNUMBER(AX92),(MAX($B92:$C92)/AX92)*10^-6,\"\")","v":0},{"$f":"IF(ISNUMBER(AX92),MAX($B92:$C92)/AX92,\"\")","v":0},{"$f":"'RBC Reference Table'!AA92","v":1.2999999999999999E-2},{"$f":"'RBC Reference Table'!AB92","v":0},null,null,{"$f":"'RBC Reference Table'!AC92","v":5.2999999999999999E-2},{"$f":"'RBC Reference Table'!AD92","v":0},null,null,{"$f":"'RBC Reference Table'!AE92","v":8.6999999999999994E-2},{"$f":"'RBC Reference Table'!AF92","v":0},null,null,{"$f":"'RBC Reference Table'!AG92","v":0.49},{"$f":"'RBC Reference Table'!AH92","v":0},{"$f":"IF(ISNUMBER(BN92),($D92/BN92)*10^-6,\"\")","v":0},{"$f":"IF(ISNUMBER(BN92),$D92/BN92,\"\")","v":0},{"$f":"'RBC Reference Table'!AI92","v":2},{"$f":"'RBC Reference Table'!AJ92","v":0},{"$f":"IF(ISNUMBER(BR92),($D92/BR92)*10^-6,\"\")","v":0},{"$f":"IF(ISNUMBER(BR92),$D92/BR92,\"\")","v":0},{"$f":"'RBC Reference Table'!AK92","v":3.3},{"$f":"'RBC Reference Table'!AL92","v":0},"--",{"$f":"IF(ISNUMBER(BV92),$D92/BV92,\"\")","v":0},{"$f":"'RBC Reference Table'!AM92","v":3300},{"$f":"'RBC Reference Table'!AN92","v":0},{"$f":"IF(ISNUMBER(BZ92),($D92/BZ92)*10^-6,\"\")","v":0},{"$f":"IF(ISNUMBER(BZ92),$D92/BZ92,\"\")","v":0},{"$f":"'RBC Reference Table'!AO92","v":6900},{"$f":"'RBC Reference Table'!AP92","v":0},{"$f":"IF(ISNUMBER(CD92),($D92/CD92)*10^-6,\"\")","v":0},{"$f":"IF(ISNUMBER(CD92),$D92/CD92,\"\")","v":0},{"$f":"'RBC Reference Table'!AQ92","v":20000},{"$f":"'RBC Reference Table'!AR92","v":0},{"$f":"IF(ISNUMBER(CH92),($D92/CH92)*10^-6,\"\")","v":0},{"$f":"IF(ISNUMBER(CH92),$D92/CH92,\"\")","v":0},{"$f":"'RBC Reference Table'!AS92","v":200},{"$f":"'RBC Reference Table'!AT92","v":0},{"$f":"IF(ISNUMBER(CL92),($D92/CL92)*10^-6,\"\")","v":0},{"$f":"IF(ISNUMBER(CL92),$D92/CL92,\"\")","v":0},{"$f":"'RBC Reference Table'!AU92","v":430},{"$f":"'RBC Reference Table'!AV92","v":0},{"$f":"IF(ISNUMBER(CP92),($D92/CP92)*10^-6,\"\")","v":0},{"$f":"IF(ISNUMBER(CP92),$D92/CP92,\"\")","v":0},{"$f":"'RBC Reference Table'!AW92","v":3700},{"$f":"'RBC Reference Table'!AX92","v":0},{"$f":"IF(ISNUMBER(CT92),($D92/CT92)*10^-6,\"\")","v":0},{"$f":"IF(ISNUMBER(CT92),$D92/CT92,\"\")","v":0},{"$f":"'RBC Reference Table'!AY92","v":430},{"$f":"'RBC Reference Table'!AZ92","v":0},{"$f":"IF(ISNUMBER(CX92),($D92/CX92)*10^-6,\"\")","v":0},{"$f":"IF(ISNUMBER(CX92),$D92/CX92,\"\")","v":0},{"$f":"'RBC Reference Table'!BA92","v":95},{"$f":"'RBC Reference Table'!BB92","v":0},{"$f":"IF(ISNUMBER(DB92),($E92/DB92)*10^-6,\"\")","v":0},{"$f":"IF(ISNUMBER(DB92),$E92/DB92,\"\")","v":0},{"$f":"'RBC Reference Table'!BC92","v":200},{"$f":"'RBC Reference Table'!BD92","v":0},{"$f":"IF(ISNUMBER(DF92),($E92/DF92)*10^-6,\"\")","v":0},{"$f":"IF(ISNUMBER(DF92),$E92/DF92,\"\")","v":0},{"$f":"'RBC Reference Table'!BE91","v":770},{"$f":"'RBC Reference Table'!BF91","v":0},{"$f":"IF(ISNUMBER(DJ92),($E92/DJ92)*10^-6,\"\")","v":0},{"$f":"IF(ISNUMBER(DJ92),$E92/DJ92,\"\")","v":0},{"$f":"'RBC Reference Table'!BG92","v":0.47},null,{"$f":"IF(ISNUMBER(DN92),($F92/DN92)*10^-6,\"\")","v":0},{"$f":"IF(ISNUMBER(DN92),$F92/DN92,\"\")","v":0},{"$f":"'RBC Reference Table'!BI92","v":1},null,{"$f":"IF(ISNUMBER(DR92),($F92/DR92)*10^-6,\"\")","v":0},{"$f":"IF(ISNUMBER(DR92),$F92/DR92,\"\")","v":0},{"$f":"'RBC Reference Table'!BK92","v":2.9},null,{"$f":"IF(ISNUMBER(DV92),($F92/DV92)*10^-6,\"\")","v":0},{"$f":"IF(ISNUMBER(DV92),$F92/DV92,\"\")","v":0}]
[86,{"$f":"VLOOKUP($A93,'Applicable RBC Table'!$A$43:$F$136,2,FALSE)","v":0},{"$f":"VLOOKUP($A93,'Applicable RBC Table'!$A$43:$F$136,3,FALSE)","v":0},{"$f":"VLOOKUP($A93,'Applicable RBC Table'!$A$43:$F$136,4,FALSE)","v":0},{"$f":"VLOOKUP($A93,'Applicable RBC Table'!$A$43:$F$136,5,FALSE)","v":0},{"$f":"VLOOKUP($A93,'Applicable RBC Table'!$A$43:$F$136,6,FALSE)","v":0},"75-69-4","Trichlorofluoromethane (Freon 11)","nc, v",{"$f":"'RBC Reference Table'!E93","v":7600},{"$f":"'RBC Reference Table'!F93","v":">Csat"},"--",{"$f":"IF(ISNUMBER(J93),$B93/J93,\"\")","v":0},{"$f":"'RBC Reference Table'!G93","v":15000},{"$f":"'RBC Reference Table'!H93","v":">Csat"},"--",{"$f":"IF(ISNUMBER(N93),$B93/N93,\"\")","v":0},{"$f":"'RBC Reference Table'!I93","v":130000},{"$f":"'RBC Reference Table'!J93","v":">Csat"},"--",{"$f":"IF(ISNUMBER(R93),$B93/R93,\"\")","v":0},{"$f":"'RBC Reference Table'!K93","v":69000},{"$f":"'RBC Reference Table'!L93","v":">Csat"},"--",{"$f":"IF(ISNUMBER(V93),MAX($B93,$C93)/V93,\"\")","v":0},{"$f":"'RBC Reference Table'!M93","v":"-"},{"$f":"'RBC Reference Table'!N93","v":">Max"},"--",{"$f":"IF(ISNUMBER(Z93),MAX($B93,$C93)/Z93,\"\")","v":""},{"$f":"'RBC Reference Table'!O93","v":"-"},{"$f":"'RBC Reference Table'!P93","v":">Csat"},"--",{"$f":"IF(ISNUMBER(AD93),MAX($B93:$C93)/AD93,\"\")","v":""},{"$f":"'RBC Reference Table'!O93","v":"-"},{"$f":"'RBC Reference Table'!P93","v":">Csat"},"--",{"$f":"IF(ISNUMBER(AH93),MAX($B93:$C93)/AH93,\"\")","v":""},{"$f":"'RBC Reference Table'!S93","v":"-"},{"$f":"'RBC Reference Table'!T93","v":">Csat"},"--",{"$f":"IF(ISNUMBER(AL93),MAX($B93:$C93)/AL93,\"\")","v":""},{"$f":"'RBC Reference Table'!U93","v":190},{"$f":"'RBC Reference Table'!V93","v":0},"--",{"$f":"IF(ISNUMBER(AP93),MAX($B93:$C93)/AP93,\"\")","v":0},{"$f":"'RBC Reference Table'!W93","v":190},{"$f":"'RBC Reference Table'!X93","v":0},"--",{"$f":"IF(ISNUMBER(AT93),MAX($B93:$C93)/AT93,\"\")","v":0},{"$f":"'RBC Reference Table'!Y93","v":"-"},{"$f":"'RBC Reference Table'!Z93","v":">Csat"},"--",{"$f":"IF(ISNUMBER(AX93),MAX($B93:$C93)/AX93,\"\")","v":""},{"$f":"'RBC Reference Table'!AA93","v":61},{"$f":"'RBC Reference Table'!AB93","v":0},null,null,{"$f":"'RBC Reference Table'!AC93","v":230},{"$f":"'RBC Reference Table'!AD93","v":0},null,null,{"$f":"'RBC Reference Table'!AE93","v":280},{"$f":"'RBC Reference Table'!AF93","v":0},null,null,{"$f":"'RBC Reference Table'!AG93","v":1100},{"$f":"'RBC Reference Table'!AH93","v":0},"--",{"$f":"IF(ISNUMBER(BN93),$D93/BN93,\"\")","v":0},{"$f":"'RBC Reference Table'!AI93","v":4200},{"$f":"'RBC Reference Table'!AJ93","v":0},"--",{"$f":"IF(ISNUMBER(BR93),$D93/BR93,\"\")","v":0},{"$f":"'RBC Reference Table'!AK93","v":5200},{"$f":"'RBC Reference Table'!AL93","v":0},"--",{"$f":"IF(ISNUMBER(BV93),$D93/BV93,\"\")","v":0},{"$f":"'RBC Reference Table'!AM93","v":780000},{"$f":"'RBC Reference Table'!AN93","v":0},"--",{"$f":"IF(ISNUMBER(BZ93),$D93/BZ93,\"\")","v":0},{"$f":"'RBC Reference Table'!AO93","v":780000},{"$f":"'RBC Reference Table'!AP93","v":0},"--",{"$f":"IF(ISNUMBER(CD93),$D93/CD93,\"\")","v":0},{"$f":"'RBC Reference Table'!AQ93","v":"-"},{"$f":"'RBC Reference Table'!AR93","v":">S"},"--",{"$f":"IF(ISNUMBER(CH93),$D93/CH93,\"\")","v":""},{"$f":"'RBC Reference Table'!AS93","v":36000},{"$f":"'RBC Reference Table'!AT93","v":0},"--",{"$f":"IF(ISNUMBER(CL93),$D93/CL93,\"\")","v":0},{"$f":"'RBC Reference Table'!AU93","v":36000},{"$f":"'RBC Reference Table'!AV93","v":0},"--",{"$f":"IF(ISNUMBER(CP93),$D93/CP93,\"\")","v":0},{"$f":"'RBC Reference Table'!AW93","v":460000},{"$f":"'RBC Reference Table'!AX93","v":0},"--",{"$f":"IF(ISNUMBER(CT93),$D93/CT93,\"\")","v":0},{"$f":"'RBC Reference Table'!AY93","v":160000},{"$f":"'RBC Reference Table'!AZ93","v":0},"--",{"$f":"IF(ISNUMBER(CX93),$D93/CX93,\"\")","v":0},{"$f":"'RBC Reference Table'!BA93","v":150000},{"$f":"'RBC Reference Table'!BB93","v":0},"--",{"$f":"IF(ISNUMBER(DB93),$E93/DB93,\"\")","v":0},{"$f":"'RBC Reference Table'!BC93","v":150000},{"$f":"'RBC Reference Table'!BD93","v":0},"--",{"$f":"IF(ISNUMBER(DF93),$E93/DF93,\"\")","v":0},{"$f":"'RBC Reference Table'!BE92","v":2900},{"$f":"'RBC Reference Table'!BF92","v":0},"--",{"$f":"IF(ISNUMBER(DJ93),$E93/DJ93,\"\")","v":0},{"$f":"'RBC Reference Table'!BG93","v":730},null,"--",{"$f":"IF(ISNUMBER(DN93),$F93/DN93,\"\")","v":0},{"$f":"'RBC Reference Table'!BI93","v":730},null,"--",{"$f":"IF(ISNUMBER(DR93),$F93/DR93,\"\")","v":0},{"$f":"'RBC Reference Table'!BK93","v":3100},null,"--",{"$f":"IF(ISNUMBER(DV93),$F93/DV93,\"\")","v":0}]
[87,{"$f":"VLOOKUP($A94,'Applicable RBC Table'!$A$43:$F$136,2,FALSE)","v":0},{"$f":"VLOOKUP($A94,'Applicable RBC Table'!$A$43:$F$136,3,FALSE)","v":0},{"$f":"VLOOKUP($A94,'Applicable RBC Table'!$A$43:$F$136,4,FALSE)","v":0},{"$f":"VLOOKUP($A94,'Applicable RBC Table'!$A$43:$F$136,5,FALSE)","v":0},{"$f":"VLOOKUP($A94,'Applicable RBC Table'!$A$43:$F$136,6,FALSE)","v":0},"88-06-2","2,4,6-Trichlorophenol","c, nv",{"$f":"'RBC Reference Table'!E94","v":49},{"$f":"'RBC Reference Table'!F94","v":0},{"$f":"IF(ISNUMBER(J94),($B94/J94)*10^-6,\"\")","v":0},"--",{"$f":"'RBC Reference Table'!G94","v":120},{"$f":"'RBC Reference Table'!H94","v":0},{"$f":"IF(ISNUMBER(N94),($B94/N94)*10^-6,\"\")","v":0},"--",{"$f":"'RBC Reference Table'!I94","v":210},{"$f":"'RBC Reference Table'!J94","v":0},{"$f":"IF(ISNUMBER(R94),($B94/R94)*10^-6,\"\")","v":0},"--",{"$f":"'RBC Reference Table'!K94","v":1700},{"$f":"'RBC Reference Table'!L94","v":0},{"$f":"IF(ISNUMBER(V94),(MAX($B94,$C94)/V94)*10^-6,\"\")","v":0},"--",{"$f":"'RBC Reference Table'!M94","v":47000},{"$f":"'RBC Reference Table'!N94","v":">Csat"},{"$f":"IF(ISNUMBER(Z94),(MAX($B94,$C94)/Z94)*10^-6,\"\")","v":0},"--",{"$f":"'RBC Reference Table'!O94","v":"-"},{"$f":"'RBC Reference Table'!P94","v":"NV"},{"$f":"IF(ISNUMBER(AD94),(MAX($B94:$C94)/AD94)*10^-6,\"\")","v":""},"--",{"$f":"'RBC Reference Table'!O94","v":"-"},{"$f":"'RBC Reference Table'!P94","v":"NV"},{"$f":"IF(ISNUMBER(AH94),(MAX($B94:$C94)/AH94)*10^-6,\"\")","v":""},"--",{"$f":"'RBC Reference Table'!S94","v":"-"},{"$f":"'RBC Reference Table'!T94","v":"NV"},{"$f":"IF(ISNUMBER(AL94),(MAX($B94:$C94)/AL94)*10^-6,\"\")","v":""},"--",{"$f":"'RBC Reference Table'!U94","v":"-"},{"$f":"'RBC Reference Table'!V94","v":"NV"},{"$f":"IF(ISNUMBER(AP94),(MAX($B94:$C94)/AP94)*10^-6,\"\")","v":""},"--",{"$f":"'RBC Reference Table'!W94","v":"-"},{"$f":"'RBC Reference Table'!X94","v":"NV"},{"$f":"IF(ISNUMBER(AT94),(MAX($B94:$C94)/AT94)*10^-6,\"\")","v":""},"--",{"$f":"'RBC Reference Table'!Y94","v":"-"},{"$f":"'RBC Reference Table'!Z94","v":"NV"},{"$f":"IF(ISNUMBER(AX94),(MAX($B94:$C94)/AX94)*10^-6,\"\")","v":""},"--",{"$f":"'RBC Reference Table'!AA94","v":2.4},{"$f":"'RBC Reference Table'!AB94","v":0},null,null,{"$f":"'RBC Reference Table'!AC94","v":8.9},{"$f":"'RBC Reference Table'!AD94","v":0},null,null,{"$f":"'RBC Reference Table'!AE94","v":8.9},{"$f":"'RBC Reference Table'!AF94","v":0},null,null,{"$f":"'RBC Reference Table'!AG94","v":4.4000000000000004},{"$f":"'RBC Reference Table'!AH94","v":0},{"$f":"IF(ISNUMBER(BN94),($D94/BN94)*10^-6,\"\")","v":0},"--",{"$f":"'RBC Reference Table'!AI94","v":17},{"$f":"'RBC Reference Table'!AJ94","v":0},{"$f":"IF(ISNUMBER(BR94),($D94/BR94)*10^-6,\"\")","v":0},"--",{"$f":"'RBC Reference Table'!AK94","v":16},{"$f":"'RBC Reference Table'!AL94","v":0},{"$f":"IF(ISNUMBER(BV94),($D94/BV94)*10^-6,\"\")","v":0},"--",{"$f":"'RBC Reference Table'!AM94","v":"-"},{"$f":"'RBC Reference Table'!AN94","v":"NV"},{"$f":"IF(ISNUMBER(BZ94),($D94/BZ94)*10^-6,\"\")","v":""},"--",{"$f":"'RBC Reference Table'!AO94","v":"-"},{"$f":"'RBC Reference Table'!AP94","v":"NV"},{"$f":"IF(ISNUMBER(CD94),($D94/CD94)*10^-6,\"\")","v":""},"--",{"$f":"'RBC Reference Table'!AQ94","v":"-"},{"$f":"'RBC Reference Table'!AR94","v":"NV"},{"$f":"IF(ISNUMBER(CH94),($D94/CH94)*10^-6,\"\")","v":""},"--",{"$f":"'RBC Reference Table'!AS94","v":"-"},{"$f":"'RBC Reference Table'!AT94","v":"NV"},{"$f":"IF(ISNUMBER(CL94),($D94/CL94)*10^-6,\"\")","v":""},"--",{"$f":"'RBC Reference Table'!AU94","v":"-"},{"$f":"'RBC Reference Table'!AV94","v":"NV"},{"$f":"IF(ISNUMBER(CP94),($D94/CP94)*10^-6,\"\")","v":""},"--",{"$f":"'RBC Reference Table'!AW94","v":"-"},{"$f":"'RBC Reference Table'!AX94","v":"NV"},{"$f":"IF(ISNUMBER(CT94),($D94/CT94)*10^-6,\"\")","v":""},"--",{"$f":"'RBC Reference Table'!AY94","v":11000},{"$f":"'RBC Reference Table'!AZ94","v":0},{"$f":"IF(ISNUMBER(CX94),($D94/CX94)*10^-6,\"\")","v":0},"--",{"$f":"'RBC Reference Table'!BA94","v":"-"},{"$f":"'RBC Reference Table'!BB94","v":"NV"},{"$f":"IF(ISNUMBER(DB94),($E94/DB94)*10^-6,\"\")","v":""},"--",{"$f":"'RBC Reference Table'!BC94","v":"-"},{"$f":"'RBC Reference Table'!BD94","v":"NV"},{"$f":"IF(ISNUMBER(DF94),($E94/DF94)*10^-6,\"\")","v":""},"--",{"$f":"'RBC Reference Table'!BE93","v":3100000},{"$f":"'RBC Reference Table'!BF93","v":0},{"$f":"IF(ISNUMBER(DJ94),($E94/DJ94)*10^-6,\"\")","v":0},"--",{"$f":"'RBC Reference Table'!BG94","v":0.91},null,{"$f":"IF(ISNUMBER(DN94),($F94/DN94)*10^-6,\"\")","v":0},"--",{"$f":"'RBC Reference Table'!BI94","v":2.1},null,{"$f":"IF(ISNUMBER(DR94),($F94/DR94)*10^-6,\"\")","v":0},"--",{"$f":"'RBC Reference Table'!BK94","v":4},null,{"$f":"IF(ISNUMBER(DV94),($F94/DV94)*10^-6,\"\")","v":0},"--"]
[88,{"$f":"VLOOKUP($A95,'Applicable RBC Table'!$A$43:$F$136,2,FALSE)","v":0},{"$f":"VLOOKUP($A95,'Applicable RBC Table'!$A$43:$F$136,3,FALSE)","v":0},{"$f":"VLOOKUP($A95,'Applicable RBC Table'!$A$43:$F$136,4,FALSE)","v":0},{"$f":"VLOOKUP($A95,'Applicable RBC Table'!$A$43:$F$136,5,FALSE)","v":0},{"$f":"VLOOKUP($A95,'Applicable RBC Table'!$A$43:$F$136,6,FALSE)","v":0},"95-63-6","1,2,4-Trimethylbenzene","nc, v",{"$f":"'RBC Reference Table'!E95","v":430},{"$f":"'RBC Reference Table'!F95","v":0},"--",{"$f":"IF(ISNUMBER(J95),$B95/J95,\"\")","v":0},{"$f":"'RBC Reference Table'!G95","v":860},{"$f":"'RBC Reference Table'!H95","v":0},"--",{"$f":"IF(ISNUMBER(N95),$B95/N95,\"\")","v":0},{"$f":"'RBC Reference Table'!I95","v":6900},{"$f":"'RBC Reference Table'!J95","v":">Csat"},"--",{"$f":"IF(ISNUMBER(R95),$B95/R95,\"\")","v":0},{"$f":"'RBC Reference Table'!K95","v":2900},{"$f":"'RBC Reference Table'!L95","v":">Csat"},"--",{"$f":"IF(ISNUMBER(V95),MAX($B95,$C95)/V95,\"\")","v":0},{"$f":"'RBC Reference Table'!M95","v":81000},{"$f":"'RBC Reference Table'!N95","v":">Csat"},"--",{"$f":"IF(ISNUMBER(Z95),MAX($B95,$C95)/Z95,\"\")","v":0},{"$f":"'RBC Reference Table'!O95","v":"-"},{"$f":"'RBC Reference Table'!P95","v":">Csat"},"--",{"$f":"IF(ISNUMBER(AD95),MAX($B95:$C95)/AD95,\"\")","v":""},{"$f":"'RBC Reference Table'!O95","v":"-"},{"$f":"'RBC Reference Table'!P95","v":">Csat"},"--",{"$f":"IF(ISNUMBER(AH95),MAX($B95:$C95)/AH95,\"\")","v":""},{"$f":"'RBC Reference Table'!S95","v":"-"},{"$f":"'RBC Reference Table'!T95","v":">Csat"},"--",{"$f":"IF(ISNUMBER(AL95),MAX($B95:$C95)/AL95,\"\")","v":""},{"$f":"'RBC Reference Table'!U95","v":140},{"$f":"'RBC Reference Table'!V95","v":0},"--",{"$f":"IF(ISNUMBER(AP95),MAX($B95:$C95)/AP95,\"\")","v":0},{"$f":"'RBC Reference Table'!W95","v":140},{"$f":"'RBC Reference Table'!X95","v":0},"--",{"$f":"IF(ISNUMBER(AT95),MAX($B95:$C95)/AT95,\"\")","v":0},{"$f":"'RBC Reference Table'!Y95","v":"-"},{"$f":"'RBC Reference Table'!Z95","v":">Csat"},"--",{"$f":"IF(ISNUMBER(AX95),MAX($B95:$C95)/AX95,\"\")","v":""},{"$f":"'RBC Reference Table'!AA95","v":10},{"$f":"'RBC Reference Table'!AB95","v":0},null,null,{"$f":"'RBC Reference Table'!AC95","v":43},{"$f":"'RBC Reference Table'!AD95","v":0},null,null,{"$f":"'RBC Reference Table'!AE95","v":48},{"$f":"'RBC Reference Table'!AF95","v":0},null,null,{"$f":"'RBC Reference Table'!AG95","v":54},{"$f":"'RBC Reference Table'!AH95","v":0},"--",{"$f":"IF(ISNUMBER(BN95),$D95/BN95,\"\")","v":0},{"$f":"'RBC Reference Table'!AI95","v":230},{"$f":"'RBC Reference Table'!AJ95","v":0},"--",{"$f":"IF(ISNUMBER(BR95),$D95/BR95,\"\")","v":0},{"$f":"'RBC Reference Table'!AK95","v":250},{"$f":"'RBC Reference Table'!AL95","v":0},"--",{"$f":"IF(ISNUMBER(BV95),$D95/BV95,\"\")","v":0},{"$f":"'RBC Reference Table'!AM95","v":"-"},{"$f":"'RBC Reference Table'!AN95","v":">S"},"--",{"$f":"IF(ISNUMBER(BZ95),$D95/BZ95,\"\")","v":""},{"$f":"'RBC Reference Table'!AO95","v":"-"},{"$f":"'RBC Reference Table'!AP95","v":">S"},"--",{"$f":"IF(ISNUMBER(CD95),$D95/CD95,\"\")","v":""},{"$f":"'RBC Reference Table'!AQ95","v":"-"},{"$f":"'RBC Reference Table'!AR95","v":">S"},"--",{"$f":"IF(ISNUMBER(CH95),$D95/CH95,\"\")","v":""},{"$f":"'RBC Reference Table'!AS95","v":50000},{"$f":"'RBC Reference Table'!AT95","v":0},"--",{"$f":"IF(ISNUMBER(CL95),$D95/CL95,\"\")","v":0},{"$f":"'RBC Reference Table'!AU95","v":50000},{"$f":"'RBC Reference Table'!AV95","v":0},"--",{"$f":"IF(ISNUMBER(CP95),$D95/CP95,\"\")","v":0},{"$f":"'RBC Reference Table'!AW95","v":"-"},{"$f":"'RBC Reference Table'!AX95","v":">S"},"--",{"$f":"IF(ISNUMBER(CT95),$D95/CT95,\"\")","v":""},{"$f":"'RBC Reference Table'!AY95","v":6300},{"$f":"'RBC Reference Table'!AZ95","v":0},"--",{"$f":"IF(ISNUMBER(CX95),$D95/CX95,\"\")","v":0},{"$f":"'RBC Reference Table'!BA95","v":13000},{"$f":"'RBC Reference Table'!BB95","v":0},"--",{"$f":"IF(ISNUMBER(DB95),$E95/DB95,\"\")","v":0},{"$f":"'RBC Reference Table'!BC95","v":13000},{"$f":"'RBC Reference Table'!BD95","v":0},"--",{"$f":"IF(ISNUMBER(DF95),$E95/DF95,\"\")","v":0},{"$f":"'RBC Reference Table'!BE94","v":"-"},{"$f":"'RBC Reference Table'!BF94","v":"NV"},"--",{"$f":"IF(ISNUMBER(DJ95),$E95/DJ95,\"\")","v":""},{"$f":"'RBC Reference Table'!BG95","v":63},null,"--",{"$f":"IF(ISNUMBER(DN95),$F95/DN95,\"\")","v":0},{"$f":"'RBC Reference Table'!BI95","v":63},null,"--",{"$f":"IF(ISNUMBER(DR95),$F95/DR95,\"\")","v":0},{"$f":"'RBC Reference Table'!BK95","v":260},null,"--",{"$f":"IF(ISNUMBER(DV95),$F95/DV95,\"\")","v":0}]
[89,{"$f":"VLOOKUP($A96,'Applicable RBC Table'!$A$43:$F$136,2,FALSE)","v":0},{"$f":"VLOOKUP($A96,'Applicable RBC Table'!$A$43:$F$136,3,FALSE)","v":0},{"$f":"VLOOKUP($A96,'Applicable RBC Table'!$A$43:$F$136,4,FALSE)","v":0},{"$f":"VLOOKUP($A96,'Applicable RBC Table'!$A$43:$F$136,5,FALSE)","v":0},{"$f":"VLOOKUP($A96,'Applicable RBC Table'!$A$43:$F$136,6,FALSE)","v":0},"108-67-8","1,3,5-Trimethylbenzene","nc, v",{"$f":"'RBC Reference Table'!E96","v":430},{"$f":"'RBC Reference Table'!F96","v":">Csat"},"--",{"$f":"IF(ISNUMBER(J96),$B96/J96,\"\")","v":0},{"$f":"'RBC Reference Table'!G96","v":860},{"$f":"'RBC Reference Table'!H96","v":">Csat"},"--",{"$f":"IF(ISNUMBER(N96),$B96/N96,\"\")","v":0},{"$f":"'RBC Reference Table'!I96","v":6900},{"$f":"'RBC Reference Table'!J96","v":">Csat"},"--",{"$f":"IF(ISNUMBER(R96),$B96/R96,\"\")","v":0},{"$f":"'RBC Reference Table'!K96","v":2900},{"$f":"'RBC Reference Table'!L96","v":">Csat"},"--",{"$f":"IF(ISNUMBER(V96),MAX($B96,$C96)/V96,\"\")","v":0},{"$f":"'RBC Reference Table'!M96","v":81000},{"$f":"'RBC Reference Table'!N96","v":">Csat"},"--",{"$f":"IF(ISNUMBER(Z96),MAX($B96,$C96)/Z96,\"\")","v":0},{"$f":"'RBC Reference Table'!O96","v":"-"},{"$f":"'RBC Reference Table'!P96","v":">Csat"},"--",{"$f":"IF(ISNUMBER(AD96),MAX($B96:$C96)/AD96,\"\")","v":""},{"$f":"'RBC Reference Table'!O96","v":"-"},{"$f":"'RBC Reference Table'!P96","v":">Csat"},"--",{"$f":"IF(ISNUMBER(AH96),MAX($B96:$C96)/AH96,\"\")","v":""},{"$f":"'RBC Reference Table'!S96","v":"-"},{"$f":"'RBC Reference Table'!T96","v":">Csat"},"--",{"$f":"IF(ISNUMBER(AL96),MAX($B96:$C96)/AL96,\"\")","v":""},{"$f":"'RBC Reference Table'!U96","v":98},{"$f":"'RBC Reference Table'!V96","v":0},"--",{"$f":"IF(ISNUMBER(AP96),MAX($B96:$C96)/AP96,\"\")","v":0},{"$f":"'RBC Reference Table'!W96","v":98},{"$f":"'RBC Reference Table'!X96","v":0},"--",{"$f":"IF(ISNUMBER(AT96),MAX($B96:$C96)/AT96,\"\")","v":0},{"$f":"'RBC Reference Table'!Y96","v":"-"},{"$f":"'RBC Reference Table'!Z96","v":">Csat"},"--",{"$f":"IF(ISNUMBER(AX96),MAX($B96:$C96)/AX96,\"\")","v":""},{"$f":"'RBC Reference Table'!AA96","v":11},{"$f":"'RBC Reference Table'!AB96","v":0},null,null,{"$f":"'RBC Reference Table'!AC96","v":45},{"$f":"'RBC Reference Table'!AD96","v":0},null,null,{"$f":"'RBC Reference Table'!AE96","v":53},{"$f":"'RBC Reference Table'!AF96","v":0},null,null,{"$f":"'RBC Reference Table'!AG96","v":59},{"$f":"'RBC Reference Table'!AH96","v":0},"--",{"$f":"IF(ISNUMBER(BN96),$D96/BN96,\"\")","v":0},{"$f":"'RBC Reference Table'!AI96","v":240},{"$f":"'RBC Reference Table'!AJ96","v":0},"--",{"$f":"IF(ISNUMBER(BR96),$D96/BR96,\"\")","v":0},{"$f":"'RBC Reference Table'!AK96","v":280},{"$f":"'RBC Reference Table'!AL96","v":0},"--",{"$f":"IF(ISNUMBER(BV96),$D96/BV96,\"\")","v":0},{"$f":"'RBC Reference Table'!AM96","v":"-"},{"$f":"'RBC Reference Table'!AN96","v":">S"},"--",{"$f":"IF(ISNUMBER(BZ96),$D96/BZ96,\"\")","v":""},{"$f":"'RBC Reference Table'!AO96","v":"-"},{"$f":"'RBC Reference Table'!AP96","v":">S"},"--",{"$f":"IF(ISNUMBER(CD96),$D96/CD96,\"\")","v":""},{"$f":"'RBC Reference Table'!AQ96","v":"-"},{"$f":"'RBC Reference Table'!AR96","v":">S"},"--",{"$f":"IF(ISNUMBER(CH96),$D96/CH96,\"\")","v":""},{"$f":"'RBC Reference Table'!AS96","v":36000},{"$f":"'RBC Reference Table'!AT96","v":0},"--",{"$f":"IF(ISNUMBER(CL96),$D96/CL96,\"\")","v":0},{"$f":"'RBC Reference Table'!AU96","v":36000},{"$f":"'RBC Reference Table'!AV96","v":0},"--",{"$f":"IF(ISNUMBER(CP96),$D96/CP96,\"\")","v":0},{"$f":"'RBC Reference Table'!AW96","v":"-"},{"$f":"'RBC Reference Table'!AX96","v":">S"},"--",{"$f":"IF(ISNUMBER(CT96),$D96/CT96,\"\")","v":""},{"$f":"'RBC Reference Table'!AY96","v":7500},{"$f":"'RBC Reference Table'!AZ96","v":0},"--",{"$f":"IF(ISNUMBER(CX96),$D96/CX96,\"\")","v":0},{"$f":"'RBC Reference Table'!BA96","v":13000},{"$f":"'RBC Reference Table'!BB96","v":0},"--",{"$f":"IF(ISNUMBER(DB96),$E96/DB96,\"\")","v":0},{"$f":"'RBC Reference Table'!BC96","v":13000},{"$f":"'RBC Reference Table'!BD96","v":0},"--",{"$f":"IF(ISNUMBER(DF96),$E96/DF96,\"\")","v":0},{"$f":"'RBC Reference Table'!BE95","v":260000},{"$f":"'RBC Reference Table'!BF95","v":0},"--",{"$f":"IF(ISNUMBER(DJ96),$E96/DJ96,\"\")","v":0},{"$f":"'RBC Reference Table'!BG96","v":63},null,"--",{"$f":"IF(ISNUMBER(DN96),$F96/DN96,\"\")","v":0},{"$f":"'RBC Reference Table'!BI96","v":63},null,"--",{"$f":"IF(ISNUMBER(DR96),$F96/DR96,\"\")","v":0},{"$f":"'RBC Reference Table'!BK96","v":260},null,"--",{"$f":"IF(ISNUMBER(DV96),$F96/DV96,\"\")","v":0}]
[90,{"$f":"VLOOKUP($A97,'Applicable RBC Table'!$A$43:$F$136,2,FALSE)","v":0},{"$f":"VLOOKUP($A97,'Applicable RBC Table'!$A$43:$F$136,3,FALSE)","v":0},{"$f":"VLOOKUP($A97,'Applicable RBC Table'!$A$43:$F$136,4,FALSE)","v":0},{"$f":"VLOOKUP($A97,'Applicable RBC Table'!$A$43:$F$136,5,FALSE)","v":0},{"$f":"VLOOKUP($A97,'Applicable RBC Table'!$A$43:$F$136,6,FALSE)","v":0},"75-01-4","Vinyl chloride","c, v",{"$f":"'RBC Reference Table'!E97","v":0.36},{"$f":"'RBC Reference Table'!F97","v":0},{"$f":"IF(ISNUMBER(J97),($B97/J97)*10^-6,\"\")","v":0},"--",{"$f":"'RBC Reference Table'!G97","v":0.8},{"$f":"'RBC Reference Table'!H97","v":0},{"$f":"IF(ISNUMBER(N97),($B97/N97)*10^-6,\"\")","v":0},"--",{"$f":"'RBC Reference Table'!I97","v":4.4000000000000004},{"$f":"'RBC Reference Table'!J97","v":0},{"$f":"IF(ISNUMBER(R97),($B97/R97)*10^-6,\"\")","v":0},"--",{"$f":"'RBC Reference Table'!K97","v":34},{"$f":"'RBC Reference Table'!L97","v":0},{"$f":"IF(ISNUMBER(V97),(MAX($B97,$C97)/V97)*10^-6,\"\")","v":0},"--",{"$f":"'RBC Reference Table'!M97","v":950},{"$f":"'RBC Reference Table'!N97","v":">Csat"},{"$f":"IF(ISNUMBER(Z97),(MAX($B97,$C97)/Z97)*10^-6,\"\")","v":0},"--",{"$f":"'RBC Reference Table'!O97","v":5.3},{"$f":"'RBC Reference Table'!P97","v":0},{"$f":"IF(ISNUMBER(AD97),(MAX($B97:$C97)/AD97)*10^-6,\"\")","v":0},"--",{"$f":"'RBC Reference Table'!O97","v":5.3},{"$f":"'RBC Reference Table'!P97","v":0},{"$f":"IF(ISNUMBER(AH97),(MAX($B97:$C97)/AH97)*10^-6,\"\")","v":0},"--",{"$f":"'RBC Reference Table'!S97","v":89},{"$f":"'RBC Reference Table'!T97","v":0},{"$f":"IF(ISNUMBER(AL97),(MAX($B97:$C97)/AL97)*10^-6,\"\")","v":0},"--",{"$f":"'RBC Reference Table'!U97","v":4.2999999999999997E-2},{"$f":"'RBC Reference Table'!V97","v":0},{"$f":"IF(ISNUMBER(AP97),(MAX($B97:$C97)/AP97)*10^-6,\"\")","v":0},"--",{"$f":"'RBC Reference Table'!W97","v":5.2999999999999999E-2},{"$f":"'RBC Reference Table'!X97","v":0},{"$f":"IF(ISNUMBER(AT97),(MAX($B97:$C97)/AT97)*10^-6,\"\")","v":0},"--",{"$f":"'RBC Reference Table'!Y97","v":2.2000000000000002},{"$f":"'RBC Reference Table'!Z97","v":0},{"$f":"IF(ISNUMBER(AX97),(MAX($B97:$C97)/AX97)*10^-6,\"\")","v":0},"--",{"$f":"'RBC Reference Table'!AA97","v":5.6999999999999998E-4},{"$f":"'RBC Reference Table'!AB97","v":0},null,null,{"$f":"'RBC Reference Table'!AC97","v":1.4E-3},{"$f":"'RBC Reference Table'!AD97","v":0},null,null,{"$f":"'RBC Reference Table'!AE97","v":0.01},{"$f":"'RBC Reference Table'!AF97","v":0},null,null,{"$f":"'RBC Reference Table'!AG97","v":2.7E-2},{"$f":"'RBC Reference Table'!AH97","v":0},{"$f":"IF(ISNUMBER(BN97),($D97/BN97)*10^-6,\"\")","v":0},"--",{"$f":"'RBC Reference Table'!AI97","v":6.6000000000000003E-2},{"$f":"'RBC Reference Table'!AJ97","v":0},{"$f":"IF(ISNUMBER(BR97),($D97/BR97)*10^-6,\"\")","v":0},"--",{"$f":"'RBC Reference Table'!AK97","v":0.49},{"$f":"'RBC Reference Table'!AL97","v":0},{"$f":"IF(ISNUMBER(BV97),($D97/BV97)*10^-6,\"\")","v":0},"--",{"$f":"'RBC Reference Table'!AM97","v":350},{"$f":"'RBC Reference Table'!AN97","v":0},{"$f":"IF(ISNUMBER(BZ97),($D97/BZ97)*10^-6,\"\")","v":0},"--",{"$f":"'RBC Reference Table'!AO97","v":430},{"$f":"'RBC Reference Table'!AP97","v":0},{"$f":"IF(ISNUMBER(CD97),($D97/CD97)*10^-6,\"\")","v":0},"--",{"$f":"'RBC Reference Table'!AQ97","v":5900},{"$f":"'RBC Reference Table'!AR97","v":0},{"$f":"IF(ISNUMBER(CH97),($D97/CH97)*10^-6,\"\")","v":0},"--",{"$f":"'RBC Reference Table'!AS97","v":17},{"$f":"'RBC Reference Table'!AT97","v":0},{"$f":"IF(ISNUMBER(CL97),($D97/CL97)*10^-6,\"\")","v":0},"--",{"$f":"'RBC Reference Table'!AU97","v":21},{"$f":"'RBC Reference Table'!AV97","v":0},{"$f":"IF(ISNUMBER(CP97),($D97/CP97)*10^-6,\"\")","v":0},"--",{"$f":"'RBC Reference Table'!AW97","v":880},{"$f":"'RBC Reference Table'!AX97","v":0},{"$f":"IF(ISNUMBER(CT97),($D97/CT97)*10^-6,\"\")","v":0},"--",{"$f":"'RBC Reference Table'!AY97","v":960},{"$f":"'RBC Reference Table'!AZ97","v":0},{"$f":"IF(ISNUMBER(CX97),($D97/CX97)*10^-6,\"\")","v":0},"--",{"$f":"'RBC Reference Table'!BA97","v":33},{"$f":"'RBC Reference Table'!BB97","v":0},{"$f":"IF(ISNUMBER(DB97),($E97/DB97)*10^-6,\"\")","v":0},"--",{"$f":"'RBC Reference Table'!BC97","v":41},{"$f":"'RBC Reference Table'!BD97","v":0},{"$f":"IF(ISNUMBER(DF97),($E97/DF97)*10^-6,\"\")","v":0},"--",{"$f":"'RBC Reference Table'!BE96","v":260000},{"$f":"'RBC Reference Table'!BF96","v":0},{"$f":"IF(ISNUMBER(DJ97),($E97/DJ97)*10^-6,\"\")","v":0},"--",{"$f":"'RBC Reference Table'!BG97","v":0.17},null,{"$f":"IF(ISNUMBER(DN97),($F97/DN97)*10^-6,\"\")","v":0},"--",{"$f":"'RBC Reference Table'!BI97","v":0.2},null,{"$f":"IF(ISNUMBER(DR97),($F97/DR97)*10^-6,\"\")","v":0},"--",{"$f":"'RBC Reference Table'!BK97","v":2.8},null,{"$f":"IF(ISNUMBER(DV97),($F97/DV97)*10^-6,\"\")","v":0},"--"]
[91,{"$f":"VLOOKUP($A98,'Applicable RBC Table'!$A$43:$F$136,2,FALSE)","v":0},{"$f":"VLOOKUP($A98,'Applicable RBC Table'!$A$43:$F$136,3,FALSE)","v":0},{"$f":"VLOOKUP($A98,'Applicable RBC Table'!$A$43:$F$136,4,FALSE)","v":445},{"$f":"VLOOKUP($A98,'Applicable RBC Table'!$A$43:$F$136,5,FALSE)","v":0},{"$f":"VLOOKUP($A98,'Applicable RBC Table'!$A$43:$F$136,6,FALSE)","v":0},"1330-20-7","Xylenes","nc, v",{"$f":"'RBC Reference Table'!E98","v":1400},{"$f":"'RBC Reference Table'!F98","v":">Csat"},"--",{"$f":"IF(ISNUMBER(J98),$B98/J98,\"\")","v":0},{"$f":"'RBC Reference Table'!G98","v":2900},{"$f":"'RBC Reference Table'!H98","v":">Csat"},"--",{"$f":"IF(ISNUMBER(N98),$B98/N98,\"\")","v":0},{"$f":"'RBC Reference Table'!I98","v":25000},{"$f":"'RBC Reference Table'!J98","v":">Csat"},"--",{"$f":"IF(ISNUMBER(R98),$B98/R98,\"\")","v":0},{"$f":"'RBC Reference Table'!K98","v":20000},{"$f":"'RBC Reference Table'!L98","v":">Csat"},"--",{"$f":"IF(ISNUMBER(V98),MAX($B98,$C98)/V98,\"\")","v":0},{"$f":"'RBC Reference Table'!M98","v":560000},{"$f":"'RBC Reference Table'!N98","v":">Csat"},"--",{"$f":"IF(ISNUMBER(Z98),MAX($B98,$C98)/Z98,\"\")","v":0},{"$f":"'RBC Reference Table'!O98","v":"-"},{"$f":"'RBC Reference Table'!P98","v":">Csat"},"--",{"$f":"IF(ISNUMBER(AD98),MAX($B98:$C98)/AD98,\"\")","v":""},{"$f":"'RBC Reference Table'!O98","v":"-"},{"$f":"'RBC Reference Table'!P98","v":">Csat"},"--",{"$f":"IF(ISNUMBER(AH98),MAX($B98:$C98)/AH98,\"\")","v":""},{"$f":"'RBC Reference Table'!S98","v":"-"},{"$f":"'RBC Reference Table'!T98","v":">Csat"},"--",{"$f":"IF(ISNUMBER(AL98),MAX($B98:$C98)/AL98,\"\")","v":""},{"$f":"'RBC Reference Table'!U98","v":160},{"$f":"'RBC Reference Table'!V98","v":0},"--",{"$f":"IF(ISNUMBER(AP98),MAX($B98:$C98)/AP98,\"\")","v":0},{"$f":"'RBC Reference Table'!W98","v":160},{"$f":"'RBC Reference Table'!X98","v":0},"--",{"$f":"IF(ISNUMBER(AT98),MAX($B98:$C98)/AT98,\"\")","v":0},{"$f":"'RBC Reference Table'!Y98","v":"-"},{"$f":"'RBC Reference Table'!Z98","v":">Csat"},"--",{"$f":"IF(ISNUMBER(AX98),MAX($B98:$C98)/AX98,\"\")","v":""},{"$f":"'RBC Reference Table'!AA98","v":23},{"$f":"'RBC Reference Table'!AB98","v":0},null,null,{"$f":"'RBC Reference Table'!AC98","v":87},{"$f":"'RBC Reference Table'!AD98","v":0},null,null,{"$f":"'RBC Reference Table'!AE98","v":100},{"$f":"'RBC Reference Table'!AF98","v":0},null,null,{"$f":"'RBC Reference Table'!AG98","v":190},{"$f":"'RBC Reference Table'!AH98","v":0},"--",{"$f":"IF(ISNUMBER(BN98),$D98/BN98,\"\")","v":2.3421052631578947},{"$f":"'RBC Reference Table'!AI98","v":710},{"$f":"'RBC Reference Table'!AJ98","v":0},"--",{"$f":"IF(ISNUMBER(BR98),$D98/BR98,\"\")","v":0.62676056338028174},{"$f":"'RBC Reference Table'!AK98","v":830},{"$f":"'RBC Reference Table'!AL98","v":0},"--",{"$f":"IF(ISNUMBER(BV98),$D98/BV98,\"\")","v":0.53614457831325302},{"$f":"'RBC Reference Table'!AM98","v":"-"},{"$f":"'RBC Reference Table'!AN98","v":">S"},"--",{"$f":"IF(ISNUMBER(BZ98),$D98/BZ98,\"\")","v":""},{"$f":"'RBC Reference Table'!AO98","v":"-"},{"$f":"'RBC Reference Table'!AP98","v":">S"},"--",{"$f":"IF(ISNUMBER(CD98),$D98/CD98,\"\")","v":""},{"$f":"'RBC Reference Table'!AQ98","v":"-"},{"$f":"'RBC Reference Table'!AR98","v":">S"},"--",{"$f":"IF(ISNUMBER(CH98),$D98/CH98,\"\")","v":""},{"$f":"'RBC Reference Table'!AS98","v":86000},{"$f":"'RBC Reference Table'!AT98","v":0},"--",{"$f":"IF(ISNUMBER(CL98),$D98/CL98,\"\")","v":5.1744186046511625E-3},{"$f":"'RBC Reference Table'!AU98","v":86000},{"$f":"'RBC Reference Table'!AV98","v":0},"--",{"$f":"IF(ISNUMBER(CP98),$D98/CP98,\"\")","v":5.1744186046511625E-3},{"$f":"'RBC Reference Table'!AW98","v":"-"},{"$f":"'RBC Reference Table'!AX98","v":">S"},"--",{"$f":"IF(ISNUMBER(CT98),$D98/CT98,\"\")","v":""},{"$f":"'RBC Reference Table'!AY98","v":23000},{"$f":"'RBC Reference Table'!AZ98","v":0},"--",{"$f":"IF(ISNUMBER(CX98),$D98/CX98,\"\")","v":1.934782608695652E-2},{"$f":"'RBC Reference Table'!BA98","v":21000},{"$f":"'RBC Reference Table'!BB98","v":0},"--",{"$f":"IF(ISNUMBER(DB98),$E98/DB98,\"\")","v":0},{"$f":"'RBC Reference Table'!BC98","v":21000},{"$f":"'RBC Reference Table'!BD98","v":0},"--",{"$f":"IF(ISNUMBER(DF98),$E98/DF98,\"\")","v":0},{"$f":"'RBC Reference Table'!BE97","v":2800},{"$f":"'RBC Reference Table'!BF97","v":0},"--",{"$f":"IF(ISNUMBER(DJ98),$E98/DJ98,\"\")","v":0},{"$f":"'RBC Reference Table'!BG98","v":100},null,"--",{"$f":"IF(ISNUMBER(DN98),$F98/DN98,\"\")","v":0},{"$f":"'RBC Reference Table'!BI98","v":100},null,"--",{"$f":"IF(ISNUMBER(DR98),$F98/DR98,\"\")","v":0},{"$f":"'RBC Reference Table'!BK98","v":440},null,"--",{"$f":"IF(ISNUMBER(DV98),$F98/DV98,\"\")","v":0}]
[92,{"$f":"VLOOKUP($A99,'Applicable RBC Table'!$A$43:$F$136,2,FALSE)","v":0},{"$f":"VLOOKUP($A99,'Applicable RBC Table'!$A$43:$F$136,3,FALSE)","v":1340},{"$f":"VLOOKUP($A99,'Applicable RBC Table'!$A$43:$F$136,4,FALSE)","v":11800},{"$f":"VLOOKUP($A99,'Applicable RBC Table'!$A$43:$F$136,5,FALSE)","v":0},{"$f":"VLOOKUP($A99,'Applicable RBC Table'!$A$43:$F$136,6,FALSE)","v":0},"--","Generic Diesel/Heating Oil ","nc, v ",{"$f":"'RBC Reference Table'!E99","v":1100},{"$f":"'RBC Reference Table'!F99","v":0},"--",{"$f":"IF(ISNUMBER(J99),$B99/J99,\"\")","v":0},{"$f":"'RBC Reference Table'!G99","v":2200},{"$f":"'RBC Reference Table'!H99","v":0},"--",{"$f":"IF(ISNUMBER(N99),$B99/N99,\"\")","v":0},{"$f":"'RBC Reference Table'!I99","v":14000},{"$f":"'RBC Reference Table'!J99","v":0},"--",{"$f":"IF(ISNUMBER(R99),$B99/R99,\"\")","v":0},{"$f":"'RBC Reference Table'!K99","v":4600},{"$f":"'RBC Reference Table'!L99","v":0},"--",{"$f":"IF(ISNUMBER(V99),MAX($B99,$C99)/V99,\"\")","v":0.29130434782608694},{"$f":"'RBC Reference Table'!M99","v":">Max "},{"$f":"'RBC Reference Table'!N99","v":0},"--",{"$f":"IF(ISNUMBER(Z99),MAX($B99,$C99)/Z99,\"\")","v":""},{"$f":"'RBC Reference Table'!O99","v":">Max "},{"$f":"'RBC Reference Table'!P99","v":0},"--",{"$f":"IF(ISNUMBER(AD99),MAX($B99:$C99)/AD99,\"\")","v":""},{"$f":"'RBC Reference Table'!O99","v":">Max "},{"$f":"'RBC Reference Table'!P99","v":0},"--",{"$f":"IF(ISNUMBER(AH99),MAX($B99:$C99)/AH99,\"\")","v":""},{"$f":"'RBC Reference Table'!S99","v":">Max "},{"$f":"'RBC Reference Table'!T99","v":0},"--",{"$f":"IF(ISNUMBER(AL99),MAX($B99:$C99)/AL99,\"\")","v":""},{"$f":"'RBC Reference Table'!U99","v":">Max "},{"$f":"'RBC Reference Table'!V99","v":0},"--",{"$f":"IF(ISNUMBER(AP99),MAX($B99:$C99)/AP99,\"\")","v":""},{"$f":"'RBC Reference Table'!W99","v":">Max "},{"$f":"'RBC Reference Table'!X99","v":0},"--",{"$f":"IF(ISNUMBER(AT99),MAX($B99:$C99)/AT99,\"\")","v":""},{"$f":"'RBC Reference Table'!Y99","v":">Max "},{"$f":"'RBC Reference Table'!Z99","v":0},"--",{"$f":"IF(ISNUMBER(AX99),MAX($B99:$C99)/AX99,\"\")","v":""},{"$f":"'RBC Reference Table'!AA99","v":9500},{"$f":"'RBC Reference Table'!AB99","v":0},null,null,{"$f":"'RBC Reference Table'!AC99","v":9500},{"$f":"'RBC Reference Table'!AD99","v":0},null,null,{"$f":"'RBC Reference Table'!AE99","v":">Max "},{"$f":"'RBC Reference Table'!AF99","v":0},null,null,{"$f":"'RBC Reference Table'!AG99","v":100},{"$f":"'RBC Reference Table'!AH99","v":0},"--",{"$f":"IF(ISNUMBER(BN99),$D99/BN99,\"\")","v":118},{"$f":"'RBC Reference Table'!AI99","v":100},{"$f":"'RBC Reference Table'!AJ99","v":0},"--",{"$f":"IF(ISNUMBER(BR99),$D99/BR99,\"\")","v":118},{"$f":"'RBC Reference Table'!AK99","v":430},{"$f":"'RBC Reference Table'!AL99","v":0},"--",{"$f":"IF(ISNUMBER(BV99),$D99/BV99,\"\")","v":27.441860465116278},{"$f":"'RBC Reference Table'!AM99","v":">S"},{"$f":"'RBC Reference Table'!AN99","v":0},"--",{"$f":"IF(ISNUMBER(BZ99),$D99/BZ99,\"\")","v":""},{"$f":"'RBC Reference Table'!AO99","v":">S"},{"$f":"'RBC Reference Table'!AP99","v":0},"--",{"$f":"IF(ISNUMBER(CD99),$D99/CD99,\"\")","v":""},{"$f":"'RBC Reference Table'!AQ99","v":">S"},{"$f":"'RBC Reference Table'!AR99","v":0},"--",{"$f":"IF(ISNUMBER(CH99),$D99/CH99,\"\")","v":""},{"$f":"'RBC Reference Table'!AS99","v":">S"},{"$f":"'RBC Reference Table'!AT99","v":0},"--",{"$f":"IF(ISNUMBER(CL99),$D99/CL99,\"\")","v":""},{"$f":"'RBC Reference Table'!AU99","v":">S"},{"$f":"'RBC Reference Table'!AV99","v":0},"--",{"$f":"IF(ISNUMBER(CP99),$D99/CP99,\"\")","v":""},{"$f":"'RBC Reference Table'!AW99","v":">S"},{"$f":"'RBC Reference Table'!AX99","v":0},"--",{"$f":"IF(ISNUMBER(CT99),$D99/CT99,\"\")","v":""},{"$f":"'RBC Reference Table'!AY99","v":">S"},{"$f":"'RBC Reference Table'!AZ99","v":0},"--",{"$f":"IF(ISNUMBER(CX99),$D99/CX99,\"\")","v":""},{"$f":"'RBC Reference Table'!BA99","v":21000},{"$f":"'RBC Reference Table'!BB99","v":0},"--",{"$f":"IF(ISNUMBER(DB99),$E99/DB99,\"\")","v":0},{"$f":"'RBC Reference Table'!BC99","v":21000},{"$f":"'RBC Reference Table'!BD99","v":0},"--",{"$f":"IF(ISNUMBER(DF99),$E99/DF99,\"\")","v":0},{"$f":"'RBC Reference Table'!BE98","v":440000},{"$f":"'RBC Reference Table'!BF98","v":0},"--",{"$f":"IF(ISNUMBER(DJ99),$E99/DJ99,\"\")","v":0},{"$f":"'RBC Reference Table'!BG99","v":100},null,"--",{"$f":"IF(ISNUMBER(DN99),$F99/DN99,\"\")","v":0},{"$f":"'RBC Reference Table'!BI99","v":100},null,"--",{"$f":"IF(ISNUMBER(DR99),$F99/DR99,\"\")","v":0},{"$f":"'RBC Reference Table'!BK99","v":440},null,"--",{"$f":"IF(ISNUMBER(DV99),$F99/DV99,\"\")","v":0}]
[93,{"$f":"VLOOKUP($A100,'Applicable RBC Table'!$A$43:$F$136,2,FALSE)","v":0},{"$f":"VLOOKUP($A100,'Applicable RBC Table'!$A$43:$F$136,3,FALSE)","v":93.9},{"$f":"VLOOKUP($A100,'Applicable RBC Table'!$A$43:$F$136,4,FALSE)","v":2110},{"$f":"VLOOKUP($A100,'Applicable RBC Table'!$A$43:$F$136,5,FALSE)","v":0},{"$f":"VLOOKUP($A100,'Applicable RBC Table'!$A$43:$F$136,6,FALSE)","v":0},"--","Generic Gasoline","nc, v",{"$f":"'RBC Reference Table'!E100","v":1200},{"$f":"'RBC Reference Table'!F100","v":0},"--",{"$f":"IF(ISNUMBER(J100),$B100/J100,\"\")","v":0},{"$f":"'RBC Reference Table'!G100","v":2500},{"$f":"'RBC Reference Table'!H100","v":0},"--",{"$f":"IF(ISNUMBER(N100),$B100/N100,\"\")","v":0},{"$f":"'RBC Reference Table'!I100","v":20000},{"$f":"'RBC Reference Table'!J100","v":0},"--",{"$f":"IF(ISNUMBER(R100),$B100/R100,\"\")","v":0},{"$f":"'RBC Reference Table'!K100","v":9700},{"$f":"'RBC Reference Table'!L100","v":0},"--",{"$f":"IF(ISNUMBER(V100),MAX($B100,$C100)/V100,\"\")","v":9.6804123711340204E-3},{"$f":"'RBC Reference Table'!M100","v":">Max "},{"$f":"'RBC Reference Table'!N100","v":0},"--",{"$f":"IF(ISNUMBER(Z100),MAX($B100,$C100)/Z100,\"\")","v":""},{"$f":"'RBC Reference Table'!O100","v":5900},{"$f":"'RBC Reference Table'!P100","v":0},"--",{"$f":"IF(ISNUMBER(AD100),MAX($B100:$C100)/AD100,\"\")","v":1.5915254237288137E-2},{"$f":"'RBC Reference Table'!O100","v":5900},{"$f":"'RBC Reference Table'!P100","v":0},"--",{"$f":"IF(ISNUMBER(AH100),MAX($B100:$C100)/AH100,\"\")","v":1.5915254237288137E-2},{"$f":"'RBC Reference Table'!S100","v":69000},{"$f":"'RBC Reference Table'!T100","v":0},"--",{"$f":"IF(ISNUMBER(AL100),MAX($B100:$C100)/AL100,\"\")","v":1.3608695652173913E-3},{"$f":"'RBC Reference Table'!U100","v":94},{"$f":"'RBC Reference Table'!V100","v":0},"--",{"$f":"IF(ISNUMBER(AP100),MAX($B100:$C100)/AP100,\"\")","v":0.99893617021276604},{"$f":"'RBC Reference Table'!W100","v":94},{"$f":"'RBC Reference Table'!X100","v":0},"--",{"$f":"IF(ISNUMBER(AT100),MAX($B100:$C100)/AT100,\"\")","v":0.99893617021276604},{"$f":"'RBC Reference Table'!Y100","v":">Max "},{"$f":"'RBC Reference Table'!Z100","v":0},"--",{"$f":"IF(ISNUMBER(AX100),MAX($B100:$C100)/AX100,\"\")","v":""},{"$f":"'RBC Reference Table'!AA100","v":31},{"$f":"'RBC Reference Table'!AB100","v":0},null,null,{"$f":"'RBC Reference Table'!AC100","v":31},{"$f":"'RBC Reference Table'!AD100","v":0},null,null,{"$f":"'RBC Reference Table'!AE100","v":130},{"$f":"'RBC Reference Table'!AF100","v":0},null,null,{"$f":"'RBC Reference Table'!AG100","v":110},{"$f":"'RBC Reference Table'!AH100","v":0},"--",{"$f":"IF(ISNUMBER(BN100),$D100/BN100,\"\")","v":19.181818181818183},{"$f":"'RBC Reference Table'!AI100","v":110},{"$f":"'RBC Reference Table'!AJ100","v":0},"--",{"$f":"IF(ISNUMBER(BR100),$D100/BR100,\"\")","v":19.181818181818183},{"$f":"'RBC Reference Table'!AK100","v":450},{"$f":"'RBC Reference Table'!AL100","v":0},"--",{"$f":"IF(ISNUMBER(BV100),$D100/BV100,\"\")","v":4.6888888888888891},{"$f":"'RBC Reference Table'!AM100","v":">S"},{"$f":"'RBC Reference Table'!AN100","v":0},"--",{"$f":"IF(ISNUMBER(BZ100),$D100/BZ100,\"\")","v":""},{"$f":"'RBC Reference Table'!AO100","v":">S"},{"$f":"'RBC Reference Table'!AP100","v":0},"--",{"$f":"IF(ISNUMBER(CD100),$D100/CD100,\"\")","v":""},{"$f":"'RBC Reference Table'!AQ100","v":">S"},{"$f":"'RBC Reference Table'!AR100","v":0},"--",{"$f":"IF(ISNUMBER(CH100),$D100/CH100,\"\")","v":""},{"$f":"'RBC Reference Table'!AS100","v":22000},{"$f":"'RBC Reference Table'!AT100","v":0},"--",{"$f":"IF(ISNUMBER(CL100),$D100/CL100,\"\")","v":9.5909090909090902E-2},{"$f":"'RBC Reference Table'!AU100","v":22000},{"$f":"'RBC Reference Table'!AV100","v":0},"--",{"$f":"IF(ISNUMBER(CP100),$D100/CP100,\"\")","v":9.5909090909090902E-2},{"$f":"'RBC Reference Table'!AW100","v":">S"},{"$f":"'RBC Reference Table'!AX100","v":0},"--",{"$f":"IF(ISNUMBER(CT100),$D100/CT100,\"\")","v":""},{"$f":"'RBC Reference Table'!AY100","v":14000},{"$f":"'RBC Reference Table'!AZ100","v":0},"--",{"$f":"IF(ISNUMBER(CX100),$D100/CX100,\"\")","v":0.15071428571428572},{"$f":"'RBC Reference Table'!BA100","v":79000},{"$f":"'RBC Reference Table'!BB100","v":0},"--",{"$f":"IF(ISNUMBER(DB100),$E100/DB100,\"\")","v":0},{"$f":"'RBC Reference Table'!BC100","v":79000},{"$f":"'RBC Reference Table'!BD100","v":0},"--",{"$f":"IF(ISNUMBER(DF100),$E100/DF100,\"\")","v":0},{"$f":"'RBC Reference Table'!BE99","v":440000},{"$f":"'RBC Reference Table'!BF99","v":0},"--",{"$f":"IF(ISNUMBER(DJ100),$E100/DJ100,\"\")","v":0},{"$f":"'RBC Reference Table'!BG100","v":390},null,"--",{"$f":"IF(ISNUMBER(DN100),$F100/DN100,\"\")","v":0},{"$f":"'RBC Reference Table'!BI100","v":390},null,"--",{"$f":"IF(ISNUMBER(DR100),$F100/DR100,\"\")","v":0},{"$f":"'RBC Reference Table'!BK100","v":1700},null,"--",{"$f":"IF(ISNUMBER(DV100),$F100/DV100,\"\")","v":0}]
[94,{"$f":"VLOOKUP($A101,'Applicable RBC Table'!$A$43:$F$136,2,FALSE)","v":0},{"$f":"VLOOKUP($A101,'Applicable RBC Table'!$A$43:$F$136,3,FALSE)","v":0},{"$f":"VLOOKUP($A101,'Applicable RBC Table'!$A$43:$F$136,4,FALSE)","v":0},{"$f":"VLOOKUP($A101,'Applicable RBC Table'!$A$43:$F$136,5,FALSE)","v":0},{"$f":"VLOOKUP($A101,'Applicable RBC Table'!$A$43:$F$136,6,FALSE)","v":0},"--","Generic Mineral/Insulating Oil ","nc, nv ",{"$f":"'RBC Reference Table'!E101","v":2800},{"$f":"'RBC Reference Table'!F101","v":0},"--",{"$f":"IF(ISNUMBER(J101),$B101/J101,\"\")","v":0},{"$f":"'RBC Reference Table'!G101","v":5700},{"$f":"'RBC Reference Table'!H101","v":0},"--",{"$f":"IF(ISNUMBER(N101),$B101/N101,\"\")","v":0},{"$f":"'RBC Reference Table'!I101","v":36000},{"$f":"'RBC Reference Table'!J101","v":0},"--",{"$f":"IF(ISNUMBER(R101),$B101/R101,\"\")","v":0},{"$f":"'RBC Reference Table'!K101","v":11000},{"$f":"'RBC Reference Table'!L101","v":0},"--",{"$f":"IF(ISNUMBER(V101),MAX($B101,$C101)/V101,\"\")","v":0},{"$f":"'RBC Reference Table'!M101","v":">Max "},{"$f":"'RBC Reference Table'!N101","v":0},"--",{"$f":"IF(ISNUMBER(Z101),MAX($B101,$C101)/Z101,\"\")","v":""},{"$f":"'RBC Reference Table'!O101","v":">Max "},{"$f":"'RBC Reference Table'!P101","v":0},"--",{"$f":"IF(ISNUMBER(AD101),MAX($B101:$C101)/AD101,\"\")","v":""},{"$f":"'RBC Reference Table'!O101","v":">Max "},{"$f":"'RBC Reference Table'!P101","v":0},"--",{"$f":"IF(ISNUMBER(AH101),MAX($B101:$C101)/AH101,\"\")","v":""},{"$f":"'RBC Reference Table'!S101","v":">Max "},{"$f":"'RBC Reference Table'!T101","v":0},"--",{"$f":"IF(ISNUMBER(AL101),MAX($B101:$C101)/AL101,\"\")","v":""},{"$f":"'RBC Reference Table'!U101","v":">Max "},{"$f":"'RBC Reference Table'!V101","v":0},"--",{"$f":"IF(ISNUMBER(AP101),MAX($B101:$C101)/AP101,\"\")","v":""},{"$f":"'RBC Reference Table'!W101","v":">Max "},{"$f":"'RBC Reference Table'!X101","v":0},"--",{"$f":"IF(ISNUMBER(AT101),MAX($B101:$C101)/AT101,\"\")","v":""},{"$f":"'RBC Reference Table'!Y101","v":">Max "},{"$f":"'RBC Reference Table'!Z101","v":0},"--",{"$f":"IF(ISNUMBER(AX101),MAX($B101:$C101)/AX101,\"\")","v":""},{"$f":"'RBC Reference Table'!AA101","v":">Max "},{"$f":"'RBC Reference Table'!AB101","v":0},null,null,{"$f":"'RBC Reference Table'!AC101","v":">Max "},{"$f":"'RBC Reference Table'!AD101","v":0},null,null,{"$f":"'RBC Reference Table'!AE101","v":">Max "},{"$f":"'RBC Reference Table'!AF101","v":0},null,null,{"$f":"'RBC Reference Table'!AG101","v":300},{"$f":"'RBC Reference Table'!AH101","v":0},"--",{"$f":"IF(ISNUMBER(BN101),$D101/BN101,\"\")","v":0},{"$f":"'RBC Reference Table'!AI101","v":300},{"$f":"'RBC Reference Table'!AJ101","v":0},"--",{"$f":"IF(ISNUMBER(BR101),$D101/BR101,\"\")","v":0},{"$f":"'RBC Reference Table'!AK101","v":1300},{"$f":"'RBC Reference Table'!AL101","v":0},"--",{"$f":"IF(ISNUMBER(BV101),$D101/BV101,\"\")","v":0},{"$f":"'RBC Reference Table'!AM101","v":">S"},{"$f":"'RBC Reference Table'!AN101","v":0},"--",{"$f":"IF(ISNUMBER(BZ101),$D101/BZ101,\"\")","v":""},{"$f":"'RBC Reference Table'!AO101","v":">S"},{"$f":"'RBC Reference Table'!AP101","v":0},"--",{"$f":"IF(ISNUMBER(CD101),$D101/CD101,\"\")","v":""},{"$f":"'RBC Reference Table'!AQ101","v":">S"},{"$f":"'RBC Reference Table'!AR101","v":0},"--",{"$f":"IF(ISNUMBER(CH101),$D101/CH101,\"\")","v":""},{"$f":"'RBC Reference Table'!AS101","v":">S"},{"$f":"'RBC Reference Table'!AT101","v":0},"--",{"$f":"IF(ISNUMBER(CL101),$D101/CL101,\"\")","v":""},{"$f":"'RBC Reference Table'!AU101","v":">S"},{"$f":"'RBC Reference Table'!AV101","v":0},"--",{"$f":"IF(ISNUMBER(CP101),$D101/CP101,\"\")","v":""},{"$f":"'RBC Reference Table'!AW101","v":">S"},{"$f":"'RBC Reference Table'!AX101","v":0},"--",{"$f":"IF(ISNUMBER(CT101),$D101/CT101,\"\")","v":""},{"$f":"'RBC Reference Table'!AY101","v":">S"},{"$f":"'RBC Reference Table'!AZ101","v":0},"--",{"$f":"IF(ISNUMBER(CX101),$D101/CX101,\"\")","v":""},{"$f":"'RBC Reference Table'!BA101","v":30000},{"$f":"'RBC Reference Table'!BB101","v":0},"--",{"$f":"IF(ISNUMBER(DB101),$E101/DB101,\"\")","v":0},{"$f":"'RBC Reference Table'!BC101","v":30000},{"$f":"'RBC Reference Table'!BD101","v":0},"--",{"$f":"IF(ISNUMBER(DF101),$E101/DF101,\"\")","v":0},{"$f":"'RBC Reference Table'!BE100","v":1700000},{"$f":"'RBC Reference Table'!BF100","v":0},"--",{"$f":"IF(ISNUMBER(DJ101),$E101/DJ101,\"\")","v":0},{"$f":"'RBC Reference Table'!BG101","v":150},null,"--",{"$f":"IF(ISNUMBER(DN101),$F101/DN101,\"\")","v":0},{"$f":"'RBC Reference Table'!BI101","v":150},null,"--",{"$f":"IF(ISNUMBER(DR101),$F101/DR101,\"\")","v":0},{"$f":"'RBC Reference Table'!BK101","v":620},null,"--",{"$f":"IF(ISNUMBER(DV101),$F101/DV101,\"\")","v":0}]
[null,"Sum of ECR/HI",null,null,null,null,null,null,null,"--","--",{"$f":"SUM(L8:L101)","v":0},{"$f":"SUM(M8:M101)","v":0},"--","--",{"$f":"SUM(P8:P101)","v":0},{"$f":"SUM(Q8:Q101)","v":0},"--","--",{"$f":"SUM(T8:T101)","v":0},{"$f":"SUM(U8:U101)","v":0},"--","--",{"$f":"SUM(X8:X101)","v":1.2775862068965517E-9},{"$f":"SUM(Y8:Y101)","v":0.30105618876864954},"--","--",{"$f":"SUM(AB8:AB101)","v":4.4756377551020411E-11},{"$f":"SUM(AC8:AC101)","v":2.5974025974025972E-6},"--","--",{"$f":"SUM(AF8:AF101)","v":2.5156249999999997E-8},{"$f":"SUM(AG8:AG101)","v":1.5915254237288137E-2},"--","--",{"$f":"SUM(AJ8:AJ101)","v":2.5156249999999997E-8},{"$f":"SUM(AK8:AK101)","v":1.5915254237288137E-2},"--","--",{"$f":"SUM(AN8:AN101)","v":1.9397590361445784E-9},{"$f":"SUM(AO8:AO101)","v":1.3608695652173913E-3},"--","--",{"$f":"SUM(AR8:AR101)","v":2.5156249999999997E-8},{"$f":"SUM(AS8:AS101)","v":0.99893617021276604},"--","--",{"$f":"SUM(AV8:AV101)","v":1.0733333333333333E-8},{"$f":"SUM(AW8:AW101)","v":0.99893617021276604},"--","--",{"$f":"SUM(AZ8:AZ101)","v":1.9397590361445784E-9},{"$f":"SUM(BA8:BA101)","v":0},"--","--",{"$f":"SUM(BD8:BD101)","v":0},{"$f":"SUM(BE8:BE101)","v":0},"--","--",{"$f":"SUM(BH8:BH101)","v":0},{"$f":"SUM(BI8:BI101)","v":0},"--","--",{"$f":"SUM(BL8:BL101)","v":0},{"$f":"SUM(BM8:BM101)","v":0},"--","--",{"$f":"SUM(BP8:BP101)","v":5.2003162055335964E-5},{"$f":"SUM(BQ8:BQ101)","v":139.55719617224881},"--","--",{"$f":"SUM(BT8:BT101)","v":1.1672985074626866E-5},{"$f":"SUM(BU8:BU101)","v":137.81689692701664},"--","--",{"$f":"SUM(BX8:BX101)","v":1.1890880102040814E-5},{"$f":"SUM(BY8:BY101)","v":32.672703456127941},"--","--",{"$f":"SUM(CB8:CB101)","v":7.9047619047619039E-9},{"$f":"SUM(CC8:CC101)","v":0},"--","--",{"$f":"SUM(CF8:CF101)","v":3.348683210064284E-9},{"$f":"SUM(CG8:CG101)","v":0},"--","--",{"$f":"SUM(CJ8:CJ101)","v":1.7898966408268732E-9},{"$f":"SUM(CK8:CK101)","v":0},"--","--",{"$f":"SUM(CN8:CN101)","v":1.1643164362519201E-7},{"$f":"SUM(CO8:CO101)","v":0.10108350951374206},"--","--",{"$f":"SUM(CR8:CR101)","v":4.8092900608519269E-8},{"$f":"SUM(CS8:CS101)","v":0.10108350951374206},"--","--",{"$f":"SUM(CV8:CV101)","v":8.7745644599303133E-9},{"$f":"SUM(CW8:CW101)","v":0},"--","--",{"$f":"SUM(CZ8:CZ101)","v":1.6077777777777778E-8},{"$f":"SUM(DA8:DA101)","v":0.17022847543760589},"--","--",{"$f":"SUM(DD8:DD101)","v":0},{"$f":"SUM(DE8:DE101)","v":0},"--","--",{"$f":"SUM(DH8:DH101)","v":0},{"$f":"SUM(DI8:DI101)","v":0},"--","--",{"$f":"SUM(DL8:DL101)","v":0},{"$f":"SUM(DM8:DM101)","v":0},"--","--",{"$f":"SUM(DP8:DP101)","v":0},{"$f":"SUM(DQ8:DQ101)","v":0},"--","--",{"$f":"SUM(DT8:DT101)","v":0},{"$f":"SUM(DU8:DU101)","v":0},"--","--",{"$f":"SUM(DX8:DX101)","v":0},{"$f":"SUM(DY8:DY101)","v":0}]
[null,"Notes:"]
[null,"ECR = Exposure Calculated Risk"]
[null,"HI = Hazard Index"]

{"sheet":"Risk Calculation Summary","index":4,"n_rows":47,"n_cols":17,"rows_kept":47,"cut":false,"hidden":false,"merged":[[8,12,8,16],[9,9,9,10],[34,3,36,3],[37,3,39,3],[24,3,33,3],[10,3,23,3],[10,4,14,4],[15,4,17,4],[37,4,39,4],[18,4,20,4],[21,4,23,4],[24,4,26,4],[27,4,29,4],[30,4,32,4],[34,4,36,4],[4,5,4,6],[5,5,5,6],[6,5,6,6],[7,5,7,6],[0,3,0,11],[3,5,3,6]]}
[null,null,null,"Risk Calculation Summary",null,null,null,null,null,null,null,null,"Were Soil Gas Samples Collected",{"$f":"IF(COUNTA('Applicable RBC Table'!E43:E136)=0,\"No\",\"Yes\")","v":"No"}]
[null,null,null,null,null,null,null,null,null,null,null,null,"Were Air Samples Collected",{"$f":"IF(COUNTA('Applicable RBC Table'!F43:F136)=0,\"No\",\"Yes\")","v":"No"}]
[null,null,null,null,null,null,null,"Exposure Point Calculated Risk","Hazard Index"]
[null,null,null,null,null,"Total Residential Risk",null,{"$f":"SUMIF($M$11:$M$21,\"Yes\",$H$11:$H$21)+SUMIF($M$25:$M$40,\"Yes\",$H$25:$H$40)","v":5.2177810960865916E-5},{"$f":"SUMIF($M$11:$M$21,\"Yes\",$I$11:$I$21)+SUMIF($M$25:$M$40,\"Yes\",$I$25:$I$40)","v":140.67313110621259}]
[null,null,null,null,null,"Total Urban Residential Risk",null,{"$f":"SUMIF($N$11:$N$21,\"Yes\",$H$11:$H$21)+SUMIF($N$25:$N$40,\"Yes\",$H$25:$H$40)","v":1.1760316241778782E-5},{"$f":"SUMIF($N$11:$N$21,\"Yes\",$I$11:$I$21)+SUMIF($N$25:$N$40,\"Yes\",$I$25:$I$40)","v":138.93283186098043}]
[null,null,null,null,null,"Total Occupational Risk",null,{"$f":"SUMIF($O$11:$O$21,\"Yes\",$H$11:$H$21)+SUMIF($O$25:$O$40,\"Yes\",$H$25:$H$40)","v":1.1905324081213859E-5},{"$f":"SUMIF($O$11:$O$21,\"Yes\",$I$11:$I$21)+SUMIF($O$25:$O$40,\"Yes\",$I$25:$I$40)","v":32.674064325693159}]
[null,null,null,null,null,"Total Construction Worker Risk",null,{"$f":"SUMIF($P$11:$P$21,\"Yes\",$H$11:$H$21)+SUMIF($P$25:$P$40,\"Yes\",$H$25:$H$40)","v":1.7355363984674331E-8},{"$f":"SUMIF($P$11:$P$21,\"Yes\",$I$11:$I$21)+SUMIF($P$25:$P$40,\"Yes\",$I$25:$I$40)","v":0.47128466420625542}]
[null,null,null,null,null,"Total Excavation Worker Risk",null,{"$f":"SUMIF($Q$11:$Q$21,\"Yes\",$H$11:$H$21)+SUMIF($Q$25:$Q$40,\"Yes\",$H$25:$H$40)","v":1.6122534155328798E-8},{"$f":"SUMIF($Q$11:$Q$21,\"Yes\",$I$11:$I$21)+SUMIF($Q$25:$Q$40,\"Yes\",$I$25:$I$40)","v":0.17023107284020328}]
[null,null,null,null,null,null,null,null,null,null,null,null,"Helper Cells to determine what needs to be included in total risk summation"]
["Res","Ures","Occ",null,null,null,"Is Pathway Complete","Exposure Point Calculated Risk","Hazard Index","Soil gas vs Air sample hierarchy\nsoil gas on left, air on right",null,"Comments","Include in Total  Residential Receptor Exposure?","Include in Total  Urban Residential Receptor Exposure?","Include in Total  OccupationalReceptor Exposure?","Construction Worker Exposure","Excavation Worker Exposure"]
[{"$f":"IF(G11=\"Yes\",1,0)","v":1},0,0,"SOIL ","Soil Ingestion, Dermal Contact, and Inhalation","Residential",{"$f":"'Risk Based Conclusions Table'!E6","v":"Yes"},{"$f":"'Risk Calculations'!L102","v":0},{"$f":"'Risk Calculations'!M102","v":0},null,null,null,{"$f":"IF(OR($G11=\"No\",$G11=\"Restricted\"),\"No\",\"Yes\")","v":"Yes"},"-","-","-","-"]
[0,{"$f":"IF(G12=\"Yes\",1,0)","v":1},0,null,null,"Urban Residential",{"$f":"'Risk Based Conclusions Table'!E7","v":"Yes"},{"$f":"'Risk Calculations'!P102","v":0},{"$f":"'Risk Calculations'!Q102","v":0},null,null,null,"-",{"$f":"IF(OR($G12=\"No\",$G12=\"Restricted\"),\"No\",\"Yes\")","v":"Yes"},"-","-","-"]
[0,0,{"$f":"IF(G13=\"Yes\",1,0)","v":1},null,null,"Occupational",{"$f":"'Risk Based Conclusions Table'!E8","v":"Yes"},{"$f":"'Risk Calculations'!T102","v":0},{"$f":"'Risk Calculations'!U102","v":0},null,null,null,"-","-",{"$f":"IF(OR($G13=\"No\",$G13=\"Restricted\"),\"No\",\"Yes\")","v":"Yes"},"-","-"]
[0,0,0,null,null,"Construction Worker",{"$f":"'Risk Based Conclusions Table'!E9","v":"Yes"},{"$f":"'Risk Calculations'!X102","v":1.2775862068965517E-9},{"$f":"'Risk Calculations'!Y102","v":0.30105618876864954},null,null,null,"-","-","-",{"$f":"IF(OR($G14=\"No\",$G14=\"Restricted\"),\"No\",\"Yes\")","v":"Yes"},"-"]
[0,0,0,null,null,"Excavation Worker",{"$f":"'Risk Based Conclusions Table'!E10","v":"Yes"},{"$f":"'Risk Calculations'!AB102","v":4.4756377551020411E-11},{"$f":"'Risk Calculations'!AC102","v":2.5974025974025972E-6},null,null,null,"-","-","-","-",{"$f":"IF(OR($G15=\"No\",$G15=\"Restricted\"),\"No\",\"Yes\")","v":"Yes"}]
[{"$f":"IF(G16=\"Yes\",1,0)","v":1},0,0,null,"Volatilization to Outdoor Air","Residential",{"$f":"'Risk Based Conclusions Table'!E11","v":"Yes"},{"$f":"'Risk Calculations'!AF102","v":2.5156249999999997E-8},{"$f":"'Risk Calculations'!AG102","v":1.5915254237288137E-2},{"$f":"IF(AND(OR($G16=\"Yes\",G16=\"Future\"),OR($H16>0.000015,$I16>1.5),$N$1=\"Yes\",OR($H35<0.000015,ISBLANK($H35)),OR($I35<1.5,ISBLANK($I35))),\"Soil gas samples show the risk is acceptable.\",\"\")","v":""},{"$f":"IF(AND(OR($G16=\"Yes\",G16=\"Future\"),OR($H16>0.000015,$I16>1.5),$N$2=\"Yes\",OR($H38<0.000015,ISBLANK($H38)),OR($I38<1.5,ISBLANK($I38))),\"            Air samples show the risk is acceptable.\",\"\")","v":""},{"$f":"CONCATENATE(J16,K16)","v":""},{"$f":"IF(OR($G16=\"No\",$G16=\"Restricted\"),\"No\",IF($N$2=\"Yes\",\"No\",IF($N$1=\"Yes\",\"No\",\"Yes\")))","v":"Yes"},"-","-","-","-"]
[0,{"$f":"IF(G17=\"Yes\",1,0)","v":1},0,null,"Volatilization to Outdoor Air","Urban Residential",{"$f":"'Risk Based Conclusions Table'!E12","v":"Yes"},{"$f":"'Risk Calculations'!AJ102","v":2.5156249999999997E-8},{"$f":"'Risk Calculations'!AK102","v":1.5915254237288137E-2},{"$f":"IF(AND(OR($G17=\"Yes\",G17=\"Future\"),OR($H17>0.000015,$I17>1.5),$N$1=\"Yes\",OR($H36<0.000015,ISBLANK($H36)),OR($I36<1.5,ISBLANK($I36))),\"Soil gas samples show the risk is acceptable.\",\"\")","v":""},{"$f":"IF(AND(OR($G17=\"Yes\",G17=\"Future\"),OR($H17>0.000015,$I17>1.5),$N$2=\"Yes\",OR($H39<0.000015,ISBLANK($H39)),OR($I39<1.5,ISBLANK($I39))),\"            Air samples show the risk is acceptable.\",\"\")","v":""},{"$f":"CONCATENATE(J17,K17)","v":""},"-",{"$f":"IF(OR($G17=\"No\",$G17=\"Restricted\"),\"No\",IF($N$2=\"Yes\",\"No\",IF($N$1=\"Yes\",\"No\",\"Yes\")))","v":"Yes"},"-","-","-"]
[0,0,{"$f":"IF(G18=\"Yes\",1,0)","v":1},null,"Volatilization to Outdoor Air","Occupational",{"$f":"'Risk Based Conclusions Table'!E13","v":"Yes"},{"$f":"'Risk Calculations'!AN102","v":1.9397590361445784E-9},{"$f":"'Risk Calculations'!AO102","v":1.3608695652173913E-3},{"$f":"IF(AND(OR($G18=\"Yes\",G18=\"Future\"),OR($H18>0.000015,$I18>1.5),$N$1=\"Yes\",OR($H37<0.000015,ISBLANK($H37)),OR($I37<1.5,ISBLANK($I37))),\"Soil gas samples show the risk is acceptable.\",\"\")","v":""},{"$f":"IF(AND(OR($G18=\"Yes\",G18=\"Future\"),OR($H18>0.000015,$I18>1.5),$N$2=\"Yes\",OR($H40<0.000015,ISBLANK($H40)),OR($I40<1.5,ISBLANK($I40))),\"            Air samples show the risk is acceptable.\",\"\")","v":""},"","-","-",{"$f":"IF(OR($G18=\"No\",$G18=\"Restricted\"),\"No\",IF($N$2=\"Yes\",\"No\",IF($N$1=\"Yes\",\"No\",\"Yes\")))","v":"Yes"},"-","-"]
[{"$f":"IF(G19=\"Yes\",1,0)","v":1},0,0,null,"Vapor Intrusion into Buildings","Residential",{"$f":"'Risk Based Conclusions Table'!E14","v":"Yes"},{"$f":"'Risk Calculations'!AR102","v":2.5156249999999997E-8},{"$f":"'Risk Calculations'!AS102","v":0.99893617021276604},{"$f":"IF(AND(OR($G19=\"Yes\",G19=\"Future\"),OR($H19>0.000015,$I19>1.5),$N$1=\"Yes\",OR($H35<0.000015,ISBLANK($H35)),OR($I35<1.5,ISBLANK($I35))),\"Soil gas samples show the risk is acceptable.\",\"\")","v":""},{"$f":"IF(AND(OR($G19=\"Yes\",G19=\"Future\"),OR($H19>0.000015,$I19>1.5),$N$2=\"Yes\",OR($H38<0.000015,ISBLANK($H38)),OR($I38<1.5,ISBLANK($I38))),\"            Air samples show the risk is acceptable.\",\"\")","v":""},"",{"$f":"IF(OR($G19=\"No\",$G19=\"Restricted\"),\"No\",IF($N$2=\"Yes\",\"No\",IF($N$1=\"Yes\",\"No\",\"Yes\")))","v":"Yes"},"-","-","-","-"]
[0,{"$f":"IF(G20=\"Yes\",1,0)","v":1},0,null,"Vapor Intrusion into Buildings","Urban Residential",{"$f":"'Risk Based Conclusions Table'!E15","v":"Yes"},{"$f":"'Risk Calculations'!AV102","v":1.0733333333333333E-8},{"$f":"'Risk Calculations'!AW102","v":0.99893617021276604},{"$f":"IF(AND(OR($G20=\"Yes\",G20=\"Future\"),OR($H20>0.000015,$I20>1.5),$N$1=\"Yes\",OR($H36<0.000015,ISBLANK($H36)),OR($I36<1.5,ISBLANK($I36))),\"Soil gas samples show the risk is acceptable.\",\"\")","v":""},{"$f":"IF(AND(OR($G20=\"Yes\",G20=\"Future\"),OR($H20>0.000015,$I20>1.5),$N$2=\"Yes\",OR($H39<0.000015,ISBLANK($H39)),OR($I39<1.5,ISBLANK($I39))),\"            Air samples show the risk is acceptable.\",\"\")","v":""},"","-",{"$f":"IF(OR($G20=\"No\",$G20=\"Restricted\"),\"No\",IF($N$2=\"Yes\",\"No\",IF($N$1=\"Yes\",\"No\",\"Yes\")))","v":"Yes"},"-","-","-"]
[0,0,{"$f":"IF(G21=\"Yes\",1,0)","v":1},null,"Vapor Intrusion into Buildings","Occupational",{"$f":"'Risk Based Conclusions Table'!E16","v":"Yes"},{"$f":"'Risk Calculations'!AZ102","v":1.9397590361445784E-9},{"$f":"'Risk Calculations'!BA102","v":0},{"$f":"IF(AND(OR($G21=\"Yes\",G21=\"Future\"),OR($H21>0.000015,$I21>1.5),$N$1=\"Yes\",OR($H37<0.000015,ISBLANK($H37)),OR($I37<1.5,ISBLANK($I37))),\"Soil gas samples show the risk is acceptable.\",\"\")","v":""},{"$f":"IF(AND(OR($G21=\"Yes\",G21=\"Future\"),OR($H21>0.000015,$I21>1.5),$N$2=\"Yes\",OR($H40<0.000015,ISBLANK($H40)),OR($I40<1.5,ISBLANK($I40))),\"            Air samples show the risk is acceptable.\",\"\")","v":""},"","-","-",{"$f":"IF(OR($G21=\"No\",$G21=\"Restricted\"),\"No\",IF($N$2=\"Yes\",\"No\",IF($N$1=\"Yes\",\"No\",\"Yes\")))","v":"Yes"},"-","-"]
[{"$f":"IF(G22=\"Yes\",1,0)","v":1},0,0,null,"Leaching to Groundwater","Residential",{"$f":"'Risk Based Conclusions Table'!E17","v":"Yes"},null,null,null,null,null,{"$f":"IF($G22=\"No\",\"No\",IF(OR($L22=\"Soil gas samples show the risk is acceptable.\",$L22=\"Soil gas samples show the risk is acceptable.Air samples show the risk is acceptable.\",$L22=\"Air samples show the risk is acceptable.\"),\"No\",\"Yes\"))","v":"Yes"},"-","-","-","-"]
[0,{"$f":"IF(G23=\"Yes\",1,0)","v":1},0,null,"Leaching to Groundwater","Urban Residential",{"$f":"'Risk Based Conclusions Table'!E18","v":"Yes"},null,null,null,null,null,"-",{"$f":"IF($G23=\"No\",\"No\",IF(OR($L23=\"Soil gas samples show the risk is acceptable.\",$L23=\"Soil gas samples show the risk is acceptable.Air samples show the risk is acceptable.\",$L23=\"Air samples show the risk is acceptable.\"),\"No\",\"Yes\"))","v":"Yes"},"-","-","-"]
[0,0,{"$f":"IF(G24=\"Yes\",1,0)","v":1},null,"Leaching to Groundwater","Occupational",{"$f":"'Risk Based Conclusions Table'!E19","v":"Yes"},null,null,null,null,null,"-","-",{"$f":"IF($G24=\"No\",\"No\",IF(OR($L24=\"Soil gas samples show the risk is acceptable.\",$L24=\"Soil gas samples show the risk is acceptable.Air samples show the risk is acceptable.\",$L24=\"Air samples show the risk is acceptable.\"),\"No\",\"Yes\"))","v":"Yes"},"-","-"]
[{"$f":"IF(G25=\"Yes\",1,0)","v":1},0,0,"GROUNDWATER","Ingestion, Dermal  & Inhalation from Tapwater","Residential",{"$f":"'Risk Based Conclusions Table'!E20","v":"Yes"},{"$f":"'Risk Calculations'!BP102","v":5.2003162055335964E-5},{"$f":"'Risk Calculations'!BQ102","v":139.55719617224881},null,null,null,{"$f":"IF(OR($G25=\"No\",$G25=\"Restricted\"),\"No\",\"Yes\")","v":"Yes"},"-","-","-","-"]
[0,{"$f":"IF(G26=\"Yes\",1,0)","v":1},0,null,"Ingestion, Dermal  & Inhalation from Tapwater","Urban Residential",{"$f":"'Risk Based Conclusions Table'!E21","v":"Yes"},{"$f":"'Risk Calculations'!BT102","v":1.1672985074626866E-5},{"$f":"'Risk Calculations'!BU102","v":137.81689692701664},null,null,null,"-",{"$f":"IF(OR($G26=\"No\",$G26=\"Restricted\"),\"No\",\"Yes\")","v":"Yes"},"-","-","-"]
[0,0,{"$f":"IF(G27=\"Yes\",1,0)","v":1},null,"Ingestion, Dermal  & Inhalation from Tapwater","Occupational",{"$f":"'Risk Based Conclusions Table'!E22","v":"Yes"},{"$f":"'Risk Calculations'!BX102","v":1.1890880102040814E-5},{"$f":"'Risk Calculations'!BY102","v":32.672703456127941},null,null,null,"-","-",{"$f":"IF(OR($G27=\"No\",$G27=\"Restricted\"),\"No\",\"Yes\")","v":"Yes"},"-","-"]
[{"$f":"IF(G28=\"Yes\",1,0)","v":1},0,0,null,"Volatilization to Outdoor Air","Residential",{"$f":"'Risk Based Conclusions Table'!E23","v":"Yes"},{"$f":"'Risk Calculations'!CB102","v":7.9047619047619039E-9},{"$f":"'Risk Calculations'!CC102","v":0},{"$f":"IF(AND(OR($G28=\"Yes\",G28=\"Future\"),OR($H28>0.000015,$I28>1.5),$N$1=\"Yes\",OR($H35<0.000015,ISBLANK($H35)),OR($I35<1.5,ISBLANK($I35))),\"Soil gas samples show the risk is acceptable.\",\"\")","v":""},{"$f":"IF(AND(OR($G28=\"Yes\",G28=\"Future\"),OR($H28>0.000015,$I28>1.5),$N$2=\"Yes\",OR($H38<0.000015,ISBLANK($H38)),OR($I38<1.5,ISBLANK($I38))),\"            Air samples show the risk is acceptable.\",\"\")","v":""},{"$f":"CONCATENATE(J28,K28)","v":""},{"$f":"IF(OR($G28=\"No\",$G28=\"Restricted\"),\"No\",IF($N$2=\"Yes\",\"No\",IF($N$1=\"Yes\",\"No\",\"Yes\")))","v":"Yes"},"-","-","-","-"]
[0,{"$f":"IF(G29=\"Yes\",1,0)","v":1},0,null,"Volatilization to Outdoor Air","Urban Residential",{"$f":"'Risk Based Conclusions Table'!E24","v":"Yes"},{"$f":"'Risk Calculations'!CF102","v":3.348683210064284E-9},{"$f":"'Risk Calculations'!CG102","v":0},{"$f":"IF(AND(OR($G29=\"Yes\",G29=\"Future\"),OR($H29>0.000015,$I29>1.5),$N$1=\"Yes\",OR($H36<0.000015,ISBLANK($H36)),OR($I36<1.5,ISBLANK($I36))),\"Soil gas samples show the risk is acceptable.\",\"\")","v":""},{"$f":"IF(AND(OR($G29=\"Yes\",G29=\"Future\"),OR($H29>0.000015,$I29>1.5),$N$2=\"Yes\",OR($H39<0.000015,ISBLANK($H39)),OR($I39<1.5,ISBLANK($I39))),\"            Air samples show the risk is acceptable.\",\"\")","v":""},{"$f":"CONCATENATE(J29,K29)","v":""},"-",{"$f":"IF(OR($G29=\"No\",$G29=\"Restricted\"),\"No\",IF($N$2=\"Yes\",\"No\",IF($N$1=\"Yes\",\"No\",\"Yes\")))","v":"Yes"},"-","-","-"]
[0,0,{"$f":"IF(G30=\"Yes\",1,0)","v":1},null,"Volatilization to Outdoor Air","Occupational",{"$f":"'Risk Based Conclusions Table'!E25","v":"Yes"},{"$f":"'Risk Calculations'!CJ102","v":1.7898966408268732E-9},{"$f":"'Risk Calculations'!CK102","v":0},{"$f":"IF(AND(OR($G30=\"Yes\",G30=\"Future\"),OR($H30>0.000015,$I30>1.5),$N$1=\"Yes\",OR($H37<0.000015,ISBLANK($H37)),OR($I37<1.5,ISBLANK($I37))),\"Soil gas samples show the risk is acceptable.\",\"\")","v":""},{"$f":"IF(AND(OR($G30=\"Yes\",G30=\"Future\"),OR($H30>0.000015,$I30>1.5),$N$2=\"Yes\",OR($H40<0.000015,ISBLANK($H40)),OR($I40<1.5,ISBLANK($I40))),\"            Air samples show the risk is acceptable.\",\"\")","v":""},"","-","-",{"$f":"IF(OR($G30=\"No\",$G30=\"Restricted\"),\"No\",IF($N$2=\"Yes\",\"No\",IF($N$1=\"Yes\",\"No\",\"Yes\")))","v":"Yes"},"-","-"]
[{"$f":"IF(G31=\"Yes\",1,0)","v":1},0,0,null,"Vapor Intrusion into Buildings","Residential",{"$f":"'Risk Based Conclusions Table'!E26","v":"Yes"},{"$f":"'Risk Calculations'!CN102","v":1.1643164362519201E-7},{"$f":"'Risk Calculations'!CO102","v":0.10108350951374206},{"$f":"IF(AND(OR($G31=\"Yes\",G31=\"Future\"),OR($H31>0.000015,$I31>1.5),$N$1=\"Yes\",OR($H35<0.000015,ISBLANK($H35)),OR($I35<1.5,ISBLANK($I35))),\"Soil gas samples show the risk is acceptable.\",\"\")","v":""},{"$f":"IF(AND(OR($G31=\"Yes\",G31=\"Future\"),OR($H31>0.000015,$I31>1.5),$N$2=\"Yes\",OR($H38<0.000015,ISBLANK($H38)),OR($I38<1.5,ISBLANK($I38))),\"            Air samples show the risk is acceptable.\",\"\")","v":""},"",{"$f":"IF(OR($G31=\"No\",$G31=\"Restricted\"),\"No\",IF($N$2=\"Yes\",\"No\",IF($N$1=\"Yes\",\"No\",\"Yes\")))","v":"Yes"},"-","-","-","-"]
[0,{"$f":"IF(G32=\"Yes\",1,0)","v":1},0,null,"Vapor Intrusion into Buildings","Urban Residential",{"$f":"'Risk Based Conclusions Table'!E27","v":"Yes"},{"$f":"'Risk Calculations'!CR102","v":4.8092900608519269E-8},{"$f":"'Risk Calculations'!CS102","v":0.10108350951374206},{"$f":"IF(AND(OR($G32=\"Yes\",G32=\"Future\"),OR($H32>0.000015,$I32>1.5),$N$1=\"Yes\",OR($H36<0.000015,ISBLANK($H36)),OR($I36<1.5,ISBLANK($I36))),\"Soil gas samples show the risk is acceptable.\",\"\")","v":""},{"$f":"IF(AND(OR($G32=\"Yes\",G32=\"Future\"),OR($H32>0.000015,$I32>1.5),$N$2=\"Yes\",OR($H39<0.000015,ISBLANK($H39)),OR($I39<1.5,ISBLANK($I39))),\"            Air samples show the risk is acceptable.\",\"\")","v":""},"","-",{"$f":"IF(OR($G32=\"No\",$G32=\"Restricted\"),\"No\",IF($N$2=\"Yes\",\"No\",IF($N$1=\"Yes\",\"No\",\"Yes\")))","v":"Yes"},"-","-","-"]
[0,0,{"$f":"IF(G33=\"Yes\",1,0)","v":1},null,"Vapor Intrusion into Buildings","Occupational",{"$f":"'Risk Based Conclusions Table'!E28","v":"Yes"},{"$f":"'Risk Calculations'!CV102","v":8.7745644599303133E-9},{"$f":"'Risk Calculations'!CW102","v":0},{"$f":"IF(AND(OR($G33=\"Yes\",G33=\"Future\"),OR($H33>0.000015,$I33>1.5),$N$1=\"Yes\",OR($H37<0.000015,ISBLANK($H37)),OR($I37<1.5,ISBLANK($I37))),\"Soil gas samples show the risk is acceptable.\",\"\")","v":""},{"$f":"IF(AND(OR($G33=\"Yes\",G33=\"Future\"),OR($H33>0.000015,$I33>1.5),$N$2=\"Yes\",OR($H40<0.000015,ISBLANK($H40)),OR($I40<1.5,ISBLANK($I40))),\"            Air samples show the risk is acceptable.\",\"\")","v":""},"","-","-",{"$f":"IF(OR($G33=\"No\",$G33=\"Restricted\"),\"No\",IF($N$2=\"Yes\",\"No\",IF($N$1=\"Yes\",\"No\",\"Yes\")))","v":"Yes"},"-","-"]
[0,0,0,null,"GW in Excavation","Construction & Excavation Worker",{"$f":"'Risk Based Conclusions Table'!E29","v":"Yes"},{"$f":"'Risk Calculations'!CZ102","v":1.6077777777777778E-8},{"$f":"'Risk Calculations'!DA102","v":0.17022847543760589},null,null,"","-","-","-",{"$f":"IF(OR($G34=\"No\",$G34=\"Restricted\"),\"No\",\"Yes\")","v":"Yes"},{"$f":"IF(OR($G34=\"No\",$G34=\"Restricted\"),\"No\",\"Yes\")","v":"Yes"}]
[{"$f":"IF(G35=\"Yes\",1,0)","v":1},0,0,"SOIL GAS","Vapor Intrusion into Buildings","Residential",{"$f":"IF(OR(G19=\"Yes\",G31=\"Yes\",G19=\"Future\",G31=\"Future\"),\"Yes\",\"No\")","v":"Yes"},{"$f":"'Risk Calculations'!DD102","v":0},{"$f":"'Risk Calculations'!DE102","v":0},null,{"$f":"IF(AND(OR($G35=\"Yes\",G35=\"Future\"),OR($H35>0.000015,$I35>1.5),$N$2=\"Yes\",OR($H38<0.000015,ISBLANK($H38)),OR($I38<1.5,ISBLANK($I38))),\"            Air samples show the risk is acceptable.\",\"\")","v":""},"",{"$f":"IF(OR($G35=\"No\",$G35=\"Restricted\"),\"No\",\"Yes\")","v":"Yes"},"-","-","-","-"]
[0,{"$f":"IF(G36=\"Yes\",1,0)","v":1},0,null,null,"Urban Residential",{"$f":"IF(OR(G20=\"Yes\",G32=\"Yes\",G20=\"Future\",G32=\"Future\"),\"Yes\",\"No\")","v":"Yes"},{"$f":"'Risk Calculations'!DH102","v":0},{"$f":"'Risk Calculations'!DI102","v":0},null,{"$f":"IF(AND(OR($G36=\"Yes\",G36=\"Future\"),OR($H36>0.000015,$I36>1.5),$N$2=\"Yes\",OR($H39<0.000015,ISBLANK($H39)),OR($I39<1.5,ISBLANK($I39))),\"            Air samples show the risk is acceptable.\",\"\")","v":""},"","-",{"$f":"IF(OR($G36=\"No\",$G36=\"Restricted\"),\"No\",\"Yes\")","v":"Yes"},"-","-","-"]
[0,0,{"$f":"IF(G37=\"Yes\",1,0)","v":1},null,null,"Occupational","Yes",{"$f":"'Risk Calculations'!DL102","v":0},{"$f":"'Risk Calculations'!DM102","v":0},null,{"$f":"IF(AND(OR($G37=\"Yes\",G37=\"Future\"),OR($H37>0.000015,$I37>1.5),$N$2=\"Yes\",OR($H40<0.000015,ISBLANK($H40)),OR($I40<1.5,ISBLANK($I40))),\"            Air samples show the risk is acceptable.\",\"\")","v":""},null,"-","-",{"$f":"IF(OR($G37=\"No\",$G37=\"Restricted\"),\"No\",\"Yes\")","v":"Yes"},"-","-"]
[{"$f":"IF(G38=\"Yes\",1,0)","v":1},0,0,"AIR","Inhalation","Residential",{"$f":"IF(OR(G22=\"Yes\",G31=\"Yes\",G22=\"Future\",G31=\"Future\"),\"Yes\",\"No\")","v":"Yes"},{"$f":"'Risk Calculations'!DP102","v":0},{"$f":"'Risk Calculations'!DQ102","v":0},null,null,null,{"$f":"IF(OR($G38=\"No\",$G38=\"Restricted\"),\"No\",\"Yes\")","v":"Yes"},"-","-","-","-"]
[0,{"$f":"IF(G39=\"Yes\",1,0)","v":1},0,null,null,"Urban Residential",{"$f":"IF(OR(G23=\"Yes\",G32=\"Yes\",G23=\"Future\",G32=\"Future\"),\"Yes\",\"No\")","v":"Yes"},{"$f":"'Risk Calculations'!DT102","v":0},{"$f":"'Risk Calculations'!DU102","v":0},null,null,null,"-",{"$f":"IF(OR($G39=\"No\",$G39=\"Restricted\"),\"No\",\"Yes\")","v":"Yes"},"-","-","-"]
[0,0,{"$f":"IF(G40=\"Yes\",1,0)","v":1},null,null,"Occupational","Yes",{"$f":"'Risk Calculations'!DX102","v":0},{"$f":"'Risk Calculations'!DY102","v":0},null,null,null,"-","-",{"$f":"IF(OR($G40=\"No\",$G40=\"Restricted\"),\"No\",\"Yes\")","v":"Yes"},"-","-"]
[null,null,null,"Notes:"]
[null,null,null,"-","Leaching to Groundwater is a risk of leaching to groundwater and not a human health risk. Therefore it is not included in cumulative risk."]
[null,null,null,"-","If the Exposure Point or Hazard Index calculations are blank then no applicable sample concentrations have been entered."]
[null,null,null,"-","If the Exposure Point or Hazard Index calculations are grey then that exposure pathway is incomplete."]
[null,null,null,"-","Cancer risks are unacceptable when rounded to one significant figure and are greater than 1x10^-5 for multiple chemicals."]
[null,null,null,"-","The hazard index should be rounded to the nearest integer and is unacceptable if greater than 1"]
[null,null,null,"-","If unsure what the calculations mean consult with a toxicologist."]

{"sheet":"Risk of Free Product","index":5,"n_rows":96,"n_cols":7,"rows_kept":96,"cut":false,"hidden":false,"merged":[[1,6,4,6],[0,0,0,6],[1,0,3,1],[1,2,4,2],[1,3,4,3]]}
[{"$f":"IF(COUNTBLANK(G6:G96)<91,\"Possible Free Product\",\"Limited Risk Free Product is Present\")","v":"Limited Risk Free Product is Present"}]
["Maximum Concentration",null,"CASn","Chemical","S","Csat","Comment"]
[null,null,null,null,"(ug/L)","(mg/kg)"]
[null,null,null,null,null,"Note 4b"]
["Soil","Groundwater"]
[{"$f":"IF(MAX('Applicable RBC Table'!B46:C46)=0,\"\",MAX('Applicable RBC Table'!B46:C46))","v":""},{"$f":"IF('Applicable RBC Table'!D46=0,\"\",'Applicable RBC Table'!D46)","v":5.58},"71-43-2","Benzene",1790000,700.68786847660306,{"$f":"IF(OR(AND(ISNUMBER(A6),A6>F6),AND(ISNUMBER(B6),B6>E6)),\"Possible Free Product\",\"\")","v":""}]
[{"$f":"IF(MAX('Applicable RBC Table'!B47:C47)=0,\"\",MAX('Applicable RBC Table'!B47:C47))","v":2},{"$f":"IF('Applicable RBC Table'!D47=0,\"\",'Applicable RBC Table'!D47)","v":36.6},"108-88-3","Toluene",526000,538.00690182908068,""]
[{"$f":"IF(MAX('Applicable RBC Table'!B48:C48)=0,\"\",MAX('Applicable RBC Table'!B48:C48))","v":""},{"$f":"IF('Applicable RBC Table'!D48=0,\"\",'Applicable RBC Table'!D48)","v":42.9},"100-41-4","Ethylbenzene",169000,327.13579039763954,""]
[{"$f":"IF(MAX('Applicable RBC Table'!B49:C49)=0,\"\",MAX('Applicable RBC Table'!B49:C49))","v":""},{"$f":"IF('Applicable RBC Table'!D49=0,\"\",'Applicable RBC Table'!D49)","v":445},"1330-20-7","Xylenes",106000,357.59488106243577,""]
[{"$f":"IF(MAX('Applicable RBC Table'!B50:C50)=0,\"\",MAX('Applicable RBC Table'!B50:C50))","v":""},{"$f":"IF('Applicable RBC Table'!D50=0,\"\",'Applicable RBC Table'!D50)","v":""},"1634-04-4","MTBE (methyl t-butyl ether)",51000000,6646.4361743715899,""]
[{"$f":"IF(MAX('Applicable RBC Table'!B51:C51)=0,\"\",MAX('Applicable RBC Table'!B51:C51))","v":0.161},{"$f":"IF('Applicable RBC Table'!D51=0,\"\",'Applicable RBC Table'!D51)","v":""},"91-20-3","Naphthalene",31000,312.28348200684326,""]
[{"$f":"IF(MAX('Applicable RBC Table'!B52:C52)=0,\"\",MAX('Applicable RBC Table'!B52:C52))","v":""},{"$f":"IF('Applicable RBC Table'!D52=0,\"\",'Applicable RBC Table'!D52)","v":""},"95-63-6","1,2,4-Trimethylbenzene",57000,1060.5902933845518,""]
[{"$f":"IF(MAX('Applicable RBC Table'!B53:C53)=0,\"\",MAX('Applicable RBC Table'!B53:C53))","v":""},{"$f":"IF('Applicable RBC Table'!D53=0,\"\",'Applicable RBC Table'!D53)","v":""},"108-67-8","1,3,5-Trimethylbenzene",48200,210.97848572445673,""]
[{"$f":"IF(MAX('Applicable RBC Table'!B54:C54)=0,\"\",MAX('Applicable RBC Table'!B54:C54))","v":""},{"$f":"IF('Applicable RBC Table'!D54=0,\"\",'Applicable RBC Table'!D54)","v":""},"98-82-8","iso-Propylbenzene (cumene)",61300,334.59852717389589,""]
[{"$f":"IF(MAX('Applicable RBC Table'!B55:C55)=0,\"\",MAX('Applicable RBC Table'!B55:C55))","v":""},{"$f":"IF('Applicable RBC Table'!D55=0,\"\",'Applicable RBC Table'!D55)","v":""},"106-93-4","EDB (1,2-dibromoethane)",3910000,724.62101939794536,""]
[{"$f":"IF(MAX('Applicable RBC Table'!B56:C56)=0,\"\",MAX('Applicable RBC Table'!B56:C56))","v":""},{"$f":"IF('Applicable RBC Table'!D56=0,\"\",'Applicable RBC Table'!D56)","v":""},"107-06-2","EDC (1,2-dichloroethane)",8600000,1395.440313468255,""]
[{"$f":"IF(MAX('Applicable RBC Table'!B57:C57)=0,\"\",MAX('Applicable RBC Table'!B57:C57))","v":""},{"$f":"IF('Applicable RBC Table'!D57=0,\"\",'Applicable RBC Table'!D57)","v":""},"83-32-9","Acenaphthene",3900,104.1834747187025,""]
[{"$f":"IF(MAX('Applicable RBC Table'!B58:C58)=0,\"\",MAX('Applicable RBC Table'!B58:C58))","v":""},{"$f":"IF('Applicable RBC Table'!D58=0,\"\",'Applicable RBC Table'!D58)","v":""},"120-12-7","Anthracene",43.4,6.4045814744445968,""]
[{"$f":"IF(MAX('Applicable RBC Table'!B59:C59)=0,\"\",MAX('Applicable RBC Table'!B59:C59))","v":""},{"$f":"IF('Applicable RBC Table'!D59=0,\"\",'Applicable RBC Table'!D59)","v":""},"56-55-3","Benz[a]anthracene",9.4,18.70666372972693,""]
[{"$f":"IF(MAX('Applicable RBC Table'!B60:C60)=0,\"\",MAX('Applicable RBC Table'!B60:C60))","v":1.7000000000000001E-2},{"$f":"IF('Applicable RBC Table'!D60=0,\"\",'Applicable RBC Table'!D60)","v":""},"50-32-8","Benzo[a]pyrene (BaP equivalents)",1.6199999999999999,8.2621143645860471,""]
[{"$f":"IF(MAX('Applicable RBC Table'!B61:C61)=0,\"\",MAX('Applicable RBC Table'!B61:C61))","v":""},{"$f":"IF('Applicable RBC Table'!D61=0,\"\",'Applicable RBC Table'!D61)","v":""},"205-99-2","Benzo[b]fluoranthene",1.5,9.2251069414979145,""]
[{"$f":"IF(MAX('Applicable RBC Table'!B62:C62)=0,\"\",MAX('Applicable RBC Table'!B62:C62))","v":""},{"$f":"IF('Applicable RBC Table'!D62=0,\"\",'Applicable RBC Table'!D62)","v":""},"207-08-9","Benzo[k]fluoranthene",0.8,4.920056474807005,""]
[{"$f":"IF(MAX('Applicable RBC Table'!B63:C63)=0,\"\",MAX('Applicable RBC Table'!B63:C63))","v":""},{"$f":"IF('Applicable RBC Table'!D63=0,\"\",'Applicable RBC Table'!D63)","v":""},"218-01-9","Chrysene",2,3.1841139040124049,""]
[{"$f":"IF(MAX('Applicable RBC Table'!B64:C64)=0,\"\",MAX('Applicable RBC Table'!B64:C64))","v":""},{"$f":"IF('Applicable RBC Table'!D64=0,\"\",'Applicable RBC Table'!D64)","v":""},"53-70-3","Dibenz[a,h]anthracene",2.4900000000000002,4.7310175764938727,""]
[{"$f":"IF(MAX('Applicable RBC Table'!B65:C65)=0,\"\",MAX('Applicable RBC Table'!B65:C65))","v":""},{"$f":"IF('Applicable RBC Table'!D65=0,\"\",'Applicable RBC Table'!D65)","v":""},"206-44-0","Fluoranthene",260,110.22456227412953,""]
[{"$f":"IF(MAX('Applicable RBC Table'!B66:C66)=0,\"\",MAX('Applicable RBC Table'!B66:C66))","v":""},{"$f":"IF('Applicable RBC Table'!D66=0,\"\",'Applicable RBC Table'!D66)","v":""},"86-73-7","Fluorene",1690,136.76056450346408,""]
[{"$f":"IF(MAX('Applicable RBC Table'!B67:C67)=0,\"\",MAX('Applicable RBC Table'!B67:C67))","v":""},{"$f":"IF('Applicable RBC Table'!D67=0,\"\",'Applicable RBC Table'!D67)","v":""},"193-39-5","Indeno[1,2,3-cd]pyrene",0.19,0.38170155316509174,""]
[{"$f":"IF(MAX('Applicable RBC Table'!B68:C68)=0,\"\",MAX('Applicable RBC Table'!B68:C68))","v":""},{"$f":"IF('Applicable RBC Table'!D68=0,\"\",'Applicable RBC Table'!D68)","v":""},"129-00-0","Pyrene",135,70.884538858192826,""]
[{"$f":"IF(MAX('Applicable RBC Table'!B69:C69)=0,\"\",MAX('Applicable RBC Table'!B69:C69))","v":""},{"$f":"IF('Applicable RBC Table'!D69=0,\"\",'Applicable RBC Table'!D69)","v":""},"7440-38-2","Arsenic",34700000,"-",""]
[{"$f":"IF(MAX('Applicable RBC Table'!B70:C70)=0,\"\",MAX('Applicable RBC Table'!B70:C70))","v":""},{"$f":"IF('Applicable RBC Table'!D70=0,\"\",'Applicable RBC Table'!D70)","v":""},"7440-39-3","Barium",54800000,"-",""]
[{"$f":"IF(MAX('Applicable RBC Table'!B72:C72)=0,\"\",MAX('Applicable RBC Table'!B72:C72))","v":""},{"$f":"IF('Applicable RBC Table'!D71=0,\"\",'Applicable RBC Table'!D71)","v":""},"7440-41-7","Beryllium",149000000,"-",{"$f":"IF(OR(AND(ISNUMBER(A31),A31>F32),AND(ISNUMBER(B31),B31>E32)),\"Possible Free Product\",\"\")","v":""}]
[{"$f":"IF(MAX('Applicable RBC Table'!B73:C73)=0,\"\",MAX('Applicable RBC Table'!B73:C73))","v":""},{"$f":"IF('Applicable RBC Table'!D72=0,\"\",'Applicable RBC Table'!D72)","v":""},"7440-43-9","Cadmium",123000000,"-",""]
[{"$f":"IF(MAX('Applicable RBC Table'!B74:C74)=0,\"\",MAX('Applicable RBC Table'!B74:C74))","v":""},{"$f":"IF('Applicable RBC Table'!D73=0,\"\",'Applicable RBC Table'!D73)","v":""},"16065-83-1","Chromium (III)",86700000,"-",""]
[{"$f":"IF(MAX('Applicable RBC Table'!B75:C75)=0,\"\",MAX('Applicable RBC Table'!B75:C75))","v":""},{"$f":"IF('Applicable RBC Table'!D74=0,\"\",'Applicable RBC Table'!D74)","v":""},"18540-29-9","Chromium (VI)",1690000000,"-",""]
[{"$f":"IF(MAX('Applicable RBC Table'!B76:C76)=0,\"\",MAX('Applicable RBC Table'!B76:C76))","v":""},{"$f":"IF('Applicable RBC Table'!D75=0,\"\",'Applicable RBC Table'!D75)","v":""},"7440-50-8","Copper",421000000,"-",""]
[{"$f":"IF(MAX('Applicable RBC Table'!B77:C77)=0,\"\",MAX('Applicable RBC Table'!B77:C77))","v":""},{"$f":"IF('Applicable RBC Table'!D76=0,\"\",'Applicable RBC Table'!D76)","v":""},"7439-92-1","Lead",null,"-",""]
[{"$f":"IF(MAX('Applicable RBC Table'!B78:C78)=0,\"\",MAX('Applicable RBC Table'!B78:C78))","v":""},{"$f":"IF('Applicable RBC Table'!D77=0,\"\",'Applicable RBC Table'!D77)","v":""},"7439-96-5","Manganese",87200000,"-",""]
[{"$f":"IF(MAX('Applicable RBC Table'!B79:C79)=0,\"\",MAX('Applicable RBC Table'!B79:C79))","v":""},{"$f":"IF('Applicable RBC Table'!D78=0,\"\",'Applicable RBC Table'!D78)","v":""},"7439-97-6","Mercury",60,"-",""]
[{"$f":"IF(MAX('Applicable RBC Table'!B80:C80)=0,\"\",MAX('Applicable RBC Table'!B80:C80))","v":""},{"$f":"IF('Applicable RBC Table'!D79=0,\"\",'Applicable RBC Table'!D79)","v":""},"7440-02-0","Nickel",422000000,"-",""]
[{"$f":"IF(MAX('Applicable RBC Table'!B102:C102)=0,\"\",MAX('Applicable RBC Table'!B102:C102))","v":""},{"$f":"IF('Applicable RBC Table'!D80=0,\"\",'Applicable RBC Table'!D80)","v":""},"7440-22-4","Silver",70500000,"-",""]
[{"$f":"IF(MAX('Applicable RBC Table'!B102:C102)=0,\"\",MAX('Applicable RBC Table'!B102:C102))","v":""},{"$f":"IF('Applicable RBC Table'!D102=0,\"\",'Applicable RBC Table'!D102)","v":""},"107-13-1","Acrylonitrile",74500000,8415.9733459837098,""]
[{"$f":"IF(MAX('Applicable RBC Table'!B91:C91)=0,\"\",MAX('Applicable RBC Table'!B91:C91))","v":""},{"$f":"IF('Applicable RBC Table'!D91=0,\"\",'Applicable RBC Table'!D91)","v":""},"309-00-2","Aldrin",17,4.1407537460412618,""]
[{"$f":"IF(MAX('Applicable RBC Table'!B103:C103)=0,\"\",MAX('Applicable RBC Table'!B103:C103))","v":""},{"$f":"IF('Applicable RBC Table'!D103=0,\"\",'Applicable RBC Table'!D103)","v":""},"92-87-5","Benzidine",322000,4434.1294118706046,{"$f":"IF(OR(AND(ISNUMBER(A43),A43>F31),AND(ISNUMBER(B43),B43>E31)),\"Possible Free Product\",\"\")","v":""}]
[{"$f":"IF(MAX('Applicable RBC Table'!B104:C104)=0,\"\",MAX('Applicable RBC Table'!B104:C104))","v":""},{"$f":"IF('Applicable RBC Table'!D104=0,\"\",'Applicable RBC Table'!D104)","v":""},"117-81-7","Bis(2-ethylhexyl)phthalate",270,149.86905899871775,{"$f":"IF(OR(AND(ISNUMBER(A44),A44>F44),AND(ISNUMBER(B44),B44>E44)),\"Possible Free Product\",\"\")","v":""}]
[{"$f":"IF(MAX('Applicable RBC Table'!B105:C105)=0,\"\",MAX('Applicable RBC Table'!B105:C105))","v":""},{"$f":"IF('Applicable RBC Table'!D105=0,\"\",'Applicable RBC Table'!D105)","v":""},"75-27-4","Bromodichloromethane",3030000,2397.8642216796347,""]
[{"$f":"IF(MAX('Applicable RBC Table'!B106:C106)=0,\"\",MAX('Applicable RBC Table'!B106:C106))","v":""},{"$f":"IF('Applicable RBC Table'!D106=0,\"\",'Applicable RBC Table'!D106)","v":""},"75-25-2","Bromoform",3100000,1579.4236311318862,""]
[{"$f":"IF(MAX('Applicable RBC Table'!B107:C107)=0,\"\",MAX('Applicable RBC Table'!B107:C107))","v":""},{"$f":"IF('Applicable RBC Table'!D107=0,\"\",'Applicable RBC Table'!D107)","v":""},"74-83-9","Bromomethane",15200000,2869.4510038510721,""]
[{"$f":"IF(MAX('Applicable RBC Table'!B108:C108)=0,\"\",MAX('Applicable RBC Table'!B108:C108))","v":""},{"$f":"IF('Applicable RBC Table'!D108=0,\"\",'Applicable RBC Table'!D108)","v":""},"56-23-5","Carbon tetrachloride",793000,899.23794010123902,""]
[{"$f":"IF(MAX('Applicable RBC Table'!B109:C109)=0,\"\",MAX('Applicable RBC Table'!B109:C109))","v":""},{"$f":"IF('Applicable RBC Table'!D109=0,\"\",'Applicable RBC Table'!D109)","v":""},"108-90-7","Chlorobenzene",498000,561.26690098949609,""]
[{"$f":"IF(MAX('Applicable RBC Table'!B110:C110)=0,\"\",MAX('Applicable RBC Table'!B110:C110))","v":""},{"$f":"IF('Applicable RBC Table'!D110=0,\"\",'Applicable RBC Table'!D110)","v":""},"124-48-1","Chlorodibromomethane (dibromochloromethane)",2700000,1016.7796059653836,""]
[{"$f":"IF(MAX('Applicable RBC Table'!B111:C111)=0,\"\",MAX('Applicable RBC Table'!B111:C111))","v":""},{"$f":"IF('Applicable RBC Table'!D111=0,\"\",'Applicable RBC Table'!D111)","v":""},"75-00-3","Chloroethane (ethyl chloride)",6710000,1739.6465236786271,""]
[{"$f":"IF(MAX('Applicable RBC Table'!B85:C85)=0,\"\",MAX('Applicable RBC Table'!B85:C85))","v":""},{"$f":"IF('Applicable RBC Table'!D85=0,\"\",'Applicable RBC Table'!D85)","v":2.48},"67-66-3","Chloroform",7950000,761.62827858014191,""]
[{"$f":"IF(MAX('Applicable RBC Table'!B112:C112)=0,\"\",MAX('Applicable RBC Table'!B112:C112))","v":""},{"$f":"IF('Applicable RBC Table'!D112=0,\"\",'Applicable RBC Table'!D112)","v":""},"74-87-3","Chloromethane",5320000,1054.3936402556535,""]
[{"$f":"IF(MAX('Applicable RBC Table'!B92:C92)=0,\"\",MAX('Applicable RBC Table'!B92:C92))","v":""},{"$f":"IF('Applicable RBC Table'!D92=0,\"\",'Applicable RBC Table'!D92)","v":""},"12789-03-6","Chlordane",56,33.603970253902936,""]
[{"$f":"IF(MAX('Applicable RBC Table'!B113:C113)=0,\"\",MAX('Applicable RBC Table'!B113:C113))","v":""},{"$f":"IF('Applicable RBC Table'!D113=0,\"\",'Applicable RBC Table'!D113)","v":""},"74-90-8","Cyanide (hydrogen cyanide) ʌ",1000000000,"-",""]
[{"$f":"IF(MAX('Applicable RBC Table'!B93:C93)=0,\"\",MAX('Applicable RBC Table'!B93:C93))","v":""},{"$f":"IF('Applicable RBC Table'!D93=0,\"\",'Applicable RBC Table'!D93)","v":""},"72-54-8","DDD (4,4'-Dichlorodiphenyldichloroethane)",90,450.00635523121969,""]
[{"$f":"IF(MAX('Applicable RBC Table'!B94:C94)=0,\"\",MAX('Applicable RBC Table'!B94:C94))","v":""},{"$f":"IF('Applicable RBC Table'!D94=0,\"\",'Applicable RBC Table'!D94)","v":""},"72-55-9","DDE (4,4'-Dichlorodiphenyldichloroethene)",40,2682.008486618538,""]
[{"$f":"IF(MAX('Applicable RBC Table'!B95:C95)=0,\"\",MAX('Applicable RBC Table'!B95:C95))","v":""},{"$f":"IF('Applicable RBC Table'!D95=0,\"\",'Applicable RBC Table'!D95)","v":""},"50-29-3","DDT (4,4'-Dichlorodiphenyltrichloroethane)",5.5,328.75176599403164,""]
[{"$f":"IF(MAX('Applicable RBC Table'!B114:C114)=0,\"\",MAX('Applicable RBC Table'!B114:C114))","v":""},{"$f":"IF('Applicable RBC Table'!D114=0,\"\",'Applicable RBC Table'!D114)","v":""},"95-50-1","1,2-Dichlorobenzene",156000,494.15723359333737,""]
[{"$f":"IF(MAX('Applicable RBC Table'!B115:C115)=0,\"\",MAX('Applicable RBC Table'!B115:C115))","v":""},{"$f":"IF('Applicable RBC Table'!D115=0,\"\",'Applicable RBC Table'!D115)","v":""},"106-46-7","1,4-Dichlorobenzene",81300,234.00911301081254,""]
[{"$f":"IF(MAX('Applicable RBC Table'!B116:C116)=0,\"\",MAX('Applicable RBC Table'!B116:C116))","v":""},{"$f":"IF('Applicable RBC Table'!D116=0,\"\",'Applicable RBC Table'!D116)","v":""},"91-94-1","3,3-Dichlorobenzidine",3100,11.44082360829103,""]
[{"$f":"IF(MAX('Applicable RBC Table'!B81:C81)=0,\"\",MAX('Applicable RBC Table'!B81:C81))","v":""},{"$f":"IF('Applicable RBC Table'!D81=0,\"\",'Applicable RBC Table'!D81)","v":""},"75-34-3","1,1-Dichloroethane",5040000,1336.9083140259002,""]
[{"$f":"IF(MAX('Applicable RBC Table'!B82:C82)=0,\"\",MAX('Applicable RBC Table'!B82:C82))","v":""},{"$f":"IF('Applicable RBC Table'!D82=0,\"\",'Applicable RBC Table'!D82)","v":""},"75-35-4","1,1-Dichloroethene",2420000,1195.0118236620776,""]
[{"$f":"IF(MAX('Applicable RBC Table'!B83:C83)=0,\"\",MAX('Applicable RBC Table'!B83:C83))","v":""},{"$f":"IF('Applicable RBC Table'!D83=0,\"\",'Applicable RBC Table'!D83)","v":""},"156-59-2","cis-1,2-Dichloroethene",6410000,959.14720312744441,""]
[{"$f":"IF(MAX('Applicable RBC Table'!B84:C84)=0,\"\",MAX('Applicable RBC Table'!B84:C84))","v":""},{"$f":"IF('Applicable RBC Table'!D84=0,\"\",'Applicable RBC Table'!D84)","v":""},"156-60-5","trans-1,2-Dichloroethene",4520000,2474.3664708659762,""]
[{"$f":"IF(MAX('Applicable RBC Table'!B117:C117)=0,\"\",MAX('Applicable RBC Table'!B117:C117))","v":""},{"$f":"IF('Applicable RBC Table'!D117=0,\"\",'Applicable RBC Table'!D117)","v":""},"111-44-4","Dichloroethylether",17200000,2501.6776710220215,""]
[{"$f":"IF(MAX('Applicable RBC Table'!B118:C118)=0,\"\",MAX('Applicable RBC Table'!B118:C118))","v":""},{"$f":"IF('Applicable RBC Table'!D118=0,\"\",'Applicable RBC Table'!D118)","v":""},"75-09-2","Dichloromethane",13000000,1859.2513072238085,""]
[{"$f":"IF(MAX('Applicable RBC Table'!B119:C119)=0,\"\",MAX('Applicable RBC Table'!B119:C119))","v":""},{"$f":"IF('Applicable RBC Table'!D119=0,\"\",'Applicable RBC Table'!D119)","v":""},"94-75-7","2,4-Dichlorophenoxyacetic acid (2,4-D)",677000,147.34112512973689,""]
[{"$f":"IF(MAX('Applicable RBC Table'!B97:C97)=0,\"\",MAX('Applicable RBC Table'!B97:C97))","v":""},{"$f":"IF('Applicable RBC Table'!D97=0,\"\",'Applicable RBC Table'!D97)","v":""},"60-57-1","Dieldrin",195,20.878783436527225,""]
[{"$f":"IF(MAX('Applicable RBC Table'!B120:C120)=0,\"\",MAX('Applicable RBC Table'!B120:C120))","v":""},{"$f":"IF('Applicable RBC Table'!D120=0,\"\",'Applicable RBC Table'!D120)","v":""},"606-20-2","2,6-Dinitrotoluene",182000,350.82192365833748,""]
[{"$f":"IF(MAX('Applicable RBC Table'!B121:C121)=0,\"\",MAX('Applicable RBC Table'!B121:C121))","v":""},{"$f":"IF('Applicable RBC Table'!D121=0,\"\",'Applicable RBC Table'!D121)","v":""},"621-64-7","Di-N-propylnitrosamine (N-nitroso-di-N-propylamine)",13000000,32462.591963324176,""]
[{"$f":"IF(MAX('Applicable RBC Table'!B96:C96)=0,\"\",MAX('Applicable RBC Table'!B96:C96))","v":""},{"$f":"IF('Applicable RBC Table'!D96=0,\"\",'Applicable RBC Table'!D96)","v":""},"123-91-1","1,4-Dioxane",1000000000,75618.769203226242,""]
[{"$f":"IF(MAX('Applicable RBC Table'!B122:C122)=0,\"\",MAX('Applicable RBC Table'!B122:C122))","v":""},{"$f":"IF('Applicable RBC Table'!D122=0,\"\",'Applicable RBC Table'!D122)","v":""},"86-30-6","Diphenylnitrosamine",35000,228.22085763342966,""]
[{"$f":"IF(MAX('Applicable RBC Table'!B98:C98)=0,\"\",MAX('Applicable RBC Table'!B98:C98))","v":""},{"$f":"IF('Applicable RBC Table'!D98=0,\"\",'Applicable RBC Table'!D98)","v":""},"115-29-7","Endosulfan (alpha-beta) ",325,5.4930363353518397,""]
[{"$f":"IF(MAX('Applicable RBC Table'!B99:C99)=0,\"\",MAX('Applicable RBC Table'!B99:C99))","v":""},{"$f":"IF('Applicable RBC Table'!D99=0,\"\",'Applicable RBC Table'!D99)","v":""},"72-20-8","Endrin",250,15.392659017937932,""]
[{"$f":"IF(MAX('Applicable RBC Table'!B123:C123)=0,\"\",MAX('Applicable RBC Table'!B123:C123))","v":""},{"$f":"IF('Applicable RBC Table'!D123=0,\"\",'Applicable RBC Table'!D123)","v":""},"50-00-0","Formaldehyde",400000000,30236.133800147545,{"$f":"IF(OR(AND(ISNUMBER(A76),A76>F76),AND(ISNUMBER(B76),B76>E76)),\"Possible Free Product\",\"\")","v":""}]
[{"$f":"IF(MAX('Applicable RBC Table'!B100:C100)=0,\"\",MAX('Applicable RBC Table'!B100:C100))","v":""},{"$f":"IF('Applicable RBC Table'!D100=0,\"\",'Applicable RBC Table'!D100)","v":""},"76-44-8","Heptachlor",180,1269.0139539558879,""]
[{"$f":"IF(MAX('Applicable RBC Table'!B101:C101)=0,\"\",MAX('Applicable RBC Table'!B101:C101))","v":""},{"$f":"IF('Applicable RBC Table'!D101=0,\"\",'Applicable RBC Table'!D101)","v":""},"1024-57-3","Heptachlor Epoxide",200,83.21412973339784,""]
[{"$f":"IF(MAX('Applicable RBC Table'!B124:C124)=0,\"\",MAX('Applicable RBC Table'!B124:C124))","v":""},{"$f":"IF('Applicable RBC Table'!D124=0,\"\",'Applicable RBC Table'!D124)","v":""},"118-74-1","Hexachlorobenzene",6.2,1705.4897073738537,""]
[{"$f":"IF(MAX('Applicable RBC Table'!B125:C125)=0,\"\",MAX('Applicable RBC Table'!B125:C125))","v":""},{"$f":"IF('Applicable RBC Table'!D125=0,\"\",'Applicable RBC Table'!D125)","v":""},"319-84-6","alpha-Hexachlorocyclohexane (alpha-HCH)",2000,17.741311328686798,""]
[{"$f":"IF(MAX('Applicable RBC Table'!B126:C126)=0,\"\",MAX('Applicable RBC Table'!B126:C126))","v":""},{"$f":"IF('Applicable RBC Table'!D126=0,\"\",'Applicable RBC Table'!D126)","v":""},"58-89-9","gamma-Hexachlorocyclohexane (Lindane)",7300,36.86060558919732,""]
[{"$f":"IF(MAX('Applicable RBC Table'!B127:C127)=0,\"\",MAX('Applicable RBC Table'!B127:C127))","v":""},{"$f":"IF('Applicable RBC Table'!D127=0,\"\",'Applicable RBC Table'!D127)","v":""},"67-72-1","Hexachloroethane",50000,449.76667120670993,""]
[{"$f":"IF(MAX('Applicable RBC Table'!B128:C128)=0,\"\",MAX('Applicable RBC Table'!B128:C128))","v":""},{"$f":"IF('Applicable RBC Table'!D128=0,\"\",'Applicable RBC Table'!D128)","v":""},"94-74-6","MCPA ((4-chloro-2-methylphenoxy)acetic acid)",630000,137.11209356536963,""]
[{"$f":"IF(MAX('Applicable RBC Table'!B129:C129)=0,\"\",MAX('Applicable RBC Table'!B129:C129))","v":""},{"$f":"IF('Applicable RBC Table'!D129=0,\"\",'Applicable RBC Table'!D129)","v":""},"87-86-5","Pentachlorophenol",14000,33092.647361490905,""]
[{"$f":"IF(MAX('Applicable RBC Table'!B130:C130)=0,\"\",MAX('Applicable RBC Table'!B130:C130))","v":""},{"$f":"IF('Applicable RBC Table'!D130=0,\"\",'Applicable RBC Table'!D130)","v":""},"11097-69-1","Polychlorinated biphenyls (Total PCBs)",43,1.2854461207765302,""]
[{"$f":"IF(MAX('Applicable RBC Table'!B131:C131)=0,\"\",MAX('Applicable RBC Table'!B131:C131))","v":""},{"$f":"IF('Applicable RBC Table'!D131=0,\"\",'Applicable RBC Table'!D131)","v":""},"100-42-5","Styrene",310000,1230.105302423482,""]
[{"$f":"IF(MAX('Applicable RBC Table'!B132:C132)=0,\"\",MAX('Applicable RBC Table'!B132:C132))","v":""},{"$f":"IF('Applicable RBC Table'!D132=0,\"\",'Applicable RBC Table'!D132)","v":""},"1746-01-6","2,3,7,8-TCDD (dioxin) equivalents",0.2,0.14601418125936949,""]
[{"$f":"IF(MAX('Applicable RBC Table'!B86:C86)=0,\"\",MAX('Applicable RBC Table'!B86:C86))","v":""},{"$f":"IF('Applicable RBC Table'!D86=0,\"\",'Applicable RBC Table'!D86)","v":""},"127-18-4","Tetrachloroethene (PCE)",206000,192.52697737540339,""]
[{"$f":"IF(MAX('Applicable RBC Table'!B133:C133)=0,\"\",MAX('Applicable RBC Table'!B133:C133))","v":""},{"$f":"IF('Applicable RBC Table'!D133=0,\"\",'Applicable RBC Table'!D133)","v":""},"8001-35-2","Toxaphene",740,950.95226353798341,""]
[{"$f":"IF(MAX('Applicable RBC Table'!B134:C134)=0,\"\",MAX('Applicable RBC Table'!B134:C134))","v":""},{"$f":"IF('Applicable RBC Table'!D134=0,\"\",'Applicable RBC Table'!D134)","v":""},"76-13-1","1,1,2-Trichloro-1,2,2-trifluoroethane (Freon 113)",170000,771.8162817686333,""]
[{"$f":"IF(MAX('Applicable RBC Table'!B87:C87)=0,\"\",MAX('Applicable RBC Table'!B87:C87))","v":""},{"$f":"IF('Applicable RBC Table'!D87=0,\"\",'Applicable RBC Table'!D87)","v":""},"71-55-6","1,1,1-Trichloroethane",1290000,970.90187476782887,""]
[{"$f":"IF(MAX('Applicable RBC Table'!B88:C88)=0,\"\",MAX('Applicable RBC Table'!B88:C88))","v":""},{"$f":"IF('Applicable RBC Table'!D88=0,\"\",'Applicable RBC Table'!D88)","v":""},"79-00-5","1,1,2-Trichloroethane",4590000,1436.0586044755266,""]
[{"$f":"IF(MAX('Applicable RBC Table'!B89:C89)=0,\"\",MAX('Applicable RBC Table'!B89:C89))","v":""},{"$f":"IF('Applicable RBC Table'!D89=0,\"\",'Applicable RBC Table'!D89)","v":""},"79-01-6","Trichloroethene",1280000,1062.7198067819127,""]
[{"$f":"IF(MAX('Applicable RBC Table'!B135:C135)=0,\"\",MAX('Applicable RBC Table'!B135:C135))","v":""},{"$f":"IF('Applicable RBC Table'!D135=0,\"\",'Applicable RBC Table'!D135)","v":""},"75-69-4","Trichlorofluoromethane (Freon 11)",1100000,1023.9104133830594,""]
[{"$f":"IF(MAX('Applicable RBC Table'!B136:C136)=0,\"\",MAX('Applicable RBC Table'!B136:C136))","v":""},{"$f":"IF('Applicable RBC Table'!D136=0,\"\",'Applicable RBC Table'!D136)","v":""},"88-06-2","2,4,6-Trichlorophenol",800000,4800.4838195959073,""]
[{"$f":"IF(MAX('Applicable RBC Table'!B90:C90)=0,\"\",MAX('Applicable RBC Table'!B90:C90))","v":""},{"$f":"IF('Applicable RBC Table'!D90=0,\"\",'Applicable RBC Table'!D90)","v":""},"75-01-4","Vinyl chloride",8800000,925.54246832250681,""]

{"sheet":"Hot Spot Screener","index":6,"n_rows":113,"n_cols":51,"rows_kept":113,"cut":false,"hidden":false,"merged":[[15,30,17,51],[18,30,18,51],[12,8,14,29],[20,30,20,39],[21,30,21,31],[21,32,21,33],[21,34,21,35],[21,36,21,37],[21,38,21,39],[21,40,21,41],[20,40,20,45],[20,46,20,51],[21,42,21,43],[21,44,21,45],[21,46,21,47],[21,48,21,49],[21,50,21,51],[15,6,17,7],[15,8,17,17],[15,18,17,23],[15,24,17,29],[20,22,20,23],[20,24,20,25],[20,26,20,27],[20,28,20,29],[18,6,18,7],[18,8,18,17],[18,18,18,23],[18,24,18,29],[19,6,19,7],[19,8,19,9],[19,10,19,11],[11,1,11,3],[12,1,14,1],[19,12,19,13],[19,14,19,15],[19,16,19,17],[20,6,20,7],[19,22,19,23],[19,24,19,25],[19,26,19,27],[19,28,19,29],[19,18,19,19],[19,20,19,21],[1,1,1,3],[2,1,6,1],[20,18,20,19],[20,20,20,21],[15,1,19,5],[7,1,7,3],[8,1,10,1],[20,8,20,9],[20,10,20,11],[20,12,20,13],[20,14,20,15],[20,16,20,17],[20,1,20,2],[20,3,21,3],[20,4,21,4],[20,5,21,5]]}
[null,"Pathway","Receptor","Is Pathway Exceeded?"]
[null,"SOIL"]
[null,"Ingestion, dermal contact, and inhalation","Residential",{"$f":"AE20","v":"No"}]
[null,null,"Urban residential",{"$f":"AG20","v":"No"}]
[null,null,"Occupational",{"$f":"AI20","v":"No"}]
[null,null,"Construction worker",{"$f":"AK20","v":"No"}]
[null,null,"Excavation worker",{"$f":"AM20","v":"No"}]
[null,"Soil Gas"]
[null,"Vapor intrusion into buildings","Residential",{"$f":"AO20","v":"No"}]
[null,null,"Urban residential",{"$f":"AQ20","v":"No"}]
[null,null,"Occupational",{"$f":"AS20","v":"No"}]
[null,"AIR"]
[null,"Inhalation","Residential",{"$f":"AU20","v":"No"},null,null,null,null,"DEQ Published Hot Spot Concentrations"]
[null,null,"Urban residential",{"$f":"AW20","v":"No"}]
[null,null,"Occupational",{"$f":"AY20","v":"No"}]
[null,"Hot Spot Screener\n\nMaximum Concentrations\nFrom Applicable RBC Table",null,null,null,null,"Contaminated Medium",null,"SOIL mg/Kg (ppm)",null,null,null,null,null,null,null,null,null,"Soil Gas† (µg/m3)",null,null,null,null,null,"AIR\n(µg/m3)",null,null,null,null,null,"This area picks out exceedances of Hot Spot Concentration for easy summary in the table at the top left of the work sheet."]
[]
[]
[null,null,null,null,null,null,"Exposure Pathway",null,"Soil Ingestion, Dermal Contact, and Inhalation (HTSPss)",null,null,null,null,null,null,null,null,null,"Vapor Intrusion into Buildings (HTSPsv)",null,null,null,null,null,"INHALATION\n(HTSPair)",null,null,null,null,null,"Exceedance?"]
[null,null,null,null,null,null,"Receptor Scenario",null,"Residential",null,"Urban Residential",null,"Occupational",null,"Construction Worker",null,"Excavation Worker",null,"Residential",null,"Urban Residential",null,"Occupational",null,"Residential",null,"Urban Residential",null,"Occupational",null,{"$f":"IF(SUM(AE23:AE113)>0,\"Yes\",\"No\")","v":"No"},null,{"$f":"IF(SUM(AG23:AG113)>0,\"Yes\",\"No\")","v":"No"},null,{"$f":"IF(SUM(AI23:AI113)>0,\"Yes\",\"No\")","v":"No"},null,{"$f":"IF(SUM(AK23:AK113)>0,\"Yes\",\"No\")","v":"No"},null,{"$f":"IF(SUM(AM23:AM113)>0,\"Yes\",\"No\")","v":"No"},null,{"$f":"IF(SUM(AO23:AO113)>0,\"Yes\",\"No\")","v":"No"},null,{"$f":"IF(SUM(AQ23:AQ113)>0,\"Yes\",\"No\")","v":"No"},null,{"$f":"IF(SUM(AS23:AS113)>0,\"Yes\",\"No\")","v":"No"},null,{"$f":"IF(SUM(AU23:AU113)>0,\"Yes\",\"No\")","v":"No"},null,{"$f":"IF(SUM(AW23:AW113)>0,\"Yes\",\"No\")","v":"No"},null,{"$f":"IF(SUM(AY23:AY113)>0,\"Yes\",\"No\")","v":"No"}]
[null,"Soil",null,"Groundwater","Soil Gas","Air","Direct or Indirect Pathway (see notes)",null,"DC",null,"DC",null,"DC",null,"DC",null,"DC",null,"ICA",null,"ICA",null,"ICA",null,"DCA",null,"DCA",null,"DCA",null,"Soil Ingestion, Dermal Contact, and Inhalation (HTSPss)",null,null,null,null,null,null,null,null,null,"Vapor Intrusion into Buildings (HTSPsv)",null,null,null,null,null,"INHALATION\n(HTSPair)"]
["Helper collumn for referencing values from applicable rbc table","Surface","SubSurface",null,null,null,"Contaminant","Note",null,"Note",null,"Note",null,"Note",null,"Note",null,"Note",null,"Note",null,"Note",null,"Note",null,"Note",null,"Note",null,"Note","Residential",null,"Urban Residential",null,"Occupational",null,"Construction Worker",null,"Excavation Worker",null,"Residential",null,"Urban Residential",null,"Occupational",null,"Residential",null,"Urban Residential",null,"Occupational"]
[1,{"$f":"VLOOKUP($A23,'Applicable RBC Table'!$A$43:$F$136,2,FALSE)","v":0},{"$f":"VLOOKUP($A23,'Applicable RBC Table'!$A$43:$F$136,3,FALSE)","v":0},{"$f":"VLOOKUP($A23,'Applicable RBC Table'!$A$43:$F$136,4,FALSE)","v":0},{"$f":"VLOOKUP($A23,'Applicable RBC Table'!$A$43:$F$136,5,FALSE)","v":0},{"$f":"VLOOKUP($A23,'Applicable RBC Table'!$A$43:$F$136,6,FALSE)","v":0},"Acenaphthene","nc, v",47000,">Csat",94000,">Csat",700000,">Csat",210000,">Csat","-",">Max","-",">Pv","-",">Pv","-",">Pv","-",">Pv","-",">Pv","-",">Pv",{"$f":"IF($B23>I23,1,0)","v":0},null,{"$f":"IF($B23>K23,1,0)","v":0},null,{"$f":"IF($B23>M23,1,0)","v":0},null,{"$f":"IF(MAX(B23:C23)>O23,1,0)","v":0},null,{"$f":"IF(MAX(B23:C23)>Q23,1,0)","v":0},null,{"$f":"IF($E23>S23,1,0)","v":0},null,{"$f":"IF($E23>U23,1,0)","v":0},null,{"$f":"IF($E23>W23,1,0)","v":0},null,{"$f":"IF($F23>Y23,1,0)","v":0},null,{"$f":"IF($F23>AA23,1,0)","v":0},null,{"$f":"IF($F23>AC23,1,0)","v":0}]
[2,{"$f":"VLOOKUP($A24,'Applicable RBC Table'!$A$43:$F$136,2,FALSE)","v":0},{"$f":"VLOOKUP($A24,'Applicable RBC Table'!$A$43:$F$136,3,FALSE)","v":0},{"$f":"VLOOKUP($A24,'Applicable RBC Table'!$A$43:$F$136,4,FALSE)","v":0},{"$f":"VLOOKUP($A24,'Applicable RBC Table'!$A$43:$F$136,5,FALSE)","v":0},{"$f":"VLOOKUP($A24,'Applicable RBC Table'!$A$43:$F$136,6,FALSE)","v":0},"Acrylonitrile","c, v",86,null,250,null,400,null,4000,null,110000,">Csat",830,null,2000,null,18000,null,4.0999999999999996,null,9.8000000000000007,null,18,null,{"$f":"IF($B24>I24,1,0)","v":0},null,{"$f":"IF($B24>K24,1,0)","v":0},null,{"$f":"IF($B24>M24,1,0)","v":0},null,{"$f":"IF(MAX(B24:C24)>O24,1,0)","v":0},null,{"$f":"IF(MAX(B24:C24)>Q24,1,0)","v":0},null,{"$f":"IF($E24>S24,1,0)","v":0},null,{"$f":"IF($E24>U24,1,0)","v":0},null,{"$f":"IF($E24>W24,1,0)","v":0},null,{"$f":"IF($F24>Y24,1,0)","v":0},null,{"$f":"IF($F24>AA24,1,0)","v":0},null,{"$f":"IF($F24>AC24,1,0)","v":0}]
[3,{"$f":"VLOOKUP($A25,'Applicable RBC Table'!$A$43:$F$136,2,FALSE)","v":0},{"$f":"VLOOKUP($A25,'Applicable RBC Table'!$A$43:$F$136,3,FALSE)","v":0},{"$f":"VLOOKUP($A25,'Applicable RBC Table'!$A$43:$F$136,4,FALSE)","v":0},{"$f":"VLOOKUP($A25,'Applicable RBC Table'!$A$43:$F$136,5,FALSE)","v":0},{"$f":"VLOOKUP($A25,'Applicable RBC Table'!$A$43:$F$136,6,FALSE)","v":0},"Aldrin","c, v",3.1,null,7.8,">Csat",13,">Csat",80,">Csat",2200,">Csat",11,null,27,null,250,null,0.06,null,0.14000000000000001,null,0.25,null,0,null,0,null,0,null,0,null,0,null,0,null,0,null,0,null,0,null,0,null,0]
[4,{"$f":"VLOOKUP($A26,'Applicable RBC Table'!$A$43:$F$136,2,FALSE)","v":0},{"$f":"VLOOKUP($A26,'Applicable RBC Table'!$A$43:$F$136,3,FALSE)","v":0},{"$f":"VLOOKUP($A26,'Applicable RBC Table'!$A$43:$F$136,4,FALSE)","v":0},{"$f":"VLOOKUP($A26,'Applicable RBC Table'!$A$43:$F$136,5,FALSE)","v":0},{"$f":"VLOOKUP($A26,'Applicable RBC Table'!$A$43:$F$136,6,FALSE)","v":0},"Anthracene","nc, v",230000,">Csat",470000,">Csat","-",">Max","-",">Max","-",">Max","-",">Pv","-",">Pv","-",">Pv","-",">Pv","-",">Pv","-",">Pv",0,null,0,null,0,null,0,null,0,null,0,null,0,null,0,null,0,null,0,null,0]
[5,{"$f":"VLOOKUP($A27,'Applicable RBC Table'!$A$43:$F$136,2,FALSE)","v":0},{"$f":"VLOOKUP($A27,'Applicable RBC Table'!$A$43:$F$136,3,FALSE)","v":0},{"$f":"VLOOKUP($A27,'Applicable RBC Table'!$A$43:$F$136,4,FALSE)","v":0},{"$f":"VLOOKUP($A27,'Applicable RBC Table'!$A$43:$F$136,5,FALSE)","v":0},{"$f":"VLOOKUP($A27,'Applicable RBC Table'!$A$43:$F$136,6,FALSE)","v":0},"Arsenic","c, nv",43,null,100,null,190,null,970,null,27000,null,"-","NV","-","NV","-","NV",6.5000000000000002E-2,null,0.15,null,0.28999999999999998,null,0,null,0,null,0,null,0,null,0,null,0,null,0,null,0,null,0,null,0,null,0]
[6,{"$f":"VLOOKUP($A28,'Applicable RBC Table'!$A$43:$F$136,2,FALSE)","v":0},{"$f":"VLOOKUP($A28,'Applicable RBC Table'!$A$43:$F$136,3,FALSE)","v":0},{"$f":"VLOOKUP($A28,'Applicable RBC Table'!$A$43:$F$136,4,FALSE)","v":0},{"$f":"VLOOKUP($A28,'Applicable RBC Table'!$A$43:$F$136,5,FALSE)","v":0},{"$f":"VLOOKUP($A28,'Applicable RBC Table'!$A$43:$F$136,6,FALSE)","v":0},"Barium","nc, nv",150000,null,310000,null,"-",">Max",690000,null,"-",">Max","-","NV","-","NV","-","NV",5.2,null,5.2,null,22,null,0,null,0,null,0,null,0,null,0,null,0,null,0,null,0,null,0,null,0,null,0]
[7,{"$f":"VLOOKUP($A29,'Applicable RBC Table'!$A$43:$F$136,2,FALSE)","v":0},{"$f":"VLOOKUP($A29,'Applicable RBC Table'!$A$43:$F$136,3,FALSE)","v":0},{"$f":"VLOOKUP($A29,'Applicable RBC Table'!$A$43:$F$136,4,FALSE)","v":0},{"$f":"VLOOKUP($A29,'Applicable RBC Table'!$A$43:$F$136,5,FALSE)","v":0},{"$f":"VLOOKUP($A29,'Applicable RBC Table'!$A$43:$F$136,6,FALSE)","v":0},"Benz[a]anthracene","c, v",110,">Csat",250,">Csat",2100,">Csat",17000,">Csat",480000,">Csat","-",">Pv","-",">Pv","-",">Pv",1.7,null,3.3,null,20,null,0,null,0,null,0,null,0,null,0,null,0,null,0,null,0,null,0,null,0,null,0]
[8,{"$f":"VLOOKUP($A30,'Applicable RBC Table'!$A$43:$F$136,2,FALSE)","v":0},{"$f":"VLOOKUP($A30,'Applicable RBC Table'!$A$43:$F$136,3,FALSE)","v":0},{"$f":"VLOOKUP($A30,'Applicable RBC Table'!$A$43:$F$136,4,FALSE)","v":5.58},{"$f":"VLOOKUP($A30,'Applicable RBC Table'!$A$43:$F$136,5,FALSE)","v":0},{"$f":"VLOOKUP($A30,'Applicable RBC Table'!$A$43:$F$136,6,FALSE)","v":0},"Benzene","c, v",820,">Csat",2400,">Csat",3700,">Csat",12000,">Csat",340000,">Csat",7200,null,17000,null,160000,null,36,null,85,null,160,null,0,null,0,null,0,null,0,null,0,null,0,null,0,null,0,null,0,null,0,null,0]
[9,{"$f":"VLOOKUP($A31,'Applicable RBC Table'!$A$43:$F$136,2,FALSE)","v":0},{"$f":"VLOOKUP($A31,'Applicable RBC Table'!$A$43:$F$136,3,FALSE)","v":0},{"$f":"VLOOKUP($A31,'Applicable RBC Table'!$A$43:$F$136,4,FALSE)","v":0},{"$f":"VLOOKUP($A31,'Applicable RBC Table'!$A$43:$F$136,5,FALSE)","v":0},{"$f":"VLOOKUP($A31,'Applicable RBC Table'!$A$43:$F$136,6,FALSE)","v":0},"Benzidine","c, nv",0.05,null,0.12,null,1,null,8.1999999999999993,null,230,null,"-","NV","-","NV","-","NV",1.5E-3,null,2.8999999999999998E-3,null,1.7999999999999999E-2,null,0,null,0,null,0,null,0,null,0,null,0,null,0,null,0,null,0,null,0,null,0]
[10,{"$f":"VLOOKUP($A32,'Applicable RBC Table'!$A$43:$F$136,2,FALSE)","v":0},{"$f":"VLOOKUP($A32,'Applicable RBC Table'!$A$43:$F$136,3,FALSE)","v":1.7000000000000001E-2},{"$f":"VLOOKUP($A32,'Applicable RBC Table'!$A$43:$F$136,4,FALSE)","v":0},{"$f":"VLOOKUP($A32,'Applicable RBC Table'!$A$43:$F$136,5,FALSE)","v":0},{"$f":"VLOOKUP($A32,'Applicable RBC Table'!$A$43:$F$136,6,FALSE)","v":0},"Benzo[a]pyrene (BaP equivalents) **","c*, nv",11,null,25,">Csat",210,">Csat",740,">Csat",21000,">Csat","-","NV","-","NV","-","NV",2.1000000000000001E-2,null,2.1000000000000001E-2,null,8.7999999999999995E-2,null,0,null,0,null,0,null,0,null,0,null,0,null,0,null,0,null,0,null,0,null,0]
[11,{"$f":"VLOOKUP($A33,'Applicable RBC Table'!$A$43:$F$136,2,FALSE)","v":0},{"$f":"VLOOKUP($A33,'Applicable RBC Table'!$A$43:$F$136,3,FALSE)","v":0},{"$f":"VLOOKUP($A33,'Applicable RBC Table'!$A$43:$F$136,4,FALSE)","v":0},{"$f":"VLOOKUP($A33,'Applicable RBC Table'!$A$43:$F$136,5,FALSE)","v":0},{"$f":"VLOOKUP($A33,'Applicable RBC Table'!$A$43:$F$136,6,FALSE)","v":0},"Benzo[b]fluoranthene","c, nv",110,">Csat",250,">Csat",2100,">Csat",17000,">Csat",490000,">Csat","-","NV","-","NV","-","NV",1.7,null,3.3,null,20,null,0,null,0,null,0,null,0,null,0,null,0,null,0,null,0,null,0,null,0,null,0]
[12,{"$f":"VLOOKUP($A34,'Applicable RBC Table'!$A$43:$F$136,2,FALSE)","v":0},{"$f":"VLOOKUP($A34,'Applicable RBC Table'!$A$43:$F$136,3,FALSE)","v":0},{"$f":"VLOOKUP($A34,'Applicable RBC Table'!$A$43:$F$136,4,FALSE)","v":0},{"$f":"VLOOKUP($A34,'Applicable RBC Table'!$A$43:$F$136,5,FALSE)","v":0},{"$f":"VLOOKUP($A34,'Applicable RBC Table'!$A$43:$F$136,6,FALSE)","v":0},"Benzo[k]fluoranthene","c, nv",1100,">Csat",2500,">Csat",21000,">Csat",170000,">Csat","-",">Max","-","NV","-","NV","-","NV","-",">Pv","-",">Pv","-",">Pv",0,null,0,null,0,null,0,null,0,null,0,null,0,null,0,null,0,null,0,null,0]
[13,{"$f":"VLOOKUP($A35,'Applicable RBC Table'!$A$43:$F$136,2,FALSE)","v":0},{"$f":"VLOOKUP($A35,'Applicable RBC Table'!$A$43:$F$136,3,FALSE)","v":0},{"$f":"VLOOKUP($A35,'Applicable RBC Table'!$A$43:$F$136,4,FALSE)","v":0},{"$f":"VLOOKUP($A35,'Applicable RBC Table'!$A$43:$F$136,5,FALSE)","v":0},{"$f":"VLOOKUP($A35,'Applicable RBC Table'!$A$43:$F$136,6,FALSE)","v":0},"Beryllium","c*, nv",1600,null,3100,null,23000,null,7000,null,190000,null,"-","NV","-","NV","-","NV",0.12,null,0.21,null,0.51,null,0,null,0,null,0,null,0,null,0,null,0,null,0,null,0,null,0,null,0,null,0]
[14,{"$f":"VLOOKUP($A36,'Applicable RBC Table'!$A$43:$F$136,2,FALSE)","v":0},{"$f":"VLOOKUP($A36,'Applicable RBC Table'!$A$43:$F$136,3,FALSE)","v":0},{"$f":"VLOOKUP($A36,'Applicable RBC Table'!$A$43:$F$136,4,FALSE)","v":0},{"$f":"VLOOKUP($A36,'Applicable RBC Table'!$A$43:$F$136,5,FALSE)","v":0},{"$f":"VLOOKUP($A36,'Applicable RBC Table'!$A$43:$F$136,6,FALSE)","v":0},"Bis(2-ethylhexyl)phthalate","c, nv",3900,">Csat",9700,">Csat",16000,">Csat",54000,">Csat","-",">Max","-","NV","-","NV","-","NV","-",">Pv","-",">Pv","-",">Pv",0,null,0,null,0,null,0,null,0,null,0,null,0,null,0,null,0,null,0,null,0]
[15,{"$f":"VLOOKUP($A37,'Applicable RBC Table'!$A$43:$F$136,2,FALSE)","v":0},{"$f":"VLOOKUP($A37,'Applicable RBC Table'!$A$43:$F$136,3,FALSE)","v":0},{"$f":"VLOOKUP($A37,'Applicable RBC Table'!$A$43:$F$136,4,FALSE)","v":0},{"$f":"VLOOKUP($A37,'Applicable RBC Table'!$A$43:$F$136,5,FALSE)","v":0},{"$f":"VLOOKUP($A37,'Applicable RBC Table'!$A$43:$F$136,6,FALSE)","v":0},"Bromodichloromethane","c, v",340,">Csat",1200,">Csat",1500,">Csat",23000,">Csat",630000,">Csat",1500,null,3600,null,33000,null,7.6,null,18,null,33,null,0,null,0,null,0,null,0,null,0,null,0,null,0,null,0,null,0,null,0,null,0]
[16,{"$f":"VLOOKUP($A38,'Applicable RBC Table'!$A$43:$F$136,2,FALSE)","v":0},{"$f":"VLOOKUP($A38,'Applicable RBC Table'!$A$43:$F$136,3,FALSE)","v":0},{"$f":"VLOOKUP($A38,'Applicable RBC Table'!$A$43:$F$136,4,FALSE)","v":0},{"$f":"VLOOKUP($A38,'Applicable RBC Table'!$A$43:$F$136,5,FALSE)","v":0},{"$f":"VLOOKUP($A38,'Applicable RBC Table'!$A$43:$F$136,6,FALSE)","v":0},"Bromoform","c, v",5700,">Csat",17000,">Csat",26000,">Csat",71000,">Csat","-",">Max",51000,null,120000,null,1100000,null,260,null,600,null,1100,null,0,null,0,null,0,null,0,null,0,null,0,null,0,null,0,null,0,null,0,null,0]
[17,{"$f":"VLOOKUP($A39,'Applicable RBC Table'!$A$43:$F$136,2,FALSE)","v":0},{"$f":"VLOOKUP($A39,'Applicable RBC Table'!$A$43:$F$136,3,FALSE)","v":0},{"$f":"VLOOKUP($A39,'Applicable RBC Table'!$A$43:$F$136,4,FALSE)","v":0},{"$f":"VLOOKUP($A39,'Applicable RBC Table'!$A$43:$F$136,5,FALSE)","v":0},{"$f":"VLOOKUP($A39,'Applicable RBC Table'!$A$43:$F$136,6,FALSE)","v":0},"Bromomethane","nc, v",460,null,920,null,7500,">Csat",3700,">Csat",100000,">Csat",10000,null,10000,null,220000,null,52,null,52,null,220,null,0,null,0,null,0,null,0,null,0,null,0,null,0,null,0,null,0,null,0,null,0]
[18,{"$f":"VLOOKUP($A40,'Applicable RBC Table'!$A$43:$F$136,2,FALSE)","v":0},{"$f":"VLOOKUP($A40,'Applicable RBC Table'!$A$43:$F$136,3,FALSE)","v":0},{"$f":"VLOOKUP($A40,'Applicable RBC Table'!$A$43:$F$136,4,FALSE)","v":0},{"$f":"VLOOKUP($A40,'Applicable RBC Table'!$A$43:$F$136,5,FALSE)","v":0},{"$f":"VLOOKUP($A40,'Applicable RBC Table'!$A$43:$F$136,6,FALSE)","v":0},"Cadmium","c*, nv",780,null,1600,null,11000,null,3500,null,97000,null,"-","NV","-","NV","-","NV",0.1,null,0.1,null,0.44,null,0,null,0,null,0,null,0,null,0,null,0,null,0,null,0,null,0,null,0,null,0]
[19,{"$f":"VLOOKUP($A41,'Applicable RBC Table'!$A$43:$F$136,2,FALSE)","v":0},{"$f":"VLOOKUP($A41,'Applicable RBC Table'!$A$43:$F$136,3,FALSE)","v":0},{"$f":"VLOOKUP($A41,'Applicable RBC Table'!$A$43:$F$136,4,FALSE)","v":0},{"$f":"VLOOKUP($A41,'Applicable RBC Table'!$A$43:$F$136,5,FALSE)","v":0},{"$f":"VLOOKUP($A41,'Applicable RBC Table'!$A$43:$F$136,6,FALSE)","v":0},"Carbon tetrachloride","c, v",750,null,2100,">Csat",3400,">Csat",13000,">Csat",370000,">Csat",9400,null,22000,null,200000,null,47,null,110,null,200,null,0,null,0,null,0,null,0,null,0,null,0,null,0,null,0,null,0,null,0,null,0]
[20,{"$f":"VLOOKUP($A42,'Applicable RBC Table'!$A$43:$F$136,2,FALSE)","v":0},{"$f":"VLOOKUP($A42,'Applicable RBC Table'!$A$43:$F$136,3,FALSE)","v":0},{"$f":"VLOOKUP($A42,'Applicable RBC Table'!$A$43:$F$136,4,FALSE)","v":0},{"$f":"VLOOKUP($A42,'Applicable RBC Table'!$A$43:$F$136,5,FALSE)","v":0},{"$f":"VLOOKUP($A42,'Applicable RBC Table'!$A$43:$F$136,6,FALSE)","v":0},"Chlorobenzene","nc, v",5300,">Csat",11000,">Csat",87000,">Csat",47000,">Csat","-",">Max",100000,null,100000,null,2200000,null,520,null,520,null,2200,null,0,null,0,null,0,null,0,null,0,null,0,null,0,null,0,null,0,null,0,null,0]
[21,{"$f":"VLOOKUP($A43,'Applicable RBC Table'!$A$43:$F$136,2,FALSE)","v":0},{"$f":"VLOOKUP($A43,'Applicable RBC Table'!$A$43:$F$136,3,FALSE)","v":0},{"$f":"VLOOKUP($A43,'Applicable RBC Table'!$A$43:$F$136,4,FALSE)","v":0},{"$f":"VLOOKUP($A43,'Applicable RBC Table'!$A$43:$F$136,5,FALSE)","v":0},{"$f":"VLOOKUP($A43,'Applicable RBC Table'!$A$43:$F$136,6,FALSE)","v":0},"Chlorodibromomethane","c, v",370,null,1200,">Csat",1700,">Csat",21000,">Csat",580000,">Csat",2100,null,4900,null,45000,null,10,null,25,null,45,null,0,null,0,null,0,null,0,null,0,null,0,null,0,null,0,null,0,null,0,null,0]
[22,{"$f":"VLOOKUP($A44,'Applicable RBC Table'!$A$43:$F$136,2,FALSE)","v":0},{"$f":"VLOOKUP($A44,'Applicable RBC Table'!$A$43:$F$136,3,FALSE)","v":0},{"$f":"VLOOKUP($A44,'Applicable RBC Table'!$A$43:$F$136,4,FALSE)","v":0},{"$f":"VLOOKUP($A44,'Applicable RBC Table'!$A$43:$F$136,5,FALSE)","v":0},{"$f":"VLOOKUP($A44,'Applicable RBC Table'!$A$43:$F$136,6,FALSE)","v":0},"Chloroethane","nc, v","-",">Max","-",">Max","-",">Max","-",">Max","-",">Max",21000000,null,21000000,null,"-",null,100000,null,100000,null,440000,null,0,null,0,null,0,null,0,null,0,null,0,null,0,null,0,null,0,null,0,null,0]
[23,{"$f":"VLOOKUP($A45,'Applicable RBC Table'!$A$43:$F$136,2,FALSE)","v":0},{"$f":"VLOOKUP($A45,'Applicable RBC Table'!$A$43:$F$136,3,FALSE)","v":0},{"$f":"VLOOKUP($A45,'Applicable RBC Table'!$A$43:$F$136,4,FALSE)","v":2.48},{"$f":"VLOOKUP($A45,'Applicable RBC Table'!$A$43:$F$136,5,FALSE)","v":0},{"$f":"VLOOKUP($A45,'Applicable RBC Table'!$A$43:$F$136,6,FALSE)","v":0},"Chloroform","c, v",580,null,2200,">Csat",2600,">Csat",31000,">Csat",870000,">Csat",2400,null,5800,null,53000,null,12,null,29,null,53,null,0,null,0,null,0,null,0,null,0,null,0,null,0,null,0,null,0,null,0,null,0]
[24,{"$f":"VLOOKUP($A46,'Applicable RBC Table'!$A$43:$F$136,2,FALSE)","v":0},{"$f":"VLOOKUP($A46,'Applicable RBC Table'!$A$43:$F$136,3,FALSE)","v":0},{"$f":"VLOOKUP($A46,'Applicable RBC Table'!$A$43:$F$136,4,FALSE)","v":0},{"$f":"VLOOKUP($A46,'Applicable RBC Table'!$A$43:$F$136,5,FALSE)","v":0},{"$f":"VLOOKUP($A46,'Applicable RBC Table'!$A$43:$F$136,6,FALSE)","v":0},"Chloromethane","nc, v",14000,">Csat",29000,">Csat",250000,">Csat",250000,">Csat","-",">Max",190000,null,190000,null,3900000,null,940,null,940,null,3900,null,0,null,0,null,0,null,0,null,0,null,0,null,0,null,0,null,0,null,0,null,0]
[25,{"$f":"VLOOKUP($A47,'Applicable RBC Table'!$A$43:$F$136,2,FALSE)","v":0},{"$f":"VLOOKUP($A47,'Applicable RBC Table'!$A$43:$F$136,3,FALSE)","v":0},{"$f":"VLOOKUP($A47,'Applicable RBC Table'!$A$43:$F$136,4,FALSE)","v":0},{"$f":"VLOOKUP($A47,'Applicable RBC Table'!$A$43:$F$136,5,FALSE)","v":0},{"$f":"VLOOKUP($A47,'Applicable RBC Table'!$A$43:$F$136,6,FALSE)","v":0},"Chlordane","c, v",170,">Csat",420,">Csat",740,">Csat",1500,">Csat",41000,">Csat",560,null,1300,null,"-",">Pv",2.8,null,6.6,null,12,null,0,null,0,null,0,null,0,null,0,null,0,null,0,null,0,null,0,null,0,null,0]
[26,{"$f":"VLOOKUP($A48,'Applicable RBC Table'!$A$43:$F$136,2,FALSE)","v":0},{"$f":"VLOOKUP($A48,'Applicable RBC Table'!$A$43:$F$136,3,FALSE)","v":0},{"$f":"VLOOKUP($A48,'Applicable RBC Table'!$A$43:$F$136,4,FALSE)","v":0},{"$f":"VLOOKUP($A48,'Applicable RBC Table'!$A$43:$F$136,5,FALSE)","v":0},{"$f":"VLOOKUP($A48,'Applicable RBC Table'!$A$43:$F$136,6,FALSE)","v":0},"Chromium (III)","nc, nv","-",">Max","-",">Max","-",">Max","-",null,"-",">Max","-","NV","-","NV","-","NV","-",null,"-",null,"-",null,0,null,0,null,0,null,0,null,0,null,0,null,0,null,0,null,0,null,0,null,0]
[27,{"$f":"VLOOKUP($A49,'Applicable RBC Table'!$A$43:$F$136,2,FALSE)","v":0},{"$f":"VLOOKUP($A49,'Applicable RBC Table'!$A$43:$F$136,3,FALSE)","v":0},{"$f":"VLOOKUP($A49,'Applicable RBC Table'!$A$43:$F$136,4,FALSE)","v":0},{"$f":"VLOOKUP($A49,'Applicable RBC Table'!$A$43:$F$136,5,FALSE)","v":0},{"$f":"VLOOKUP($A49,'Applicable RBC Table'!$A$43:$F$136,6,FALSE)","v":0},"Chromium (VI)","c, nv",30,null,67,null,630,null,4900,null,140000,null,"-","NV","-","NV","-","NV",1.1999999999999999E-3,null,2.3E-3,null,1.4999999999999999E-2,null,0,null,0,null,0,null,0,null,0,null,0,null,0,null,0,null,0,null,0,null,0]
[28,{"$f":"VLOOKUP($A50,'Applicable RBC Table'!$A$43:$F$136,2,FALSE)","v":0},{"$f":"VLOOKUP($A50,'Applicable RBC Table'!$A$43:$F$136,3,FALSE)","v":0},{"$f":"VLOOKUP($A50,'Applicable RBC Table'!$A$43:$F$136,4,FALSE)","v":0},{"$f":"VLOOKUP($A50,'Applicable RBC Table'!$A$43:$F$136,5,FALSE)","v":0},{"$f":"VLOOKUP($A50,'Applicable RBC Table'!$A$43:$F$136,6,FALSE)","v":0},"Chrysene","c, nv",11000,">Csat",25000,">Csat",210000,">Csat","-",">Max","-",">Max","-",">Pv","-",">Pv","-",">Pv",170,null,330,null,"-",">Pv",0,null,0,null,0,null,0,null,0,null,0,null,0,null,0,null,0,null,0,null,0]
[29,{"$f":"VLOOKUP($A51,'Applicable RBC Table'!$A$43:$F$136,2,FALSE)","v":0},{"$f":"VLOOKUP($A51,'Applicable RBC Table'!$A$43:$F$136,3,FALSE)","v":0},{"$f":"VLOOKUP($A51,'Applicable RBC Table'!$A$43:$F$136,4,FALSE)","v":0},{"$f":"VLOOKUP($A51,'Applicable RBC Table'!$A$43:$F$136,5,FALSE)","v":0},{"$f":"VLOOKUP($A51,'Applicable RBC Table'!$A$43:$F$136,6,FALSE)","v":0},"Copper","nc, nv",31000,null,62000,null,470000,null,140000,null,"-",null,"-","NV","-","NV","-","NV","-",null,"-",null,"-",null,0,null,0,null,0,null,0,null,0,null,0,null,0,null,0,null,0,null,0,null,0]
[30,{"$f":"VLOOKUP($A52,'Applicable RBC Table'!$A$43:$F$136,2,FALSE)","v":0},{"$f":"VLOOKUP($A52,'Applicable RBC Table'!$A$43:$F$136,3,FALSE)","v":0},{"$f":"VLOOKUP($A52,'Applicable RBC Table'!$A$43:$F$136,4,FALSE)","v":0},{"$f":"VLOOKUP($A52,'Applicable RBC Table'!$A$43:$F$136,5,FALSE)","v":0},{"$f":"VLOOKUP($A52,'Applicable RBC Table'!$A$43:$F$136,6,FALSE)","v":0},"Cyanide (hydrogen cyanide) ^","nc, nv",470,null,940,null,7000,null,2100,null,59000,null,1700,null,1700,null,35000,null,8.3000000000000007,null,8.3000000000000007,null,35,null,0,null,0,null,0,null,0,null,0,null,0,null,0,null,0,null,0,null,0,null,0]
[31,{"$f":"VLOOKUP($A53,'Applicable RBC Table'!$A$43:$F$136,2,FALSE)","v":0},{"$f":"VLOOKUP($A53,'Applicable RBC Table'!$A$43:$F$136,3,FALSE)","v":0},{"$f":"VLOOKUP($A53,'Applicable RBC Table'!$A$43:$F$136,4,FALSE)","v":0},{"$f":"VLOOKUP($A53,'Applicable RBC Table'!$A$43:$F$136,5,FALSE)","v":0},{"$f":"VLOOKUP($A53,'Applicable RBC Table'!$A$43:$F$136,6,FALSE)","v":0},"DDD (4,4'-Dichlorodiphenyldichloroethane)","c, nv",22,null,44,null,310,null,97,null,2700,">Csat","-","NV","-","NV","-","NV",4.0999999999999996,null,9.6,null,18,null,0,null,0,null,0,null,0,null,0,null,0,null,0,null,0,null,0,null,0,null,0]
[32,{"$f":"VLOOKUP($A54,'Applicable RBC Table'!$A$43:$F$136,2,FALSE)","v":0},{"$f":"VLOOKUP($A54,'Applicable RBC Table'!$A$43:$F$136,3,FALSE)","v":0},{"$f":"VLOOKUP($A54,'Applicable RBC Table'!$A$43:$F$136,4,FALSE)","v":0},{"$f":"VLOOKUP($A54,'Applicable RBC Table'!$A$43:$F$136,5,FALSE)","v":0},{"$f":"VLOOKUP($A54,'Applicable RBC Table'!$A$43:$F$136,6,FALSE)","v":0},"DDE (4,4'-Dichlorodiphenyldichloroethene)","c, v",180,null,450,null,820,null,6600,">Csat",180000,">Csat",580,null,1400,null,"-",">Pv",2.9,null,6.8,null,13,null,0,null,0,null,0,null,0,null,0,null,0,null,0,null,0,null,0,null,0,null,0]
[33,{"$f":"VLOOKUP($A55,'Applicable RBC Table'!$A$43:$F$136,2,FALSE)","v":0},{"$f":"VLOOKUP($A55,'Applicable RBC Table'!$A$43:$F$136,3,FALSE)","v":0},{"$f":"VLOOKUP($A55,'Applicable RBC Table'!$A$43:$F$136,4,FALSE)","v":0},{"$f":"VLOOKUP($A55,'Applicable RBC Table'!$A$43:$F$136,5,FALSE)","v":0},{"$f":"VLOOKUP($A55,'Applicable RBC Table'!$A$43:$F$136,6,FALSE)","v":0},"DDT (4,4'-Dichlorodiphenyltrichloroethane)","c, nv",190,null,460,">Csat",850,">Csat",1600,">Csat",45000,">Csat","-","NV","-","NV","-","NV",2.9,null,6.8,null,13,null,0,null,0,null,0,null,0,null,0,null,0,null,0,null,0,null,0,null,0,null,0]
[34,{"$f":"VLOOKUP($A56,'Applicable RBC Table'!$A$43:$F$136,2,FALSE)","v":0},{"$f":"VLOOKUP($A56,'Applicable RBC Table'!$A$43:$F$136,3,FALSE)","v":0},{"$f":"VLOOKUP($A56,'Applicable RBC Table'!$A$43:$F$136,4,FALSE)","v":0},{"$f":"VLOOKUP($A56,'Applicable RBC Table'!$A$43:$F$136,5,FALSE)","v":0},{"$f":"VLOOKUP($A56,'Applicable RBC Table'!$A$43:$F$136,6,FALSE)","v":0},"Dibenz[a,h]anthracene","c, nv",11,null,25,">Csat",210,">Csat",1700,">Csat",49000,">Csat","-","NV","-","NV","-","NV","-",">Pv","-",">Pv","-",">Pv",0,null,0,null,0,null,0,null,0,null,0,null,0,null,0,null,0,null,0,null,0]
[35,{"$f":"VLOOKUP($A57,'Applicable RBC Table'!$A$43:$F$136,2,FALSE)","v":0},{"$f":"VLOOKUP($A57,'Applicable RBC Table'!$A$43:$F$136,3,FALSE)","v":0},{"$f":"VLOOKUP($A57,'Applicable RBC Table'!$A$43:$F$136,4,FALSE)","v":0},{"$f":"VLOOKUP($A57,'Applicable RBC Table'!$A$43:$F$136,5,FALSE)","v":0},{"$f":"VLOOKUP($A57,'Applicable RBC Table'!$A$43:$F$136,6,FALSE)","v":0},"Dichlorobenzene, 1,2-","nc, v",22000,">Csat",44000,">Csat",360000,">Csat",200000,">Csat","-",">Max",420000,null,420000,null,8800000,null,2100,null,2100,null,8800,null,0,null,0,null,0,null,0,null,0,null,0,null,0,null,0,null,0,null,0,null,0]
[36,{"$f":"VLOOKUP($A58,'Applicable RBC Table'!$A$43:$F$136,2,FALSE)","v":0},{"$f":"VLOOKUP($A58,'Applicable RBC Table'!$A$43:$F$136,3,FALSE)","v":0},{"$f":"VLOOKUP($A58,'Applicable RBC Table'!$A$43:$F$136,4,FALSE)","v":0},{"$f":"VLOOKUP($A58,'Applicable RBC Table'!$A$43:$F$136,5,FALSE)","v":0},{"$f":"VLOOKUP($A58,'Applicable RBC Table'!$A$43:$F$136,6,FALSE)","v":0},"Dichlorobenzene, 1,4-","c, v",1400,">Csat",6200,">Csat",6400,">Csat",130000,">Csat","-",">Max",5100,null,12000,null,110000,null,26,null,60,null,110,null,0,null,0,null,0,null,0,null,0,null,0,null,0,null,0,null,0,null,0,null,0]
[37,{"$f":"VLOOKUP($A59,'Applicable RBC Table'!$A$43:$F$136,2,FALSE)","v":0},{"$f":"VLOOKUP($A59,'Applicable RBC Table'!$A$43:$F$136,3,FALSE)","v":0},{"$f":"VLOOKUP($A59,'Applicable RBC Table'!$A$43:$F$136,4,FALSE)","v":0},{"$f":"VLOOKUP($A59,'Applicable RBC Table'!$A$43:$F$136,5,FALSE)","v":0},{"$f":"VLOOKUP($A59,'Applicable RBC Table'!$A$43:$F$136,6,FALSE)","v":0},"Dichlorobenzidine, 3,3-","c, nv",120,">Csat",300,">Csat",510,">Csat",4200,">Csat",120000,">Csat","-","NV","-","NV","-","NV",0.83,null,2,null,3.6,null,0,null,0,null,0,null,0,null,0,null,0,null,0,null,0,null,0,null,0,null,0]
[38,{"$f":"VLOOKUP($A60,'Applicable RBC Table'!$A$43:$F$136,2,FALSE)","v":0},{"$f":"VLOOKUP($A60,'Applicable RBC Table'!$A$43:$F$136,3,FALSE)","v":0},{"$f":"VLOOKUP($A60,'Applicable RBC Table'!$A$43:$F$136,4,FALSE)","v":0},{"$f":"VLOOKUP($A60,'Applicable RBC Table'!$A$43:$F$136,5,FALSE)","v":0},{"$f":"VLOOKUP($A60,'Applicable RBC Table'!$A$43:$F$136,6,FALSE)","v":0},"Dichloroethane, 1,1-","c, v",5800,">Csat",19000,">Csat",26000,">Csat",320000,">Csat","-",">Max",35000,null,83000,null,770000,null,180,null,410,null,770,null,0,null,0,null,0,null,0,null,0,null,0,null,0,null,0,null,0,null,0,null,0]
[39,{"$f":"VLOOKUP($A61,'Applicable RBC Table'!$A$43:$F$136,2,FALSE)","v":0},{"$f":"VLOOKUP($A61,'Applicable RBC Table'!$A$43:$F$136,3,FALSE)","v":0},{"$f":"VLOOKUP($A61,'Applicable RBC Table'!$A$43:$F$136,4,FALSE)","v":0},{"$f":"VLOOKUP($A61,'Applicable RBC Table'!$A$43:$F$136,5,FALSE)","v":0},{"$f":"VLOOKUP($A61,'Applicable RBC Table'!$A$43:$F$136,6,FALSE)","v":0},"Dichloroethene, 1,1-","nc, v",18000,">Csat",35000,">Csat",290000,">Csat",130000,">Csat","-",">Max",420000,null,420000,null,8800000,null,2100,null,2100,null,8800,null,0,null,0,null,0,null,0,null,0,null,0,null,0,null,0,null,0,null,0,null,0]
[40,{"$f":"VLOOKUP($A62,'Applicable RBC Table'!$A$43:$F$136,2,FALSE)","v":0},{"$f":"VLOOKUP($A62,'Applicable RBC Table'!$A$43:$F$136,3,FALSE)","v":0},{"$f":"VLOOKUP($A62,'Applicable RBC Table'!$A$43:$F$136,4,FALSE)","v":0},{"$f":"VLOOKUP($A62,'Applicable RBC Table'!$A$43:$F$136,5,FALSE)","v":0},{"$f":"VLOOKUP($A62,'Applicable RBC Table'!$A$43:$F$136,6,FALSE)","v":0},"Dichloroethene, cis-1,2-","nc, v",1600,">Csat",3100,">Csat",23000,">Csat",7100,">Csat",200000,">Csat","-",">Pv","-",">Pv","-",">Pv","-",">Pv","-",">Pv","-",">Pv",0,null,0,null,0,null,0,null,0,null,0,null,0,null,0,null,0,null,0,null,0]
[41,{"$f":"VLOOKUP($A63,'Applicable RBC Table'!$A$43:$F$136,2,FALSE)","v":0},{"$f":"VLOOKUP($A63,'Applicable RBC Table'!$A$43:$F$136,3,FALSE)","v":0},{"$f":"VLOOKUP($A63,'Applicable RBC Table'!$A$43:$F$136,4,FALSE)","v":0},{"$f":"VLOOKUP($A63,'Applicable RBC Table'!$A$43:$F$136,5,FALSE)","v":0},{"$f":"VLOOKUP($A63,'Applicable RBC Table'!$A$43:$F$136,6,FALSE)","v":0},"Dichloroethene, trans-1,2-","nc, v",16000,">Csat",31000,">Csat",230000,">Csat",71000,">Csat","-",">Max","-",">Pv","-",">Pv","-",">Pv","-",">Pv","-",">Pv","-",">Pv",0,null,0,null,0,null,0,null,0,null,0,null,0,null,0,null,0,null,0,null,0]
[42,{"$f":"VLOOKUP($A64,'Applicable RBC Table'!$A$43:$F$136,2,FALSE)","v":0},{"$f":"VLOOKUP($A64,'Applicable RBC Table'!$A$43:$F$136,3,FALSE)","v":0},{"$f":"VLOOKUP($A64,'Applicable RBC Table'!$A$43:$F$136,4,FALSE)","v":0},{"$f":"VLOOKUP($A64,'Applicable RBC Table'!$A$43:$F$136,5,FALSE)","v":0},{"$f":"VLOOKUP($A64,'Applicable RBC Table'!$A$43:$F$136,6,FALSE)","v":0},"Dichloroethylether","c, v",29,null,96,null,130,null,1600,null,45000,">Csat",170,null,400,null,3700,null,0.85,null,2,null,3.7,null,0,null,0,null,0,null,0,null,0,null,0,null,0,null,0,null,0,null,0,null,0]
[43,{"$f":"VLOOKUP($A65,'Applicable RBC Table'!$A$43:$F$136,2,FALSE)","v":0},{"$f":"VLOOKUP($A65,'Applicable RBC Table'!$A$43:$F$136,3,FALSE)","v":0},{"$f":"VLOOKUP($A65,'Applicable RBC Table'!$A$43:$F$136,4,FALSE)","v":0},{"$f":"VLOOKUP($A65,'Applicable RBC Table'!$A$43:$F$136,5,FALSE)","v":0},{"$f":"VLOOKUP($A65,'Applicable RBC Table'!$A$43:$F$136,6,FALSE)","v":0},"Dichloromethane","c, v",4500,">Csat",8900,">Csat",67000,">Csat",21000,">Csat",580000,">Max",450000,null,370000,null,26000000,null,2300,null,1900,null,26000,null,0,null,0,null,0,null,0,null,0,null,0,null,0,null,0,null,0,null,0,null,0]
[44,{"$f":"VLOOKUP($A66,'Applicable RBC Table'!$A$43:$F$136,2,FALSE)","v":0},{"$f":"VLOOKUP($A66,'Applicable RBC Table'!$A$43:$F$136,3,FALSE)","v":0},{"$f":"VLOOKUP($A66,'Applicable RBC Table'!$A$43:$F$136,4,FALSE)","v":0},{"$f":"VLOOKUP($A66,'Applicable RBC Table'!$A$43:$F$136,5,FALSE)","v":0},{"$f":"VLOOKUP($A66,'Applicable RBC Table'!$A$43:$F$136,6,FALSE)","v":0},"Dichlorophenoxyacetic acid, 2,4- (2,4-D)","nc, nv",6300,">Csat",13000,">Csat",82000,">Csat",27000,">Csat",740000,">Csat","-","NV","-","NV","-","NV","-",">Pv","-",">Pv","-",">Pv",0,null,0,null,0,null,0,null,0,null,0,null,0,null,0,null,0,null,0,null,0]
[45,{"$f":"VLOOKUP($A67,'Applicable RBC Table'!$A$43:$F$136,2,FALSE)","v":0},{"$f":"VLOOKUP($A67,'Applicable RBC Table'!$A$43:$F$136,3,FALSE)","v":0},{"$f":"VLOOKUP($A67,'Applicable RBC Table'!$A$43:$F$136,4,FALSE)","v":0},{"$f":"VLOOKUP($A67,'Applicable RBC Table'!$A$43:$F$136,5,FALSE)","v":0},{"$f":"VLOOKUP($A67,'Applicable RBC Table'!$A$43:$F$136,6,FALSE)","v":0},"Dieldrin","c, nv",3.4,null,8.5,null,14,null,120,">Csat",3300,">Csat","-",">Pv","-",">Pv","-",">Pv",6.0999999999999999E-2,null,0.14000000000000001,null,0.27,null,0,null,0,null,0,null,0,null,0,null,0,null,0,null,0,null,0,null,0,null,0]
[46,{"$f":"VLOOKUP($A68,'Applicable RBC Table'!$A$43:$F$136,2,FALSE)","v":0},{"$f":"VLOOKUP($A68,'Applicable RBC Table'!$A$43:$F$136,3,FALSE)","v":0},{"$f":"VLOOKUP($A68,'Applicable RBC Table'!$A$43:$F$136,4,FALSE)","v":0},{"$f":"VLOOKUP($A68,'Applicable RBC Table'!$A$43:$F$136,5,FALSE)","v":0},{"$f":"VLOOKUP($A68,'Applicable RBC Table'!$A$43:$F$136,6,FALSE)","v":0},"Dinitrotoluene, 2,6-","nc, nv",36,">Csat",90,">Csat",150,">Csat",800,">Csat",22000,">Csat","-","NV","-","NV","-","NV","-",">Pv","-",">Pv","-",">Pv",0,null,0,null,0,null,0,null,0,null,0,null,0,null,0,null,0,null,0,null,0]
[47,{"$f":"VLOOKUP($A69,'Applicable RBC Table'!$A$43:$F$136,2,FALSE)","v":0},{"$f":"VLOOKUP($A69,'Applicable RBC Table'!$A$43:$F$136,3,FALSE)","v":0},{"$f":"VLOOKUP($A69,'Applicable RBC Table'!$A$43:$F$136,4,FALSE)","v":0},{"$f":"VLOOKUP($A69,'Applicable RBC Table'!$A$43:$F$136,5,FALSE)","v":0},{"$f":"VLOOKUP($A69,'Applicable RBC Table'!$A$43:$F$136,6,FALSE)","v":0},"Di-n-propylnitrosamine","c, nv",7.8,null,19,null,33,null,270,">Csat",7400,">Csat","-","NV","-","NV","-","NV",0.14000000000000001,null,0.33,null,0.61,null,0,null,0,null,0,null,0,null,0,null,0,null,0,null,0,null,0,null,0,null,0]
[48,{"$f":"VLOOKUP($A70,'Applicable RBC Table'!$A$43:$F$136,2,FALSE)","v":0},{"$f":"VLOOKUP($A70,'Applicable RBC Table'!$A$43:$F$136,3,FALSE)","v":0},{"$f":"VLOOKUP($A70,'Applicable RBC Table'!$A$43:$F$136,4,FALSE)","v":0},{"$f":"VLOOKUP($A70,'Applicable RBC Table'!$A$43:$F$136,5,FALSE)","v":0},{"$f":"VLOOKUP($A70,'Applicable RBC Table'!$A$43:$F$136,6,FALSE)","v":0},"Dioxane, 1,4-","c, v",540,null,1400,null,2400,null,21000,null,590000,">Csat",11000,null,27000,null,250000,null,56,null,130,null,250,null,0,null,0,null,0,null,0,null,0,null,0,null,0,null,0,null,0,null,0,null,0]
[49,{"$f":"VLOOKUP($A71,'Applicable RBC Table'!$A$43:$F$136,2,FALSE)","v":0},{"$f":"VLOOKUP($A71,'Applicable RBC Table'!$A$43:$F$136,3,FALSE)","v":0},{"$f":"VLOOKUP($A71,'Applicable RBC Table'!$A$43:$F$136,4,FALSE)","v":0},{"$f":"VLOOKUP($A71,'Applicable RBC Table'!$A$43:$F$136,5,FALSE)","v":0},{"$f":"VLOOKUP($A71,'Applicable RBC Table'!$A$43:$F$136,6,FALSE)","v":0},"Diphenylnitrosamine","c, nv",11000,null,28000,">Csat",47000,">Csat",380000,">Csat","-",">Max","-","NV","-","NV","-","NV",110,null,260,null,470,null,0,null,0,null,0,null,0,null,0,null,0,null,0,null,0,null,0,null,0,null,0]
[50,{"$f":"VLOOKUP($A72,'Applicable RBC Table'!$A$43:$F$136,2,FALSE)","v":0},{"$f":"VLOOKUP($A72,'Applicable RBC Table'!$A$43:$F$136,3,FALSE)","v":0},{"$f":"VLOOKUP($A72,'Applicable RBC Table'!$A$43:$F$136,4,FALSE)","v":0},{"$f":"VLOOKUP($A72,'Applicable RBC Table'!$A$43:$F$136,5,FALSE)","v":0},{"$f":"VLOOKUP($A72,'Applicable RBC Table'!$A$43:$F$136,6,FALSE)","v":0},"EDB (1,2-dibromoethane)","c, v",16,null,53,null,73,null,900,">Csat",25000,">Csat",94,null,220,null,2000,null,0.47,null,1.1000000000000001,null,2,null,0,null,0,null,0,null,0,null,0,null,0,null,0,null,0,null,0,null,0,null,0]
[51,{"$f":"VLOOKUP($A73,'Applicable RBC Table'!$A$43:$F$136,2,FALSE)","v":0},{"$f":"VLOOKUP($A73,'Applicable RBC Table'!$A$43:$F$136,3,FALSE)","v":0},{"$f":"VLOOKUP($A73,'Applicable RBC Table'!$A$43:$F$136,4,FALSE)","v":0},{"$f":"VLOOKUP($A73,'Applicable RBC Table'!$A$43:$F$136,5,FALSE)","v":0},{"$f":"VLOOKUP($A73,'Applicable RBC Table'!$A$43:$F$136,6,FALSE)","v":0},"EDC (1,2-dichloroethane)","c, v",360,null,1200,null,1600,">Csat",10000,">Csat",280000,">Csat",2200,null,5100,null,47000,null,11,null,26,null,47,null,0,null,0,null,0,null,0,null,0,null,0,null,0,null,0,null,0,null,0,null,0]
[52,{"$f":"VLOOKUP($A74,'Applicable RBC Table'!$A$43:$F$136,2,FALSE)","v":0},{"$f":"VLOOKUP($A74,'Applicable RBC Table'!$A$43:$F$136,3,FALSE)","v":0},{"$f":"VLOOKUP($A74,'Applicable RBC Table'!$A$43:$F$136,4,FALSE)","v":0},{"$f":"VLOOKUP($A74,'Applicable RBC Table'!$A$43:$F$136,5,FALSE)","v":0},{"$f":"VLOOKUP($A74,'Applicable RBC Table'!$A$43:$F$136,6,FALSE)","v":0},"Endosulfan, (alpha-beta)","nc, v",3800,">Csat",7600,">Csat",49000,">Csat",16000,">Csat",450000,">Csat","-",">Pv","-",">Pv","-",">Pv","-",">Pv","-",">Pv","-",">Pv",0,null,0,null,0,null,0,null,0,null,0,null,0,null,0,null,0,null,0,null,0]
[53,{"$f":"VLOOKUP($A75,'Applicable RBC Table'!$A$43:$F$136,2,FALSE)","v":0},{"$f":"VLOOKUP($A75,'Applicable RBC Table'!$A$43:$F$136,3,FALSE)","v":0},{"$f":"VLOOKUP($A75,'Applicable RBC Table'!$A$43:$F$136,4,FALSE)","v":0},{"$f":"VLOOKUP($A75,'Applicable RBC Table'!$A$43:$F$136,5,FALSE)","v":0},{"$f":"VLOOKUP($A75,'Applicable RBC Table'!$A$43:$F$136,6,FALSE)","v":0},"Endrin","nc, nv",190,">Csat",380,">Csat",2500,">Csat",800,">Csat",22000,">Csat","-","NV","-","NV","-","NV","-",">Pv","-",">Pv","-",">Pv",0,null,0,null,0,null,0,null,0,null,0,null,0,null,0,null,0,null,0,null,0]
[54,{"$f":"VLOOKUP($A76,'Applicable RBC Table'!$A$43:$F$136,2,FALSE)","v":0},{"$f":"VLOOKUP($A76,'Applicable RBC Table'!$A$43:$F$136,3,FALSE)","v":0},{"$f":"VLOOKUP($A76,'Applicable RBC Table'!$A$43:$F$136,4,FALSE)","v":42.9},{"$f":"VLOOKUP($A76,'Applicable RBC Table'!$A$43:$F$136,5,FALSE)","v":0},{"$f":"VLOOKUP($A76,'Applicable RBC Table'!$A$43:$F$136,6,FALSE)","v":0},"Ethylbenzene","c, v",3400,">Csat",11000,">Csat",15000,">Csat",170000,">Csat","-",">Max",22000,null,53000,null,490000,null,110,null,270,null,490,null,0,null,0,null,0,null,0,null,0,null,0,null,0,null,0,null,0,null,0,null,0]
[55,{"$f":"VLOOKUP($A77,'Applicable RBC Table'!$A$43:$F$136,2,FALSE)","v":0},{"$f":"VLOOKUP($A77,'Applicable RBC Table'!$A$43:$F$136,3,FALSE)","v":0},{"$f":"VLOOKUP($A77,'Applicable RBC Table'!$A$43:$F$136,4,FALSE)","v":0},{"$f":"VLOOKUP($A77,'Applicable RBC Table'!$A$43:$F$136,5,FALSE)","v":0},{"$f":"VLOOKUP($A77,'Applicable RBC Table'!$A$43:$F$136,6,FALSE)","v":0},"Fluoranthene","nc, nv",24000,">Csat",48000,">Csat",300000,">Csat",100000,">Csat","-",">Max","-",">Pv","-",">Pv","-",">Pv","-",">Pv","-",">Pv","-",">Pv",0,null,0,null,0,null,0,null,0,null,0,null,0,null,0,null,0,null,0,null,0]
[56,{"$f":"VLOOKUP($A78,'Applicable RBC Table'!$A$43:$F$136,2,FALSE)","v":0},{"$f":"VLOOKUP($A78,'Applicable RBC Table'!$A$43:$F$136,3,FALSE)","v":0},{"$f":"VLOOKUP($A78,'Applicable RBC Table'!$A$43:$F$136,4,FALSE)","v":0},{"$f":"VLOOKUP($A78,'Applicable RBC Table'!$A$43:$F$136,5,FALSE)","v":0},{"$f":"VLOOKUP($A78,'Applicable RBC Table'!$A$43:$F$136,6,FALSE)","v":0},"Fluorene","nc, v",31000,">Csat",63000,">Csat",470000,null,140000,">Csat","-",">Max","-",">Pv","-",">Pv","-",">Pv","-",">Pv","-",">Pv","-",">Pv",0,null,0,null,0,null,0,null,0,null,0,null,0,null,0,null,0,null,0,null,0]
[57,{"$f":"VLOOKUP($A79,'Applicable RBC Table'!$A$43:$F$136,2,FALSE)","v":0},{"$f":"VLOOKUP($A79,'Applicable RBC Table'!$A$43:$F$136,3,FALSE)","v":0},{"$f":"VLOOKUP($A79,'Applicable RBC Table'!$A$43:$F$136,4,FALSE)","v":0},{"$f":"VLOOKUP($A79,'Applicable RBC Table'!$A$43:$F$136,5,FALSE)","v":0},{"$f":"VLOOKUP($A79,'Applicable RBC Table'!$A$43:$F$136,6,FALSE)","v":0},"Formaldehyde","c*, v",1500,">Csat",6600,">Csat",6400,null,28000,">Csat",780000,">Csat",4300,null,10000,null,94000,null,22,null,51,null,94,null,0,null,0,null,0,null,0,null,0,null,0,null,0,null,0,null,0,null,0,null,0]
[58,{"$f":"VLOOKUP($A80,'Applicable RBC Table'!$A$43:$F$136,2,FALSE)","v":0},{"$f":"VLOOKUP($A80,'Applicable RBC Table'!$A$43:$F$136,3,FALSE)","v":0},{"$f":"VLOOKUP($A80,'Applicable RBC Table'!$A$43:$F$136,4,FALSE)","v":0},{"$f":"VLOOKUP($A80,'Applicable RBC Table'!$A$43:$F$136,5,FALSE)","v":0},{"$f":"VLOOKUP($A80,'Applicable RBC Table'!$A$43:$F$136,6,FALSE)","v":0},"Heptachlor","c, v",11,null,28,null,45,null,400,null,11000,">Csat",43,null,100,null,940,null,0.22,null,0.51,null,0.94,null,0,null,0,null,0,null,0,null,0,null,0,null,0,null,0,null,0,null,0,null,0]
[59,{"$f":"VLOOKUP($A81,'Applicable RBC Table'!$A$43:$F$136,2,FALSE)","v":0},{"$f":"VLOOKUP($A81,'Applicable RBC Table'!$A$43:$F$136,3,FALSE)","v":0},{"$f":"VLOOKUP($A81,'Applicable RBC Table'!$A$43:$F$136,4,FALSE)","v":0},{"$f":"VLOOKUP($A81,'Applicable RBC Table'!$A$43:$F$136,5,FALSE)","v":0},{"$f":"VLOOKUP($A81,'Applicable RBC Table'!$A$43:$F$136,6,FALSE)","v":0},"Heptachlor Epoxide","c, v",5.5,null,14,null,24,null,35,null,970,">Csat",22,null,51,null,470,null,0.11,null,0.26,null,0.47,null,0,null,0,null,0,null,0,null,0,null,0,null,0,null,0,null,0,null,0,null,0]
[60,{"$f":"VLOOKUP($A82,'Applicable RBC Table'!$A$43:$F$136,2,FALSE)","v":0},{"$f":"VLOOKUP($A82,'Applicable RBC Table'!$A$43:$F$136,3,FALSE)","v":0},{"$f":"VLOOKUP($A82,'Applicable RBC Table'!$A$43:$F$136,4,FALSE)","v":0},{"$f":"VLOOKUP($A82,'Applicable RBC Table'!$A$43:$F$136,5,FALSE)","v":0},{"$f":"VLOOKUP($A82,'Applicable RBC Table'!$A$43:$F$136,6,FALSE)","v":0},"Hexachlorobenzene","c, v",21,null,67,null,93,null,1100,null,32000,">Csat",120,null,290,null,2700,null,0.61,null,1.4,null,2.7,null,0,null,0,null,0,null,0,null,0,null,0,null,0,null,0,null,0,null,0,null,0]
[61,{"$f":"VLOOKUP($A83,'Applicable RBC Table'!$A$43:$F$136,2,FALSE)","v":0},{"$f":"VLOOKUP($A83,'Applicable RBC Table'!$A$43:$F$136,3,FALSE)","v":0},{"$f":"VLOOKUP($A83,'Applicable RBC Table'!$A$43:$F$136,4,FALSE)","v":0},{"$f":"VLOOKUP($A83,'Applicable RBC Table'!$A$43:$F$136,5,FALSE)","v":0},{"$f":"VLOOKUP($A83,'Applicable RBC Table'!$A$43:$F$136,6,FALSE)","v":0},"Hexachlorocyclohexane, alpha- (alpha-HCH)","c, nv",8.6,null,21,">Csat",36,null,300,">Csat",8300,">Csat","-","NV","-","NV","-","NV",0.16,null,0.37,null,0.68,null,0,null,0,null,0,null,0,null,0,null,0,null,0,null,0,null,0,null,0,null,0]
[62,{"$f":"VLOOKUP($A84,'Applicable RBC Table'!$A$43:$F$136,2,FALSE)","v":0},{"$f":"VLOOKUP($A84,'Applicable RBC Table'!$A$43:$F$136,3,FALSE)","v":0},{"$f":"VLOOKUP($A84,'Applicable RBC Table'!$A$43:$F$136,4,FALSE)","v":0},{"$f":"VLOOKUP($A84,'Applicable RBC Table'!$A$43:$F$136,5,FALSE)","v":0},{"$f":"VLOOKUP($A84,'Applicable RBC Table'!$A$43:$F$136,6,FALSE)","v":0},"Hexachlorocyclohexane, gamma- (Lindane)","c, nv",49,">Csat",120,">Csat",210,null,800,">Csat",22000,">Csat","-","NV","-","NV","-","NV",0.91,null,2.1,null,4,null,0,null,0,null,0,null,0,null,0,null,0,null,0,null,0,null,0,null,0,null,0]
[63,{"$f":"VLOOKUP($A85,'Applicable RBC Table'!$A$43:$F$136,2,FALSE)","v":0},{"$f":"VLOOKUP($A85,'Applicable RBC Table'!$A$43:$F$136,3,FALSE)","v":0},{"$f":"VLOOKUP($A85,'Applicable RBC Table'!$A$43:$F$136,4,FALSE)","v":0},{"$f":"VLOOKUP($A85,'Applicable RBC Table'!$A$43:$F$136,5,FALSE)","v":0},{"$f":"VLOOKUP($A85,'Applicable RBC Table'!$A$43:$F$136,6,FALSE)","v":0},"Hexachloroethane","c*, v",410,">Csat",810,">Csat",3200,null,1800,">Csat",51000,">Csat",5100,null,12000,null,110000,null,26,null,60,null,110,null,0,null,0,null,0,null,0,null,0,null,0,null,0,null,0,null,0,null,0,null,0]
[64,{"$f":"VLOOKUP($A86,'Applicable RBC Table'!$A$43:$F$136,2,FALSE)","v":0},{"$f":"VLOOKUP($A86,'Applicable RBC Table'!$A$43:$F$136,3,FALSE)","v":0},{"$f":"VLOOKUP($A86,'Applicable RBC Table'!$A$43:$F$136,4,FALSE)","v":0},{"$f":"VLOOKUP($A86,'Applicable RBC Table'!$A$43:$F$136,5,FALSE)","v":0},{"$f":"VLOOKUP($A86,'Applicable RBC Table'!$A$43:$F$136,6,FALSE)","v":0},"Indeno[1,2,3-cd]pyrene","c, nv",110,">Csat",250,">Csat",2100,">Csat",17000,">Csat",490000,">Csat","-","NV","-","NV","-","NV","-",">Pv","-",">Pv","-",">Pv",0,null,0,null,0,null,0,null,0,null,0,null,0,null,0,null,0,null,0,null,0]
[65,{"$f":"VLOOKUP($A87,'Applicable RBC Table'!$A$43:$F$136,2,FALSE)","v":0},{"$f":"VLOOKUP($A87,'Applicable RBC Table'!$A$43:$F$136,3,FALSE)","v":0},{"$f":"VLOOKUP($A87,'Applicable RBC Table'!$A$43:$F$136,4,FALSE)","v":0},{"$f":"VLOOKUP($A87,'Applicable RBC Table'!$A$43:$F$136,5,FALSE)","v":0},{"$f":"VLOOKUP($A87,'Applicable RBC Table'!$A$43:$F$136,6,FALSE)","v":0},"Lead","nc, nv",4000,"L",4000,"L",8000,null,8000,null,8000,null,"-","NV","-","NV","-","NV","-",">Pv","-",">Pv","-",">Pv",0,null,0,null,0,null,0,null,0,null,0,null,0,null,0,null,0,null,0,null,0]
[66,{"$f":"VLOOKUP($A88,'Applicable RBC Table'!$A$43:$F$136,2,FALSE)","v":0},{"$f":"VLOOKUP($A88,'Applicable RBC Table'!$A$43:$F$136,3,FALSE)","v":0},{"$f":"VLOOKUP($A88,'Applicable RBC Table'!$A$43:$F$136,4,FALSE)","v":0},{"$f":"VLOOKUP($A88,'Applicable RBC Table'!$A$43:$F$136,5,FALSE)","v":0},{"$f":"VLOOKUP($A88,'Applicable RBC Table'!$A$43:$F$136,6,FALSE)","v":0},"Manganese","nc, nv",18000,null,36000,null,250000,null,82000,null,2800000,null,"-","NV","-","NV","-","NV",0.52,null,0.52,null,2.2000000000000002,null,{"$f":"IF($B88>I88,1,0)","v":0},null,{"$f":"IF($B88>K88,1,0)","v":0},null,{"$f":"IF($B88>M88,1,0)","v":0},null,{"$f":"IF(MAX(B88:C88)>O88,1,0)","v":0},null,{"$f":"IF(MAX(B88:C88)>Q88,1,0)","v":0},null,{"$f":"IF($E88>S88,1,0)","v":0},null,{"$f":"IF($E88>U88,1,0)","v":0},null,{"$f":"IF($E88>W88,1,0)","v":0},null,{"$f":"IF($F88>Y88,1,0)","v":0},null,{"$f":"IF($F88>AA88,1,0)","v":0},null,{"$f":"IF($F88>AC88,1,0)","v":0}]
[67,{"$f":"VLOOKUP($A89,'Applicable RBC Table'!$A$43:$F$136,2,FALSE)","v":0},{"$f":"VLOOKUP($A89,'Applicable RBC Table'!$A$43:$F$136,3,FALSE)","v":0},{"$f":"VLOOKUP($A89,'Applicable RBC Table'!$A$43:$F$136,4,FALSE)","v":0},{"$f":"VLOOKUP($A89,'Applicable RBC Table'!$A$43:$F$136,5,FALSE)","v":0},{"$f":"VLOOKUP($A89,'Applicable RBC Table'!$A$43:$F$136,6,FALSE)","v":0},"MCPA ((4-chloro-2-methylphenoxy)acetic acid)","nc, nv",320,">Csat",630,">Csat",4100,null,1300,">Csat",37000,">Csat","-","NV","-","NV","-","NV","-",">Pv","-",">Pv","-",">Pv",0,null,0,null,0,null,0,null,0,null,0,null,0,null,0,null,0,null,0,null,0]
[68,{"$f":"VLOOKUP($A90,'Applicable RBC Table'!$A$43:$F$136,2,FALSE)","v":0},{"$f":"VLOOKUP($A90,'Applicable RBC Table'!$A$43:$F$136,3,FALSE)","v":0},{"$f":"VLOOKUP($A90,'Applicable RBC Table'!$A$43:$F$136,4,FALSE)","v":0},{"$f":"VLOOKUP($A90,'Applicable RBC Table'!$A$43:$F$136,5,FALSE)","v":0},{"$f":"VLOOKUP($A90,'Applicable RBC Table'!$A$43:$F$136,6,FALSE)","v":0},"Mercury","nc, nv",230,null,470,null,3500,null,1100,null,29000,null,"-","NV","-","NV","-","NV",3.1,null,3.1,null,13,null,0,null,0,null,0,null,0,null,0,null,0,null,0,null,0,null,0,null,0,null,0]
[69,{"$f":"VLOOKUP($A91,'Applicable RBC Table'!$A$43:$F$136,2,FALSE)","v":0},{"$f":"VLOOKUP($A91,'Applicable RBC Table'!$A$43:$F$136,3,FALSE)","v":0},{"$f":"VLOOKUP($A91,'Applicable RBC Table'!$A$43:$F$136,4,FALSE)","v":0},{"$f":"VLOOKUP($A91,'Applicable RBC Table'!$A$43:$F$136,5,FALSE)","v":0},{"$f":"VLOOKUP($A91,'Applicable RBC Table'!$A$43:$F$136,6,FALSE)","v":0},"MTBE (methyl t-butyl ether)","c, v",25000,">Csat",73000,">Csat",110000,null,"-",">Max",32000000,">Max",220000,null,510000,null,4700000,null,1100,null,2600,null,4700,null,0,null,0,null,0,null,0,null,0,null,0,null,0,null,0,null,0,null,0,null,0]
[70,{"$f":"VLOOKUP($A92,'Applicable RBC Table'!$A$43:$F$136,2,FALSE)","v":0},{"$f":"VLOOKUP($A92,'Applicable RBC Table'!$A$43:$F$136,3,FALSE)","v":0.161},{"$f":"VLOOKUP($A92,'Applicable RBC Table'!$A$43:$F$136,4,FALSE)","v":0},{"$f":"VLOOKUP($A92,'Applicable RBC Table'!$A$43:$F$136,5,FALSE)","v":0},{"$f":"VLOOKUP($A92,'Applicable RBC Table'!$A$43:$F$136,6,FALSE)","v":0},"Naphthalene","c, v",530,">Csat",1200,">Csat",2300,null,7500,">Csat",210000,">Csat",1700,null,3900,null,36000,null,8.3000000000000007,null,20,null,36,null,0,null,0,null,0,null,0,null,0,null,0,null,0,null,0,null,0,null,0,null,0]
[71,{"$f":"VLOOKUP($A93,'Applicable RBC Table'!$A$43:$F$136,2,FALSE)","v":0},{"$f":"VLOOKUP($A93,'Applicable RBC Table'!$A$43:$F$136,3,FALSE)","v":0},{"$f":"VLOOKUP($A93,'Applicable RBC Table'!$A$43:$F$136,4,FALSE)","v":0},{"$f":"VLOOKUP($A93,'Applicable RBC Table'!$A$43:$F$136,5,FALSE)","v":0},{"$f":"VLOOKUP($A93,'Applicable RBC Table'!$A$43:$F$136,6,FALSE)","v":0},"Nickel","c*, nv",15000,null,31000,null,220000,null,70000,null,1900000,">Max","-","NV","-","NV","-","NV",0.94,null,0.94,null,3.9,null,0,null,0,null,0,null,0,null,0,null,0,null,0,null,0,null,0,null,0,null,0]
[72,{"$f":"VLOOKUP($A94,'Applicable RBC Table'!$A$43:$F$136,2,FALSE)","v":0},{"$f":"VLOOKUP($A94,'Applicable RBC Table'!$A$43:$F$136,3,FALSE)","v":0},{"$f":"VLOOKUP($A94,'Applicable RBC Table'!$A$43:$F$136,4,FALSE)","v":0},{"$f":"VLOOKUP($A94,'Applicable RBC Table'!$A$43:$F$136,5,FALSE)","v":0},{"$f":"VLOOKUP($A94,'Applicable RBC Table'!$A$43:$F$136,6,FALSE)","v":0},"Pentachlorophenol","c, nv",100,null,260,null,400,null,3400,null,96000,">Csat","-","NV","-","NV","-","NV",55,null,130,null,240,null,0,null,0,null,0,null,0,null,0,null,0,null,0,null,0,null,0,null,0,null,0]
[73,{"$f":"VLOOKUP($A95,'Applicable RBC Table'!$A$43:$F$136,2,FALSE)","v":0},{"$f":"VLOOKUP($A95,'Applicable RBC Table'!$A$43:$F$136,3,FALSE)","v":0},{"$f":"VLOOKUP($A95,'Applicable RBC Table'!$A$43:$F$136,4,FALSE)","v":0},{"$f":"VLOOKUP($A95,'Applicable RBC Table'!$A$43:$F$136,5,FALSE)","v":0},{"$f":"VLOOKUP($A95,'Applicable RBC Table'!$A$43:$F$136,6,FALSE)","v":0},"Polychlorinated biphenyls (Total PCBs)  **","c*, v",3.3,">Csat",3.3,">Csat",5.9,null,49,">Csat",1400,">Csat",99,">Pv",230,">Pv",2200,">Pv",0.38,null,0.9,null,1.7,null,0,null,0,null,0,null,0,null,0,null,0,null,0,null,0,null,0,null,0,null,0]
[74,{"$f":"VLOOKUP($A96,'Applicable RBC Table'!$A$43:$F$136,2,FALSE)","v":0},{"$f":"VLOOKUP($A96,'Applicable RBC Table'!$A$43:$F$136,3,FALSE)","v":0},{"$f":"VLOOKUP($A96,'Applicable RBC Table'!$A$43:$F$136,4,FALSE)","v":0},{"$f":"VLOOKUP($A96,'Applicable RBC Table'!$A$43:$F$136,5,FALSE)","v":0},{"$f":"VLOOKUP($A96,'Applicable RBC Table'!$A$43:$F$136,6,FALSE)","v":0},"Propylbenzene, iso-","nc, v",35000,">Csat",70000,">Csat",570000,null,270000,">Csat",7500000,">Max",830000,null,830000,null,18000000,null,4200,null,4200,null,18000,null,0,null,0,null,0,null,0,null,0,null,0,null,0,null,0,null,0,null,0,null,0]
[75,{"$f":"VLOOKUP($A97,'Applicable RBC Table'!$A$43:$F$136,2,FALSE)","v":0},{"$f":"VLOOKUP($A97,'Applicable RBC Table'!$A$43:$F$136,3,FALSE)","v":0},{"$f":"VLOOKUP($A97,'Applicable RBC Table'!$A$43:$F$136,4,FALSE)","v":0},{"$f":"VLOOKUP($A97,'Applicable RBC Table'!$A$43:$F$136,5,FALSE)","v":0},{"$f":"VLOOKUP($A97,'Applicable RBC Table'!$A$43:$F$136,6,FALSE)","v":0},"Pyrene","nc, v",18000,">Csat",36000,">Csat",230000,null,75000,">Csat",2100000,">Max","-",">Pv","-",">Pv","-",">Pv","-",">Pv","-",">Pv","-",">Pv",0,null,0,null,0,null,0,null,0,null,0,null,0,null,0,null,0,null,0,null,0]
[76,{"$f":"VLOOKUP($A98,'Applicable RBC Table'!$A$43:$F$136,2,FALSE)","v":0},{"$f":"VLOOKUP($A98,'Applicable RBC Table'!$A$43:$F$136,3,FALSE)","v":0},{"$f":"VLOOKUP($A98,'Applicable RBC Table'!$A$43:$F$136,4,FALSE)","v":0},{"$f":"VLOOKUP($A98,'Applicable RBC Table'!$A$43:$F$136,5,FALSE)","v":0},{"$f":"VLOOKUP($A98,'Applicable RBC Table'!$A$43:$F$136,6,FALSE)","v":0},"Silver","nc, nv",3900,null,7800,null,58000,null,18000,null,490000,null,"-","NV","-","NV","-","NV","-",">Pv","-",">Pv","-",">Pv",0,null,0,null,0,null,0,null,0,null,0,null,0,null,0,null,0,null,0,null,0]
[77,{"$f":"VLOOKUP($A99,'Applicable RBC Table'!$A$43:$F$136,2,FALSE)","v":0},{"$f":"VLOOKUP($A99,'Applicable RBC Table'!$A$43:$F$136,3,FALSE)","v":0},{"$f":"VLOOKUP($A99,'Applicable RBC Table'!$A$43:$F$136,4,FALSE)","v":0},{"$f":"VLOOKUP($A99,'Applicable RBC Table'!$A$43:$F$136,5,FALSE)","v":0},{"$f":"VLOOKUP($A99,'Applicable RBC Table'!$A$43:$F$136,6,FALSE)","v":0},"Styrene","nc, v",79000,">Csat",160000,">Csat","-",null,560000,">Csat","-",">Max",2100000,null,2100000,null,44000000,null,10000,null,10000,null,44000,null,0,null,0,null,0,null,0,null,0,null,0,null,0,null,0,null,0,null,0,null,0]
[78,{"$f":"VLOOKUP($A100,'Applicable RBC Table'!$A$43:$F$136,2,FALSE)","v":0},{"$f":"VLOOKUP($A100,'Applicable RBC Table'!$A$43:$F$136,3,FALSE)","v":0},{"$f":"VLOOKUP($A100,'Applicable RBC Table'!$A$43:$F$136,4,FALSE)","v":0},{"$f":"VLOOKUP($A100,'Applicable RBC Table'!$A$43:$F$136,5,FALSE)","v":0},{"$f":"VLOOKUP($A100,'Applicable RBC Table'!$A$43:$F$136,6,FALSE)","v":0},"2,3,7,8-TCDD (dioxin) equivalents **","c, v",4.6999999999999999E-4,">Csat",1E-3,">Csat",1.6000000000000001E-3,null,2.3E-3,">Csat",6.3E-2,">Csat",1.5E-3,null,3.5000000000000001E-3,null,3.2000000000000001E-2,null,5.6999999999999996E-6,null,1.2999999999999999E-5,null,2.5000000000000001E-5,null,0,null,0,null,0,null,0,null,0,null,0,null,0,null,0,null,0,null,0,null,0]
[79,{"$f":"VLOOKUP($A101,'Applicable RBC Table'!$A$43:$F$136,2,FALSE)","v":0},{"$f":"VLOOKUP($A101,'Applicable RBC Table'!$A$43:$F$136,3,FALSE)","v":0},{"$f":"VLOOKUP($A101,'Applicable RBC Table'!$A$43:$F$136,4,FALSE)","v":0},{"$f":"VLOOKUP($A101,'Applicable RBC Table'!$A$43:$F$136,5,FALSE)","v":0},{"$f":"VLOOKUP($A101,'Applicable RBC Table'!$A$43:$F$136,6,FALSE)","v":0},"Tetrachloroethene (PCE)","c*, v",2700,">Csat",5400,">Csat",43000,null,18000,">Csat",500000,">Csat",83000,null,83000,null,1800000,null,420,null,420,null,1800,null,0,null,0,null,0,null,0,null,0,null,0,null,0,null,0,null,0,null,0,null,0]
[80,{"$f":"VLOOKUP($A102,'Applicable RBC Table'!$A$43:$F$136,2,FALSE)","v":0},{"$f":"VLOOKUP($A102,'Applicable RBC Table'!$A$43:$F$136,3,FALSE)","v":2},{"$f":"VLOOKUP($A102,'Applicable RBC Table'!$A$43:$F$136,4,FALSE)","v":36.6},{"$f":"VLOOKUP($A102,'Applicable RBC Table'!$A$43:$F$136,5,FALSE)","v":0},{"$f":"VLOOKUP($A102,'Applicable RBC Table'!$A$43:$F$136,6,FALSE)","v":0},"Toluene","nc, v",58000,">Csat",120000,">Csat",880000,null,280000,">Csat",7700000,">Csat",10000000,null,10000000,null,"-",null,52000,null,52000,null,220000,null,0,null,0,null,0,null,0,null,0,null,0,null,0,null,0,null,0,null,0,null,0]
[81,{"$f":"VLOOKUP($A103,'Applicable RBC Table'!$A$43:$F$136,2,FALSE)","v":0},{"$f":"VLOOKUP($A103,'Applicable RBC Table'!$A$43:$F$136,3,FALSE)","v":0},{"$f":"VLOOKUP($A103,'Applicable RBC Table'!$A$43:$F$136,4,FALSE)","v":0},{"$f":"VLOOKUP($A103,'Applicable RBC Table'!$A$43:$F$136,5,FALSE)","v":0},{"$f":"VLOOKUP($A103,'Applicable RBC Table'!$A$43:$F$136,6,FALSE)","v":0},"Toxaphene","c, nv",49,null,120,null,210,null,1700,">Csat",47000,">Csat","-","NV","-","NV","-","NV",0.88,null,2.1,null,3.8,null,0,null,0,null,0,null,0,null,0,null,0,null,0,null,0,null,0,null,0,null,0]
[82,{"$f":"VLOOKUP($A104,'Applicable RBC Table'!$A$43:$F$136,2,FALSE)","v":0},{"$f":"VLOOKUP($A104,'Applicable RBC Table'!$A$43:$F$136,3,FALSE)","v":0},{"$f":"VLOOKUP($A104,'Applicable RBC Table'!$A$43:$F$136,4,FALSE)","v":0},{"$f":"VLOOKUP($A104,'Applicable RBC Table'!$A$43:$F$136,5,FALSE)","v":0},{"$f":"VLOOKUP($A104,'Applicable RBC Table'!$A$43:$F$136,6,FALSE)","v":0},"Trichloro-1,2,2-trifluoroethane, 1,1,2- (Freon 113)","nc, v","-",">Max","-",">Max","-",null,"-",">Max","-",">Max",63000000,null,63000000,null,100000000,null,310000,null,310000,null,1300000,null,0,null,0,null,0,null,0,null,0,null,0,null,0,null,0,null,0,null,0,null,0]
[83,{"$f":"VLOOKUP($A105,'Applicable RBC Table'!$A$43:$F$136,2,FALSE)","v":0},{"$f":"VLOOKUP($A105,'Applicable RBC Table'!$A$43:$F$136,3,FALSE)","v":0},{"$f":"VLOOKUP($A105,'Applicable RBC Table'!$A$43:$F$136,4,FALSE)","v":0},{"$f":"VLOOKUP($A105,'Applicable RBC Table'!$A$43:$F$136,5,FALSE)","v":0},{"$f":"VLOOKUP($A105,'Applicable RBC Table'!$A$43:$F$136,6,FALSE)","v":0},"Trichloroethane, 1,1,1-","c, v",530000,">Csat","-",">Max","-",null,"-",">Max","-",">Max",10000000,null,10000000,null,"-",null,52000,null,52000,null,220000,null,0,null,0,null,0,null,0,null,0,null,0,null,0,null,0,null,0,null,0,null,0]
[84,{"$f":"VLOOKUP($A106,'Applicable RBC Table'!$A$43:$F$136,2,FALSE)","v":0},{"$f":"VLOOKUP($A106,'Applicable RBC Table'!$A$43:$F$136,3,FALSE)","v":0},{"$f":"VLOOKUP($A106,'Applicable RBC Table'!$A$43:$F$136,4,FALSE)","v":0},{"$f":"VLOOKUP($A106,'Applicable RBC Table'!$A$43:$F$136,5,FALSE)","v":0},{"$f":"VLOOKUP($A106,'Applicable RBC Table'!$A$43:$F$136,6,FALSE)","v":0},"Trichloroethane, 1,1,2-","c*, v",32,null,63,null,550,null,540,null,15000,">Csat",420,null,420,null,8800,null,2.1,null,2.1,null,8.8000000000000007,null,0,null,0,null,0,null,0,null,0,null,0,null,0,null,0,null,0,null,0,null,0]
[85,{"$f":"VLOOKUP($A107,'Applicable RBC Table'!$A$43:$F$136,2,FALSE)","v":0},{"$f":"VLOOKUP($A107,'Applicable RBC Table'!$A$43:$F$136,3,FALSE)","v":0},{"$f":"VLOOKUP($A107,'Applicable RBC Table'!$A$43:$F$136,4,FALSE)","v":0},{"$f":"VLOOKUP($A107,'Applicable RBC Table'!$A$43:$F$136,5,FALSE)","v":0},{"$f":"VLOOKUP($A107,'Applicable RBC Table'!$A$43:$F$136,6,FALSE)","v":0},"Trichloroethene","nc*, v",180,null,350,">Csat",2900,null,1300,">Csat",37000,">Max",4200,null,4200,null,88000,null,21,null,21,null,88,null,0,null,0,null,0,null,0,null,0,null,0,null,0,null,0,null,0,null,0,null,0]
[86,{"$f":"VLOOKUP($A108,'Applicable RBC Table'!$A$43:$F$136,2,FALSE)","v":0},{"$f":"VLOOKUP($A108,'Applicable RBC Table'!$A$43:$F$136,3,FALSE)","v":0},{"$f":"VLOOKUP($A108,'Applicable RBC Table'!$A$43:$F$136,4,FALSE)","v":0},{"$f":"VLOOKUP($A108,'Applicable RBC Table'!$A$43:$F$136,5,FALSE)","v":0},{"$f":"VLOOKUP($A108,'Applicable RBC Table'!$A$43:$F$136,6,FALSE)","v":0},"Trichlorofluoromethane (Freon 11)","nc, v",76000,">Csat",150000,">Csat","-",null,690000,">Csat","-",">Max",1500000,null,1500000,null,31000000,null,7300,null,7300,null,31000,null,0,null,0,null,0,null,0,null,0,null,0,null,0,null,0,null,0,null,0,null,0]
[87,{"$f":"VLOOKUP($A109,'Applicable RBC Table'!$A$43:$F$136,2,FALSE)","v":0},{"$f":"VLOOKUP($A109,'Applicable RBC Table'!$A$43:$F$136,3,FALSE)","v":0},{"$f":"VLOOKUP($A109,'Applicable RBC Table'!$A$43:$F$136,4,FALSE)","v":0},{"$f":"VLOOKUP($A109,'Applicable RBC Table'!$A$43:$F$136,5,FALSE)","v":0},{"$f":"VLOOKUP($A109,'Applicable RBC Table'!$A$43:$F$136,6,FALSE)","v":0},"Trichlorophenol, 2,4,6-","c*, nv",630,null,1300,null,8200,null,2700,null,74000,">Csat","-","NV","-","NV","-","NV",91,">Pv",210,">Pv",400,">Pv",0,null,0,null,0,null,0,null,0,null,0,null,0,null,0,null,0,null,0,null,0]
[88,{"$f":"VLOOKUP($A110,'Applicable RBC Table'!$A$43:$F$136,2,FALSE)","v":0},{"$f":"VLOOKUP($A110,'Applicable RBC Table'!$A$43:$F$136,3,FALSE)","v":0},{"$f":"VLOOKUP($A110,'Applicable RBC Table'!$A$43:$F$136,4,FALSE)","v":0},{"$f":"VLOOKUP($A110,'Applicable RBC Table'!$A$43:$F$136,5,FALSE)","v":0},{"$f":"VLOOKUP($A110,'Applicable RBC Table'!$A$43:$F$136,6,FALSE)","v":0},"Trimethylbenzene, 1,2,4-","nc, v",4300,">Csat",8600,">Csat",69000,">Csat",29000,">Csat",810000,">Csat",130000,null,130000,null,2600000,null,630,null,630,null,2600,null,0,null,0,null,0,null,0,null,0,null,0,null,0,null,0,null,0,null,0,null,0]
[89,{"$f":"VLOOKUP($A111,'Applicable RBC Table'!$A$43:$F$136,2,FALSE)","v":0},{"$f":"VLOOKUP($A111,'Applicable RBC Table'!$A$43:$F$136,3,FALSE)","v":0},{"$f":"VLOOKUP($A111,'Applicable RBC Table'!$A$43:$F$136,4,FALSE)","v":0},{"$f":"VLOOKUP($A111,'Applicable RBC Table'!$A$43:$F$136,5,FALSE)","v":0},{"$f":"VLOOKUP($A111,'Applicable RBC Table'!$A$43:$F$136,6,FALSE)","v":0},"Trimethylbenzene, 1,3,5-","nc, v",4300,">Csat",8600,">Csat",69000,">Csat",29000,">Csat",810000,">Csat",130000,null,130000,null,2600000,null,630,null,630,null,2600,null,0,null,0,null,0,null,0,null,0,null,0,null,0,null,0,null,0,null,0,null,0]
[90,{"$f":"VLOOKUP($A112,'Applicable RBC Table'!$A$43:$F$136,2,FALSE)","v":0},{"$f":"VLOOKUP($A112,'Applicable RBC Table'!$A$43:$F$136,3,FALSE)","v":0},{"$f":"VLOOKUP($A112,'Applicable RBC Table'!$A$43:$F$136,4,FALSE)","v":0},{"$f":"VLOOKUP($A112,'Applicable RBC Table'!$A$43:$F$136,5,FALSE)","v":0},{"$f":"VLOOKUP($A112,'Applicable RBC Table'!$A$43:$F$136,6,FALSE)","v":0},"Vinyl chloride","c, v",36,null,80,null,440,null,3400,">Csat",95000,">Csat",3300,null,4100,null,280000,null,17,null,20,null,280,null,0,null,0,null,0,null,0,null,0,null,0,null,0,null,0,null,0,null,0,null,0]
[91,{"$f":"VLOOKUP($A113,'Applicable RBC Table'!$A$43:$F$136,2,FALSE)","v":0},{"$f":"VLOOKUP($A113,'Applicable RBC Table'!$A$43:$F$136,3,FALSE)","v":0},{"$f":"VLOOKUP($A113,'Applicable RBC Table'!$A$43:$F$136,4,FALSE)","v":445},{"$f":"VLOOKUP($A113,'Applicable RBC Table'!$A$43:$F$136,5,FALSE)","v":0},{"$f":"VLOOKUP($A113,'Applicable RBC Table'!$A$43:$F$136,6,FALSE)","v":0},"Xylenes","nc, v",14000,">Csat",29000,">Csat",250000,null,200000,">Csat",5600000,">Max",210000,null,210000,null,4400000,null,1000,null,1000,null,4400,null,0,null,0,null,0,null,0,null,0,null,0,null,0,null,0,null,0,null,0,null,0]

{"sheet":"Background Metals Info","index":7,"n_rows":32,"n_cols":35,"rows_kept":32,"cut":false,"hidden":false,"merged":[]}
[]
[null,null,null,null,null,null,null,null,null,null,null,null,null,null,null,null,null,null,1,2,3,5,6,7,8,9,10,11,12,13,14,15,16,17,18]
[null,null,null,null,null,null,null,null,null,null,null,null,null,null,null,null,null,null,"Metal","Antimony","Arsenic","Barium","Beryllium","Cadmium","Chromium","Copper","Lead","Manganese","Mercury","Nickel","Selenium","Silver","Thallium","Vanadium","Zinc"]
[null,null,null,null,null,null,null,null,null,null,null,null,null,null,null,null,null,1,"Basin and Range",0.86,12,790,2.4,0.81,100,110,29,1600,0.28000000000000003,66,0.41,0.42,0.22,270,130]
[null,null,null,null,null,null,null,null,null,null,null,null,null,null,null,null,null,2,"Blue Mountains","N/A",14,950,2.6,0.69,190,120,21,1800,1.4,92,0.93,0.51,"N/A",400,160]
[null,null,null,null,null,null,null,null,null,null,null,null,null,null,null,null,null,3,"Cascade Range",0.67,19,630,2.1,0.54,200,73,34,2100,0.24,110,0.52,0.17,2.8,280,170]
[null,null,null,null,null,null,null,null,null,null,null,null,null,null,null,null,null,4,"Cost Range",0.55000000000000004,12,840,2.8,0.54,240,100,34,2100,0.11,160,1.5,0.41,5.4,260,140]
[null,null,null,null,null,null,null,null,null,null,null,null,null,null,null,null,null,5,"Deschutes-Columbia Plateau",1.3,6.8,700,2.6,0.4,170,29,18,1300,0.04,78,0.46,0.82,4.5999999999999996,300,130]
[null,null,null,null,null,null,null,null,null,null,null,null,null,null,null,null,null,6,"High Lava Plains",0.35,7.2,790,2.6,0.78,140,62,21,1500,0.06,75,0.54,0.68,0.21,220,140]
[null,null,null,null,null,null,null,null,null,null,null,null,null,null,null,null,null,7,"Klamath Mountains",0.59,12,630,1.4,0.52,890,110,36,3000,0.17,630,0.8,0.16,0.31,290,140]
[null,null,null,null,null,null,null,null,null,null,null,null,null,null,null,null,null,8,"Owyhee Uplands","N/A",17,970,2,"N/A",120,50,30,1200,0.75,53,0.49,2.2000000000000002,"N/A",190,120]
[null,null,null,null,null,null,null,null,null,null,null,null,null,null,null,null,null,9,"South Willamette Valley",0.39,18,730,2.6,1.6,100,140,28,2900,7.0000000000000007E-2,50,0.68,0.33,5.7,370,200]
[null,null,null,null,null,null,null,null,null,null,null,null,null,null,null,null,null,10,"Portland Basin",0.56000000000000005,8.8000000000000007,790,2,0.63,76,34,79,1800,0.23,47,0.71,0.82,5.2,180,180]
[null,null,null,null,null,null,null,null,null,null,null,null,null,null,null,null,null,null,"No Background Region Selected","No Value","No Value","No Value","No Value","No Value","No Value","No Value","No Value","No Value","No Value","No Value","No Value","No Value","No Value","No Value","No Value"]
[]
[null,null,null,null,null,null,null,null,null,null,null,null,null,null,null,null,null,null,null,"Selected Region",{"$f":"'Applicable RBC Table'!L27","v":"No Background Region Selected"}]
[null,null,null,null,null,null,null,null,null,null,null,null,null,null,null,null,null,null,2,"Antimony",{"$f":"VLOOKUP($U$16,$S$4:$AI$14,S17,FALSE)","v":"No Value"},"BG","*No RBC"]
[null,null,null,null,null,null,null,null,null,null,null,null,null,null,null,null,null,null,3,"Arsenic",{"$f":"VLOOKUP($U$16,$S$4:$AI$14,S18,FALSE)","v":"No Value"},"BG"]
[null,null,null,null,null,null,null,null,null,null,null,null,null,null,null,null,null,null,4,"Barium","No Value","BG"]
[null,null,null,null,null,null,null,null,null,null,null,null,null,null,null,null,null,null,5,"Beryllium","No Value","BG"]
[null,null,null,null,null,null,null,null,null,null,null,null,null,null,null,null,null,null,6,"Cadmium","No Value","BG"]
[null,null,null,null,null,null,null,null,null,null,null,null,null,null,null,null,null,null,7,"Chromium","No Value","BG"]
[null,null,null,null,null,null,null,null,null,null,null,null,null,null,null,null,null,null,8,"Copper","No Value","BG"]
[null,null,null,null,null,null,null,null,null,null,null,null,null,null,null,null,null,null,9,"Lead","No Value","BG"]
[null,null,null,null,null,null,null,null,null,null,null,null,null,null,null,null,null,null,10,"Manganese","No Value","BG"]
[null,null,null,null,null,null,null,null,null,null,null,null,null,null,null,null,null,null,11,"Mercury","No Value","BG"]
[null,null,null,null,null,null,null,null,null,null,null,null,null,null,null,null,null,null,12,"Nickel","No Value","BG"]
[null,null,null,null,null,null,null,null,null,null,null,null,null,null,null,null,null,null,13,"Selenium","No Value","BG","*No RBC"]
[null,null,null,null,null,null,null,null,null,null,null,null,null,null,null,null,null,null,14,"Silver","No Value","BG"]
[null,null,null,null,null,null,null,null,null,null,null,null,null,null,null,null,null,null,15,"Thallium","No Value","BG","*No RBC"]
[null,null,null,null,null,null,null,null,null,null,null,null,null,null,null,null,null,null,16,"Vanadium","No Value","BG","*No RBC"]
[null,null,null,null,null,null,null,null,null,null,null,null,null,null,null,null,null,null,17,"Zinc","No Value","BG","*No RBC"]

{"sheet":"Version Notes","index":8,"n_rows":4,"n_cols":1,"rows_kept":4,"cut":false,"hidden":false,"merged":[]}
["Version 2.7 - Added background value adjustments to the RBC table. Corrected errors in cumulative risk calculation. Provided additional analyte grouping on the Applicable RBC Table worksheet."]
["Version 2.6 - Added total risk calculation for construction and excavation workers. Removed leaching to groundwater from inclusion of total risk calculation. Hid metals from risk of free product table. Added an RBC reference table for future updates to RBCs and added references to this that page on the Applicable RBC worksheet and Risk Calculation worksheet. This means all other parges and calculations will auto update when copying in new RBCs. Grouped analytes on Applicable RBC worksheet by commonly used groups for easier data entry. Replaced hot spot concentration table with the DEQ published values and rebuilt the worksheet to properly screen data from Applicable RBC worksheet."]
["Version 2.5 - Corrected various errors in calculations and references including benzo(a)pyrene, TPH RBCs. Corrected total risk calculations from10^-6 risk to 10^-5 and added a summation of risk to receptiors from all applicable exposure pathways. Improved efficiency of most macros."]
["Version 2.4 - Initial Release to Western Region for general use."]

{"sheet":"Reference","index":9,"n_rows":11,"n_cols":4,"rows_kept":11,"cut":false,"hidden":false,"merged":[]}
["No","Yes",1,"No Background Region Selected"]
["Yes","No",2,"Basin and Range"]
["Future","N/A",3,"Blue Mountains"]
["Restricted",null,4,"Cascade Range"]
[null,null,5,"Cost Range"]
[null,null,6,"Deschutes-Columbia Plateau"]
[null,null,7,"High Lava Plains"]
[null,null,8,"Klamath Mountains"]
[null,null,9,"Owyhee Uplands"]
[null,null,10,"South Willamette Valley"]
[null,null,11,"Portland Basin"]

{"sheet":"RBC Reference Table","index":10,"n_rows":101,"n_cols":74,"rows_kept":101,"cut":false,"hidden":false,"merged":[[0,44,0,49],[0,50,0,51],[0,52,0,57],[0,58,0,63],[1,4,1,13],[1,14,1,19],[1,20,1,25],[1,26,1,31],[1,32,1,37],[1,38,1,43],[0,4,0,13],[0,14,0,19],[0,20,0,25],[0,26,0,31],[0,32,0,37],[0,38,0,43],[2,38,2,43],[2,44,2,49],[2,50,2,51],[2,52,2,57],[2,58,2,63],[2,4,2,13],[2,14,2,19],[2,20,2,25],[2,26,2,31],[2,32,2,37],[3,4,3,13],[3,14,3,19],[3,20,3,25],[3,26,3,31],[3,32,3,37],[0,64,0,73],[1,64,1,73],[2,64,2,73],[3,64,3,73],[4,14,4,15],[4,48,4,49],[4,50,4,51],[3,38,3,43],[3,44,3,49],[3,50,3,51],[3,52,3,57],[3,58,3,63],[1,44,1,49],[1,50,1,51],[1,52,1,57],[1,58,1,63]]}
["Contaminated Medium",null,null,null,"SOIL ",null,null,null,null,null,null,null,null,null,"SOIL ",null,null,null,null,null,"SOIL ",null,null,null,null,null,"SOIL ",null,null,null,null,null,"GROUNDWATER",null,null,null,null,null,"GROUNDWATER",null,null,null,null,null,"GROUNDWATER",null,null,null,null,null,"GROUNDWATER",null,"SOIL GAS",null,null,null,null,null,"AIR",null,null,null,null,null,"Select Metals only - Takes into account selected background concentration"]
[null,null,null,null,"mg/Kg (ppm)",null,null,null,null,null,null,null,null,null,"mg/Kg (ppm)",null,null,null,null,null,"mg/Kg (ppm)",null,null,null,null,null,"mg/Kg (ppm)",null,null,null,null,null,"µg/L (ppb)",null,null,null,null,null,"µg/L (ppb)",null,null,null,null,null,"µg/L (ppb)",null,null,null,null,null,"µg/L (ppb)",null,"µg/m3",null,null,null,null,null,"µg/m3",null,null,null,null,null,"Soil mg/Kg (ppm)"]
["Exposure Pathway",null,null,null,"Soil Ingestion, Dermal Contact, and Inhalation",null,null,null,null,null,null,null,null,null,"Volatilization to Outdoor Air",null,null,null,null,null,"Vapor Intrusion into Buildings",null,null,null,null,null,"Leaching to Groundwater",null,null,null,null,null,"Ingestion, Dermal  & Inhalation from Tapwater",null,null,null,null,null,"Volatilization to Outdoor Air",null,null,null,null,null,"Vapor Intrusion into Buildings",null,null,null,null,null,"GW in Excavation",null,"Vapor Intrusion into Buildings",null,null,null,null,null,"Inhalation",null,null,null,null,null,"Soil Ingestion, Dermal Contact, and Inhalation"]
[null,null,null,null,"RBCss",null,null,null,null,null,null,null,null,null,"RBCso",null,null,null,null,null,"RBCsi",null,null,null,null,null,"RBCsw",null,null,null,null,null,"RBCtw",null,null,null,null,null,"RBCwo",null,null,null,null,null,"RBCwi",null,null,null,null,null,"RBCwe",null,"RBCsv",null,null,null,null,null,"RBCair",null,null,null,null,null,"RBCss"]
["Receptor Scenario",null,null,null,"Residential",null,"Urban Residential",null,"Occupational",null,"Construction Worker",null,"Excavation Worker",null,"Residential",null,"Urban Residential",null,"Occupational",null,"Residential",null,"Urban Residential",null,"Occupational",null,"Residential",null,"Urban Residential",null,"Occupational",null,"Residential",null,"Urban Residential",null,"Occupational",null,"Residential",null,"Urban Residential",null,"Occupational",null,"Residential",null,"Urban Residential",null,"Occupational",null,"Construction & Excavation Worker",null,"Residential",null,"Urban Residential",null,"Occupational",null,"Residential",null,"Urban Residential",null,"Occupational",null,"Residential",null,"Urban Residential",null,"Occupational",null,"Construction Worker",null,"Excavation Worker"]
["Direct or Indirect Pathway (see notes)  ",null,null,null,"DCS",null,"DCS",null,"DCS",null,"DCS",null,"DCS",null,"IVS",null,"IVS",null,"IVS",null,"IVS",null,"IVS",null,"IVS",null,"ILS",null,"ILS",null,"ILS",null,"DCW",null,"DCW",null,"DCW",null,"IVW",null,"IVW",null,"IVW",null,"IVW",null,"IVW",null,"IVW",null,"DCW",null,"ICA",null,"ICA",null,"ICA",null,"DCA",null,"DCA",null,"DCA",null,"DCS",null,"DCS",null,"DCS",null,"DCS",null,"DCS"]
["CASn","Chemical","Analyte ID helper collumn for references on applicable RBC table and risk calculation table","Note",null,"Note",null,"Note",null,"Note",null,"Note",null,"Note",null,"Note",null,"Note",null,"Note",null,"Note",null,"Note",null,"Note",null,"Note",null,"Note",null,"Note",null,"Note",null,"Note",null,"Note",null,"Note",null,"Note",null,"Note",null,"Note",null,"Note",null,"Note",null,"Note",1,"Note",1,"Note",1,"Note",null,"Note",null,"Note",null,"Note",null,"Note",null,"Note",null,"Note",null,"Note",null,"Note"]
["83-32-9","Acenaphthene",1,"nc, v",4700,">Csat",9400,">Csat",70000,">Csat",21000,">Csat",590000,">Csat","-",">Max","-",">Max","-",">Max","-",">Max","-",">Max","-",">Max","-",">Csat","-",">Csat","-",">Csat",510,null,2400,null,2500,null,"-",">S","-",">S","-",">S","-",">S","-",">S","-",">S","-",">S","-",">Pv","-",">Pv","-",">Pv","-",">Pv","-",">Pv","-",">Pv"]
["107-13-1","Acrylonitrile",2,"c, v",0.86,null,2.5,null,4,null,40,null,1100,null,1.3,null,3.1,null,5.8,null,7.9000000000000001E-2,null,0.19,null,1,null,3.6000000000000002E-4,null,1.6000000000000001E-3,null,1.6999999999999999E-3,null,5.1999999999999998E-2,null,0.23,null,0.25,null,2200,null,5300,null,9800,null,700,null,1700,null,9200,null,250,null,8.3000000000000007,null,20,null,180,null,4.1000000000000002E-2,null,9.8000000000000004E-2,null,0.18]
["309-00-2","Aldrin",3,"c, v",3.1E-2,null,7.8E-2,null,0.13,null,1.1000000000000001,null,30,">Csat","-",">Csat","-",">Csat","-",">Csat","-",">Csat","-",">Csat","-",">Csat",2.3E-2,null,0.1,null,0.1,null,9.2000000000000003E-4,null,4.1999999999999997E-3,null,4.1999999999999997E-3,null,"-",">S","-",">S","-",">S","-",">S","-",">S","-",">S",3.5,null,0.11,null,0.27,null,2.5,null,5.6999999999999998E-4,null,1.4E-3,null,2.5000000000000001E-3]
["120-12-7","Anthracene",4,"nc, v",23000,">Csat",47000,">Csat",350000,">Csat",110000,">Csat","-",">Max","-",">Max","-",">Max","-",">Max","-",">Max","-",">Max","-",">Max","-",">Csat","-",">Csat","-",">Csat","-",">S","-",">S","-",">S","-",">S","-",">S","-",">S","-",">S","-",">S","-",">S","-",">S","-",">Pv","-",">Pv","-",">Pv","-",">Pv","-",">Pv","-",">Pv"]
["7440-38-2","Arsenic",5,"c, nv",0.43,null,1,null,1.9,null,15,null,420,null,"-","NV","-","NV","-","NV","-","NV","-","NV","-","NV","*",null,"*",null,"*",null,5.1999999999999998E-2,null,0.21,null,0.31,null,"-","NV","-","NV","-","NV","-","NV","-","NV","-","NV",6300,null,"-","NV","-","NV","-","NV",6.4999999999999997E-4,null,1.5E-3,null,2.8999999999999998E-3,null,{"$f":"MAX(E12,'Background Metals Info'!U18)","v":0.43},{"$f":"IF(BM12=E12,\"\",\"BG\")","v":""},{"$f":"MAX(G12,'Background Metals Info'!U18)","v":1},{"$f":"IF(BO12=G12,\"\",\"BG\")","v":""},{"$f":"MAX(I12,'Background Metals Info'!U18)","v":1.9},{"$f":"IF(BQ12=I12,\"\",\"BG\")","v":""},{"$f":"MAX(K12,'Background Metals Info'!U18)","v":15},{"$f":"IF(BS12=K12,\"\",\"BG\")","v":""},{"$f":"MAX(M12,'Background Metals Info'!U18)","v":420},{"$f":"IF(BU12=M12,\"\",\"BG\")","v":""}]
["7440-39-3","Barium",6,"nc, nv",15000,null,31000,null,220000,null,69000,null,"-",">Max","-","NV","-","NV","-","NV","-","NV","-","NV","-","NV","*",null,"*",null,"*",null,4000,null,15000,null,33000,null,"-","NV","-","NV","-","NV","-","NV","-","NV","-","NV",26893604.479811374,null,"-","NV","-","NV","-","NV",0.52,null,0.52,null,2.2000000000000002]
["56-55-3","Benz[a]anthracene",7,"c, v",1.1000000000000001,null,2.5,null,21,">Csat",170,">Csat",4800,">Csat","-",">Csat","-",">Csat","-",">Csat","-",">Csat","-",">Csat","-",">Csat",1.6,null,6,null,"-",">Csat",0.03,null,0.11,null,0.38,null,"-",">S","-",">S","-",">S","-",">S","-",">S","-",">S","-",">S","-",">Pv","-",">Pv","-",">Pv",1.7000000000000001E-2,null,3.3000000000000002E-2,null,0.2]
["71-43-2","Benzene",8,"c, v",8.1999999999999993,null,24,null,37,null,380,null,11000,">Csat",11,null,27,null,50,null,0.16,null,0.38,null,2.1,null,2.3E-2,null,0.1,null,0.1,null,0.46,null,2,null,2.1,null,3100,null,7400,null,14000,null,210,null,510,null,2800,null,1800,null,72,null,170,null,1600,null,0.36,null,0.85,null,1.6]
["92-87-5","Benzidine",9,"c, nv",5.1999999999999995E-4,null,1.1999999999999999E-3,null,0.01,null,8.2000000000000003E-2,null,2.2999999999999998,null,"-","NV","-","NV","-","NV","-","NV","-","NV","-","NV",3.8000000000000002E-5,null,1.2E-4,null,6.9999999999999999E-4,null,1.1E-4,null,3.4000000000000002E-4,null,1.9E-3,null,"-","NV","-","NV","-","NV","-","NV","-","NV","-","NV",17,null,"-","NV","-","NV","-","NV",1.5E-5,null,2.9E-5,null,1.8000000000000001E-4]
["50-32-8","Benzo[a]pyrene (BaP equivalents)",10,"c, nv",0.11,null,0.25,null,2.1,null,17,">Csat",490,">Csat","-","NV","-","NV","-","NV","-","NV","-","NV","-","NV",4.4000000000000004,null,"-",">Csat","-",">Csat",2.5000000000000001E-2,null,0.08,null,0.47,null,"-","NV","-","NV","-","NV","-","NV","-","NV","-","NV","-",">S","-","NV","-","NV","-","NV",1.6999999999999999E-3,null,3.3E-3,null,0.02]
["205-99-2","Benzo[b]fluoranthene",11,"c, nv",1.1000000000000001,null,2.5,null,21,">Csat",170,">Csat",4900,">Csat","-","NV","-","NV","-","NV","-","NV","-","NV","-","NV","-",">Csat","-",">Csat","-",">Csat",0.25,null,0.8,null,"-",">S","-","NV","-","NV","-","NV","-","NV","-","NV","-","NV","-",">S","-","NV","-","NV","-","NV",1.7000000000000001E-2,null,3.3000000000000002E-2,null,0.2]
["207-08-9","Benzo[k]fluoranthene",12,"c, nv",11,">Csat",25,">Csat",210,">Csat",1700,">Csat",49000,">Csat","-","NV","-","NV","-","NV","-","NV","-","NV","-","NV","-",">Csat","-",">Csat","-",">Csat","-",">S","-",">S","-",">S","-","NV","-","NV","-","NV","-","NV","-","NV","-","NV","-",">S","-","NV","-","NV","-","NV","-",">Pv","-",">Pv","-",">Pv"]
["7440-41-7","Beryllium",13,"c, nv",1500,null,7300,null,6700,null,170000,null,"-",">Max","-","NV","-","NV","-","NV","-","NV","-","NV","-","NV","*",null,"*",null,"*",null,"-",">S","-",">S","-",">S","-","NV","-","NV","-","NV","-","NV","-","NV","-","NV","-",">S","-","NV","-","NV","-","NV",1.1999999999999999E-3,null,2.8E-3,null,5.1000000000000004E-3]
["117-81-7","Bis(2-ethylhexyl)phthalate",14,"c, nv",39,null,97,null,160,">Csat",1300,">Csat",37000,">Csat","-","NV","-","NV","-","NV","-","NV","-","NV","-","NV","-",">Csat","-",">Csat","-",">Csat",5.6,null,22,null,33,null,"-","NV","-","NV","-","NV","-","NV","-","NV","-","NV","-",">S","-","NV","-","NV","-","NV","-",">Pv","-",">Pv","-",">Pv"]
["75-27-4","Bromodichloromethane",15,"c, v",3.4,null,12,null,15,null,230,null,6300,">Csat",2.4,null,5.7,null,11,null,4.1000000000000002E-2,null,9.6000000000000002E-2,null,0.53,null,2E-3,null,9.1000000000000004E-3,null,8.8000000000000005E-3,null,0.13,null,0.62,null,0.6,null,1400,null,3200,null,6000,null,180,null,420,null,2300,null,450,null,15,null,36,null,330,null,7.5999999999999998E-2,null,0.18,null,0.33]
["75-25-2","Bromoform",16,"c, v",57,null,170,null,260,null,2700,">Csat",74000,">Csat",81,null,190,null,360,null,8.1999999999999993,null,19,null,110,null,4.5999999999999999E-2,null,0.2,null,0.22,null,3.3,null,15,null,16,null,130000,null,300000,null,550000,null,36000,null,85000,null,470000,null,14000,null,510,null,1200,null,11000,null,2.6,null,6,null,11]
["74-83-9","Bromomethane",17,"nc, v",46,null,92,null,750,null,370,null,10000,">Csat",170,null,170,null,700,null,1.3,null,1.3,null,17,null,8.3000000000000004E-2,null,0.3,null,0.4,null,7.5,null,28,null,36,null,32000,null,32000,null,130000,null,2100,null,2100,null,27000,null,1200,null,1000,null,1000,null,22000,null,5.2,null,5.2,null,22]
["7440-43-9","Cadmium",18,"nc, nv",78,null,160,null,1100,null,350,null,9700,null,"-","NV","-","NV","-","NV","-","NV","-","NV","-","NV","*",null,"*",null,"*",null,20,null,73,null,160,null,"-","NV","-","NV","-","NV","-","NV","-","NV","-","NV",130000,null,"-","NV","-","NV","-","NV",0.01,null,0.01,null,4.3999999999999997E-2]
["56-23-5","Carbon tetrachloride",19,"c, v",7.5,null,21,null,34,null,320,null,8900,">Csat",15,null,35,null,65,null,0.12,null,0.28000000000000003,null,1.6,null,1.2999999999999999E-2,null,5.5E-2,null,5.8000000000000003E-2,null,0.46,null,2,null,2.1,null,1800,null,4200,null,7700,null,92,null,220,null,1200,null,1800,null,94,null,220,null,2000,null,0.47,null,1.1000000000000001,null,2]
["108-90-7","Chlorobenzene",20,"nc, v",530,null,1100,">Csat",8700,">Csat",4700,">Csat",130000,">Csat","-",">Csat","-",">Csat","-",">Csat",77,null,77,null,"-",">Csat",5.8,null,22,null,27,null,77,null,290,null,350,null,"-",">S","-",">S","-",">S",67000,null,67000,null,"-",">S",10000,null,10000,null,10000,null,220000,null,52,null,52,null,220]
["124-48-1","Chlorodibromomethane (dibromochloromethane)",21,"c, v",3.7,null,12,null,17,null,210,null,5800,">Csat",3.3,null,7.8,null,14,null,0.22,null,0.53,null,2.9,null,2.3999999999999998E-3,null,1.0999999999999999E-2,null,1.0999999999999999E-2,null,0.17,null,0.77,null,0.77,null,3900,null,9300,null,17000,null,980,null,2300,null,13000,null,610,null,21,null,49,null,450,null,0.1,null,0.25,null,0.45]
["75-00-3","Chloroethane (ethyl chloride)",22,"nc, v",160000,">Csat",320000,">Csat","-",">Max","-",">Max","-",">Max","-",">Csat","-",">Csat","-",">Max","-",">Csat","-",">Csat","-",">Csat",310,null,1100,null,1300,null,21000,null,76000,null,88000,null,"-",">S","-",">S","-",">S",2800000,null,2800000,null,"-",">S",2400000,null,2100000,null,2100000,null,43800000,null,10000,null,10000,null,44000]
["67-66-3","Chloroform",23,"c, v",5.8,null,22,null,26,null,410,null,11000,">Csat",3.9,null,9.1999999999999993,null,17,null,3.1E-2,null,7.3999999999999996E-2,null,0.41,null,3.3999999999999998E-3,null,1.6E-2,null,1.4999999999999999E-2,null,0.22,null,1,null,0.98,null,1400,null,3400,null,6300,null,120,null,290,null,1600,null,720,null,24,null,58,null,530,null,0.12,null,0.28999999999999998,null,0.53]
["74-87-3","Chloromethane",24,"nc, v",1400,">Csat",2900,">Csat",25000,">Csat",25000,">Csat",700000,">Csat","-",">Csat","-",">Csat","-",">Csat",24,null,24,null,300,null,2.2000000000000002,null,7.9,null,9.1,null,190,null,690,null,790,null,440000,null,440000,null,1800000,null,26000,null,26000,null,330000,null,22000,null,19000,null,19000,null,390000,null,94,null,94,null,390]
["12789-03-6","Chlordane",25,"c, v",1.7,null,4.3,null,7.6,null,62,">Csat",1700,">Csat","-",">Csat","-",">Csat","-",">Csat","-",">Csat","-",">Csat","-",">Csat",0.91,null,4.0999999999999996,null,4.2,null,4.4999999999999998E-2,null,0.2,null,0.21,null,"-",">S","-",">S","-",">S","-",">S","-",">S","-",">S","-",">S",5.6,null,13,null,"-",">Pv",2.8000000000000001E-2,null,6.6000000000000003E-2,null,0.12]
["16065-83-1","Chromium (III)",26,"nc, nv",120000,null,230000,null,"-",">Max",530000,null,"-",">Max","-","NV","-","NV","-","NV","-","NV","-","NV","-","NV","*",null,"*",null,"*",null,30000,null,110000,null,250000,null,"-","NV","-","NV","-","NV","-","NV","-","NV","-","NV","-",">S","-","NV","-","NV","-","NV",1042857142857142.9,null,1042857142857142.9,null,4380000000000000]
["18540-29-9","Chromium (VI)",27,"c, nv",0.3,null,0.67,null,6.3,null,49,null,1400,null,"-","NV","-","NV","-","NV","-","NV","-","NV","-","NV","*",null,"*",null,"*",null,0.05,null,0.16,null,0.9,null,"-","NV","-","NV","-","NV","-","NV","-","NV","-","NV",9400,null,"-","NV","-","NV","-","NV",1.2E-5,null,2.3E-5,null,1.4999999999999999E-4]
["218-01-9","Chrysene",28,"c, nv",110,">Csat",250,">Csat",2100,">Csat",17000,">Csat",490000,">Csat","-","NV","-","NV","-","NV","-","NV","-","NV","-","NV","-",">Csat","-",">Csat","-",">Csat","-",">S","-",">S","-",">S","-","NV","-","NV","-","NV","-","NV","-","NV","-","NV","-",">S","-","NV","-","NV","-","NV",1.7,null,3.3,null,"-",">Pv"]
["7440-50-8","Copper",29,"nc, nv",3100,null,6200,null,47000,null,14000,null,390000,null,"-","NV","-","NV","-","NV","-","NV","-","NV","-","NV","*",null,"*",null,"*",null,800,null,2900,null,6500,null,"-","NV","-","NV","-","NV","-","NV","-","NV","-","NV",5400000,null,"-","NV","-","NV","-","NV",1042857142857142.9,null,1042857142857142.9,null,4380000000000000]
["74-90-8","Cyanide (hydrogen cyanide) ʌ",30,"nc, v",14,null,28,null,170,null,110,null,3000,null,98,null,98,null,1200,null,98,null,98,null,1200,null,0.88,null,3.2,null,3.9,null,1.5,null,5.4,null,6.5,null,32000,null,32000,null,140000,null,10000,null,10000,null,130000,null,190,null,170,null,170,null,3500,null,0.83,null,0.83,null,3.5]
["72-54-8","DDD (4,4'-Dichlorodiphenyldichloroethane)",31,"c, nv",2.7,null,6.6,null,12,null,94,null,2600,">Csat","-","NV","-","NV","-","NV","-","NV","-","NV","-","NV",1.1000000000000001,null,3.7,null,2.6,null,3.1E-2,null,0.1,null,7.3999999999999996E-2,null,"-","NV","-","NV","-","NV","-","NV","-","NV","-","NV",31,null,"-","NV","-","NV","-","NV",4.1000000000000002E-2,null,9.6000000000000002E-2,null,0.18]
["72-55-9","DDE (4,4'-Dichlorodiphenyldichloroethene)",32,"c, v",1.8,null,4.5,null,8.1999999999999993,null,66,null,1800,null,"-",">Csat","-",">Csat","-",">Csat","-",">Csat","-",">Csat","-",">Csat",1.6,null,7.4,null,7.5,null,4.5999999999999999E-2,null,0.21,null,0.21,null,"-",">S","-",">S","-",">S","-",">S","-",">S","-",">S","-",">S",5.8,null,14,null,"-",">Pv",2.9000000000000001E-2,null,6.8000000000000005E-2,null,0.13]
["50-29-3","DDT (4,4'-Dichlorodiphenyltrichloroethane)",33,"c, nv",1.9,null,4.5999999999999996,null,8.5,null,66,null,1800,">Csat","-","NV","-","NV","-","NV","-","NV","-","NV","-","NV",12,null,46,null,70,null,0.23,null,0.92,null,1.4,null,"-","NV","-","NV","-","NV","-","NV","-","NV","-","NV","-",">S","-","NV","-","NV","-","NV",2.9000000000000001E-2,null,6.8000000000000005E-2,null,0.13]
["53-70-3","Dibenz[a,h]anthracene",34,"c, nv",0.11,null,0.25,null,2.1,null,17,">Csat",490,">Csat","-","NV","-","NV","-","NV","-","NV","-","NV","-","NV","-",">Csat","-",">Csat","-",">Csat",2.5000000000000001E-2,null,0.08,null,0.47,null,"-","NV","-","NV","-","NV","-","NV","-","NV","-","NV","-",">S","-","NV","-","NV","-","NV","-",">Pv","-",">Pv","-",">Pv"]
["95-50-1","1,2-Dichlorobenzene",35,"nc, v",2200,">Csat",4400,">Csat",36000,">Csat",20000,">Csat",560000,">Csat","-",">Csat","-",">Csat","-",">Csat","-",">Csat","-",">Csat","-",">Csat",36,null,140,null,160,null,300,null,1200,null,1400,null,"-",">S","-",">S","-",">S","-",">S","-",">S","-",">S",37000,null,42000,null,42000,null,880000,null,210,null,210,null,880]
["106-46-7","1,4-Dichlorobenzene",36,"c, v",14,null,62,null,64,null,1300,">Csat",36000,">Csat",8.1,null,19,null,36,null,0.99,null,2.2999999999999998,null,13,null,5.7000000000000002E-2,null,0.27,null,0.25,null,0.48,null,2.2999999999999998,null,2.1,null,4900,null,12000,null,21000,null,540,null,1300,null,7100,null,1500,null,51,null,120,null,1100,null,0.26,null,0.6,null,1.1000000000000001]
["91-94-1","3,3-Dichlorobenzidine",37,"c, nv",1.2,null,3,null,5.0999999999999996,null,42,">Csat",1200,">Csat","-","NV","-","NV","-","NV","-","NV","-","NV","-","NV",0.17,null,0.67,null,1,null,0.17,null,0.69,null,1,null,"-","NV","-","NV","-","NV","-","NV","-","NV","-","NV","-",">S","-","NV","-","NV","-","NV",8.3000000000000001E-3,null,0.02,null,3.5999999999999997E-2]
["75-34-3","1,1-Dichloroethane",38,"c, v",58,null,190,null,260,null,3200,">Csat",89000,">Csat",56,null,130,null,240,null,0.45,null,1.1000000000000001,null,5.9,null,4.3999999999999997E-2,null,0.2,null,0.2,null,2.8,null,13,null,13,null,16000,null,37000,null,68000,null,1100,null,2600,null,14000,null,10000,null,350,null,830,null,7700,null,1.8,null,4.0999999999999996,null,7.7]
["75-35-4","1,1-Dichloroethene",39,"nc, v",1800,">Csat",3500,">Csat",29000,">Csat",13000,">Csat",370000,">Csat","-",">Csat","-",">Csat","-",">Csat",54,null,54,null,680,null,6.7,null,25,null,32,null,280,null,1100,null,1400,null,570000,null,570000,null,2400000,null,29000,null,29000,null,360000,null,44000,null,42000,null,42000,null,880000,null,210,null,210,null,880]
["156-59-2","cis-1,2-Dichloroethene",40,"nc, v",160,null,310,null,2300,">Csat",710,null,20000,">Csat","-",">Max","-",">Max","-",">Max","-",">Max","-",">Max","-",">Max",0.63,null,2.4,null,4.5,null,36,null,140,null,260,null,"-",">S","-",">S","-",">S","-",">S","-",">S","-",">S",18000,null,"-",">Pv","-",">Pv","-",">Pv","-",">Pv","-",">Pv","-",">Pv"]
["156-60-5","trans-1,2-Dichloroethene",41,"nc, v",1600,null,3100,">Csat",23000,">Csat",7100,">Csat",200000,">Csat","-",">Max","-",">Max","-",">Max","-",">Max","-",">Max","-",">Max",7,null,27,null,51,null,360,null,1400,null,2600,null,"-",">S","-",">S","-",">S","-",">S","-",">S","-",">S",180000,null,"-",">Pv","-",">Pv","-",">Pv","-",">Pv","-",">Pv","-",">Pv"]
["111-44-4","Dichloroethylether",42,"c, v",0.28999999999999998,null,0.96,null,1.3,null,16,null,450,null,0.53,null,1.2,null,6.9,null,0.53,null,1.2,null,6.9,null,1.9000000000000001E-4,null,8.7000000000000001E-4,null,8.7000000000000001E-4,null,1.4E-2,null,6.2E-2,null,6.3E-2,null,5700,null,13000,null,30000,null,2300,null,5500,null,30000,null,51,null,1.7,null,4,null,37,null,8.5000000000000006E-3,null,0.02,null,3.6999999999999998E-2]
["75-09-2","Dichloromethane",43,"c, v",76,null,170,null,1600,null,12000,">Csat",340000,">Csat","-",">Csat","-",">Csat","-",">Csat",26,null,51,null,950,null,0.14000000000000001,null,0.44,null,2.4,null,11,null,37,null,200,null,1000000,null,2000000,null,12581128.183097944,null,90000,null,170000,null,3300000,null,640000,null,20000,null,39000,null,1200000,null,100,null,200,null,1200]
["94-75-7","2,4-Dichlorophenoxyacetic acid (2,4-D)",44,"nc, nv",630,">Csat",1300,">Csat",8200,">Csat",2700,">Csat",74000,">Csat","-","NV","-","NV","-","NV","-","NV","-","NV","-","NV",2.2999999999999998,null,8.8000000000000007,null,16,null,170,null,670,null,1200,null,"-","NV","-","NV","-","NV","-","NV","-","NV","-","NV",77000,null,"-","NV","-","NV","-","NV","-",">Pv","-",">Pv","-",">Pv"]
["60-57-1","Dieldrin",45,"c, nv",3.4000000000000002E-2,null,8.5000000000000006E-2,null,0.14000000000000001,null,1.2,null,33,">Csat","-","NV","-","NV","-","NV","-","NV","-","NV","-","NV",0.01,null,3.6999999999999998E-2,null,0.03,null,1.6999999999999999E-3,null,6.1000000000000004E-3,null,5.0000000000000001E-3,null,"-","NV","-","NV","-","NV","-","NV","-","NV","-","NV",2.4,null,"-","NV","-","NV","-","NV",6.0999999999999997E-4,null,1.4E-3,null,2.7000000000000001E-3]
["606-20-2","2,6-Dinitrotoluene",46,"c, nv",0.36,null,0.9,null,1.5,null,13,null,350,null,"-","NV","-","NV","-","NV","-","NV","-","NV","-","NV",8.8999999999999999E-3,null,3.5000000000000003E-2,null,4.9000000000000002E-2,null,4.9000000000000002E-2,null,0.19,null,0.27,null,"-","NV","-","NV","-","NV","-","NV","-","NV","-","NV",830,null,"-","NV","-","NV","-","NV","-",">Pv","-",">Pv","-",">Pv"]
["621-64-7","Di-N-propylnitrosamine (N-nitroso-di-N-propylamine)",47,"c, nv",7.8E-2,null,0.19,null,0.33,null,2.7,null,74,null,"-","NV","-","NV","-","NV","-","NV","-","NV","-","NV",9.3999999999999997E-4,null,3.8E-3,null,5.4000000000000003E-3,null,1.0999999999999999E-2,null,4.2999999999999997E-2,null,6.2E-2,null,"-","NV","-","NV","-","NV","-","NV","-","NV","-","NV",370,null,"-","NV","-","NV","-","NV",1.4E-3,null,3.3E-3,null,6.1000000000000004E-3]
["123-91-1","1,4-Dioxane",48,"c, v",5.4,null,14,null,24,null,210,null,5900,null,28,null,67,null,370,null,28,null,67,null,370,null,2.3E-3,null,9.9000000000000008E-3,null,1.2E-2,null,0.46,null,2,null,2.4,null,820000,null,1900000,null,4500000,null,340000,null,810000,null,4500000,null,3400,null,110,null,270,null,2500,null,0.56000000000000005,null,1.3,null,2.5]
["86-30-6","Diphenylnitrosamine",49,"c, nv",110,null,280,">Csat",470,">Csat",3800,">Csat",110000,">Csat","-","NV","-","NV","-","NV","-","NV","-","NV","-","NV",10,null,39,null,45,null,13,null,49,null,57,null,"-","NV","-","NV","-","NV","-","NV","-","NV","-","NV","-",">S","-","NV","-","NV","-","NV",1.1000000000000001,null,2.6,null,4.7]
["106-93-4","EDB (1,2-dibromoethane)",50,"c, v",0.16,null,0.53,null,0.73,null,9,null,250,null,0.15,null,0.35,null,0.65,null,1.2E-2,null,2.8000000000000001E-2,null,0.16,null,1.2E-4,null,5.5999999999999995E-4,null,5.5999999999999995E-4,null,7.4999999999999997E-3,null,3.4000000000000002E-2,null,3.4000000000000002E-2,null,180,null,430,null,790,null,45,null,110,null,590,null,27,null,0.94,null,2.2000000000000002,null,20,null,4.7000000000000002E-3,null,1.0999999999999999E-2,null,0.02]
["107-06-2","EDC (1,2-dichloroethane)",51,"c, v",3.6,null,12,null,16,null,200,null,5600,">Csat",3.4,null,8.1,null,15,null,7.6999999999999999E-2,null,0.18,null,1,null,2.8E-3,null,1.2999999999999999E-2,null,1.2999999999999999E-2,null,0.17,null,0.78,null,0.78,null,2100,null,4900,null,9000,null,300,null,700,null,3900,null,630,null,22,null,51,null,470,null,0.11,null,0.26,null,0.47]
["115-29-7","Endosulfan (alpha-beta) ",52,"nc, v",380,">Csat",760,">Csat",4900,">Csat",1600,">Csat",45000,">Csat","-",">Max","-",">Max","-",">Max","-",">Max","-",">Max","-",">Max","-",">Csat","-",">Csat","-",">Csat",98,null,"-",">S","-",">S","-",">S","-",">S","-",">S","-",">S","-",">S","-",">S","-",">S","-",">Pv","-",">Pv","-",">Pv","-",">Pv","-",">Pv","-",">Pv"]
["72-20-8","Endrin",53,"nc, nv",19,">Csat",38,">Csat",250,">Csat",80,">Csat",2200,">Csat","-","NV","-","NV","-","NV","-","NV","-","NV","-","NV",11,null,"-",">Csat","-",">Csat",1.9,null,9.5,null,8.6,null,"-","NV","-","NV","-","NV","-","NV","-","NV","-","NV",170,null,"-","NV","-","NV","-","NV","-",">Pv","-",">Pv","-",">Pv"]
["100-41-4","Ethylbenzene",54,"c, v",34,null,110,null,150,null,1700,">Csat",49000,">Csat",36,null,85,null,160,null,1.3,null,3,null,17,null,0.22,null,0.94,null,0.9,null,1.5,null,6.7,null,6.4,null,9900,null,23000,null,43000,null,620,null,1500,null,8200,null,4500,null,220,null,530,null,4900,null,1.1000000000000001,null,2.7,null,4.9000000000000004]
["206-44-0","Fluoranthene",55,"nc, nv",2400,">Csat",4800,">Csat",30000,">Csat",10000,">Csat",280000,">Csat","-","NV","-","NV","-","NV","-","NV","-","NV","-","NV","-",">Csat","-",">Csat","-",">Csat","-",">S","-",">S","-",">S","-","NV","-","NV","-","NV","-","NV","-","NV","-","NV","-",">S","-","NV","-","NV","-","NV","-",">Pv","-",">Pv","-",">Pv"]
["86-73-7","Fluorene",56,"nc, v",3100,">Csat",6300,">Csat",47000,">Csat",14000,">Csat",390000,">Csat","-",">Max","-",">Max","-",">Max","-",">Max","-",">Max","-",">Max","-",">Csat","-",">Csat","-",">Csat",280,null,1400,null,1300,null,"-",">S","-",">S","-",">S","-",">S","-",">S","-",">S","-",">S","-",">Pv","-",">Pv","-",">Pv","-",">Pv","-",">Pv","-",">Pv"]
["50-00-0","Formaldehyde",57,"c, v",15,null,69,null,64,null,1600,null,44000,">Csat",48,null,110,null,630,null,48,null,110,null,630,null,2E-3,null,9.2999999999999992E-3,null,8.6E-3,null,0.43,null,2,null,1.9,null,1500000,null,3700000,null,8500000,null,650000,null,1500000,null,8500000,null,1300,null,43,null,100,null,940,null,0.22,null,0.51,null,0.94]
["76-44-8","Heptachlor",58,"c, v",0.11,null,0.28000000000000003,null,0.45,null,4,null,110,null,18,null,42,null,230,null,18,null,42,null,230,null,1.7000000000000001E-2,null,6.3E-2,null,4.8000000000000001E-2,null,1.4E-3,null,5.1000000000000004E-3,null,3.8999999999999998E-3,null,"-",">S","-",">S","-",">S",88,null,"-",">S","-",">S",1.8,null,0.43,null,1,null,9.4,null,2.2000000000000001E-3,null,5.1000000000000004E-3,null,9.4000000000000004E-3]
["1024-57-3","Heptachlor Epoxide",59,"c, v",5.5E-2,null,0.14000000000000001,null,0.24,null,2,null,56,null,28,null,66,null,"-",">Csat",28,null,66,null,"-",">Csat",4.1999999999999997E-3,null,1.7999999999999999E-2,null,1.6E-2,null,1.4E-3,null,5.8999999999999999E-3,null,5.3E-3,null,"-",">S","-",">S","-",">S","-",">S","-",">S","-",">S",3.2,null,0.22,null,0.51,null,4.7,null,1.1000000000000001E-3,null,2.5999999999999999E-3,null,4.7000000000000002E-3]
["118-74-1","Hexachlorobenzene",60,"c, v",0.21,null,0.67,null,0.93,null,11,null,320,null,1,null,2.4,null,13,null,1,null,2.4,null,13,null,1.7999999999999999E-2,null,8.3000000000000004E-2,null,8.4000000000000005E-2,null,9.7999999999999997E-3,null,4.4999999999999998E-2,null,4.4999999999999998E-2,null,"-",">S","-",">S","-",">S","-",">S","-",">S","-",">S","-",">S",1.2,null,2.9,null,27,null,6.1000000000000004E-3,null,1.4E-2,null,2.7E-2]
["319-84-6","alpha-Hexachlorocyclohexane (alpha-HCH)",61,"c, nv",8.5999999999999993E-2,null,0.21,null,0.36,null,3,null,83,">Csat","-","NV","-","NV","-","NV","-","NV","-","NV","-","NV",6.3E-3,null,2.4E-2,null,2.3E-2,null,7.4999999999999997E-3,null,2.8000000000000001E-2,null,2.7E-2,null,"-","NV","-","NV","-","NV","-","NV","-","NV","-","NV",18,null,"-","NV","-","NV","-","NV",1.6000000000000001E-3,null,3.7000000000000002E-3,null,6.7999999999999996E-3]
["58-89-9","gamma-Hexachlorocyclohexane (Lindane)",62,"c, nv",0.49,null,1.2,null,2.1,null,17,null,470,">Csat","-","NV","-","NV","-","NV","-","NV","-","NV","-","NV",3.5999999999999997E-2,null,0.13,null,0.13,null,4.2999999999999997E-2,null,0.16,null,0.16,null,"-","NV","-","NV","-","NV","-","NV","-","NV","-","NV",100,null,"-","NV","-","NV","-","NV",9.1000000000000004E-3,null,2.1000000000000001E-2,null,0.04]
["67-72-1","Hexachloroethane",63,"c, v",7.4,null,24,null,32,null,370,null,10000,">Csat",8.1,null,19,null,36,null,0.57999999999999996,null,1.4,null,7.6,null,2.1999999999999999E-2,null,9.5000000000000001E-2,null,8.6999999999999994E-2,null,0.34,null,1.5,null,1.3,null,5000,null,12000,null,22000,null,570,null,1400,null,7500,null,860,null,51,null,120,null,1100,null,0.26,null,0.6,null,1.1000000000000001]
["193-39-5","Indeno[1,2,3-cd]pyrene",64,"c, nv",1.1000000000000001,">Csat",2.5,">Csat",21,">Csat",170,">Csat",4900,">Csat","-","NV","-","NV","-","NV","-","NV","-","NV","-","NV","-",">Csat","-",">Csat","-",">Csat","-",">S","-",">S","-",">S","-","NV","-","NV","-","NV","-","NV","-","NV","-","NV","-",">S","-","NV","-","NV","-","NV","-",">Pv","-",">Pv","-",">Pv"]
["7439-92-1","Lead",65,"NA, nv",400,"L",400,"L",800,"L",800,"L",800,null,"L","NV","-","NV","-","NV","-","NV","-","NV","-","NV",30,"L",30,"L",30,"L",15,"L",15,"L",15,"L","-","NV","-","NV","-","NV","-","NV","-","NV","-","NV","-",">S","-","NV","-","NV","-","NV","-",">Pv","-",">Pv","-",">Pv"]
["7439-96-5","Manganese",66,"nc, nv",1800,null,3600,null,25000,null,8200,null,230000,null,"-","NV","-","NV","-","NV","-","NV","-","NV","-","NV","*",null,"*",null,"*",null,480,null,1800,null,3900,null,"-","NV","-","NV","-","NV","-","NV","-","NV","-","NV",3200000,null,"-","NV","-","NV","-","NV",5.1999999999999998E-2,null,5.1999999999999998E-2,null,0.22,null,{"$f":"MAX(E73,'Background Metals Info'!U25)","v":1800},{"$f":"IF(BM73=E73,\"\",\"BG\")","v":""},{"$f":"MAX(G73,'Background Metals Info'!U25)","v":3600},{"$f":"IF(BO73=G73,\"\",\"BG\")","v":""},{"$f":"MAX(I73,'Background Metals Info'!U25)","v":25000},{"$f":"IF(BQ73=I73,\"\",\"BG\")","v":""},{"$f":"MAX(K73,'Background Metals Info'!U25)","v":8200},{"$f":"IF(BS73=K73,\"\",\"BG\")","v":""},{"$f":"MAX(M73,'Background Metals Info'!U25)","v":230000},{"$f":"IF(BU73=M73,\"\",\"BG\")","v":""}]
["94-74-6","MCPA ((4-chloro-2-methylphenoxy)acetic acid)",67,"nc, nv",32,null,63,null,410,">Csat",130,null,3700,">Csat","-","NV","-","NV","-","NV","-","NV","-","NV","-","NV",9.7000000000000003E-2,null,0.4,null,0.61,null,7.4,null,30,null,47,null,"-","NV","-","NV","-","NV","-","NV","-","NV","-","NV",1700,null,"-","NV","-","NV","-","NV","-",">Pv","-",">Pv","-",">Pv"]
["7439-97-6","Mercury",68,"nc, nv",23,null,47,null,350,null,110,null,2900,null,"-","NV","-","NV","-","NV","-","NV","-","NV","-","NV","*",null,"*",null,"*",null,6,null,22,null,49,null,"-","NV","-","NV","-","NV","-","NV","-","NV","-","NV","-",">S","-","NV","-","NV","-","NV",0.31,null,0.31,null,1.3]
["1634-04-4","MTBE (methyl t-butyl ether)",69,"c, v",250,null,730,null,1100,null,12000,">Csat",320000,">Csat",340,null,810,null,1500,null,8.5,null,20,null,110,null,0.11,null,0.5,null,0.54,null,14,null,64,null,68,null,350000,null,830000,null,1500000,null,67000,null,160000,null,870000,null,63000,null,2200,null,5100,null,47000,null,11,null,26,null,47]
["91-20-3","Naphthalene",70,"c, v",5.3,null,25,null,23,null,580,">Csat",16000,">Csat",6.4,null,15,null,83,null,6.4,null,15,null,83,null,7.6999999999999999E-2,null,0.37,null,0.34,null,0.17,null,0.78,null,0.72,null,3600,null,8500,null,16000,null,840,null,2000,null,11000,null,500,null,17,null,39,null,360,null,8.3000000000000004E-2,null,0.2,null,0.36]
["7440-02-0","Nickel",71,"c, nv",14000,null,67000,null,62000,null,"-",">Max","-",">Max","-","NV","-","NV","-","NV","-","NV","-","NV","-","NV","*",null,"*",null,"*",null,"-",">S","-",">S","-",">S","-","NV","-","NV","-","NV","-","NV","-","NV","-","NV","-",">S","-","NV","-","NV","-","NV",1.0999999999999999E-2,null,2.5999999999999999E-2,null,4.7E-2]
["87-86-5","Pentachlorophenol",72,"c, nv",1,null,2.6,null,4,null,34,null,960,null,"-","NV","-","NV","-","NV","-","NV","-","NV","-","NV",6.6000000000000003E-2,null,0.23,null,0.17,null,4.3999999999999997E-2,null,0.15,null,0.12,null,"-","NV","-","NV","-","NV","-","NV","-","NV","-","NV",53,null,"-","NV","-","NV","-","NV",0.55000000000000004,null,1.3,null,2.4]
["11097-69-1","Polychlorinated biphenyls (Total PCBs)",73,"c, v",0.23,null,0.6,null,0.74,null,8.4,">Csat",230,">Csat","-",">Csat","-",">Csat","-",">Csat","-",">Csat","-",">Csat","-",">Csat",0.24,null,1.1000000000000001,null,1.1000000000000001,null,6.0000000000000001E-3,null,2.8000000000000001E-2,null,2.8000000000000001E-2,null,"-",">S","-",">S","-",">S","-",">S","-",">S","-",">S",30,null,0.99,null,2.2999999999999998,null,22,null,3.8E-3,null,8.9999999999999993E-3,null,1.7000000000000001E-2]
["98-82-8","iso-Propylbenzene (cumene)",74,"nc, v",3500,">Csat",7000,">Csat",57000,">Csat",27000,">Csat",750000,">Csat","-",">Csat","-",">Csat","-",">Csat","-",">Csat","-",">Csat","-",">Csat",96,null,"-",">Csat","-",">Csat",440,null,1800,null,2000,null,"-",">S","-",">S","-",">S","-",">S","-",">S","-",">S",51000,null,83000,null,83000,null,1800000,null,420,null,420,null,1800]
["129-00-0","Pyrene",75,"nc, v",1800,">Csat",3600,">Csat",23000,">Csat",7500,">Csat",210000,">Csat","-",">Max","-",">Max","-",">Max","-",">Max","-",">Max","-",">Max","-",">Csat","-",">Csat","-",">Csat",110,null,"-",">S","-",">S","-",">S","-",">S","-",">S","-",">S","-",">S","-",">S","-",">S","-",">Pv","-",">Pv","-",">Pv","-",">Pv","-",">Pv","-",">Pv"]
["7440-22-4","Silver",76,"nc, nv",390,null,780,null,5800,null,1800,null,49000,null,"-","NV","-","NV","-","NV","-","NV","-","NV","-","NV","*",null,"*",null,"*",null,100,null,370,null,820,null,"-","NV","-","NV","-","NV","-","NV","-","NV","-","NV",1100000,null,"-","NV","-","NV","-","NV",1042857142857142.9,null,1042857142857142.9,null,4380000000000000]
["100-42-5","Styrene",77,"nc, v",7900,">Csat",16000,">Csat",130000,">Csat",56000,">Csat","-",">Max","-",">Csat","-",">Csat","-",">Csat","-",">Csat","-",">Csat","-",">Csat",170,null,640,null,800,null,1200,null,4600,null,5700,null,"-",">S","-",">S","-",">S","-",">S","-",">S","-",">S",170000,null,210000,null,210000,null,4400000,null,1000,null,1000,null,4400]
["1746-01-6","2,3,7,8-TCDD (dioxin) equivalents",78,"c, v",4.7441143396812132E-6,null,1.2E-5,null,1.5999999999999999E-5,null,1.7000000000000001E-4,null,4.7999999999999996E-3,null,0.01,null,2.4E-2,null,0.13,null,0.01,null,2.4E-2,null,0.13,null,6.8147899587461333E-6,null,3.1000000000000001E-5,null,3.1000000000000001E-5,null,9.1186967009054988E-8,null,4.1615093167214994E-7,null,4.2091895834227105E-7,null,2.1999999999999999E-2,null,5.1999999999999998E-2,null,0.11,null,8.3000000000000001E-3,null,0.02,null,0.11,null,4.4999999999999999E-4,null,1.5E-5,null,3.4999999999999997E-5,null,3.2000000000000003E-4,null,5.6835876673933347E-8,null,1.3433934486566066E-7,null,2.4825910931174087E-7]
["127-18-4","Tetrachloroethene (PCE)",79,"c, v",220,">Csat",650,">Csat",1000,">Csat",10000,">Csat",280000,">Csat","-",">Csat","-",">Csat","-",">Csat",2.8,null,6.6,null,36,null,0.46,null,1.9,null,1.9,null,12,null,49,null,48,null,64000,null,150000,null,"-",">S",3700,null,8700,null,48000,null,34000,null,2200,null,5100,null,47000,null,11,null,26,null,47]
["108-88-3","Toluene",80,"nc, v",5800,">Csat",12000,">Csat",88000,">Csat",28000,">Csat",770000,">Csat","-",">Csat","-",">Csat","-",">Csat","-",">Csat","-",">Csat","-",">Csat",83,null,340,null,490,null,1100,null,4400,null,6300,null,"-",">S","-",">S","-",">S","-",">S","-",">S","-",">S",220000,null,1000000,null,1000000,null,21900000,null,5200,null,5200,null,22000]
["8001-35-2","Toxaphene",81,"c, nv",0.49,null,1.2,null,2.1,null,17,null,470,null,"-","NV","-","NV","-","NV","-","NV","-","NV","-","NV",0.36,null,1.2,null,0.93,null,1.4999999999999999E-2,null,5.2999999999999999E-2,null,0.04,null,"-","NV","-","NV","-","NV","-","NV","-","NV","-","NV",18,null,"-","NV","-","NV","-","NV",8.8000000000000005E-3,null,2.1000000000000001E-2,null,3.7999999999999999E-2]
["76-13-1","1,1,2-Trichloro-1,2,2-trifluoroethane (Freon 113)",82,"nc, v",400000,">Csat",800000,">Csat","-",">Max","-",">Max","-",">Max","-",">Csat","-",">Csat","-",">Max","-",">Csat","-",">Csat","-",">Csat","-",">Csat","-",">Csat","-",">Csat",55000,null,"-",">S","-",">S","-",">S","-",">S","-",">S","-",">S","-",">S","-",">S","-",">S",6300000,null,6300000,null,131400000,null,31000,null,31000,null,130000]
["71-55-6","1,1,1-Trichloroethane",83,"nc, v",53000,">Csat",110000,">Csat",870000,">Csat",470000,">Csat","-",">Max","-",">Csat","-",">Csat","-",">Csat","-",">Csat","-",">Csat","-",">Csat",190,null,710,null,880,null,8000,null,30000,null,37000,null,"-",">S","-",">S","-",">S","-",">S","-",">S","-",">S",1100000,null,1000000,null,1000000,null,21900000,null,5200,null,5200,null,22000]
["79-00-5","1,1,2-Trichloroethane",84,"c, v",5.8,null,19,null,26,null,320,null,8900,">Csat",5.6,null,13,null,24,null,0.32,null,0.75,null,4.2,null,6.3E-3,null,2.9000000000000001E-2,null,2.9000000000000001E-2,null,0.28000000000000003,null,1.3,null,1.3,null,4700,null,11000,null,21000,null,870,null,2100,null,11000,null,1000,null,35,null,83,null,770,null,0.18,null,0.41,null,0.77]
["79-01-6","Trichloroethene",85,"NA, v",6.7,null,17,null,51,null,130,null,3700,">Csat",15,null,33,null,96,null,0.12,null,0.26,null,2.2999999999999998,null,1.2999999999999999E-2,null,5.2999999999999999E-2,null,8.6999999999999994E-2,null,0.49,null,2,null,3.3,null,3300,null,6900,null,20000,null,200,null,430,null,3700,null,430,null,95,null,200,null,2900,null,0.47,null,1,null,2.9]
["75-69-4","Trichlorofluoromethane (Freon 11)",86,"nc, v",7600,">Csat",15000,">Csat",130000,">Csat",69000,">Csat","-",">Max","-",">Csat","-",">Csat","-",">Csat",190,null,190,null,"-",">Csat",61,null,230,null,280,null,1100,null,4200,null,5200,null,780000,null,780000,null,"-",">S",36000,null,36000,null,460000,null,160000,null,150000,null,150000,null,3100000,null,730,null,730,null,3100]
["88-06-2","2,4,6-Trichlorophenol",87,"c, nv",49,null,120,null,210,null,1700,null,47000,">Csat","-","NV","-","NV","-","NV","-","NV","-","NV","-","NV",2.4,null,8.9,null,8.9,null,4.4000000000000004,null,17,null,16,null,"-","NV","-","NV","-","NV","-","NV","-","NV","-","NV",11000,null,"-","NV","-","NV","-","NV",0.91,null,2.1,null,4]
["95-63-6","1,2,4-Trimethylbenzene",88,"nc, v",430,null,860,null,6900,">Csat",2900,">Csat",81000,">Csat","-",">Csat","-",">Csat","-",">Csat",140,null,140,null,"-",">Csat",10,null,43,null,48,null,54,null,230,null,250,null,"-",">S","-",">S","-",">S",50000,null,50000,null,"-",">S",6300,null,13000,null,13000,null,260000,null,63,null,63,null,260]
["108-67-8","1,3,5-Trimethylbenzene",89,"nc, v",430,">Csat",860,">Csat",6900,">Csat",2900,">Csat",81000,">Csat","-",">Csat","-",">Csat","-",">Csat",98,null,98,null,"-",">Csat",11,null,45,null,53,null,59,null,240,null,280,null,"-",">S","-",">S","-",">S",36000,null,36000,null,"-",">S",7500,null,13000,null,13000,null,260000,null,63,null,63,null,260]
["75-01-4","Vinyl chloride",90,"c, v",0.36,null,0.8,null,4.4000000000000004,null,34,null,950,">Csat",5.3,null,6.5,null,89,null,4.2999999999999997E-2,null,5.2999999999999999E-2,null,2.2000000000000002,null,5.6999999999999998E-4,null,1.4E-3,null,0.01,null,2.7E-2,null,6.6000000000000003E-2,null,0.49,null,350,null,430,null,5900,null,17,null,21,null,880,null,960,null,33,null,41,null,2800,null,0.17,null,0.2,null,2.8]
["1330-20-7","Xylenes",91,"nc, v",1400,">Csat",2900,">Csat",25000,">Csat",20000,">Csat",560000,">Csat","-",">Csat","-",">Csat","-",">Csat",160,null,160,null,"-",">Csat",23,null,87,null,100,null,190,null,710,null,830,null,"-",">S","-",">S","-",">S",86000,null,86000,null,"-",">S",23000,null,21000,null,21000,null,440000,null,100,null,100,null,440]
["--","Generic Diesel/Heating Oil ",92,"nc, v ",1100,null,2200,null,14000,null,4600,null,">Max ",null,">Max ",null,">Max ",null,">Max ",null,">Max ",null,">Max ",null,">Max ",null,9500,null,9500,null,">Max ",null,100,null,100,null,430,null,">S",null,">S",null,">S",null,">S",null,">S",null,">S",null,">S",null,21000,null,21000,null,440000,null,100,null,100,null,440]
["--","Generic Gasoline",93,"nc, v",1200,null,2500,null,20000,null,9700,null,">Max ",null,5900,null,5900,null,69000,null,94,null,94,null,">Max ",null,31,null,31,null,130,null,110,null,110,null,450,null,">S",null,">S",null,">S",null,22000,null,22000,null,">S",null,14000,null,79000,null,79000,null,1700000,null,390,null,390,null,1700]
["--","Generic Mineral/Insulating Oil ",94,"nc, nv ",2800,null,5700,null,36000,null,11000,null,">Max ",null,">Max ",null,">Max ",null,">Max ",null,">Max ",null,">Max ",null,">Max ",null,">Max ",null,">Max ",null,">Max ",null,300,null,300,null,1300,null,">S",null,">S",null,">S",null,">S",null,">S",null,">S",null,">S",null,30000,null,30000,null,620000,null,150,null,150,null,620]